{"text_format":"1","workbook":"xlsx","n_sheets":4,"sheets":["説明","入力用","印刷用","Sheet1"],"not_rendered":{"charts":0,"images":0,"macros":1,"external_links":0,"defined_names":12,"comments":1,"pivot_tables":0},"unopened":[],"bounds":{"document_bytes":16777216,"sheet_cells":100000,"rows_first":2000,"rows_last":500,"rows_between":2000,"halvings":0,"cell_chars":16384,"cell_head_chars":4096},"cells_cut":0,"cells_raw":0,"read":"whole","date_system":"1900"}

{"sheet":"説明","index":0,"n_rows":49,"n_cols":7,"rows_kept":49,"cut":false,"hidden":false,"merged":[[48,2,51,6],[5,1,5,6],[7,1,7,6],[22,7,24,7],[25,7,27,7],[29,7,31,7],[34,7,36,7]]}
[]
[null,"※申込用紙を県大会に準じたExcelファイルにしました。"]
[null,null,null,null,null,null,"次の手順で申し込みを行ってください。"]
[]
[]
[null,"下記の手順に従い、申込用紙を印刷し、職印を押してもらい、　　　　　"]
[]
[null,"　　大会初日に持参してください。"]
[]
[]
[null,1,"　男女別に入力用シートに、必要事項を入力してください。"]
[]
[null,2,"　表示のバランスの関係で、氏名の入力を"]
[null,null,"４文字以下の場合は、姓と名の間にスペースを入れて５文字分となるようにしてください。"]
[null,null,"５文字以上の名前の場合には、姓と名の間は空けずに入力をお願いします。"]
[null,null,"　　例）　石原　　篤　　→　　３文字なので、スペースを２文字分入れる。"]
[null,null,"　　　　　松村　延幸　　→　　４文字なので、スペースを１文字分入れる。"]
[null,null,"　　　　　宮﨑きよ子　　→　　５文字なので、スペースは入れない。"]
[null,null,"なお、外国籍の生徒で名前が長い場合には、半角を使ったり、スペースを空けるなどしてください。"]
[]
[null,3,"　出場予定のメンバーの名前、学年は誤りのないようにお願いします。"]
[]
[null,4,"　プロ編を受けて組み合わせができますので、"]
[null,null,"　出場ブロック、※印に合わせて入力し、メール送信をお願いします。"]
[null,null,"　なお、※印に該当する生徒を組み合わせ番号順に入力してください。"]
[]
[null,5,"　入力が完了したら、『ファイルを保存』ボタンを実行してください。"]
[null,null,"ファイル名は「西暦４桁(半角数字)【○○中】(男女)総体・新人申込」とつけてください。"]
[]
[null,6,"　保存したファイルを、競技委員長までお送りください。"]
[]
[null,null,null,"送信できない場合は、競技委員長まで連絡ください。"]
[]
[]
[null,7,"　名簿のデータの送信は組合せ会議で確認した日時までにお願いします。"]
[null,null,"　職印付きの紙は"]
[null,null,"　大会当日に持参してください。（当日の朝はできるだけ早く提出をお願いします。）"]
[]
[null,8,"　送られたデータは、そのままプログラム等に利用させていただきますので、間違いのないよう"]
[null,null,"に入力してください。なお、氏名で「こう表記したいが、パソコンでは出ない」という場合は、"]
[null,null,"遠慮なくご相談ください。出来る限り対応させていただきます。"]
[]
[null,9,"　送られた情報は、中体連卓球部の運営・広報（報道機関・ウェブページ）並びに上位大会等"]
[null,null,"の申込等に利用いたします。それ以外の目的では利用いたしません。"]
[]
[null,10,"　この申し込みで入力した形式は、県大会の申し込みに準じていますので、"]
[null,null,"県大会の出場を決めた際には、県大会の申込書に貼り付けることで利用できますので活用してください。"]
[]
[null,11,"　男子はＡ～G、女子はA～Hです。※印に入る選手にはどの※かがわかるよう、※やアルファベットの代わりに番号を入れてください。お間違えのないようにお願いいたします。"]

{"sheet":"入力用","index":1,"n_rows":84,"n_cols":14,"rows_kept":84,"cut":false,"hidden":false,"merged":[[69,1,70,1],[69,9,70,9],[71,9,72,9],[77,1,78,1],[77,9,78,9],[71,1,72,1],[73,13,74,13],[75,1,76,1],[75,9,76,9],[75,12,76,12],[75,13,76,13],[73,1,74,1],[73,9,74,9],[73,12,74,12],[67,1,68,1],[67,9,68,9],[67,12,68,12],[67,13,68,13],[65,1,66,1],[65,9,66,9],[65,12,66,12],[65,13,66,13],[63,1,64,1],[63,9,64,9],[63,12,64,12],[63,13,64,13],[59,12,60,12],[59,13,60,13],[61,1,62,1],[61,9,62,9],[61,12,62,12],[61,13,62,13],[59,1,60,1],[59,9,60,9],[80,3,80,6],[82,3,82,6],[83,3,83,6],[77,13,78,13],[79,11,79,14],[83,11,83,14],[82,11,82,14],[80,11,80,14],[77,12,78,12],[81,3,81,6],[79,3,79,6],[55,13,56,13],[57,1,58,1],[57,9,58,9],[57,12,58,12],[0,1,0,7],[0,9,0,14],[27,4,27,6],[27,12,27,14],[28,1,28,2],[28,9,28,10],[28,12,28,14],[28,4,28,6],[57,13,58,13],[55,1,56,1],[55,9,56,9],[55,12,56,12]]}
[null,"参加申込書（入力・E-mail用）⇒右側が入力の例です",null,null,null,null,null,null,null,"入力例"]
[1,"申込日　　　（記入日）","2026-06-13",null,null,null,null,null,1,"申込日　　　（記入日）","2023-04-13"]
[2,"開催年度",2026,{"$f":"C3&D8&D5&D4&\"申込\"","v":"2026【一中】(男)総体申込"},null,null,null,null,2,{"$f":"B3","v":"開催年度"},5]
[3,"大会名","総合体育大会",{"$f":"IF(C4=\"総合体育大会\",\"総体\",IF(C4=\"新人大会\",\"新人\",\"\"))","v":"総体"},null,null,null,null,3,"大会名","新人大会"]
[4,"男女の別","男子",{"$f":"IF(C5=\"男子\",\"(男)\",IF(C5=\"女子\",\"(女)\",\"\"))","v":"(男)"},null,null,null,null,4,"男女の別","女子"]
[5,"郡市名　　　　(中体連組織名)",null,null,null,null,null,null,5,"郡市名　　　　(中体連組織名)","沼田"]
[6,"学校設立団体名","伊勢崎市",{"$f":"IF(RIGHT(C7,1)=\"県\",\"立　\",IF(RIGHT(C7,1)=\"市\",\"立　\",IF(RIGHT(C7,1)=\"町\",\"立　\",IF(RIGHT(C7,1)=\"村\",\"立　\",\"　\"))))","v":"立　"},null,null,null,null,6,"学校設立団体名","佐波郡玉村町",{"$f":"IF(RIGHT(K7,1)=\"県\",\"立　\",IF(RIGHT(K7,1)=\"市\",\"立　\",IF(RIGHT(K7,1)=\"町\",\"立　\",IF(RIGHT(K7,1)=\"村\",\"立　\",\"　\"))))","v":"立　"}]
[7,"中学校名","第一中学校",{"$f":"IF(C8=\"\",\"○○中\",VLOOKUP(C8,Sheet1!$A$2:$H$15,8,FALSE))","v":"【一中】"},null,null,null,null,7,"中学校名","南中学校"]
[8,"学校長名",{"$f":"IF(C8=\"\",\"\",VLOOKUP(C8,Sheet1!$A$2:$H$15,2,FALSE))","v":"増茂孝行"},null,null,null,null,null,8,"学校長名","増田　眞次"]
[9,"学校郵便番号",{"$f":"IF(C8=\"\",\"\",VLOOKUP(C8,Sheet1!$A$2:$H$15,3,FALSE))","v":"372-0034"},null,null,null,null,null,9,"学校郵便番号","370-1127"]
[10,"学校住所１(区・郡・市名)",{"$f":"IF(C8=\"\",\"\",VLOOKUP(C8,Sheet1!$A$2:$H$15,4,FALSE))","v":"伊勢崎市"},null,null,null,null,null,10,"学校住所１(区・郡・市名)","佐波郡玉村町"]
[11,"学校住所２\n（上記以降）",{"$f":"IF(C8=\"\",\"\",VLOOKUP(C8,Sheet1!$A$2:$H$15,5,FALSE))","v":"茂呂町一丁目24番地1"},null,null,null,null,null,11,"学校住所２\n（上記以降）","上之手1748"]
[12,"学校電話番号",{"$f":"IF(C8=\"\",\"\",VLOOKUP(C8,Sheet1!$A$2:$H$15,6,FALSE))","v":"0270-25-4456"},null,null,null,null,null,12,"学校電話番号","0270-65-8188"]
[13,"学校ＦＡＸ",{"$f":"IF(C8=\"\",\"\",VLOOKUP(C8,Sheet1!$A$2:$H$15,7,FALSE))","v":"0270-21-8656"},null,null,null,null,null,13,"学校ＦＡＸ","0270-65-8189"]
[14,"監督名",null,null,null,null,null,null,14,"監督名","河島　正典"]
[15,"団体予選順位",null,null,null,null,null,null,15,"団体予選順位",1]
[16,"学校対抗選手","氏名","学年",null,null,null,null,16,"学校対抗選手",{"$f":"C17","v":"氏名"},{"$f":"D17","v":"学年"}]
[17,"主将",null,null,null,null,null,null,17,"主将","吉田　心美",3]
[18,"２",null,null,null,null,null,null,18,"２","木暮　桃愛",3]
[19,"３",null,null,null,null,null,null,19,"３","萩原　　心",3]
[20,"４",null,null,null,null,null,null,20,"４","大江　美音",3]
[21,"５",null,null,null,null,null,null,21,"５","関根　愛灯",3]
[22,"６",null,null,null,null,null,null,22,"６","山田瑚乃夏",3]
[23,"７",null,null,null,null,null,null,23,"７","小宮山　楓",3]
[24,"８",null,null,null,null,null,null,24,"８","堀川　めい",3]
[25,"９",null,null,null,null,null,null,25,"９","松村　望花",3]
[26,"１０",null,null,null,null,null,null,26,"１０","鈴木　愛菜",3]
[27,"学校対抗　　　アドバイザー",null,"職業",null,null,null,null,27,"学校対抗　　　アドバイザー","小内　拓海","職業","大学生"]
[28,"シングルスの監督が、学校対抗と違う場合にはお書き下さい",null,"氏名",null,null,null,null,28,{"$f":"B29","v":"シングルスの監督が、学校対抗と違う場合にはお書き下さい"},null,{"$f":"D29","v":"氏名"}]
[29,"シングルス　　出場選手","氏名","学年",null,null,null,null,29,"シングルス　　出場選手","氏名","学年"]
[30,"県推薦出場",null,null,null,null,null,null,30,"県推薦出場","大江　美音",3]
[31,"県推薦出場",null,null,null,null,null,null,31,"県推薦出場"]
[32,"Ａ",null,null,null,null,null,null,32,"Ａ","山田　瑚乃夏",3]
[33,"Ｂ",null,null,null,null,null,null,33,"Ｂ","小宮山　楓",3]
[34,"Ｃ",null,null,null,null,null,null,34,"Ｃ","吉田　心美",3]
[35,"Ｄ",null,null,null,null,null,null,35,"Ｄ","堀川　めい",3]
[36,"Ｅ",null,null,null,null,null,null,36,"Ｅ","関根　愛灯",3]
[37,"Ｆ",null,null,null,null,null,null,37,"Ｆ","木暮　桃愛",3]
[38,"Ｇ",null,null,null,null,null,null,null,"Ｇ","松村　望花",3]
[39,"Ｈ",null,null,null,null,null,null,null,"Ｈ","鈴木　愛菜",3]
[40,null,null,null,null,null,null,null,null,34,"嶋田　芦来",2]
[41,null,null,null,null,null,null,null,null,50,"萩原　心",3]
[42,null,null,null,null,null,null,null,null,98,"阿部　心海",2]
[43]
[44]
[45]
[46]
[47]
[48]
[49]
[50]
[51]
[52]
[53]
[54,"ダブルス　　　出場選手","氏名","学年",null,null,null,null,44,{"$f":"B55","v":"ダブルス　　　出場選手"},{"$f":"C55","v":"氏名"},"学年","順位","ﾌﾞﾛｯｸ"]
[55,"Ａ","本田　丈介",3,null,null,null,null,45,"Ａ","本田　丈介",3]
[56,null,"カルモナケイジ",3,null,null,null,null,46,null,"松永　翔平",3]
[57,"Ｂ","松永　翔平",3,null,null,null,null,47,"Ｂ","カルモナケイジ",3]
[58,null,"井上　賢人",3,null,null,null,null,48,null,"井上　賢人",2]
[59,"Ｃ","飯島　　凌",3,null,null,null,null,49,"Ｃ","遠藤　　歩",3]
[60,null,"松村　拓真",3,null,null,null,null,50,null,"平八重海翔",3]
[61,"Ｄ","遠藤　　歩",3,null,null,null,null,51,"Ｄ","飯島　　凌",3]
[62,null,"平八重海翔",3,null,null,null,null,52,null,"松村　拓真",3]
[63,8,"中島　　瞬",3,null,null,null,null,45,12,"中島　　瞬",3]
[64,null,"藤倉　　聖",3,null,null,null,null,46,null,"青木　一心",2]
[65,55,"飯塚　　陸",2,null,null,null,null,47,45,"石井　　巧",3]
[66,null,"川端　大翔",2,null,null,null,null,48,null,"金子　涼佑",1]
[67,null,null,null,null,null,null,null,49]
[68,null,null,null,null,null,null,null,50]
[69]
[70]
[71]
[72]
[73,null,null,null,null,null,null,null,51]
[74,null,null,null,null,null,null,null,52]
[75,null,null,null,null,null,null,null,51]
[76,null,null,null,null,null,null,null,52]
[77,null,null,null,null,null,null,null,51]
[78,null,null,null,null,null,null,null,52]
[79,"アドバイザー","氏名","職業",null,null,null,null,38,{"$f":"B80","v":"アドバイザー"},{"$f":"C80","v":"氏名"},{"$f":"D80","v":"職業"}]
[80,"１",null,null,null,null,null,null,39,{"$f":"B81","v":"１"},"辻川　嘉彦","無職"]
[81,"２"]
[82,"３",null,null,null,null,null,null,40,{"$f":"B83","v":"３"}]
[83,"４",null,null,null,null,null,null,41,{"$f":"B84","v":"４"}]

{"sheet":"印刷用","index":2,"n_rows":59,"n_cols":14,"rows_kept":59,"cut":false,"hidden":false,"merged":[[38,13,38,14],[41,2,41,3],[45,1,46,1],[45,2,45,3],[45,4,45,6],[40,13,40,14],[46,13,46,14],[44,4,44,6],[44,10,44,12],[43,10,43,12],[43,13,43,14],[45,13,45,14],[42,4,42,6],[42,13,42,14],[41,10,41,12],[35,1,36,1],[37,1,38,1],[39,1,40,1],[41,1,42,1],[42,2,42,3],[38,2,38,3],[45,10,45,12],[43,4,43,6],[41,7,42,9],[43,7,44,9],[45,7,46,9],[46,2,46,3],[46,4,46,6],[41,4,41,6],[44,2,44,3],[43,2,43,3],[42,10,42,12],[40,4,40,6],[40,10,40,12],[37,2,37,3],[37,4,37,6],[37,10,37,12],[40,2,40,3],[43,1,44,1],[37,13,37,14],[39,4,39,6],[39,10,39,12],[34,4,34,6],[34,7,34,9],[34,10,34,12],[30,2,30,3],[30,4,30,6],[38,4,38,6],[34,13,34,14],[35,2,35,3],[35,4,35,6],[35,10,35,12],[35,13,35,14],[36,4,36,6],[36,10,36,12],[36,13,36,14],[35,7,36,9],[37,7,38,9],[36,2,36,3],[39,2,39,3],[39,13,39,14],[39,7,40,9],[38,10,38,12],[27,2,27,3],[27,4,27,6],[27,7,27,9],[27,10,27,12],[30,7,30,9],[28,2,28,3],[28,4,28,6],[28,7,28,9],[31,2,31,3],[31,4,31,6],[31,7,31,9],[28,10,28,12],[29,2,29,3],[29,4,29,6],[29,7,29,9],[29,10,29,12],[23,13,23,14],[52,10,52,12],[52,13,52,14],[25,2,25,3],[25,4,25,6],[25,7,25,9],[25,10,25,12],[25,13,25,14],[26,2,26,3],[26,4,26,6],[26,7,26,9],[49,13,49,14],[29,13,29,14],[31,10,31,12],[28,13,28,14],[41,13,41,14],[44,13,44,14],[46,10,46,12],[30,10,30,12],[30,13,30,14],[48,10,48,12],[26,10,26,12],[26,13,26,14],[27,13,27,14],[14,4,14,6],[19,10,19,12],[19,7,19,9],[20,2,20,3],[20,4,20,6],[20,7,20,9],[19,2,19,3],[15,4,15,6],[16,2,16,3],[15,2,15,3],[19,4,19,6],[16,4,16,6],[58,11,58,12],[49,10,49,12],[51,10,51,12],[51,13,51,14],[56,8,56,12],[54,1,54,14],[48,1,52,9],[20,13,20,14],[23,10,23,12],[22,2,22,3],[20,10,20,12],[22,10,22,12],[21,10,21,12],[22,4,22,6],[24,2,24,3],[24,4,24,6],[24,7,24,9],[24,13,24,14],[21,2,21,3],[21,4,21,6],[21,7,21,9],[23,2,23,3],[23,4,23,6],[23,7,23,9],[3,1,3,14],[6,2,6,14],[5,2,5,14],[13,2,13,3],[12,7,12,9],[7,2,7,14],[13,7,13,9],[8,11,8,14],[12,2,12,3],[13,13,13,14],[11,13,11,14],[12,13,12,14],[13,4,13,6],[8,2,8,5],[8,6,8,10],[11,7,11,9],[11,2,11,3],[12,4,12,6],[11,4,11,6],[50,13,50,14],[50,10,50,12],[22,7,22,9],[24,10,24,12],[13,10,13,12],[10,2,10,14],[12,10,12,12],[11,10,11,12],[16,10,16,12],[15,10,15,12],[14,10,14,12],[48,13,48,14],[34,2,34,3],[14,13,14,14],[16,13,16,14],[15,13,15,14],[19,13,19,14],[22,13,22,14],[21,13,21,14],[31,13,31,14],[14,2,14,3],[15,7,15,9],[16,7,16,9],[14,7,14,9]]}
[]
[null,{"$f":"IF(VLOOKUP(4,入力,3)=\"\",\"男子･女子\",VLOOKUP(4,入力,3))","v":"男子"}]
[]
[null,{"$f":"IF(AND(VLOOKUP(2,入力,3)=\"\",VLOOKUP(3,入力,3)=\"\"),\"令和　　年度伊勢崎市佐波郡中学校　　　　大会卓球大会参加申込書\",IF(VLOOKUP(2,入力,3)=\"\",\"令和　　年度　伊勢崎市佐波郡中学校\"&VLOOKUP(3,入力,3)&\"卓球大会　参加申込書\",IF(VLOOKUP(3,入力,3)=\"\",VLOOKUP(2,入力,3)&\"年度　伊勢崎市佐波郡中学校　　　　大会\",VLOOKUP(2,入力,3)&\"年度 伊勢崎市佐波郡中学校\"&VLOOKUP(3,入力,3)&\"卓球大会　参加申込書\")))","v":"2026年度 伊勢崎市佐波郡中学校総合体育大会卓球大会　参加申込書"}]
[]
[null,"学校名",{"$f":"IF(AND(VLOOKUP(6,入力,3)=\"\",VLOOKUP(7,入力,3)=\"\"),\"\",IF(VLOOKUP(6,入力,3)=\"\",VLOOKUP(7,入力,3),IF(VLOOKUP(7,入力,3)=\"\",VLOOKUP(6,入力,3)&VLOOKUP(6,入力,4)&\"　　　　　　　中学校\",VLOOKUP(6,入力,3)&VLOOKUP(6,入力,4)&VLOOKUP(7,入力,3))))","v":"伊勢崎市立　第一中学校"}]
[null,"校長名",{"$f":"IF(VLOOKUP(8,入力,3)=\"\",\"\",VLOOKUP(8,入力,3))","v":"増茂孝行"}]
[null,"学校住所",{"$f":"IF(VLOOKUP(9,入力,3)=\"\",\"　〒　　　　　\",\"  〒\"&VLOOKUP(9,入力,3)&\"  群馬県\"&VLOOKUP(10,入力,3)&VLOOKUP(11,入力,3))","v":"  〒372-0034  群馬県伊勢崎市茂呂町一丁目24番地1"}]
[null,"学校電話",{"$f":"IF(VLOOKUP(12,入力,3)=\"\",\"\",VLOOKUP(12,入力,3))","v":"0270-25-4456"},null,null,null,"学校FAX",null,null,null,null,{"$f":"IF(VLOOKUP(13,入力,3)=\"\",\"\",VLOOKUP(13,入力,3))","v":"0270-21-8656"}]
[]
[null,"監督名",{"$f":"IF(VLOOKUP(14,入力,3)=\"\",\"\",\"  \"&VLOOKUP(14,入力,3))","v":""}]
[null,"No","氏　　名",null,"学年",null,null,"No",null,null,"氏　　名",null,null,"学年"]
[null,"主将",{"$f":"IF(VLOOKUP(17,入力,3)=\"\",\"\",VLOOKUP(17,入力,3))","v":""},null,{"$f":"IF(VLOOKUP(17,入力,4)=\"\",\"　年\",DBCS(VLOOKUP(17,入力,4))&\"年\")","v":"　年"},null,null,"６",null,null,{"$f":"IF(VLOOKUP(22,入力,3)=\"\",\"\",VLOOKUP(22,入力,3))","v":""},null,null,{"$f":"IF(VLOOKUP(22,入力,4)=\"\",\"　年\",DBCS(VLOOKUP(22,入力,4))&\"年\")","v":"　年"}]
[null,"２",{"$f":"IF(VLOOKUP(18,入力,3)=\"\",\"\",VLOOKUP(18,入力,3))","v":""},null,{"$f":"IF(VLOOKUP(18,入力,4)=\"\",\"　年\",DBCS(VLOOKUP(18,入力,4))&\"年\")","v":"　年"},null,null,"７",null,null,{"$f":"IF(VLOOKUP(23,入力,3)=\"\",\"\",VLOOKUP(23,入力,3))","v":""},null,null,{"$f":"IF(VLOOKUP(23,入力,4)=\"\",\"　年\",DBCS(VLOOKUP(23,入力,4))&\"年\")","v":"　年"}]
[null,"３",{"$f":"IF(VLOOKUP(19,入力,3)=\"\",\"\",VLOOKUP(19,入力,3))","v":""},null,{"$f":"IF(VLOOKUP(19,入力,4)=\"\",\"　年\",DBCS(VLOOKUP(19,入力,4))&\"年\")","v":"　年"},null,null,"８",null,null,{"$f":"IF(VLOOKUP(24,入力,3)=\"\",\"\",VLOOKUP(24,入力,3))","v":""},null,null,{"$f":"IF(VLOOKUP(24,入力,4)=\"\",\"　年\",DBCS(VLOOKUP(24,入力,4))&\"年\")","v":"　年"}]
[null,"４",{"$f":"IF(VLOOKUP(20,入力,3)=\"\",\"\",VLOOKUP(20,入力,3))","v":""},null,{"$f":"IF(VLOOKUP(20,入力,4)=\"\",\"　年\",DBCS(VLOOKUP(20,入力,4))&\"年\")","v":"　年"},null,null,"９",null,null,{"$f":"IF(VLOOKUP(25,入力,3)=\"\",\"\",VLOOKUP(25,入力,3))","v":""},null,null,{"$f":"IF(VLOOKUP(25,入力,4)=\"\",\"　年\",DBCS(VLOOKUP(25,入力,4))&\"年\")","v":"　年"}]
[null,"５",{"$f":"IF(VLOOKUP(21,入力,3)=\"\",\"\",VLOOKUP(21,入力,3))","v":""},null,{"$f":"IF(VLOOKUP(21,入力,4)=\"\",\"　年\",DBCS(VLOOKUP(21,入力,4))&\"年\")","v":"　年"},null,null,10,null,null,{"$f":"IF(VLOOKUP(26,入力,3)=\"\",\"\",VLOOKUP(26,入力,3))","v":""},null,null,{"$f":"IF(VLOOKUP(26,入力,4)=\"\",\"　年\",DBCS(VLOOKUP(26,入力,4))&\"年\")","v":"　年"}]
[]
[null,"シングルス"]
[null,"No","氏　　名",null,"学年",null,null,"No",null,null,"氏　　名",null,null,"学年"]
[null,"Ａ",{"$f":"IF(VLOOKUP(32,入力,3)=\"\",\"\",VLOOKUP(32,入力,3))","v":""},null,{"$f":"IF(VLOOKUP(32,入力,4)=\"\",\"　年\",DBCS(VLOOKUP(32,入力,4))&\"年\")","v":"　年"},null,null,{"$f":"IF(入力用!B43=\"\",\"\",入力用!B43)","v":""},null,null,{"$f":"IF(VLOOKUP(42,入力,3)=\"\",\"\",VLOOKUP(42,入力,3))","v":""},null,null,{"$f":"IF(VLOOKUP(42,入力,4)=\"\",\"　年\",DBCS(VLOOKUP(42,入力,4))&\"年\")","v":"　年"}]
[null,"Ｂ",{"$f":"IF(VLOOKUP(33,入力,3)=\"\",\"\",VLOOKUP(33,入力,3))","v":""},null,{"$f":"IF(VLOOKUP(33,入力,4)=\"\",\"　年\",DBCS(VLOOKUP(33,入力,4))&\"年\")","v":"　年"},null,null,{"$f":"IF(入力用!B44=\"\",\"\",入力用!B44)","v":""},null,null,{"$f":"IF(VLOOKUP(43,入力,3)=\"\",\"\",VLOOKUP(43,入力,3))","v":""},null,null,{"$f":"IF(VLOOKUP(43,入力,4)=\"\",\"　年\",DBCS(VLOOKUP(43,入力,4))&\"年\")","v":"　年"}]
[null,"Ｃ",{"$f":"IF(VLOOKUP(34,入力,3)=\"\",\"\",VLOOKUP(34,入力,3))","v":""},null,{"$f":"IF(VLOOKUP(34,入力,4)=\"\",\"　年\",DBCS(VLOOKUP(34,入力,4))&\"年\")","v":"　年"},null,null,{"$f":"IF(入力用!B45=\"\",\"\",入力用!B45)","v":""},null,null,{"$f":"IF(VLOOKUP(44,入力,3)=\"\",\"\",VLOOKUP(44,入力,3))","v":""},null,null,{"$f":"IF(VLOOKUP(44,入力,4)=\"\",\"　年\",DBCS(VLOOKUP(44,入力,4))&\"年\")","v":"　年"}]
[null,"Ｄ",{"$f":"IF(VLOOKUP(35,入力,3)=\"\",\"\",VLOOKUP(35,入力,3))","v":""},null,{"$f":"IF(VLOOKUP(35,入力,4)=\"\",\"　年\",DBCS(VLOOKUP(35,入力,4))&\"年\")","v":"　年"},null,null,{"$f":"IF(入力用!B46=\"\",\"\",入力用!B46)","v":""},null,null,{"$f":"IF(VLOOKUP(45,入力,3)=\"\",\"\",VLOOKUP(45,入力,3))","v":""},null,null,{"$f":"IF(VLOOKUP(45,入力,4)=\"\",\"　年\",DBCS(VLOOKUP(45,入力,4))&\"年\")","v":"　年"}]
[null,"Ｅ",{"$f":"IF(VLOOKUP(36,入力,3)=\"\",\"\",VLOOKUP(36,入力,3))","v":""},null,{"$f":"IF(VLOOKUP(36,入力,4)=\"\",\"　年\",DBCS(VLOOKUP(36,入力,4))&\"年\")","v":"　年"},null,null,{"$f":"IF(入力用!B47=\"\",\"\",入力用!B47)","v":""},null,null,{"$f":"IF(VLOOKUP(46,入力,3)=\"\",\"\",VLOOKUP(46,入力,3))","v":""},null,null,{"$f":"IF(VLOOKUP(46,入力,4)=\"\",\"　年\",DBCS(VLOOKUP(46,入力,4))&\"年\")","v":"　年"}]
[null,"Ｆ",{"$f":"IF(VLOOKUP(37,入力,3)=\"\",\"\",VLOOKUP(37,入力,3))","v":""},null,{"$f":"IF(VLOOKUP(37,入力,4)=\"\",\"　年\",DBCS(VLOOKUP(37,入力,4))&\"年\")","v":"　年"},null,null,{"$f":"IF(入力用!B48=\"\",\"\",入力用!B48)","v":""},null,null,{"$f":"IF(VLOOKUP(47,入力,3)=\"\",\"\",VLOOKUP(47,入力,3))","v":""},null,null,{"$f":"IF(VLOOKUP(47,入力,4)=\"\",\"　年\",DBCS(VLOOKUP(47,入力,4))&\"年\")","v":"　年"}]
[null,"Ｇ",{"$f":"IF(VLOOKUP(38,入力,3)=\"\",\"\",VLOOKUP(38,入力,3))","v":""},null,{"$f":"IF(VLOOKUP(38,入力,4)=\"\",\"　年\",DBCS(VLOOKUP(38,入力,4))&\"年\")","v":"　年"},null,null,{"$f":"IF(入力用!B49=\"\",\"\",入力用!B49)","v":""},null,null,{"$f":"IF(VLOOKUP(48,入力,3)=\"\",\"\",VLOOKUP(48,入力,3))","v":""},null,null,{"$f":"IF(VLOOKUP(48,入力,4)=\"\",\"　年\",DBCS(VLOOKUP(48,入力,4))&\"年\")","v":"　年"}]
[null,"Ｈ",{"$f":"IF(VLOOKUP(39,入力,3)=\"\",\"\",VLOOKUP(39,入力,3))","v":""},null,{"$f":"IF(VLOOKUP(39,入力,4)=\"\",\"　年\",DBCS(VLOOKUP(39,入力,4))&\"年\")","v":"　年"},null,null,{"$f":"IF(入力用!B50=\"\",\"\",入力用!B50)","v":""},null,null,{"$f":"IF(VLOOKUP(49,入力,3)=\"\",\"\",VLOOKUP(49,入力,3))","v":""},null,null,{"$f":"IF(VLOOKUP(49,入力,4)=\"\",\"　年\",DBCS(VLOOKUP(49,入力,4))&\"年\")","v":"　年"}]
[null,{"$f":"IF(入力用!B41=\"\",\"\",入力用!B41)","v":""},{"$f":"IF(VLOOKUP(40,入力,3)=\"\",\"\",VLOOKUP(40,入力,3))","v":""},null,{"$f":"IF(VLOOKUP(40,入力,4)=\"\",\"　年\",DBCS(VLOOKUP(40,入力,4))&\"年\")","v":"　年"},null,null,{"$f":"IF(入力用!B51=\"\",\"\",入力用!B51)","v":""},null,null,{"$f":"IF(VLOOKUP(50,入力,3)=\"\",\"\",VLOOKUP(50,入力,3))","v":""},null,null,{"$f":"IF(VLOOKUP(50,入力,4)=\"\",\"　年\",DBCS(VLOOKUP(50,入力,4))&\"年\")","v":"　年"}]
[null,{"$f":"IF(入力用!B42=\"\",\"\",入力用!B42)","v":""},{"$f":"IF(VLOOKUP(41,入力,3)=\"\",\"\",VLOOKUP(41,入力,3))","v":""},null,{"$f":"IF(VLOOKUP(41,入力,4)=\"\",\"　年\",DBCS(VLOOKUP(41,入力,4))&\"年\")","v":"　年"},null,null,{"$f":"IF(入力用!B52=\"\",\"\",入力用!B52)","v":""},null,null,{"$f":"IF(VLOOKUP(51,入力,3)=\"\",\"\",VLOOKUP(51,入力,3))","v":""},null,null,{"$f":"IF(VLOOKUP(51,入力,4)=\"\",\"　年\",DBCS(VLOOKUP(51,入力,4))&\"年\")","v":"　年"}]
[null,{"$f":"IF(入力用!B43=\"\",\"\",入力用!B43)","v":""},{"$f":"IF(VLOOKUP(42,入力,3)=\"\",\"\",VLOOKUP(42,入力,3))","v":""},null,{"$f":"IF(VLOOKUP(42,入力,4)=\"\",\"　年\",DBCS(VLOOKUP(42,入力,4))&\"年\")","v":"　年"},null,null,{"$f":"IF(入力用!B54=\"\",\"\",入力用!B54)","v":""},null,null,{"$f":"IF(VLOOKUP(53,入力,3)=\"\",\"\",VLOOKUP(53,入力,3))","v":""},null,null,{"$f":"IF(VLOOKUP(53,入力,4)=\"\",\"　年\",DBCS(VLOOKUP(53,入力,4))&\"年\")","v":"　年"}]
[null,"県推薦出場",{"$f":"IF(VLOOKUP(30,入力,3)=\"\",\"\",VLOOKUP(30,入力,3))","v":""},null,{"$f":"IF(VLOOKUP(30,入力,4)=\"\",\"　年\",DBCS(VLOOKUP(30,入力,4))&\"年\")","v":"　年"},null,null,"県推薦出場",null,null,{"$f":"IF(VLOOKUP(31,入力,3)=\"\",\"\",VLOOKUP(31,入力,3))","v":""},null,null,{"$f":"IF(VLOOKUP(31,入力,4)=\"\",\"　年\",DBCS(VLOOKUP(31,入力,4))&\"年\")","v":"　年"}]
[]
[null,"ダブルス"]
[null,"No","氏　　名",null,"学年",null,null,"No",null,null,"氏　　名",null,null,"学年"]
[null,"Ａ",{"$f":"IF(VLOOKUP(55,入力,3)=\"\",\"\",VLOOKUP(55,入力,3))","v":"本田　丈介"},null,{"$f":"IF(VLOOKUP(55,入力,4)=\"\",\"　年\",DBCS(VLOOKUP(55,入力,4))&\"年\")","v":"３年"},null,null,{"$f":"IF(入力用!B68=\"\",\"\",入力用!B68)","v":""},null,null,{"$f":"IF(VLOOKUP(67,入力,3)=\"\",\"\",VLOOKUP(67,入力,3))","v":""},null,null,{"$f":"IF(VLOOKUP(67,入力,4)=\"\",\"　年\",DBCS(VLOOKUP(67,入力,4))&\"年\")","v":"　年"}]
[null,null,{"$f":"IF(VLOOKUP(56,入力,3)=\"\",\"\",VLOOKUP(56,入力,3))","v":"カルモナケイジ"},null,{"$f":"IF(VLOOKUP(56,入力,4)=\"\",\"　年\",DBCS(VLOOKUP(56,入力,4))&\"年\")","v":"３年"},null,null,null,null,null,{"$f":"IF(VLOOKUP(68,入力,3)=\"\",\"\",VLOOKUP(68,入力,3))","v":""},null,null,{"$f":"IF(VLOOKUP(68,入力,4)=\"\",\"　年\",DBCS(VLOOKUP(68,入力,4))&\"年\")","v":"　年"}]
[null,"Ｂ",{"$f":"IF(VLOOKUP(57,入力,3)=\"\",\"\",VLOOKUP(57,入力,3))","v":"松永　翔平"},null,{"$f":"IF(VLOOKUP(57,入力,4)=\"\",\"　年\",DBCS(VLOOKUP(57,入力,4))&\"年\")","v":"３年"},null,null,{"$f":"IF(入力用!B70=\"\",\"\",入力用!B70)","v":""},null,null,{"$f":"IF(VLOOKUP(69,入力,3)=\"\",\"\",VLOOKUP(69,入力,3))","v":""},null,null,{"$f":"IF(VLOOKUP(69,入力,4)=\"\",\"　年\",DBCS(VLOOKUP(69,入力,4))&\"年\")","v":"　年"}]
[null,null,{"$f":"IF(VLOOKUP(58,入力,3)=\"\",\"\",VLOOKUP(58,入力,3))","v":"井上　賢人"},null,{"$f":"IF(VLOOKUP(58,入力,4)=\"\",\"　年\",DBCS(VLOOKUP(58,入力,4))&\"年\")","v":"３年"},null,null,null,null,null,{"$f":"IF(VLOOKUP(70,入力,3)=\"\",\"\",VLOOKUP(70,入力,3))","v":""},null,null,{"$f":"IF(VLOOKUP(70,入力,4)=\"\",\"　年\",DBCS(VLOOKUP(70,入力,4))&\"年\")","v":"　年"}]
[null,"Ｃ",{"$f":"IF(VLOOKUP(59,入力,3)=\"\",\"\",VLOOKUP(59,入力,3))","v":"飯島　　凌"},null,{"$f":"IF(VLOOKUP(59,入力,4)=\"\",\"　年\",DBCS(VLOOKUP(59,入力,4))&\"年\")","v":"３年"},null,null,{"$f":"IF(入力用!B72=\"\",\"\",入力用!B72)","v":""},null,null,{"$f":"IF(VLOOKUP(71,入力,3)=\"\",\"\",VLOOKUP(71,入力,3))","v":""},null,null,{"$f":"IF(VLOOKUP(71,入力,4)=\"\",\"　年\",DBCS(VLOOKUP(71,入力,4))&\"年\")","v":"　年"}]
[null,null,{"$f":"IF(VLOOKUP(60,入力,3)=\"\",\"\",VLOOKUP(60,入力,3))","v":"松村　拓真"},null,{"$f":"IF(VLOOKUP(60,入力,4)=\"\",\"　年\",DBCS(VLOOKUP(60,入力,4))&\"年\")","v":"３年"},null,null,null,null,null,{"$f":"IF(VLOOKUP(72,入力,3)=\"\",\"\",VLOOKUP(72,入力,3))","v":""},null,null,{"$f":"IF(VLOOKUP(72,入力,4)=\"\",\"　年\",DBCS(VLOOKUP(72,入力,4))&\"年\")","v":"　年"}]
[null,"Ｄ",{"$f":"IF(VLOOKUP(61,入力,3)=\"\",\"\",VLOOKUP(61,入力,3))","v":"遠藤　　歩"},null,{"$f":"IF(VLOOKUP(61,入力,4)=\"\",\"　年\",DBCS(VLOOKUP(61,入力,4))&\"年\")","v":"３年"},null,null,{"$f":"IF(入力用!B74=\"\",\"\",入力用!B74)","v":""},null,null,{"$f":"IF(VLOOKUP(73,入力,3)=\"\",\"\",VLOOKUP(73,入力,3))","v":""},null,null,{"$f":"IF(VLOOKUP(73,入力,4)=\"\",\"　年\",DBCS(VLOOKUP(73,入力,4))&\"年\")","v":"　年"}]
[null,null,{"$f":"IF(VLOOKUP(62,入力,3)=\"\",\"\",VLOOKUP(62,入力,3))","v":"平八重海翔"},null,{"$f":"IF(VLOOKUP(62,入力,4)=\"\",\"　年\",DBCS(VLOOKUP(62,入力,4))&\"年\")","v":"３年"},null,null,null,null,null,{"$f":"IF(VLOOKUP(74,入力,3)=\"\",\"\",VLOOKUP(74,入力,3))","v":""},null,null,{"$f":"IF(VLOOKUP(74,入力,4)=\"\",\"　年\",DBCS(VLOOKUP(74,入力,4))&\"年\")","v":"　年"}]
[null,{"$f":"IF(入力用!B64=\"\",\"\",入力用!B64)","v":8},{"$f":"IF(VLOOKUP(63,入力,3)=\"\",\"\",VLOOKUP(63,入力,3))","v":"中島　　瞬"},null,{"$f":"IF(VLOOKUP(63,入力,4)=\"\",\"　年\",DBCS(VLOOKUP(63,入力,4))&\"年\")","v":"３年"},null,null,{"$f":"IF(入力用!B76=\"\",\"\",入力用!B76)","v":""},null,null,{"$f":"IF(VLOOKUP(75,入力,3)=\"\",\"\",VLOOKUP(75,入力,3))","v":""},null,null,{"$f":"IF(VLOOKUP(75,入力,4)=\"\",\"　年\",DBCS(VLOOKUP(75,入力,4))&\"年\")","v":"　年"}]
[null,null,{"$f":"IF(VLOOKUP(64,入力,3)=\"\",\"\",VLOOKUP(64,入力,3))","v":"藤倉　　聖"},null,{"$f":"IF(VLOOKUP(64,入力,4)=\"\",\"　年\",DBCS(VLOOKUP(64,入力,4))&\"年\")","v":"３年"},null,null,null,null,null,{"$f":"IF(VLOOKUP(76,入力,3)=\"\",\"\",VLOOKUP(76,入力,3))","v":""},null,null,{"$f":"IF(VLOOKUP(76,入力,4)=\"\",\"　年\",DBCS(VLOOKUP(76,入力,4))&\"年\")","v":"　年"}]
[null,{"$f":"IF(入力用!B66=\"\",\"\",入力用!B66)","v":55},{"$f":"IF(VLOOKUP(65,入力,3)=\"\",\"\",VLOOKUP(65,入力,3))","v":"飯塚　　陸"},null,{"$f":"IF(VLOOKUP(65,入力,4)=\"\",\"　年\",DBCS(VLOOKUP(65,入力,4))&\"年\")","v":"２年"},null,null,{"$f":"IF(入力用!B78=\"\",\"\",入力用!B78)","v":""},null,null,{"$f":"IF(VLOOKUP(77,入力,3)=\"\",\"\",VLOOKUP(77,入力,3))","v":""},null,null,{"$f":"IF(VLOOKUP(77,入力,4)=\"\",\"　年\",DBCS(VLOOKUP(77,入力,4))&\"年\")","v":"　年"}]
[null,null,{"$f":"IF(VLOOKUP(66,入力,3)=\"\",\"\",VLOOKUP(66,入力,3))","v":"川端　大翔"},null,{"$f":"IF(VLOOKUP(66,入力,4)=\"\",\"　年\",DBCS(VLOOKUP(66,入力,4))&\"年\")","v":"２年"},null,null,null,null,null,{"$f":"IF(VLOOKUP(78,入力,3)=\"\",\"\",VLOOKUP(78,入力,3))","v":""},null,null,{"$f":"IF(VLOOKUP(78,入力,4)=\"\",\"　年\",DBCS(VLOOKUP(78,入力,4))&\"年\")","v":"　年"}]
[]
[null,"　学校対抗およびシングルスにおいて、校長が認める外部指導者がアドバイザーとしてベンチに入る場合には、氏名をお書きください。",null,null,null,null,null,null,null,null,"アドバイザー氏名",null,null,"職業"]
[null,null,null,null,null,null,null,null,null,null,{"$f":"IF(VLOOKUP(80,入力,3)=\"\",\"\",VLOOKUP(80,入力,3))","v":""},null,null,{"$f":"IF(VLOOKUP(80,入力,4)=\"\",\"\",VLOOKUP(80,入力,4))","v":""}]
[null,null,null,null,null,null,null,null,null,null,{"$f":"IF(VLOOKUP(81,入力,3)=\"\",\"\",VLOOKUP(81,入力,3))","v":""},null,null,{"$f":"IF(VLOOKUP(81,入力,4)=\"\",\"\",VLOOKUP(81,入力,4))","v":""}]
[null,null,null,null,null,null,null,null,null,null,{"$f":"IF(VLOOKUP(82,入力,3)=\"\",\"\",VLOOKUP(82,入力,3))","v":""},null,null,{"$f":"IF(VLOOKUP(82,入力,4)=\"\",\"\",VLOOKUP(82,入力,4))","v":""}]
[null,null,null,null,null,null,null,null,null,null,{"$f":"IF(VLOOKUP(83,入力,3)=\"\",\"\",VLOOKUP(83,入力,3))","v":""},null,null,{"$f":"IF(VLOOKUP(83,入力,4)=\"\",\"\",VLOOKUP(83,入力,4))","v":""}]
[]
[null,"　本大会、および上位大会のプログラム、報道発表、ウェブページ、記録集における氏名、学校名、学年、写真等の掲載については参加生徒および保護者の同意を得ています。\n　なお、同意が得られない生徒は、別添によりその旨を報告します。"]
[]
[null,"上記の生徒の大会の参加を許可する。",null,null,null,null,null,null,{"$f":"IF(VLOOKUP(1,入力,3)=\"\",\"令和　　年 　　月 　　日\",VLOOKUP(1,入力,3))","v":"2026-06-13"}]
[]
[null,null,null,null,null,null,null,null,null,{"$f":"IF(VLOOKUP(9,入力,3)=\"\",\"立　　　　　　　　　校長\",C6&\"長\")","v":"伊勢崎市立　第一中学校長"},null,{"$f":"IF(VLOOKUP(8,入力,3)=\"\",\"\",VLOOKUP(8,入力,3))","v":"増茂孝行"},null,"職印"]

{"sheet":"Sheet1","index":3,"n_rows":15,"n_cols":8,"rows_kept":15,"cut":false,"hidden":true,"merged":[]}
["伊勢崎市・佐波郡"]
["第一中学校","増茂孝行","372-0034","伊勢崎市","茂呂町一丁目24番地1","0270-25-4456","0270-21-8656","【一中】"]
["第二中学校","橋憲市","372-0834","伊勢崎市","堀口町237番地1","0270-32-0047","0270-32-0078","【二中】"]
["第三中学校","三木俊幸","372-0001","伊勢崎市","波志江町1903番地1","0270-24-2151","0270-24-2150","【三中】"]
["第四中学校","梅堀ひろえ","372-0843","伊勢崎市","下道寺町26番地","0270-32-8105","0270-31-1082","【四中】"]
["殖蓮中学校","町田博幸","372-0013","伊勢崎市","上植木本町2152番地2","0270-25-4445","0270-25-4460","【殖蓮中】"]
["宮郷中学校","前原文哉","372-0802","伊勢崎市","田中島町1065番地","0270-25-4448","0270-25-4462","【宮郷中】"]
["赤堀中学校","小保方祥浩","379-2204","伊勢崎市","西久保町二丁目329番地1","0270-62-0133","0270-62-1924","【赤堀中】"]
["あずま中学校","須藤健","379-2231","伊勢崎市","東町2707番地2","0270-62-0054","0270-62-0921","【あずま中】"]
["境北中学校","関根崇史","370-0103","伊勢崎市","境下渕名2011番地1","0270-76-0003","0270-76-0099","【境北中】"]
["境西中学校","藤本裕一","370-0126","伊勢崎市","境下武士872番地2","0270-74-1068","0270-74-1072","【境西中】"]
["境南中学校","木村克巳","370-0124","伊勢崎市","境188番地","0270-74-0635","0270-74-2683","【境南中】"]
["四ツ葉学園中等教育学校","平山理恵","372-0013","伊勢崎市","上植木本町1702番地1","0270-21-4151","0270-23-0292","【四ツ葉】"]
["玉村中学校","吉田知宏","370-1105","佐波郡玉村町","福島913","0270-65-2019","0270-65-2651","【玉村中】"]
["南中学校","佐藤昭宏","370-1127","佐波郡玉村町","上之手1748","0270-65-8188","0270-65-8189","【玉村南中】"]