{"text_format":"1","workbook":"xlsx","n_sheets":15,"sheets":["マスター","１前橋","２高崎","３桐生","４伊勢崎佐波","５太田","６沼田","７館林","８渋川北群馬","９藤岡多野","10富岡甘楽","11安中","12吾妻","13利根","14邑楽"],"not_rendered":{"charts":0,"images":0,"macros":1,"external_links":0,"defined_names":15,"comments":0,"pivot_tables":0},"unopened":[],"bounds":{"document_bytes":16777216,"sheet_cells":100000,"rows_first":2000,"rows_last":500,"rows_between":2000,"halvings":0,"cell_chars":16384,"cell_head_chars":4096},"cells_cut":0,"cells_raw":0,"read":"whole","date_system":"1900"}

{"sheet":"マスター","index":0,"n_rows":61,"n_cols":79,"rows_kept":61,"cut":false,"hidden":false,"merged":[[1,4,1,18],[2,14,2,18],[2,59,2,63],[2,9,2,13],[1,44,1,59],[2,74,2,78],[2,29,2,33],[1,34,1,36],[2,69,2,73],[2,49,2,53],[1,77,1,78],[1,42,1,43],[2,64,2,68],[2,2,2,3],[2,44,2,48],[2,24,2,28],[2,54,2,58],[2,19,2,23],[2,39,2,43],[2,34,2,38],[2,4,2,8]]}
[]
[null,null,null,null,"令和7年度　群馬県中学校　運動部員数調査結果",null,null,null,null,null,null,null,null,null,null,null,null,null,null,null,null,null,null,null,null,null,null,null,null,null,null,null,null,null,"5/8現在",null,null,null,null,null,null,null,"(１/2)",null,"令和５年度　群馬県中学校　運動部員数調査結果",null,null,null,null,null,null,null,null,null,null,null,null,null,null,null,null,null,null,null,null,null,null,null,null,null,null,null,null,null,null,null,null,"(2/2)"]
[null,null,null,null,null,null,null,null,null,"１　前橋市(22校)",null,null,null,null,"２　高崎市(26校)",null,null,null,null,"３　桐生市(17校)",null,null,null,null,"４　伊勢崎市佐波郡(14校)",null,null,null,null,"５　太田市(18校)",null,null,null,null,"６　沼田市(9校)",null,null,null,null,"７　館林市(5校)",null,null,null,null,"８　渋川北群馬(11校)",null,null,null,null,"９　藤岡多野(7校)",null,null,null,null,"10　富岡甘楽(9校)",null,null,null,null,"11　安中市(6校)",null,null,null,null,"12　吾妻郡(8校)",null,null,null,null,"13　利根郡(7校)",null,null,null,null,"14　邑楽郡(8校)"]
[null,null,"№","  競　技　名","１年","２年","３年","合計","設置","１年","２年","３年","合計","設置","１年","２年","３年","合計","設置","１年","２年","３年","合計","設置","１年","２年","３年","合計","設置","１年","２年","３年","合計","設置","１年","２年","３年","合計","設置","１年","２年","３年","合計","設置","１年","２年","３年","合計","設置","１年","２年","３年","合計","設置","１年","２年","３年","合計","設置","１年","２年","３年","合計","設置","１年","２年","３年","合計","設置","１年","２年","３年","合計","設置","１年","２年","３年","合計","設置"]
[null,null,1,"体　操　競　技",{"$f":"J5+O5+T5+Y5+AD5+AI5+AN5+AS5+AX5+BC5+BH5+BM5+BR5+BW5","v":0},{"$f":"K5+P5+U5+Z5+AE5+AJ5+AO5+AT5+AY5+BD5+BI5+BN5+BS5+BX5","v":0},{"$f":"L5+Q5+V5+AA5+AF5+AK5+AP5+AU5+AZ5+BE5+BJ5+BO5+BT5+BY5","v":0},{"$f":"M5+R5+W5+AB5+AG5+AL5+AQ5+AV5+BA5+BF5+BK5+BP5+BU5+BZ5","v":0},{"$f":"N5+S5+X5+AC5+AH5+AM5+AR5+AW5+BB5+BG5+BL5+BQ5+BV5+CA5","v":0},{"$f":"'１前橋'!E5","v":0},{"$f":"'１前橋'!F5","v":0},{"$f":"'１前橋'!G5","v":0},{"$f":"'１前橋'!H5","v":0},{"$f":"'１前橋'!I5","v":0},{"$f":"'２高崎'!E5","v":0},{"$f":"'２高崎'!F5","v":0},{"$f":"'２高崎'!G5","v":0},{"$f":"'２高崎'!H5","v":0},{"$f":"'２高崎'!I5","v":0},{"$f":"'３桐生'!E5","v":0},{"$f":"'３桐生'!F5","v":0},{"$f":"'３桐生'!G5","v":0},{"$f":"'３桐生'!H5","v":0},{"$f":"'３桐生'!I5","v":0},{"$f":"'４伊勢崎佐波'!E5","v":0},{"$f":"'４伊勢崎佐波'!F5","v":0},{"$f":"'４伊勢崎佐波'!G5","v":0},{"$f":"'４伊勢崎佐波'!H5","v":0},{"$f":"'４伊勢崎佐波'!I5","v":0},{"$f":"'５太田'!E5","v":0},{"$f":"'５太田'!F5","v":0},{"$f":"'５太田'!G5","v":0},{"$f":"'５太田'!H5","v":0},{"$f":"'５太田'!I5","v":0},{"$f":"'６沼田'!E5","v":0},{"$f":"'６沼田'!F5","v":0},{"$f":"'６沼田'!G5","v":0},{"$f":"'６沼田'!H5","v":0},{"$f":"'６沼田'!I5","v":0},{"$f":"'７館林'!E5","v":0},{"$f":"'７館林'!F5","v":0},{"$f":"'７館林'!G5","v":0},{"$f":"'７館林'!H5","v":0},{"$f":"'７館林'!I5","v":0},{"$f":"'８渋川北群馬'!E5","v":0},{"$f":"'８渋川北群馬'!F5","v":0},{"$f":"'８渋川北群馬'!G5","v":0},{"$f":"'８渋川北群馬'!H5","v":0},{"$f":"'８渋川北群馬'!I5","v":0},{"$f":"'９藤岡多野'!E5","v":0},{"$f":"'９藤岡多野'!F5","v":0},{"$f":"'９藤岡多野'!G5","v":0},{"$f":"'９藤岡多野'!H5","v":0},{"$f":"'９藤岡多野'!I5","v":0},{"$f":"'10富岡甘楽'!E5","v":0},{"$f":"'10富岡甘楽'!F5","v":0},{"$f":"'10富岡甘楽'!G5","v":0},{"$f":"'10富岡甘楽'!H5","v":0},{"$f":"'10富岡甘楽'!I5","v":0},{"$f":"'11安中'!E5","v":0},{"$f":"'11安中'!F5","v":0},{"$f":"'11安中'!G5","v":0},{"$f":"'11安中'!H5","v":0},{"$f":"'11安中'!I5","v":0},{"$f":"'12吾妻'!E5","v":0},{"$f":"'12吾妻'!F5","v":0},{"$f":"'12吾妻'!G5","v":0},{"$f":"'12吾妻'!H5","v":0},{"$f":"'12吾妻'!I5","v":0},{"$f":"'13利根'!E5","v":0},{"$f":"'13利根'!F5","v":0},{"$f":"'13利根'!G5","v":0},{"$f":"'13利根'!H5","v":0},{"$f":"'13利根'!I5","v":0},{"$f":"'14邑楽'!E5","v":0},{"$f":"'14邑楽'!F5","v":0},{"$f":"'14邑楽'!G5","v":0},{"$f":"'14邑楽'!H5","v":0},{"$f":"'14邑楽'!I5","v":0}]
[null,null,2,"新    体    操",{"$f":"J6+O6+T6+Y6+AD6+AI6+AN6+AS6+AX6+BC6+BH6+BM6+BR6+BW6","v":0},{"$f":"K6+P6+U6+Z6+AE6+AJ6+AO6+AT6+AY6+BD6+BI6+BN6+BS6+BX6","v":0},{"$f":"L6+Q6+V6+AA6+AF6+AK6+AP6+AU6+AZ6+BE6+BJ6+BO6+BT6+BY6","v":0},{"$f":"M6+R6+W6+AB6+AG6+AL6+AQ6+AV6+BA6+BF6+BK6+BP6+BU6+BZ6","v":0},{"$f":"N6+S6+X6+AC6+AH6+AM6+AR6+AW6+BB6+BG6+BL6+BQ6+BV6+CA6","v":0},{"$f":"'１前橋'!E6","v":0},{"$f":"'１前橋'!F6","v":0},{"$f":"'１前橋'!G6","v":0},{"$f":"'１前橋'!H6","v":0},{"$f":"'１前橋'!I6","v":0},{"$f":"'２高崎'!E6","v":0},{"$f":"'２高崎'!F6","v":0},{"$f":"'２高崎'!G6","v":0},{"$f":"'２高崎'!H6","v":0},{"$f":"'２高崎'!I6","v":0},{"$f":"'３桐生'!E6","v":0},{"$f":"'３桐生'!F6","v":0},{"$f":"'３桐生'!G6","v":0},{"$f":"'３桐生'!H6","v":0},{"$f":"'３桐生'!I6","v":0},{"$f":"'４伊勢崎佐波'!E6","v":0},{"$f":"'４伊勢崎佐波'!F6","v":0},{"$f":"'４伊勢崎佐波'!G6","v":0},{"$f":"'４伊勢崎佐波'!H6","v":0},{"$f":"'４伊勢崎佐波'!I6","v":0},{"$f":"'５太田'!E6","v":0},{"$f":"'５太田'!F6","v":0},{"$f":"'５太田'!G6","v":0},{"$f":"'５太田'!H6","v":0},{"$f":"'５太田'!I6","v":0},{"$f":"'６沼田'!E6","v":0},{"$f":"'６沼田'!F6","v":0},{"$f":"'６沼田'!G6","v":0},{"$f":"'６沼田'!H6","v":0},{"$f":"'６沼田'!I6","v":0},{"$f":"'７館林'!E6","v":0},{"$f":"'７館林'!F6","v":0},{"$f":"'７館林'!G6","v":0},{"$f":"'７館林'!H6","v":0},{"$f":"'７館林'!I6","v":0},{"$f":"'８渋川北群馬'!E6","v":0},{"$f":"'８渋川北群馬'!F6","v":0},{"$f":"'８渋川北群馬'!G6","v":0},{"$f":"'８渋川北群馬'!H6","v":0},{"$f":"'８渋川北群馬'!I6","v":0},{"$f":"'９藤岡多野'!E6","v":0},{"$f":"'９藤岡多野'!F6","v":0},{"$f":"'９藤岡多野'!G6","v":0},{"$f":"'９藤岡多野'!H6","v":0},{"$f":"'９藤岡多野'!I6","v":0},{"$f":"'10富岡甘楽'!E6","v":0},{"$f":"'10富岡甘楽'!F6","v":0},{"$f":"'10富岡甘楽'!G6","v":0},{"$f":"'10富岡甘楽'!H6","v":0},{"$f":"'10富岡甘楽'!I6","v":0},{"$f":"'11安中'!E6","v":0},{"$f":"'11安中'!F6","v":0},{"$f":"'11安中'!G6","v":0},{"$f":"'11安中'!H6","v":0},{"$f":"'11安中'!I6","v":0},{"$f":"'12吾妻'!E6","v":0},{"$f":"'12吾妻'!F6","v":0},{"$f":"'12吾妻'!G6","v":0},{"$f":"'12吾妻'!H6","v":0},{"$f":"'12吾妻'!I6","v":0},{"$f":"'13利根'!E6","v":0},{"$f":"'13利根'!F6","v":0},{"$f":"'13利根'!G6","v":0},{"$f":"'13利根'!H6","v":0},{"$f":"'13利根'!I6","v":0},{"$f":"'14邑楽'!E6","v":0},{"$f":"'14邑楽'!F6","v":0},{"$f":"'14邑楽'!G6","v":0},{"$f":"'14邑楽'!H6","v":0},{"$f":"'14邑楽'!I6","v":0}]
[null,null,3,"軟　式　野　球",0,0,0,0,0,{"$f":"'１前橋'!E7","v":0},{"$f":"'１前橋'!F7","v":0},{"$f":"'１前橋'!G7","v":0},{"$f":"'１前橋'!H7","v":0},{"$f":"'１前橋'!I7","v":0},{"$f":"'２高崎'!E7","v":0},{"$f":"'２高崎'!F7","v":0},{"$f":"'２高崎'!G7","v":0},{"$f":"'２高崎'!H7","v":0},{"$f":"'２高崎'!I7","v":0},{"$f":"'３桐生'!E7","v":0},{"$f":"'３桐生'!F7","v":0},{"$f":"'３桐生'!G7","v":0},{"$f":"'３桐生'!H7","v":0},{"$f":"'３桐生'!I7","v":0},{"$f":"'４伊勢崎佐波'!E7","v":0},{"$f":"'４伊勢崎佐波'!F7","v":0},{"$f":"'４伊勢崎佐波'!G7","v":0},{"$f":"'４伊勢崎佐波'!H7","v":0},{"$f":"'４伊勢崎佐波'!I7","v":0},{"$f":"'５太田'!E7","v":0},{"$f":"'５太田'!F7","v":0},{"$f":"'５太田'!G7","v":0},{"$f":"'５太田'!H7","v":0},{"$f":"'５太田'!I7","v":0},{"$f":"'６沼田'!E7","v":0},{"$f":"'６沼田'!F7","v":0},{"$f":"'６沼田'!G7","v":0},{"$f":"'６沼田'!H7","v":0},{"$f":"'６沼田'!I7","v":0},{"$f":"'７館林'!E7","v":0},{"$f":"'７館林'!F7","v":0},{"$f":"'７館林'!G7","v":0},{"$f":"'７館林'!H7","v":0},{"$f":"'７館林'!I7","v":0},{"$f":"'８渋川北群馬'!E7","v":0},{"$f":"'８渋川北群馬'!F7","v":0},{"$f":"'８渋川北群馬'!G7","v":0},{"$f":"'８渋川北群馬'!H7","v":0},{"$f":"'８渋川北群馬'!I7","v":0},{"$f":"'９藤岡多野'!E7","v":0},{"$f":"'９藤岡多野'!F7","v":0},{"$f":"'９藤岡多野'!G7","v":0},{"$f":"'９藤岡多野'!H7","v":0},{"$f":"'９藤岡多野'!I7","v":0},{"$f":"'10富岡甘楽'!E7","v":0},{"$f":"'10富岡甘楽'!F7","v":0},{"$f":"'10富岡甘楽'!G7","v":0},{"$f":"'10富岡甘楽'!H7","v":0},{"$f":"'10富岡甘楽'!I7","v":0},{"$f":"'11安中'!E7","v":0},{"$f":"'11安中'!F7","v":0},{"$f":"'11安中'!G7","v":0},{"$f":"'11安中'!H7","v":0},{"$f":"'11安中'!I7","v":0},{"$f":"'12吾妻'!E7","v":0},{"$f":"'12吾妻'!F7","v":0},{"$f":"'12吾妻'!G7","v":0},{"$f":"'12吾妻'!H7","v":0},{"$f":"'12吾妻'!I7","v":0},{"$f":"'13利根'!E7","v":0},{"$f":"'13利根'!F7","v":0},{"$f":"'13利根'!G7","v":0},{"$f":"'13利根'!H7","v":0},{"$f":"'13利根'!I7","v":0},{"$f":"'14邑楽'!E7","v":0},{"$f":"'14邑楽'!F7","v":0},{"$f":"'14邑楽'!G7","v":0},{"$f":"'14邑楽'!H7","v":0},{"$f":"'14邑楽'!I7","v":0}]
[null,null,4,"ソフトボール",0,0,0,0,0,{"$f":"'１前橋'!E8","v":0},{"$f":"'１前橋'!F8","v":0},{"$f":"'１前橋'!G8","v":0},{"$f":"'１前橋'!H8","v":0},{"$f":"'１前橋'!I8","v":0},{"$f":"'２高崎'!E8","v":0},{"$f":"'２高崎'!F8","v":0},{"$f":"'２高崎'!G8","v":0},{"$f":"'２高崎'!H8","v":0},{"$f":"'２高崎'!I8","v":0},{"$f":"'３桐生'!E8","v":0},{"$f":"'３桐生'!F8","v":0},{"$f":"'３桐生'!G8","v":0},{"$f":"'３桐生'!H8","v":0},{"$f":"'３桐生'!I8","v":0},{"$f":"'４伊勢崎佐波'!E8","v":0},{"$f":"'４伊勢崎佐波'!F8","v":0},{"$f":"'４伊勢崎佐波'!G8","v":0},{"$f":"'４伊勢崎佐波'!H8","v":0},{"$f":"'４伊勢崎佐波'!I8","v":0},{"$f":"'５太田'!E8","v":0},{"$f":"'５太田'!F8","v":0},{"$f":"'５太田'!G8","v":0},{"$f":"'５太田'!H8","v":0},{"$f":"'５太田'!I8","v":0},{"$f":"'６沼田'!E8","v":0},{"$f":"'６沼田'!F8","v":0},{"$f":"'６沼田'!G8","v":0},{"$f":"'６沼田'!H8","v":0},{"$f":"'６沼田'!I8","v":0},{"$f":"'７館林'!E8","v":0},{"$f":"'７館林'!F8","v":0},{"$f":"'７館林'!G8","v":0},{"$f":"'７館林'!H8","v":0},{"$f":"'７館林'!I8","v":0},{"$f":"'８渋川北群馬'!E8","v":0},{"$f":"'８渋川北群馬'!F8","v":0},{"$f":"'８渋川北群馬'!G8","v":0},{"$f":"'８渋川北群馬'!H8","v":0},{"$f":"'８渋川北群馬'!I8","v":0},{"$f":"'９藤岡多野'!E8","v":0},{"$f":"'９藤岡多野'!F8","v":0},{"$f":"'９藤岡多野'!G8","v":0},{"$f":"'９藤岡多野'!H8","v":0},{"$f":"'９藤岡多野'!I8","v":0},{"$f":"'10富岡甘楽'!E8","v":0},{"$f":"'10富岡甘楽'!F8","v":0},{"$f":"'10富岡甘楽'!G8","v":0},{"$f":"'10富岡甘楽'!H8","v":0},{"$f":"'10富岡甘楽'!I8","v":0},{"$f":"'11安中'!E8","v":0},{"$f":"'11安中'!F8","v":0},{"$f":"'11安中'!G8","v":0},{"$f":"'11安中'!H8","v":0},{"$f":"'11安中'!I8","v":0},{"$f":"'12吾妻'!E8","v":0},{"$f":"'12吾妻'!F8","v":0},{"$f":"'12吾妻'!G8","v":0},{"$f":"'12吾妻'!H8","v":0},{"$f":"'12吾妻'!I8","v":0},{"$f":"'13利根'!E8","v":0},{"$f":"'13利根'!F8","v":0},{"$f":"'13利根'!G8","v":0},{"$f":"'13利根'!H8","v":0},{"$f":"'13利根'!I8","v":0},{"$f":"'14邑楽'!E8","v":0},{"$f":"'14邑楽'!F8","v":0},{"$f":"'14邑楽'!G8","v":0},{"$f":"'14邑楽'!H8","v":0},{"$f":"'14邑楽'!I8","v":0}]
[null,null,5,"バスケットボール",0,0,0,0,0,{"$f":"'１前橋'!E9","v":0},{"$f":"'１前橋'!F9","v":0},{"$f":"'１前橋'!G9","v":0},{"$f":"'１前橋'!H9","v":0},{"$f":"'１前橋'!I9","v":0},{"$f":"'２高崎'!E9","v":0},{"$f":"'２高崎'!F9","v":0},{"$f":"'２高崎'!G9","v":0},{"$f":"'２高崎'!H9","v":0},{"$f":"'２高崎'!I9","v":0},{"$f":"'３桐生'!E9","v":0},{"$f":"'３桐生'!F9","v":0},{"$f":"'３桐生'!G9","v":0},{"$f":"'３桐生'!H9","v":0},{"$f":"'３桐生'!I9","v":0},{"$f":"'４伊勢崎佐波'!E9","v":0},{"$f":"'４伊勢崎佐波'!F9","v":0},{"$f":"'４伊勢崎佐波'!G9","v":0},{"$f":"'４伊勢崎佐波'!H9","v":0},{"$f":"'４伊勢崎佐波'!I9","v":0},{"$f":"'５太田'!E9","v":0},{"$f":"'５太田'!F9","v":0},{"$f":"'５太田'!G9","v":0},{"$f":"'５太田'!H9","v":0},{"$f":"'５太田'!I9","v":0},{"$f":"'６沼田'!E9","v":0},{"$f":"'６沼田'!F9","v":0},{"$f":"'６沼田'!G9","v":0},{"$f":"'６沼田'!H9","v":0},{"$f":"'６沼田'!I9","v":0},{"$f":"'７館林'!E9","v":0},{"$f":"'７館林'!F9","v":0},{"$f":"'７館林'!G9","v":0},{"$f":"'７館林'!H9","v":0},{"$f":"'７館林'!I9","v":0},{"$f":"'８渋川北群馬'!E9","v":0},{"$f":"'８渋川北群馬'!F9","v":0},{"$f":"'８渋川北群馬'!G9","v":0},{"$f":"'８渋川北群馬'!H9","v":0},{"$f":"'８渋川北群馬'!I9","v":0},{"$f":"'９藤岡多野'!E9","v":0},{"$f":"'９藤岡多野'!F9","v":0},{"$f":"'９藤岡多野'!G9","v":0},{"$f":"'９藤岡多野'!H9","v":0},{"$f":"'９藤岡多野'!I9","v":0},{"$f":"'10富岡甘楽'!E9","v":0},{"$f":"'10富岡甘楽'!F9","v":0},{"$f":"'10富岡甘楽'!G9","v":0},{"$f":"'10富岡甘楽'!H9","v":0},{"$f":"'10富岡甘楽'!I9","v":0},{"$f":"'11安中'!E9","v":0},{"$f":"'11安中'!F9","v":0},{"$f":"'11安中'!G9","v":0},{"$f":"'11安中'!H9","v":0},{"$f":"'11安中'!I9","v":0},{"$f":"'12吾妻'!E9","v":0},{"$f":"'12吾妻'!F9","v":0},{"$f":"'12吾妻'!G9","v":0},{"$f":"'12吾妻'!H9","v":0},{"$f":"'12吾妻'!I9","v":0},{"$f":"'13利根'!E9","v":0},{"$f":"'13利根'!F9","v":0},{"$f":"'13利根'!G9","v":0},{"$f":"'13利根'!H9","v":0},{"$f":"'13利根'!I9","v":0},{"$f":"'14邑楽'!E9","v":0},{"$f":"'14邑楽'!F9","v":0},{"$f":"'14邑楽'!G9","v":0},{"$f":"'14邑楽'!H9","v":0},{"$f":"'14邑楽'!I9","v":0}]
[null,null,6,"ハンドボール",0,0,0,0,0,{"$f":"'１前橋'!E10","v":0},{"$f":"'１前橋'!F10","v":0},{"$f":"'１前橋'!G10","v":0},{"$f":"'１前橋'!H10","v":0},{"$f":"'１前橋'!I10","v":0},{"$f":"'２高崎'!E10","v":0},{"$f":"'２高崎'!F10","v":0},{"$f":"'２高崎'!G10","v":0},{"$f":"'２高崎'!H10","v":0},{"$f":"'２高崎'!I10","v":0},{"$f":"'３桐生'!E10","v":0},{"$f":"'３桐生'!F10","v":0},{"$f":"'３桐生'!G10","v":0},{"$f":"'３桐生'!H10","v":0},{"$f":"'３桐生'!I10","v":0},{"$f":"'４伊勢崎佐波'!E10","v":0},{"$f":"'４伊勢崎佐波'!F10","v":0},{"$f":"'４伊勢崎佐波'!G10","v":0},{"$f":"'４伊勢崎佐波'!H10","v":0},{"$f":"'４伊勢崎佐波'!I10","v":0},{"$f":"'５太田'!E10","v":0},{"$f":"'５太田'!F10","v":0},{"$f":"'５太田'!G10","v":0},{"$f":"'５太田'!H10","v":0},{"$f":"'５太田'!I10","v":0},{"$f":"'６沼田'!E10","v":0},{"$f":"'６沼田'!F10","v":0},{"$f":"'６沼田'!G10","v":0},{"$f":"'６沼田'!H10","v":0},{"$f":"'６沼田'!I10","v":0},{"$f":"'７館林'!E10","v":0},{"$f":"'７館林'!F10","v":0},{"$f":"'７館林'!G10","v":0},{"$f":"'７館林'!H10","v":0},{"$f":"'７館林'!I10","v":0},{"$f":"'８渋川北群馬'!E10","v":0},{"$f":"'８渋川北群馬'!F10","v":0},{"$f":"'８渋川北群馬'!G10","v":0},{"$f":"'８渋川北群馬'!H10","v":0},{"$f":"'８渋川北群馬'!I10","v":0},{"$f":"'９藤岡多野'!E10","v":0},{"$f":"'９藤岡多野'!F10","v":0},{"$f":"'９藤岡多野'!G10","v":0},{"$f":"'９藤岡多野'!H10","v":0},{"$f":"'９藤岡多野'!I10","v":0},{"$f":"'10富岡甘楽'!E10","v":0},{"$f":"'10富岡甘楽'!F10","v":0},{"$f":"'10富岡甘楽'!G10","v":0},{"$f":"'10富岡甘楽'!H10","v":0},{"$f":"'10富岡甘楽'!I10","v":0},{"$f":"'11安中'!E10","v":0},{"$f":"'11安中'!F10","v":0},{"$f":"'11安中'!G10","v":0},{"$f":"'11安中'!H10","v":0},{"$f":"'11安中'!I10","v":0},{"$f":"'12吾妻'!E10","v":0},{"$f":"'12吾妻'!F10","v":0},{"$f":"'12吾妻'!G10","v":0},{"$f":"'12吾妻'!H10","v":0},{"$f":"'12吾妻'!I10","v":0},{"$f":"'13利根'!E10","v":0},{"$f":"'13利根'!F10","v":0},{"$f":"'13利根'!G10","v":0},{"$f":"'13利根'!H10","v":0},{"$f":"'13利根'!I10","v":0},{"$f":"'14邑楽'!E10","v":0},{"$f":"'14邑楽'!F10","v":0},{"$f":"'14邑楽'!G10","v":0},{"$f":"'14邑楽'!H10","v":0},{"$f":"'14邑楽'!I10","v":0}]
[null,"男",7,"バレーボール",0,0,0,0,0,{"$f":"'１前橋'!E11","v":0},{"$f":"'１前橋'!F11","v":0},{"$f":"'１前橋'!G11","v":0},{"$f":"'１前橋'!H11","v":0},{"$f":"'１前橋'!I11","v":0},{"$f":"'２高崎'!E11","v":0},{"$f":"'２高崎'!F11","v":0},{"$f":"'２高崎'!G11","v":0},{"$f":"'２高崎'!H11","v":0},{"$f":"'２高崎'!I11","v":0},{"$f":"'３桐生'!E11","v":0},{"$f":"'３桐生'!F11","v":0},{"$f":"'３桐生'!G11","v":0},{"$f":"'３桐生'!H11","v":0},{"$f":"'３桐生'!I11","v":0},{"$f":"'４伊勢崎佐波'!E11","v":0},{"$f":"'４伊勢崎佐波'!F11","v":0},{"$f":"'４伊勢崎佐波'!G11","v":0},{"$f":"'４伊勢崎佐波'!H11","v":0},{"$f":"'４伊勢崎佐波'!I11","v":0},{"$f":"'５太田'!E11","v":0},{"$f":"'５太田'!F11","v":0},{"$f":"'５太田'!G11","v":0},{"$f":"'５太田'!H11","v":0},{"$f":"'５太田'!I11","v":0},{"$f":"'６沼田'!E11","v":0},{"$f":"'６沼田'!F11","v":0},{"$f":"'６沼田'!G11","v":0},{"$f":"'６沼田'!H11","v":0},{"$f":"'６沼田'!I11","v":0},{"$f":"'７館林'!E11","v":0},{"$f":"'７館林'!F11","v":0},{"$f":"'７館林'!G11","v":0},{"$f":"'７館林'!H11","v":0},{"$f":"'７館林'!I11","v":0},{"$f":"'８渋川北群馬'!E11","v":0},{"$f":"'８渋川北群馬'!F11","v":0},{"$f":"'８渋川北群馬'!G11","v":0},{"$f":"'８渋川北群馬'!H11","v":0},{"$f":"'８渋川北群馬'!I11","v":0},{"$f":"'９藤岡多野'!E11","v":0},{"$f":"'９藤岡多野'!F11","v":0},{"$f":"'９藤岡多野'!G11","v":0},{"$f":"'９藤岡多野'!H11","v":0},{"$f":"'９藤岡多野'!I11","v":0},{"$f":"'10富岡甘楽'!E11","v":0},{"$f":"'10富岡甘楽'!F11","v":0},{"$f":"'10富岡甘楽'!G11","v":0},{"$f":"'10富岡甘楽'!H11","v":0},{"$f":"'10富岡甘楽'!I11","v":0},{"$f":"'11安中'!E11","v":0},{"$f":"'11安中'!F11","v":0},{"$f":"'11安中'!G11","v":0},{"$f":"'11安中'!H11","v":0},{"$f":"'11安中'!I11","v":0},{"$f":"'12吾妻'!E11","v":0},{"$f":"'12吾妻'!F11","v":0},{"$f":"'12吾妻'!G11","v":0},{"$f":"'12吾妻'!H11","v":0},{"$f":"'12吾妻'!I11","v":0},{"$f":"'13利根'!E11","v":0},{"$f":"'13利根'!F11","v":0},{"$f":"'13利根'!G11","v":0},{"$f":"'13利根'!H11","v":0},{"$f":"'13利根'!I11","v":0},{"$f":"'14邑楽'!E11","v":0},{"$f":"'14邑楽'!F11","v":0},{"$f":"'14邑楽'!G11","v":0},{"$f":"'14邑楽'!H11","v":0},{"$f":"'14邑楽'!I11","v":0}]
[null,null,8,"ソフトテニス",0,0,0,0,0,{"$f":"'１前橋'!E12","v":0},{"$f":"'１前橋'!F12","v":0},{"$f":"'１前橋'!G12","v":0},{"$f":"'１前橋'!H12","v":0},{"$f":"'１前橋'!I12","v":0},{"$f":"'２高崎'!E12","v":0},{"$f":"'２高崎'!F12","v":0},{"$f":"'２高崎'!G12","v":0},{"$f":"'２高崎'!H12","v":0},{"$f":"'２高崎'!I12","v":0},{"$f":"'３桐生'!E12","v":0},{"$f":"'３桐生'!F12","v":0},{"$f":"'３桐生'!G12","v":0},{"$f":"'３桐生'!H12","v":0},{"$f":"'３桐生'!I12","v":0},{"$f":"'４伊勢崎佐波'!E12","v":0},{"$f":"'４伊勢崎佐波'!F12","v":0},{"$f":"'４伊勢崎佐波'!G12","v":0},{"$f":"'４伊勢崎佐波'!H12","v":0},{"$f":"'４伊勢崎佐波'!I12","v":0},{"$f":"'５太田'!E12","v":0},{"$f":"'５太田'!F12","v":0},{"$f":"'５太田'!G12","v":0},{"$f":"'５太田'!H12","v":0},{"$f":"'５太田'!I12","v":0},{"$f":"'６沼田'!E12","v":0},{"$f":"'６沼田'!F12","v":0},{"$f":"'６沼田'!G12","v":0},{"$f":"'６沼田'!H12","v":0},{"$f":"'６沼田'!I12","v":0},{"$f":"'７館林'!E12","v":0},{"$f":"'７館林'!F12","v":0},{"$f":"'７館林'!G12","v":0},{"$f":"'７館林'!H12","v":0},{"$f":"'７館林'!I12","v":0},{"$f":"'８渋川北群馬'!E12","v":0},{"$f":"'８渋川北群馬'!F12","v":0},{"$f":"'８渋川北群馬'!G12","v":0},{"$f":"'８渋川北群馬'!H12","v":0},{"$f":"'８渋川北群馬'!I12","v":0},{"$f":"'９藤岡多野'!E12","v":0},{"$f":"'９藤岡多野'!F12","v":0},{"$f":"'９藤岡多野'!G12","v":0},{"$f":"'９藤岡多野'!H12","v":0},{"$f":"'９藤岡多野'!I12","v":0},{"$f":"'10富岡甘楽'!E12","v":0},{"$f":"'10富岡甘楽'!F12","v":0},{"$f":"'10富岡甘楽'!G12","v":0},{"$f":"'10富岡甘楽'!H12","v":0},{"$f":"'10富岡甘楽'!I12","v":0},{"$f":"'11安中'!E12","v":0},{"$f":"'11安中'!F12","v":0},{"$f":"'11安中'!G12","v":0},{"$f":"'11安中'!H12","v":0},{"$f":"'11安中'!I12","v":0},{"$f":"'12吾妻'!E12","v":0},{"$f":"'12吾妻'!F12","v":0},{"$f":"'12吾妻'!G12","v":0},{"$f":"'12吾妻'!H12","v":0},{"$f":"'12吾妻'!I12","v":0},{"$f":"'13利根'!E12","v":0},{"$f":"'13利根'!F12","v":0},{"$f":"'13利根'!G12","v":0},{"$f":"'13利根'!H12","v":0},{"$f":"'13利根'!I12","v":0},{"$f":"'14邑楽'!E12","v":0},{"$f":"'14邑楽'!F12","v":0},{"$f":"'14邑楽'!G12","v":0},{"$f":"'14邑楽'!H12","v":0},{"$f":"'14邑楽'!I12","v":0}]
[null,null,9,"卓    球",0,0,0,0,0,{"$f":"'１前橋'!E13","v":0},{"$f":"'１前橋'!F13","v":0},{"$f":"'１前橋'!G13","v":0},{"$f":"'１前橋'!H13","v":0},{"$f":"'１前橋'!I13","v":0},{"$f":"'２高崎'!E13","v":0},{"$f":"'２高崎'!F13","v":0},{"$f":"'２高崎'!G13","v":0},{"$f":"'２高崎'!H13","v":0},{"$f":"'２高崎'!I13","v":0},{"$f":"'３桐生'!E13","v":0},{"$f":"'３桐生'!F13","v":0},{"$f":"'３桐生'!G13","v":0},{"$f":"'３桐生'!H13","v":0},{"$f":"'３桐生'!I13","v":0},{"$f":"'４伊勢崎佐波'!E13","v":0},{"$f":"'４伊勢崎佐波'!F13","v":0},{"$f":"'４伊勢崎佐波'!G13","v":0},{"$f":"'４伊勢崎佐波'!H13","v":0},{"$f":"'４伊勢崎佐波'!I13","v":0},{"$f":"'５太田'!E13","v":0},{"$f":"'５太田'!F13","v":0},{"$f":"'５太田'!G13","v":0},{"$f":"'５太田'!H13","v":0},{"$f":"'５太田'!I13","v":0},{"$f":"'６沼田'!E13","v":0},{"$f":"'６沼田'!F13","v":0},{"$f":"'６沼田'!G13","v":0},{"$f":"'６沼田'!H13","v":0},{"$f":"'６沼田'!I13","v":0},{"$f":"'７館林'!E13","v":0},{"$f":"'７館林'!F13","v":0},{"$f":"'７館林'!G13","v":0},{"$f":"'７館林'!H13","v":0},{"$f":"'７館林'!I13","v":0},{"$f":"'８渋川北群馬'!E13","v":0},{"$f":"'８渋川北群馬'!F13","v":0},{"$f":"'８渋川北群馬'!G13","v":0},{"$f":"'８渋川北群馬'!H13","v":0},{"$f":"'８渋川北群馬'!I13","v":0},{"$f":"'９藤岡多野'!E13","v":0},{"$f":"'９藤岡多野'!F13","v":0},{"$f":"'９藤岡多野'!G13","v":0},{"$f":"'９藤岡多野'!H13","v":0},{"$f":"'９藤岡多野'!I13","v":0},{"$f":"'10富岡甘楽'!E13","v":0},{"$f":"'10富岡甘楽'!F13","v":0},{"$f":"'10富岡甘楽'!G13","v":0},{"$f":"'10富岡甘楽'!H13","v":0},{"$f":"'10富岡甘楽'!I13","v":0},{"$f":"'11安中'!E13","v":0},{"$f":"'11安中'!F13","v":0},{"$f":"'11安中'!G13","v":0},{"$f":"'11安中'!H13","v":0},{"$f":"'11安中'!I13","v":0},{"$f":"'12吾妻'!E13","v":0},{"$f":"'12吾妻'!F13","v":0},{"$f":"'12吾妻'!G13","v":0},{"$f":"'12吾妻'!H13","v":0},{"$f":"'12吾妻'!I13","v":0},{"$f":"'13利根'!E13","v":0},{"$f":"'13利根'!F13","v":0},{"$f":"'13利根'!G13","v":0},{"$f":"'13利根'!H13","v":0},{"$f":"'13利根'!I13","v":0},{"$f":"'14邑楽'!E13","v":0},{"$f":"'14邑楽'!F13","v":0},{"$f":"'14邑楽'!G13","v":0},{"$f":"'14邑楽'!H13","v":0},{"$f":"'14邑楽'!I13","v":0}]
[null,null,10,"バドミントン",0,0,0,0,0,{"$f":"'１前橋'!E14","v":0},{"$f":"'１前橋'!F14","v":0},{"$f":"'１前橋'!G14","v":0},{"$f":"'１前橋'!H14","v":0},{"$f":"'１前橋'!I14","v":0},{"$f":"'２高崎'!E14","v":0},{"$f":"'２高崎'!F14","v":0},{"$f":"'２高崎'!G14","v":0},{"$f":"'２高崎'!H14","v":0},{"$f":"'２高崎'!I14","v":0},{"$f":"'３桐生'!E14","v":0},{"$f":"'３桐生'!F14","v":0},{"$f":"'３桐生'!G14","v":0},{"$f":"'３桐生'!H14","v":0},{"$f":"'３桐生'!I14","v":0},{"$f":"'４伊勢崎佐波'!E14","v":0},{"$f":"'４伊勢崎佐波'!F14","v":0},{"$f":"'４伊勢崎佐波'!G14","v":0},{"$f":"'４伊勢崎佐波'!H14","v":0},{"$f":"'４伊勢崎佐波'!I14","v":0},{"$f":"'５太田'!E14","v":0},{"$f":"'５太田'!F14","v":0},{"$f":"'５太田'!G14","v":0},{"$f":"'５太田'!H14","v":0},{"$f":"'５太田'!I14","v":0},{"$f":"'６沼田'!E14","v":0},{"$f":"'６沼田'!F14","v":0},{"$f":"'６沼田'!G14","v":0},{"$f":"'６沼田'!H14","v":0},{"$f":"'６沼田'!I14","v":0},{"$f":"'７館林'!E14","v":0},{"$f":"'７館林'!F14","v":0},{"$f":"'７館林'!G14","v":0},{"$f":"'７館林'!H14","v":0},{"$f":"'７館林'!I14","v":0},{"$f":"'８渋川北群馬'!E14","v":0},{"$f":"'８渋川北群馬'!F14","v":0},{"$f":"'８渋川北群馬'!G14","v":0},{"$f":"'８渋川北群馬'!H14","v":0},{"$f":"'８渋川北群馬'!I14","v":0},{"$f":"'９藤岡多野'!E14","v":0},{"$f":"'９藤岡多野'!F14","v":0},{"$f":"'９藤岡多野'!G14","v":0},{"$f":"'９藤岡多野'!H14","v":0},{"$f":"'９藤岡多野'!I14","v":0},{"$f":"'10富岡甘楽'!E14","v":0},{"$f":"'10富岡甘楽'!F14","v":0},{"$f":"'10富岡甘楽'!G14","v":0},{"$f":"'10富岡甘楽'!H14","v":0},{"$f":"'10富岡甘楽'!I14","v":0},{"$f":"'11安中'!E14","v":0},{"$f":"'11安中'!F14","v":0},{"$f":"'11安中'!G14","v":0},{"$f":"'11安中'!H14","v":0},{"$f":"'11安中'!I14","v":0},{"$f":"'12吾妻'!E14","v":0},{"$f":"'12吾妻'!F14","v":0},{"$f":"'12吾妻'!G14","v":0},{"$f":"'12吾妻'!H14","v":0},{"$f":"'12吾妻'!I14","v":0},{"$f":"'13利根'!E14","v":0},{"$f":"'13利根'!F14","v":0},{"$f":"'13利根'!G14","v":0},{"$f":"'13利根'!H14","v":0},{"$f":"'13利根'!I14","v":0},{"$f":"'14邑楽'!E14","v":0},{"$f":"'14邑楽'!F14","v":0},{"$f":"'14邑楽'!G14","v":0},{"$f":"'14邑楽'!H14","v":0},{"$f":"'14邑楽'!I14","v":0}]
[null,null,11,"サッカー",0,0,0,0,0,{"$f":"'１前橋'!E15","v":0},{"$f":"'１前橋'!F15","v":0},{"$f":"'１前橋'!G15","v":0},{"$f":"'１前橋'!H15","v":0},{"$f":"'１前橋'!I15","v":0},{"$f":"'２高崎'!E15","v":0},{"$f":"'２高崎'!F15","v":0},{"$f":"'２高崎'!G15","v":0},{"$f":"'２高崎'!H15","v":0},{"$f":"'２高崎'!I15","v":0},{"$f":"'３桐生'!E15","v":0},{"$f":"'３桐生'!F15","v":0},{"$f":"'３桐生'!G15","v":0},{"$f":"'３桐生'!H15","v":0},{"$f":"'３桐生'!I15","v":0},{"$f":"'４伊勢崎佐波'!E15","v":0},{"$f":"'４伊勢崎佐波'!F15","v":0},{"$f":"'４伊勢崎佐波'!G15","v":0},{"$f":"'４伊勢崎佐波'!H15","v":0},{"$f":"'４伊勢崎佐波'!I15","v":0},{"$f":"'５太田'!E15","v":0},{"$f":"'５太田'!F15","v":0},{"$f":"'５太田'!G15","v":0},{"$f":"'５太田'!H15","v":0},{"$f":"'５太田'!I15","v":0},{"$f":"'６沼田'!E15","v":0},{"$f":"'６沼田'!F15","v":0},{"$f":"'６沼田'!G15","v":0},{"$f":"'６沼田'!H15","v":0},{"$f":"'６沼田'!I15","v":0},{"$f":"'７館林'!E15","v":0},{"$f":"'７館林'!F15","v":0},{"$f":"'７館林'!G15","v":0},{"$f":"'７館林'!H15","v":0},{"$f":"'７館林'!I15","v":0},{"$f":"'８渋川北群馬'!E15","v":0},{"$f":"'８渋川北群馬'!F15","v":0},{"$f":"'８渋川北群馬'!G15","v":0},{"$f":"'８渋川北群馬'!H15","v":0},{"$f":"'８渋川北群馬'!I15","v":0},{"$f":"'９藤岡多野'!E15","v":0},{"$f":"'９藤岡多野'!F15","v":0},{"$f":"'９藤岡多野'!G15","v":0},{"$f":"'９藤岡多野'!H15","v":0},{"$f":"'９藤岡多野'!I15","v":0},{"$f":"'10富岡甘楽'!E15","v":0},{"$f":"'10富岡甘楽'!F15","v":0},{"$f":"'10富岡甘楽'!G15","v":0},{"$f":"'10富岡甘楽'!H15","v":0},{"$f":"'10富岡甘楽'!I15","v":0},{"$f":"'11安中'!E15","v":0},{"$f":"'11安中'!F15","v":0},{"$f":"'11安中'!G15","v":0},{"$f":"'11安中'!H15","v":0},{"$f":"'11安中'!I15","v":0},{"$f":"'12吾妻'!E15","v":0},{"$f":"'12吾妻'!F15","v":0},{"$f":"'12吾妻'!G15","v":0},{"$f":"'12吾妻'!H15","v":0},{"$f":"'12吾妻'!I15","v":0},{"$f":"'13利根'!E15","v":0},{"$f":"'13利根'!F15","v":0},{"$f":"'13利根'!G15","v":0},{"$f":"'13利根'!H15","v":0},{"$f":"'13利根'!I15","v":0},{"$f":"'14邑楽'!E15","v":0},{"$f":"'14邑楽'!F15","v":0},{"$f":"'14邑楽'!G15","v":0},{"$f":"'14邑楽'!H15","v":0},{"$f":"'14邑楽'!I15","v":0}]
[null,null,12,"陸　上　競　技",0,0,0,0,0,{"$f":"'１前橋'!E16","v":0},{"$f":"'１前橋'!F16","v":0},{"$f":"'１前橋'!G16","v":0},{"$f":"'１前橋'!H16","v":0},{"$f":"'１前橋'!I16","v":0},{"$f":"'２高崎'!E16","v":0},{"$f":"'２高崎'!F16","v":0},{"$f":"'２高崎'!G16","v":0},{"$f":"'２高崎'!H16","v":0},{"$f":"'２高崎'!I16","v":0},{"$f":"'３桐生'!E16","v":0},{"$f":"'３桐生'!F16","v":0},{"$f":"'３桐生'!G16","v":0},{"$f":"'３桐生'!H16","v":0},{"$f":"'３桐生'!I16","v":0},{"$f":"'４伊勢崎佐波'!E16","v":0},{"$f":"'４伊勢崎佐波'!F16","v":0},{"$f":"'４伊勢崎佐波'!G16","v":0},{"$f":"'４伊勢崎佐波'!H16","v":0},{"$f":"'４伊勢崎佐波'!I16","v":0},{"$f":"'５太田'!E16","v":0},{"$f":"'５太田'!F16","v":0},{"$f":"'５太田'!G16","v":0},{"$f":"'５太田'!H16","v":0},{"$f":"'５太田'!I16","v":0},{"$f":"'６沼田'!E16","v":0},{"$f":"'６沼田'!F16","v":0},{"$f":"'６沼田'!G16","v":0},{"$f":"'６沼田'!H16","v":0},{"$f":"'６沼田'!I16","v":0},{"$f":"'７館林'!E16","v":0},{"$f":"'７館林'!F16","v":0},{"$f":"'７館林'!G16","v":0},{"$f":"'７館林'!H16","v":0},{"$f":"'７館林'!I16","v":0},{"$f":"'８渋川北群馬'!E16","v":0},{"$f":"'８渋川北群馬'!F16","v":0},{"$f":"'８渋川北群馬'!G16","v":0},{"$f":"'８渋川北群馬'!H16","v":0},{"$f":"'８渋川北群馬'!I16","v":0},{"$f":"'９藤岡多野'!E16","v":0},{"$f":"'９藤岡多野'!F16","v":0},{"$f":"'９藤岡多野'!G16","v":0},{"$f":"'９藤岡多野'!H16","v":0},{"$f":"'９藤岡多野'!I16","v":0},{"$f":"'10富岡甘楽'!E16","v":0},{"$f":"'10富岡甘楽'!F16","v":0},{"$f":"'10富岡甘楽'!G16","v":0},{"$f":"'10富岡甘楽'!H16","v":0},{"$f":"'10富岡甘楽'!I16","v":0},{"$f":"'11安中'!E16","v":0},{"$f":"'11安中'!F16","v":0},{"$f":"'11安中'!G16","v":0},{"$f":"'11安中'!H16","v":0},{"$f":"'11安中'!I16","v":0},{"$f":"'12吾妻'!E16","v":0},{"$f":"'12吾妻'!F16","v":0},{"$f":"'12吾妻'!G16","v":0},{"$f":"'12吾妻'!H16","v":0},{"$f":"'12吾妻'!I16","v":0},{"$f":"'13利根'!E16","v":0},{"$f":"'13利根'!F16","v":0},{"$f":"'13利根'!G16","v":0},{"$f":"'13利根'!H16","v":0},{"$f":"'13利根'!I16","v":0},{"$f":"'14邑楽'!E16","v":0},{"$f":"'14邑楽'!F16","v":0},{"$f":"'14邑楽'!G16","v":0},{"$f":"'14邑楽'!H16","v":0},{"$f":"'14邑楽'!I16","v":0}]
[null,null,13,"水　　泳",0,0,0,0,0,{"$f":"'１前橋'!E17","v":0},{"$f":"'１前橋'!F17","v":0},{"$f":"'１前橋'!G17","v":0},{"$f":"'１前橋'!H17","v":0},{"$f":"'１前橋'!I17","v":0},{"$f":"'２高崎'!E17","v":0},{"$f":"'２高崎'!F17","v":0},{"$f":"'２高崎'!G17","v":0},{"$f":"'２高崎'!H17","v":0},{"$f":"'２高崎'!I17","v":0},{"$f":"'３桐生'!E17","v":0},{"$f":"'３桐生'!F17","v":0},{"$f":"'３桐生'!G17","v":0},{"$f":"'３桐生'!H17","v":0},{"$f":"'３桐生'!I17","v":0},{"$f":"'４伊勢崎佐波'!E17","v":0},{"$f":"'４伊勢崎佐波'!F17","v":0},{"$f":"'４伊勢崎佐波'!G17","v":0},{"$f":"'４伊勢崎佐波'!H17","v":0},{"$f":"'４伊勢崎佐波'!I17","v":0},{"$f":"'５太田'!E17","v":0},{"$f":"'５太田'!F17","v":0},{"$f":"'５太田'!G17","v":0},{"$f":"'５太田'!H17","v":0},{"$f":"'５太田'!I17","v":0},{"$f":"'６沼田'!E17","v":0},{"$f":"'６沼田'!F17","v":0},{"$f":"'６沼田'!G17","v":0},{"$f":"'６沼田'!H17","v":0},{"$f":"'６沼田'!I17","v":0},{"$f":"'７館林'!E17","v":0},{"$f":"'７館林'!F17","v":0},{"$f":"'７館林'!G17","v":0},{"$f":"'７館林'!H17","v":0},{"$f":"'７館林'!I17","v":0},{"$f":"'８渋川北群馬'!E17","v":0},{"$f":"'８渋川北群馬'!F17","v":0},{"$f":"'８渋川北群馬'!G17","v":0},{"$f":"'８渋川北群馬'!H17","v":0},{"$f":"'８渋川北群馬'!I17","v":0},{"$f":"'９藤岡多野'!E17","v":0},{"$f":"'９藤岡多野'!F17","v":0},{"$f":"'９藤岡多野'!G17","v":0},{"$f":"'９藤岡多野'!H17","v":0},{"$f":"'９藤岡多野'!I17","v":0},{"$f":"'10富岡甘楽'!E17","v":0},{"$f":"'10富岡甘楽'!F17","v":0},{"$f":"'10富岡甘楽'!G17","v":0},{"$f":"'10富岡甘楽'!H17","v":0},{"$f":"'10富岡甘楽'!I17","v":0},{"$f":"'11安中'!E17","v":0},{"$f":"'11安中'!F17","v":0},{"$f":"'11安中'!G17","v":0},{"$f":"'11安中'!H17","v":0},{"$f":"'11安中'!I17","v":0},{"$f":"'12吾妻'!E17","v":0},{"$f":"'12吾妻'!F17","v":0},{"$f":"'12吾妻'!G17","v":0},{"$f":"'12吾妻'!H17","v":0},{"$f":"'12吾妻'!I17","v":0},{"$f":"'13利根'!E17","v":0},{"$f":"'13利根'!F17","v":0},{"$f":"'13利根'!G17","v":0},{"$f":"'13利根'!H17","v":0},{"$f":"'13利根'!I17","v":0},{"$f":"'14邑楽'!E17","v":0},{"$f":"'14邑楽'!F17","v":0},{"$f":"'14邑楽'!G17","v":0},{"$f":"'14邑楽'!H17","v":0},{"$f":"'14邑楽'!I17","v":0}]
[null,"子",14,"柔　　道",0,0,0,0,0,{"$f":"'１前橋'!E18","v":0},{"$f":"'１前橋'!F18","v":0},{"$f":"'１前橋'!G18","v":0},{"$f":"'１前橋'!H18","v":0},{"$f":"'１前橋'!I18","v":0},{"$f":"'２高崎'!E18","v":0},{"$f":"'２高崎'!F18","v":0},{"$f":"'２高崎'!G18","v":0},{"$f":"'２高崎'!H18","v":0},{"$f":"'２高崎'!I18","v":0},{"$f":"'３桐生'!E18","v":0},{"$f":"'３桐生'!F18","v":0},{"$f":"'３桐生'!G18","v":0},{"$f":"'３桐生'!H18","v":0},{"$f":"'３桐生'!I18","v":0},{"$f":"'４伊勢崎佐波'!E18","v":0},{"$f":"'４伊勢崎佐波'!F18","v":0},{"$f":"'４伊勢崎佐波'!G18","v":0},{"$f":"'４伊勢崎佐波'!H18","v":0},{"$f":"'４伊勢崎佐波'!I18","v":0},{"$f":"'５太田'!E18","v":0},{"$f":"'５太田'!F18","v":0},{"$f":"'５太田'!G18","v":0},{"$f":"'５太田'!H18","v":0},{"$f":"'５太田'!I18","v":0},{"$f":"'６沼田'!E18","v":0},{"$f":"'６沼田'!F18","v":0},{"$f":"'６沼田'!G18","v":0},{"$f":"'６沼田'!H18","v":0},{"$f":"'６沼田'!I18","v":0},{"$f":"'７館林'!E18","v":0},{"$f":"'７館林'!F18","v":0},{"$f":"'７館林'!G18","v":0},{"$f":"'７館林'!H18","v":0},{"$f":"'７館林'!I18","v":0},{"$f":"'８渋川北群馬'!E18","v":0},{"$f":"'８渋川北群馬'!F18","v":0},{"$f":"'８渋川北群馬'!G18","v":0},{"$f":"'８渋川北群馬'!H18","v":0},{"$f":"'８渋川北群馬'!I18","v":0},{"$f":"'９藤岡多野'!E18","v":0},{"$f":"'９藤岡多野'!F18","v":0},{"$f":"'９藤岡多野'!G18","v":0},{"$f":"'９藤岡多野'!H18","v":0},{"$f":"'９藤岡多野'!I18","v":0},{"$f":"'10富岡甘楽'!E18","v":0},{"$f":"'10富岡甘楽'!F18","v":0},{"$f":"'10富岡甘楽'!G18","v":0},{"$f":"'10富岡甘楽'!H18","v":0},{"$f":"'10富岡甘楽'!I18","v":0},{"$f":"'11安中'!E18","v":0},{"$f":"'11安中'!F18","v":0},{"$f":"'11安中'!G18","v":0},{"$f":"'11安中'!H18","v":0},{"$f":"'11安中'!I18","v":0},{"$f":"'12吾妻'!E18","v":0},{"$f":"'12吾妻'!F18","v":0},{"$f":"'12吾妻'!G18","v":0},{"$f":"'12吾妻'!H18","v":0},{"$f":"'12吾妻'!I18","v":0},{"$f":"'13利根'!E18","v":0},{"$f":"'13利根'!F18","v":0},{"$f":"'13利根'!G18","v":0},{"$f":"'13利根'!H18","v":0},{"$f":"'13利根'!I18","v":0},{"$f":"'14邑楽'!E18","v":0},{"$f":"'14邑楽'!F18","v":0},{"$f":"'14邑楽'!G18","v":0},{"$f":"'14邑楽'!H18","v":0},{"$f":"'14邑楽'!I18","v":0}]
[null,null,15,"剣　　道",0,0,0,0,0,{"$f":"'１前橋'!E19","v":0},{"$f":"'１前橋'!F19","v":0},{"$f":"'１前橋'!G19","v":0},{"$f":"'１前橋'!H19","v":0},{"$f":"'１前橋'!I19","v":0},{"$f":"'２高崎'!E19","v":0},{"$f":"'２高崎'!F19","v":0},{"$f":"'２高崎'!G19","v":0},{"$f":"'２高崎'!H19","v":0},{"$f":"'２高崎'!I19","v":0},{"$f":"'３桐生'!E19","v":0},{"$f":"'３桐生'!F19","v":0},{"$f":"'３桐生'!G19","v":0},{"$f":"'３桐生'!H19","v":0},{"$f":"'３桐生'!I19","v":0},{"$f":"'４伊勢崎佐波'!E19","v":0},{"$f":"'４伊勢崎佐波'!F19","v":0},{"$f":"'４伊勢崎佐波'!G19","v":0},{"$f":"'４伊勢崎佐波'!H19","v":0},{"$f":"'４伊勢崎佐波'!I19","v":0},{"$f":"'５太田'!E19","v":0},{"$f":"'５太田'!F19","v":0},{"$f":"'５太田'!G19","v":0},{"$f":"'５太田'!H19","v":0},{"$f":"'５太田'!I19","v":0},{"$f":"'６沼田'!E19","v":0},{"$f":"'６沼田'!F19","v":0},{"$f":"'６沼田'!G19","v":0},{"$f":"'６沼田'!H19","v":0},{"$f":"'６沼田'!I19","v":0},{"$f":"'７館林'!E19","v":0},{"$f":"'７館林'!F19","v":0},{"$f":"'７館林'!G19","v":0},{"$f":"'７館林'!H19","v":0},{"$f":"'７館林'!I19","v":0},{"$f":"'８渋川北群馬'!E19","v":0},{"$f":"'８渋川北群馬'!F19","v":0},{"$f":"'８渋川北群馬'!G19","v":0},{"$f":"'８渋川北群馬'!H19","v":0},{"$f":"'８渋川北群馬'!I19","v":0},{"$f":"'９藤岡多野'!E19","v":0},{"$f":"'９藤岡多野'!F19","v":0},{"$f":"'９藤岡多野'!G19","v":0},{"$f":"'９藤岡多野'!H19","v":0},{"$f":"'９藤岡多野'!I19","v":0},{"$f":"'10富岡甘楽'!E19","v":0},{"$f":"'10富岡甘楽'!F19","v":0},{"$f":"'10富岡甘楽'!G19","v":0},{"$f":"'10富岡甘楽'!H19","v":0},{"$f":"'10富岡甘楽'!I19","v":0},{"$f":"'11安中'!E19","v":0},{"$f":"'11安中'!F19","v":0},{"$f":"'11安中'!G19","v":0},{"$f":"'11安中'!H19","v":0},{"$f":"'11安中'!I19","v":0},{"$f":"'12吾妻'!E19","v":0},{"$f":"'12吾妻'!F19","v":0},{"$f":"'12吾妻'!G19","v":0},{"$f":"'12吾妻'!H19","v":0},{"$f":"'12吾妻'!I19","v":0},{"$f":"'13利根'!E19","v":0},{"$f":"'13利根'!F19","v":0},{"$f":"'13利根'!G19","v":0},{"$f":"'13利根'!H19","v":0},{"$f":"'13利根'!I19","v":0},{"$f":"'14邑楽'!E19","v":0},{"$f":"'14邑楽'!F19","v":0},{"$f":"'14邑楽'!G19","v":0},{"$f":"'14邑楽'!H19","v":0},{"$f":"'14邑楽'!I19","v":0}]
[null,null,16,"相　　撲",0,0,0,0,0,{"$f":"'１前橋'!E20","v":0},{"$f":"'１前橋'!F20","v":0},{"$f":"'１前橋'!G20","v":0},{"$f":"'１前橋'!H20","v":0},{"$f":"'１前橋'!I20","v":0},{"$f":"'２高崎'!E20","v":0},{"$f":"'２高崎'!F20","v":0},{"$f":"'２高崎'!G20","v":0},{"$f":"'２高崎'!H20","v":0},{"$f":"'２高崎'!I20","v":0},{"$f":"'３桐生'!E20","v":0},{"$f":"'３桐生'!F20","v":0},{"$f":"'３桐生'!G20","v":0},{"$f":"'３桐生'!H20","v":0},{"$f":"'３桐生'!I20","v":0},{"$f":"'４伊勢崎佐波'!E20","v":0},{"$f":"'４伊勢崎佐波'!F20","v":0},{"$f":"'４伊勢崎佐波'!G20","v":0},{"$f":"'４伊勢崎佐波'!H20","v":0},{"$f":"'４伊勢崎佐波'!I20","v":0},{"$f":"'５太田'!E20","v":0},{"$f":"'５太田'!F20","v":0},{"$f":"'５太田'!G20","v":0},{"$f":"'５太田'!H20","v":0},{"$f":"'５太田'!I20","v":0},{"$f":"'６沼田'!E20","v":0},{"$f":"'６沼田'!F20","v":0},{"$f":"'６沼田'!G20","v":0},{"$f":"'６沼田'!H20","v":0},{"$f":"'６沼田'!I20","v":0},{"$f":"'７館林'!E20","v":0},{"$f":"'７館林'!F20","v":0},{"$f":"'７館林'!G20","v":0},{"$f":"'７館林'!H20","v":0},{"$f":"'７館林'!I20","v":0},{"$f":"'８渋川北群馬'!E20","v":0},{"$f":"'８渋川北群馬'!F20","v":0},{"$f":"'８渋川北群馬'!G20","v":0},{"$f":"'８渋川北群馬'!H20","v":0},{"$f":"'８渋川北群馬'!I20","v":0},{"$f":"'９藤岡多野'!E20","v":0},{"$f":"'９藤岡多野'!F20","v":0},{"$f":"'９藤岡多野'!G20","v":0},{"$f":"'９藤岡多野'!H20","v":0},{"$f":"'９藤岡多野'!I20","v":0},{"$f":"'10富岡甘楽'!E20","v":0},{"$f":"'10富岡甘楽'!F20","v":0},{"$f":"'10富岡甘楽'!G20","v":0},{"$f":"'10富岡甘楽'!H20","v":0},{"$f":"'10富岡甘楽'!I20","v":0},{"$f":"'11安中'!E20","v":0},{"$f":"'11安中'!F20","v":0},{"$f":"'11安中'!G20","v":0},{"$f":"'11安中'!H20","v":0},{"$f":"'11安中'!I20","v":0},{"$f":"'12吾妻'!E20","v":0},{"$f":"'12吾妻'!F20","v":0},{"$f":"'12吾妻'!G20","v":0},{"$f":"'12吾妻'!H20","v":0},{"$f":"'12吾妻'!I20","v":0},{"$f":"'13利根'!E20","v":0},{"$f":"'13利根'!F20","v":0},{"$f":"'13利根'!G20","v":0},{"$f":"'13利根'!H20","v":0},{"$f":"'13利根'!I20","v":0},{"$f":"'14邑楽'!E20","v":0},{"$f":"'14邑楽'!F20","v":0},{"$f":"'14邑楽'!G20","v":0},{"$f":"'14邑楽'!H20","v":0},{"$f":"'14邑楽'!I20","v":0}]
[null,null,17,"ダ    ン    ス",0,0,0,0,0,{"$f":"'１前橋'!E21","v":0},{"$f":"'１前橋'!F21","v":0},{"$f":"'１前橋'!G21","v":0},{"$f":"'１前橋'!H21","v":0},{"$f":"'１前橋'!I21","v":0},{"$f":"'２高崎'!E21","v":0},{"$f":"'２高崎'!F21","v":0},{"$f":"'２高崎'!G21","v":0},{"$f":"'２高崎'!H21","v":0},{"$f":"'２高崎'!I21","v":0},{"$f":"'３桐生'!E21","v":0},{"$f":"'３桐生'!F21","v":0},{"$f":"'３桐生'!G21","v":0},{"$f":"'３桐生'!H21","v":0},{"$f":"'３桐生'!I21","v":0},{"$f":"'４伊勢崎佐波'!E21","v":0},{"$f":"'４伊勢崎佐波'!F21","v":0},{"$f":"'４伊勢崎佐波'!G21","v":0},{"$f":"'４伊勢崎佐波'!H21","v":0},{"$f":"'４伊勢崎佐波'!I21","v":0},{"$f":"'５太田'!E21","v":0},{"$f":"'５太田'!F21","v":0},{"$f":"'５太田'!G21","v":0},{"$f":"'５太田'!H21","v":0},{"$f":"'５太田'!I21","v":0},{"$f":"'６沼田'!E21","v":0},{"$f":"'６沼田'!F21","v":0},{"$f":"'６沼田'!G21","v":0},{"$f":"'６沼田'!H21","v":0},{"$f":"'６沼田'!I21","v":0},{"$f":"'７館林'!E21","v":0},{"$f":"'７館林'!F21","v":0},{"$f":"'７館林'!G21","v":0},{"$f":"'７館林'!H21","v":0},{"$f":"'７館林'!I21","v":0},{"$f":"'８渋川北群馬'!E21","v":0},{"$f":"'８渋川北群馬'!F21","v":0},{"$f":"'８渋川北群馬'!G21","v":0},{"$f":"'８渋川北群馬'!H21","v":0},{"$f":"'８渋川北群馬'!I21","v":0},{"$f":"'９藤岡多野'!E21","v":0},{"$f":"'９藤岡多野'!F21","v":0},{"$f":"'９藤岡多野'!G21","v":0},{"$f":"'９藤岡多野'!H21","v":0},{"$f":"'９藤岡多野'!I21","v":0},{"$f":"'10富岡甘楽'!E21","v":0},{"$f":"'10富岡甘楽'!F21","v":0},{"$f":"'10富岡甘楽'!G21","v":0},{"$f":"'10富岡甘楽'!H21","v":0},{"$f":"'10富岡甘楽'!I21","v":0},{"$f":"'11安中'!E21","v":0},{"$f":"'11安中'!F21","v":0},{"$f":"'11安中'!G21","v":0},{"$f":"'11安中'!H21","v":0},{"$f":"'11安中'!I21","v":0},{"$f":"'12吾妻'!E21","v":0},{"$f":"'12吾妻'!F21","v":0},{"$f":"'12吾妻'!G21","v":0},{"$f":"'12吾妻'!H21","v":0},{"$f":"'12吾妻'!I21","v":0},{"$f":"'13利根'!E21","v":0},{"$f":"'13利根'!F21","v":0},{"$f":"'13利根'!G21","v":0},{"$f":"'13利根'!H21","v":0},{"$f":"'13利根'!I21","v":0},{"$f":"'14邑楽'!E21","v":0},{"$f":"'14邑楽'!F21","v":0},{"$f":"'14邑楽'!G21","v":0},{"$f":"'14邑楽'!H21","v":0},{"$f":"'14邑楽'!I21","v":0}]
[null,null,18,"ス    キ    ー",0,0,0,0,0,{"$f":"'１前橋'!E22","v":0},{"$f":"'１前橋'!F22","v":0},{"$f":"'１前橋'!G22","v":0},{"$f":"'１前橋'!H22","v":0},{"$f":"'１前橋'!I22","v":0},{"$f":"'２高崎'!E22","v":0},{"$f":"'２高崎'!F22","v":0},{"$f":"'２高崎'!G22","v":0},{"$f":"'２高崎'!H22","v":0},{"$f":"'２高崎'!I22","v":0},{"$f":"'３桐生'!E22","v":0},{"$f":"'３桐生'!F22","v":0},{"$f":"'３桐生'!G22","v":0},{"$f":"'３桐生'!H22","v":0},{"$f":"'３桐生'!I22","v":0},{"$f":"'４伊勢崎佐波'!E22","v":0},{"$f":"'４伊勢崎佐波'!F22","v":0},{"$f":"'４伊勢崎佐波'!G22","v":0},{"$f":"'４伊勢崎佐波'!H22","v":0},{"$f":"'４伊勢崎佐波'!I22","v":0},{"$f":"'５太田'!E22","v":0},{"$f":"'５太田'!F22","v":0},{"$f":"'５太田'!G22","v":0},{"$f":"'５太田'!H22","v":0},{"$f":"'５太田'!I22","v":0},{"$f":"'６沼田'!E22","v":0},{"$f":"'６沼田'!F22","v":0},{"$f":"'６沼田'!G22","v":0},{"$f":"'６沼田'!H22","v":0},{"$f":"'６沼田'!I22","v":0},{"$f":"'７館林'!E22","v":0},{"$f":"'７館林'!F22","v":0},{"$f":"'７館林'!G22","v":0},{"$f":"'７館林'!H22","v":0},{"$f":"'７館林'!I22","v":0},{"$f":"'８渋川北群馬'!E22","v":0},{"$f":"'８渋川北群馬'!F22","v":0},{"$f":"'８渋川北群馬'!G22","v":0},{"$f":"'８渋川北群馬'!H22","v":0},{"$f":"'８渋川北群馬'!I22","v":0},{"$f":"'９藤岡多野'!E22","v":0},{"$f":"'９藤岡多野'!F22","v":0},{"$f":"'９藤岡多野'!G22","v":0},{"$f":"'９藤岡多野'!H22","v":0},{"$f":"'９藤岡多野'!I22","v":0},{"$f":"'10富岡甘楽'!E22","v":0},{"$f":"'10富岡甘楽'!F22","v":0},{"$f":"'10富岡甘楽'!G22","v":0},{"$f":"'10富岡甘楽'!H22","v":0},{"$f":"'10富岡甘楽'!I22","v":0},{"$f":"'11安中'!E22","v":0},{"$f":"'11安中'!F22","v":0},{"$f":"'11安中'!G22","v":0},{"$f":"'11安中'!H22","v":0},{"$f":"'11安中'!I22","v":0},{"$f":"'12吾妻'!E22","v":0},{"$f":"'12吾妻'!F22","v":0},{"$f":"'12吾妻'!G22","v":0},{"$f":"'12吾妻'!H22","v":0},{"$f":"'12吾妻'!I22","v":0},{"$f":"'13利根'!E22","v":0},{"$f":"'13利根'!F22","v":0},{"$f":"'13利根'!G22","v":0},{"$f":"'13利根'!H22","v":0},{"$f":"'13利根'!I22","v":0},{"$f":"'14邑楽'!E22","v":0},{"$f":"'14邑楽'!F22","v":0},{"$f":"'14邑楽'!G22","v":0},{"$f":"'14邑楽'!H22","v":0},{"$f":"'14邑楽'!I22","v":0}]
[null,null,19,"ス  ケ  ー  ト",0,0,0,0,0,{"$f":"'１前橋'!E23","v":0},{"$f":"'１前橋'!F23","v":0},{"$f":"'１前橋'!G23","v":0},{"$f":"'１前橋'!H23","v":0},{"$f":"'１前橋'!I23","v":0},{"$f":"'２高崎'!E23","v":0},{"$f":"'２高崎'!F23","v":0},{"$f":"'２高崎'!G23","v":0},{"$f":"'２高崎'!H23","v":0},{"$f":"'２高崎'!I23","v":0},{"$f":"'３桐生'!E23","v":0},{"$f":"'３桐生'!F23","v":0},{"$f":"'３桐生'!G23","v":0},{"$f":"'３桐生'!H23","v":0},{"$f":"'３桐生'!I23","v":0},{"$f":"'４伊勢崎佐波'!E23","v":0},{"$f":"'４伊勢崎佐波'!F23","v":0},{"$f":"'４伊勢崎佐波'!G23","v":0},{"$f":"'４伊勢崎佐波'!H23","v":0},{"$f":"'４伊勢崎佐波'!I23","v":0},{"$f":"'５太田'!E23","v":0},{"$f":"'５太田'!F23","v":0},{"$f":"'５太田'!G23","v":0},{"$f":"'５太田'!H23","v":0},{"$f":"'５太田'!I23","v":0},{"$f":"'６沼田'!E23","v":0},{"$f":"'６沼田'!F23","v":0},{"$f":"'６沼田'!G23","v":0},{"$f":"'６沼田'!H23","v":0},{"$f":"'６沼田'!I23","v":0},{"$f":"'７館林'!E23","v":0},{"$f":"'７館林'!F23","v":0},{"$f":"'７館林'!G23","v":0},{"$f":"'７館林'!H23","v":0},{"$f":"'７館林'!I23","v":0},{"$f":"'８渋川北群馬'!E23","v":0},{"$f":"'８渋川北群馬'!F23","v":0},{"$f":"'８渋川北群馬'!G23","v":0},{"$f":"'８渋川北群馬'!H23","v":0},{"$f":"'８渋川北群馬'!I23","v":0},{"$f":"'９藤岡多野'!E23","v":0},{"$f":"'９藤岡多野'!F23","v":0},{"$f":"'９藤岡多野'!G23","v":0},{"$f":"'９藤岡多野'!H23","v":0},{"$f":"'９藤岡多野'!I23","v":0},{"$f":"'10富岡甘楽'!E23","v":0},{"$f":"'10富岡甘楽'!F23","v":0},{"$f":"'10富岡甘楽'!G23","v":0},{"$f":"'10富岡甘楽'!H23","v":0},{"$f":"'10富岡甘楽'!I23","v":0},{"$f":"'11安中'!E23","v":0},{"$f":"'11安中'!F23","v":0},{"$f":"'11安中'!G23","v":0},{"$f":"'11安中'!H23","v":0},{"$f":"'11安中'!I23","v":0},{"$f":"'12吾妻'!E23","v":0},{"$f":"'12吾妻'!F23","v":0},{"$f":"'12吾妻'!G23","v":0},{"$f":"'12吾妻'!H23","v":0},{"$f":"'12吾妻'!I23","v":0},{"$f":"'13利根'!E23","v":0},{"$f":"'13利根'!F23","v":0},{"$f":"'13利根'!G23","v":0},{"$f":"'13利根'!H23","v":0},{"$f":"'13利根'!I23","v":0},{"$f":"'14邑楽'!E23","v":0},{"$f":"'14邑楽'!F23","v":0},{"$f":"'14邑楽'!G23","v":0},{"$f":"'14邑楽'!H23","v":0},{"$f":"'14邑楽'!I23","v":0}]
[null,null,20,"アイスホッケー",0,0,0,0,0,{"$f":"'１前橋'!E24","v":0},{"$f":"'１前橋'!F24","v":0},{"$f":"'１前橋'!G24","v":0},{"$f":"'１前橋'!H24","v":0},{"$f":"'１前橋'!I24","v":0},{"$f":"'２高崎'!E24","v":0},{"$f":"'２高崎'!F24","v":0},{"$f":"'２高崎'!G24","v":0},{"$f":"'２高崎'!H24","v":0},{"$f":"'２高崎'!I24","v":0},{"$f":"'３桐生'!E24","v":0},{"$f":"'３桐生'!F24","v":0},{"$f":"'３桐生'!G24","v":0},{"$f":"'３桐生'!H24","v":0},{"$f":"'３桐生'!I24","v":0},{"$f":"'４伊勢崎佐波'!E24","v":0},{"$f":"'４伊勢崎佐波'!F24","v":0},{"$f":"'４伊勢崎佐波'!G24","v":0},{"$f":"'４伊勢崎佐波'!H24","v":0},{"$f":"'４伊勢崎佐波'!I24","v":0},{"$f":"'５太田'!E24","v":0},{"$f":"'５太田'!F24","v":0},{"$f":"'５太田'!G24","v":0},{"$f":"'５太田'!H24","v":0},{"$f":"'５太田'!I24","v":0},{"$f":"'６沼田'!E24","v":0},{"$f":"'６沼田'!F24","v":0},{"$f":"'６沼田'!G24","v":0},{"$f":"'６沼田'!H24","v":0},{"$f":"'６沼田'!I24","v":0},{"$f":"'７館林'!E24","v":0},{"$f":"'７館林'!F24","v":0},{"$f":"'７館林'!G24","v":0},{"$f":"'７館林'!H24","v":0},{"$f":"'７館林'!I24","v":0},{"$f":"'８渋川北群馬'!E24","v":0},{"$f":"'８渋川北群馬'!F24","v":0},{"$f":"'８渋川北群馬'!G24","v":0},{"$f":"'８渋川北群馬'!H24","v":0},{"$f":"'８渋川北群馬'!I24","v":0},{"$f":"'９藤岡多野'!E24","v":0},{"$f":"'９藤岡多野'!F24","v":0},{"$f":"'９藤岡多野'!G24","v":0},{"$f":"'９藤岡多野'!H24","v":0},{"$f":"'９藤岡多野'!I24","v":0},{"$f":"'10富岡甘楽'!E24","v":0},{"$f":"'10富岡甘楽'!F24","v":0},{"$f":"'10富岡甘楽'!G24","v":0},{"$f":"'10富岡甘楽'!H24","v":0},{"$f":"'10富岡甘楽'!I24","v":0},{"$f":"'11安中'!E24","v":0},{"$f":"'11安中'!F24","v":0},{"$f":"'11安中'!G24","v":0},{"$f":"'11安中'!H24","v":0},{"$f":"'11安中'!I24","v":0},{"$f":"'12吾妻'!E24","v":0},{"$f":"'12吾妻'!F24","v":0},{"$f":"'12吾妻'!G24","v":0},{"$f":"'12吾妻'!H24","v":0},{"$f":"'12吾妻'!I24","v":0},{"$f":"'13利根'!E24","v":0},{"$f":"'13利根'!F24","v":0},{"$f":"'13利根'!G24","v":0},{"$f":"'13利根'!H24","v":0},{"$f":"'13利根'!I24","v":0},{"$f":"'14邑楽'!E24","v":0},{"$f":"'14邑楽'!F24","v":0},{"$f":"'14邑楽'!G24","v":0},{"$f":"'14邑楽'!H24","v":0},{"$f":"'14邑楽'!I24","v":0}]
[null,null,21,"テ　　ニ　　ス",0,0,0,0,0,{"$f":"'１前橋'!E25","v":0},{"$f":"'１前橋'!F25","v":0},{"$f":"'１前橋'!G25","v":0},{"$f":"'１前橋'!H25","v":0},{"$f":"'１前橋'!I25","v":0},{"$f":"'２高崎'!E25","v":0},{"$f":"'２高崎'!F25","v":0},{"$f":"'２高崎'!G25","v":0},{"$f":"'２高崎'!H25","v":0},{"$f":"'２高崎'!I25","v":0},{"$f":"'３桐生'!E25","v":0},{"$f":"'３桐生'!F25","v":0},{"$f":"'３桐生'!G25","v":0},{"$f":"'３桐生'!H25","v":0},{"$f":"'３桐生'!I25","v":0},{"$f":"'４伊勢崎佐波'!E25","v":0},{"$f":"'４伊勢崎佐波'!F25","v":0},{"$f":"'４伊勢崎佐波'!G25","v":0},{"$f":"'４伊勢崎佐波'!H25","v":0},{"$f":"'４伊勢崎佐波'!I25","v":0},{"$f":"'５太田'!E25","v":0},{"$f":"'５太田'!F25","v":0},{"$f":"'５太田'!G25","v":0},{"$f":"'５太田'!H25","v":0},{"$f":"'５太田'!I25","v":0},{"$f":"'６沼田'!E25","v":0},{"$f":"'６沼田'!F25","v":0},{"$f":"'６沼田'!G25","v":0},{"$f":"'６沼田'!H25","v":0},{"$f":"'６沼田'!I25","v":0},{"$f":"'７館林'!E25","v":0},{"$f":"'７館林'!F25","v":0},{"$f":"'７館林'!G25","v":0},{"$f":"'７館林'!H25","v":0},{"$f":"'７館林'!I25","v":0},{"$f":"'８渋川北群馬'!E25","v":0},{"$f":"'８渋川北群馬'!F25","v":0},{"$f":"'８渋川北群馬'!G25","v":0},{"$f":"'８渋川北群馬'!H25","v":0},{"$f":"'８渋川北群馬'!I25","v":0},{"$f":"'９藤岡多野'!E25","v":0},{"$f":"'９藤岡多野'!F25","v":0},{"$f":"'９藤岡多野'!G25","v":0},{"$f":"'９藤岡多野'!H25","v":0},{"$f":"'９藤岡多野'!I25","v":0},{"$f":"'10富岡甘楽'!E25","v":0},{"$f":"'10富岡甘楽'!F25","v":0},{"$f":"'10富岡甘楽'!G25","v":0},{"$f":"'10富岡甘楽'!H25","v":0},{"$f":"'10富岡甘楽'!I25","v":0},{"$f":"'11安中'!E25","v":0},{"$f":"'11安中'!F25","v":0},{"$f":"'11安中'!G25","v":0},{"$f":"'11安中'!H25","v":0},{"$f":"'11安中'!I25","v":0},{"$f":"'12吾妻'!E25","v":0},{"$f":"'12吾妻'!F25","v":0},{"$f":"'12吾妻'!G25","v":0},{"$f":"'12吾妻'!H25","v":0},{"$f":"'12吾妻'!I25","v":0},{"$f":"'13利根'!E25","v":0},{"$f":"'13利根'!F25","v":0},{"$f":"'13利根'!G25","v":0},{"$f":"'13利根'!H25","v":0},{"$f":"'13利根'!I25","v":0},{"$f":"'14邑楽'!E25","v":0},{"$f":"'14邑楽'!F25","v":0},{"$f":"'14邑楽'!G25","v":0},{"$f":"'14邑楽'!H25","v":0},{"$f":"'14邑楽'!I25","v":0}]
[null,null,22,"弓　　道",0,0,0,0,0,{"$f":"'１前橋'!E28","v":0},{"$f":"'１前橋'!F28","v":0},{"$f":"'１前橋'!G28","v":0},{"$f":"'１前橋'!H28","v":0},{"$f":"'１前橋'!I28","v":0}]
[null,null,23,"空　　　手",0,0,0,0,0,{"$f":"'１前橋'!E26","v":0},{"$f":"'１前橋'!F26","v":0},{"$f":"'１前橋'!G26","v":0},{"$f":"'１前橋'!H26","v":0},{"$f":"'１前橋'!I26","v":0},{"$f":"'２高崎'!E26","v":0},{"$f":"'２高崎'!F26","v":0},{"$f":"'２高崎'!G26","v":0},{"$f":"'２高崎'!H26","v":0},{"$f":"'２高崎'!I26","v":0},{"$f":"'３桐生'!E26","v":0},{"$f":"'３桐生'!F26","v":0},{"$f":"'３桐生'!G26","v":0},{"$f":"'３桐生'!H26","v":0},{"$f":"'３桐生'!I26","v":0},{"$f":"'４伊勢崎佐波'!E26","v":0},{"$f":"'４伊勢崎佐波'!F26","v":0},{"$f":"'４伊勢崎佐波'!G26","v":0},{"$f":"'４伊勢崎佐波'!H26","v":0},{"$f":"'４伊勢崎佐波'!I26","v":0},{"$f":"'５太田'!E26","v":0},{"$f":"'５太田'!F26","v":0},{"$f":"'５太田'!G26","v":0},{"$f":"'５太田'!H26","v":0},{"$f":"'５太田'!I26","v":0},{"$f":"'６沼田'!E26","v":0},{"$f":"'６沼田'!F26","v":0},{"$f":"'６沼田'!G26","v":0},{"$f":"'６沼田'!H26","v":0},{"$f":"'６沼田'!I26","v":0},{"$f":"'７館林'!E26","v":0},{"$f":"'７館林'!F26","v":0},{"$f":"'７館林'!G26","v":0},{"$f":"'７館林'!H26","v":0},{"$f":"'７館林'!I26","v":0},{"$f":"'８渋川北群馬'!E26","v":0},{"$f":"'８渋川北群馬'!F26","v":0},{"$f":"'８渋川北群馬'!G26","v":0},{"$f":"'８渋川北群馬'!H26","v":0},{"$f":"'８渋川北群馬'!I26","v":0},{"$f":"'９藤岡多野'!E26","v":0},{"$f":"'９藤岡多野'!F26","v":0},{"$f":"'９藤岡多野'!G26","v":0},{"$f":"'９藤岡多野'!H26","v":0},{"$f":"'９藤岡多野'!I26","v":0},{"$f":"'10富岡甘楽'!E26","v":0},{"$f":"'10富岡甘楽'!F26","v":0},{"$f":"'10富岡甘楽'!G26","v":0},{"$f":"'10富岡甘楽'!H26","v":0},{"$f":"'10富岡甘楽'!I26","v":0},{"$f":"'11安中'!E26","v":0},{"$f":"'11安中'!F26","v":0},{"$f":"'11安中'!G26","v":0},{"$f":"'11安中'!H26","v":0},{"$f":"'11安中'!I26","v":0},{"$f":"'12吾妻'!E26","v":0},{"$f":"'12吾妻'!F26","v":0},{"$f":"'12吾妻'!G26","v":0},{"$f":"'12吾妻'!H26","v":0},{"$f":"'12吾妻'!I26","v":0},{"$f":"'13利根'!E26","v":0},{"$f":"'13利根'!F26","v":0},{"$f":"'13利根'!G26","v":0},{"$f":"'13利根'!H26","v":0},{"$f":"'13利根'!I26","v":0},{"$f":"'14邑楽'!E26","v":0},{"$f":"'14邑楽'!F26","v":0},{"$f":"'14邑楽'!G26","v":0},{"$f":"'14邑楽'!H26","v":0},{"$f":"'14邑楽'!I26","v":0}]
[null,null,24,"ラ　グ　ビ　ー",0,0,0,0,0,{"$f":"'１前橋'!E27","v":0},{"$f":"'１前橋'!F27","v":0},{"$f":"'１前橋'!G27","v":0},{"$f":"'１前橋'!H27","v":0},{"$f":"'１前橋'!I27","v":0},{"$f":"'２高崎'!E27","v":0},{"$f":"'２高崎'!F27","v":0},{"$f":"'２高崎'!G27","v":0},{"$f":"'２高崎'!H27","v":0},{"$f":"'２高崎'!I27","v":0},{"$f":"'３桐生'!E27","v":0},{"$f":"'３桐生'!F27","v":0},{"$f":"'３桐生'!G27","v":0},{"$f":"'３桐生'!H27","v":0},{"$f":"'３桐生'!I27","v":0},{"$f":"'４伊勢崎佐波'!E27","v":0},{"$f":"'４伊勢崎佐波'!F27","v":0},{"$f":"'４伊勢崎佐波'!G27","v":0},{"$f":"'４伊勢崎佐波'!H27","v":0},{"$f":"'４伊勢崎佐波'!I27","v":0},{"$f":"'５太田'!E27","v":0},{"$f":"'５太田'!F27","v":0},{"$f":"'５太田'!G27","v":0},{"$f":"'５太田'!H27","v":0},{"$f":"'５太田'!I27","v":0},{"$f":"'６沼田'!E27","v":0},{"$f":"'６沼田'!F27","v":0},{"$f":"'６沼田'!G27","v":0},{"$f":"'６沼田'!H27","v":0},{"$f":"'６沼田'!I27","v":0},{"$f":"'７館林'!E27","v":0},{"$f":"'７館林'!F27","v":0},{"$f":"'７館林'!G27","v":0},{"$f":"'７館林'!H27","v":0},{"$f":"'７館林'!I27","v":0},{"$f":"'８渋川北群馬'!E27","v":0},{"$f":"'８渋川北群馬'!F27","v":0},{"$f":"'８渋川北群馬'!G27","v":0},{"$f":"'８渋川北群馬'!H27","v":0},{"$f":"'８渋川北群馬'!I27","v":0},{"$f":"'９藤岡多野'!E27","v":0},{"$f":"'９藤岡多野'!F27","v":0},{"$f":"'９藤岡多野'!G27","v":0},{"$f":"'９藤岡多野'!H27","v":0},{"$f":"'９藤岡多野'!I27","v":0},{"$f":"'10富岡甘楽'!E27","v":0},{"$f":"'10富岡甘楽'!F27","v":0},{"$f":"'10富岡甘楽'!G27","v":0},{"$f":"'10富岡甘楽'!H27","v":0},{"$f":"'10富岡甘楽'!I27","v":0},{"$f":"'11安中'!E27","v":0},{"$f":"'11安中'!F27","v":0},{"$f":"'11安中'!G27","v":0},{"$f":"'11安中'!H27","v":0},{"$f":"'11安中'!I27","v":0},{"$f":"'12吾妻'!E27","v":0},{"$f":"'12吾妻'!F27","v":0},{"$f":"'12吾妻'!G27","v":0},{"$f":"'12吾妻'!H27","v":0},{"$f":"'12吾妻'!I27","v":0},{"$f":"'13利根'!E27","v":0},{"$f":"'13利根'!F27","v":0},{"$f":"'13利根'!G27","v":0},{"$f":"'13利根'!H27","v":0},{"$f":"'13利根'!I27","v":0},{"$f":"'14邑楽'!E27","v":0},{"$f":"'14邑楽'!F27","v":0},{"$f":"'14邑楽'!G27","v":0},{"$f":"'14邑楽'!H27","v":0},{"$f":"'14邑楽'!I27","v":0}]
[null,null,25,"ホッケー",0,0,0,0,0,{"$f":"'１前橋'!E30","v":0},{"$f":"'１前橋'!F30","v":0},{"$f":"'１前橋'!G30","v":0},{"$f":"'１前橋'!H30","v":0},{"$f":"'１前橋'!I30","v":0},{"$f":"'２高崎'!E28","v":0},{"$f":"'２高崎'!F28","v":0},{"$f":"'２高崎'!G28","v":0},{"$f":"'２高崎'!H28","v":0},{"$f":"'２高崎'!I28","v":0},{"$f":"'３桐生'!E28","v":0},{"$f":"'３桐生'!F28","v":0},{"$f":"'３桐生'!G28","v":0},{"$f":"'３桐生'!H28","v":0},{"$f":"'３桐生'!I28","v":0},{"$f":"'４伊勢崎佐波'!E28","v":0},{"$f":"'４伊勢崎佐波'!F28","v":0},{"$f":"'４伊勢崎佐波'!G28","v":0},{"$f":"'４伊勢崎佐波'!H28","v":0},{"$f":"'４伊勢崎佐波'!I28","v":0},{"$f":"'５太田'!E28","v":0},{"$f":"'５太田'!F28","v":0},{"$f":"'５太田'!G28","v":0},{"$f":"'５太田'!H28","v":0},{"$f":"'５太田'!I28","v":0},{"$f":"'６沼田'!E28","v":0},{"$f":"'６沼田'!F28","v":0},{"$f":"'６沼田'!G28","v":0},{"$f":"'６沼田'!H28","v":0},{"$f":"'６沼田'!I28","v":0},{"$f":"'７館林'!E28","v":0},{"$f":"'７館林'!F28","v":0},{"$f":"'７館林'!G28","v":0},{"$f":"'７館林'!H28","v":0},{"$f":"'７館林'!I28","v":0},{"$f":"'８渋川北群馬'!E28","v":0},{"$f":"'８渋川北群馬'!F28","v":0},{"$f":"'８渋川北群馬'!G28","v":0},{"$f":"'８渋川北群馬'!H28","v":0},{"$f":"'８渋川北群馬'!I28","v":0},{"$f":"'９藤岡多野'!E28","v":0},{"$f":"'９藤岡多野'!F28","v":0},{"$f":"'９藤岡多野'!G28","v":0},{"$f":"'９藤岡多野'!H28","v":0},{"$f":"'９藤岡多野'!I28","v":0},{"$f":"'10富岡甘楽'!E28","v":0},{"$f":"'10富岡甘楽'!F28","v":0},{"$f":"'10富岡甘楽'!G28","v":0},{"$f":"'10富岡甘楽'!H28","v":0},{"$f":"'10富岡甘楽'!I28","v":0},{"$f":"'11安中'!E28","v":0},{"$f":"'11安中'!F28","v":0},{"$f":"'11安中'!G28","v":0},{"$f":"'11安中'!H28","v":0},{"$f":"'11安中'!I28","v":0},{"$f":"'12吾妻'!E28","v":0},{"$f":"'12吾妻'!F28","v":0},{"$f":"'12吾妻'!G28","v":0},{"$f":"'12吾妻'!H28","v":0},{"$f":"'12吾妻'!I28","v":0},{"$f":"'13利根'!E28","v":0},{"$f":"'13利根'!F28","v":0},{"$f":"'13利根'!G28","v":0},{"$f":"'13利根'!H28","v":0},{"$f":"'13利根'!I28","v":0},{"$f":"'14邑楽'!E28","v":0},{"$f":"'14邑楽'!F28","v":0},{"$f":"'14邑楽'!G28","v":0},{"$f":"'14邑楽'!H28","v":0},{"$f":"'14邑楽'!I28","v":0}]
[null,null,"男　子　合　計 (名)",null,{"$f":"J30+O30+T30+Y30+AD30+AI30+AN30+AS30+AX30+BC30+BH30+BM30+BR30+BW30","v":0},{"$f":"K30+P30+U30+Z30+AE30+AJ30+AO30+AT30+AY30+BD30+BI30+BN30+BS30+BX30","v":0},{"$f":"L30+Q30+V30+AA30+AF30+AK30+AP30+AU30+AZ30+BE30+BJ30+BO30+BT30+BY30","v":0},{"$f":"M30+R30+W30+AB30+AG30+AL30+AQ30+AV30+BA30+BF30+BK30+BP30+BU30+BZ30","v":0},{"$f":"N30+S30+X30+AC30+AH30+AM30+AR30+AW30+BB30+BG30+BL30+BQ30+BV30+CA30","v":0},{"$f":"'１前橋'!E31","v":0},{"$f":"'１前橋'!F31","v":0},{"$f":"'１前橋'!G31","v":0},{"$f":"'１前橋'!H31","v":0},{"$f":"SUM(N5:N29)","v":0},{"$f":"'２高崎'!E31","v":0},{"$f":"'２高崎'!F31","v":0},{"$f":"'２高崎'!G31","v":0},{"$f":"'２高崎'!H31","v":0},{"$f":"SUM(S5:S29)","v":0},{"$f":"'３桐生'!E31","v":0},{"$f":"'３桐生'!F31","v":0},{"$f":"'３桐生'!G31","v":0},{"$f":"'３桐生'!H31","v":0},{"$f":"SUM(X5:X29)","v":0},{"$f":"'４伊勢崎佐波'!E31","v":0},{"$f":"'４伊勢崎佐波'!F31","v":0},{"$f":"'４伊勢崎佐波'!G31","v":0},{"$f":"'４伊勢崎佐波'!H31","v":0},{"$f":"SUM(AC5:AC29)","v":0},{"$f":"'５太田'!E31","v":0},{"$f":"'５太田'!F31","v":0},{"$f":"'５太田'!G31","v":0},{"$f":"'５太田'!H31","v":0},{"$f":"SUM(AH5:AH29)","v":0},{"$f":"'６沼田'!E31","v":0},{"$f":"'６沼田'!F31","v":0},{"$f":"'６沼田'!G31","v":0},{"$f":"'６沼田'!H31","v":0},{"$f":"SUM(AM5:AM29)","v":0},{"$f":"'７館林'!E31","v":0},{"$f":"'７館林'!F31","v":0},{"$f":"'７館林'!G31","v":0},{"$f":"'７館林'!H31","v":0},{"$f":"SUM(AR5:AR29)","v":0},{"$f":"'８渋川北群馬'!E31","v":0},{"$f":"'８渋川北群馬'!F31","v":0},{"$f":"'８渋川北群馬'!G31","v":0},{"$f":"'８渋川北群馬'!H31","v":0},{"$f":"SUM(AW5:AW29)","v":0},{"$f":"'９藤岡多野'!E31","v":0},{"$f":"'９藤岡多野'!F31","v":0},{"$f":"'９藤岡多野'!G31","v":0},{"$f":"'９藤岡多野'!H31","v":0},{"$f":"SUM(BB5:BB29)","v":0},{"$f":"'10富岡甘楽'!E31","v":0},{"$f":"'10富岡甘楽'!F31","v":0},{"$f":"'10富岡甘楽'!G31","v":0},{"$f":"'10富岡甘楽'!H31","v":0},{"$f":"SUM(BG5:BG29)","v":0},{"$f":"'11安中'!E31","v":0},{"$f":"'11安中'!F31","v":0},{"$f":"'11安中'!G31","v":0},{"$f":"'11安中'!H31","v":0},{"$f":"SUM(BL5:BL29)","v":0},{"$f":"'12吾妻'!E31","v":0},{"$f":"'12吾妻'!F31","v":0},{"$f":"'12吾妻'!G31","v":0},{"$f":"'12吾妻'!H31","v":0},{"$f":"SUM(BQ5:BQ29)","v":0},{"$f":"'13利根'!E31","v":0},{"$f":"'13利根'!F31","v":0},{"$f":"'13利根'!G31","v":0},{"$f":"'13利根'!H31","v":0},{"$f":"SUM(BV5:BV29)","v":0},{"$f":"'14邑楽'!E31","v":0},{"$f":"'14邑楽'!F31","v":0},{"$f":"'14邑楽'!G31","v":0},{"$f":"'14邑楽'!H31","v":0},{"$f":"SUM(CA5:CA29)","v":0}]
[null,null,"男 子 在 籍 数 (名)",null,{"$f":"J31+O31+T31+Y31+AD31+AI31+AN31+AS31+AX31+BC31+BH31+BM31+BR31+BW31","v":68},{"$f":"K31+P31+U31+Z31+AE31+AJ31+AO31+AT31+AY31+BD31+BI31+BN31+BS31+BX31","v":76},{"$f":"L31+Q31+V31+AA31+AF31+AK31+AP31+AU31+AZ31+BE31+BJ31+BO31+BT31+BY31","v":75},{"$f":"M31+R31+W31+AB31+AG31+AL31+AQ31+AV31+BA31+BF31+BK31+BP31+BU31+BZ31","v":219},null,{"$f":"'１前橋'!E32","v":0},{"$f":"'１前橋'!F32","v":0},{"$f":"'１前橋'!G32","v":0},{"$f":"'１前橋'!H32","v":0},null,{"$f":"'２高崎'!E32","v":0},{"$f":"'２高崎'!F32","v":0},{"$f":"'２高崎'!G32","v":0},{"$f":"'２高崎'!H32","v":0},null,{"$f":"'３桐生'!E32","v":68},{"$f":"'３桐生'!F32","v":76},{"$f":"'３桐生'!G32","v":75},{"$f":"'３桐生'!H32","v":219},null,{"$f":"'４伊勢崎佐波'!E32","v":0},{"$f":"'４伊勢崎佐波'!F32","v":0},{"$f":"'４伊勢崎佐波'!G32","v":0},{"$f":"'４伊勢崎佐波'!H32","v":0},null,{"$f":"'５太田'!E32","v":0},{"$f":"'５太田'!F32","v":0},{"$f":"'５太田'!G32","v":0},{"$f":"'５太田'!H32","v":0},null,{"$f":"'６沼田'!E32","v":0},{"$f":"'６沼田'!F32","v":0},{"$f":"'６沼田'!G32","v":0},{"$f":"'６沼田'!H32","v":0},null,{"$f":"'７館林'!E32","v":0},{"$f":"'７館林'!F32","v":0},{"$f":"'７館林'!G32","v":0},{"$f":"'７館林'!H32","v":0},null,{"$f":"'８渋川北群馬'!E32","v":0},{"$f":"'８渋川北群馬'!F32","v":0},{"$f":"'８渋川北群馬'!G32","v":0},{"$f":"'８渋川北群馬'!H32","v":0},null,{"$f":"'９藤岡多野'!E32","v":0},{"$f":"'９藤岡多野'!F32","v":0},{"$f":"'９藤岡多野'!G32","v":0},{"$f":"'９藤岡多野'!H32","v":0},null,{"$f":"'10富岡甘楽'!E32","v":0},{"$f":"'10富岡甘楽'!F32","v":0},{"$f":"'10富岡甘楽'!G32","v":0},{"$f":"'10富岡甘楽'!H32","v":0},null,{"$f":"'11安中'!E32","v":0},{"$f":"'11安中'!F32","v":0},{"$f":"'11安中'!G32","v":0},{"$f":"'11安中'!H32","v":0},null,{"$f":"'12吾妻'!E32","v":0},{"$f":"'12吾妻'!F32","v":0},{"$f":"'12吾妻'!G32","v":0},{"$f":"'12吾妻'!H32","v":0},null,{"$f":"'13利根'!E32","v":0},{"$f":"'13利根'!F32","v":0},{"$f":"'13利根'!G32","v":0},{"$f":"'13利根'!H32","v":0},null,{"$f":"'14邑楽'!E32","v":0},{"$f":"'14邑楽'!F32","v":0},{"$f":"'14邑楽'!G32","v":0},{"$f":"'14邑楽'!H32","v":0}]
[null,null,"男 子 入 部 率 (％)",null,{"$f":"E30/E31*100","v":0},{"$f":"F30/F31*100","v":0},0,0,null,{"$error":"#DIV/0!"},{"$error":"#DIV/0!"},{"$error":"#DIV/0!"},{"$error":"#DIV/0!"},null,{"$error":"#DIV/0!"},{"$error":"#DIV/0!"},{"$error":"#DIV/0!"},{"$error":"#DIV/0!"},null,0,0,0,0,null,{"$error":"#DIV/0!"},{"$error":"#DIV/0!"},{"$error":"#DIV/0!"},{"$error":"#DIV/0!"},null,{"$error":"#DIV/0!"},{"$error":"#DIV/0!"},{"$error":"#DIV/0!"},{"$error":"#DIV/0!"},null,{"$error":"#DIV/0!"},{"$error":"#DIV/0!"},{"$error":"#DIV/0!"},{"$error":"#DIV/0!"},null,{"$error":"#DIV/0!"},{"$error":"#DIV/0!"},{"$error":"#DIV/0!"},{"$error":"#DIV/0!"},null,{"$error":"#DIV/0!"},{"$error":"#DIV/0!"},{"$error":"#DIV/0!"},{"$error":"#DIV/0!"},null,{"$error":"#DIV/0!"},{"$error":"#DIV/0!"},{"$error":"#DIV/0!"},{"$error":"#DIV/0!"},null,{"$f":"BC30/BC31*100","v":{"$error":"#DIV/0!"}},{"$error":"#DIV/0!"},{"$error":"#DIV/0!"},{"$error":"#DIV/0!"},null,{"$error":"#DIV/0!"},{"$error":"#DIV/0!"},{"$error":"#DIV/0!"},{"$error":"#DIV/0!"},null,{"$error":"#DIV/0!"},{"$error":"#DIV/0!"},{"$error":"#DIV/0!"},{"$error":"#DIV/0!"},null,{"$error":"#DIV/0!"},{"$error":"#DIV/0!"},{"$error":"#DIV/0!"},{"$error":"#DIV/0!"},null,{"$error":"#DIV/0!"},{"$error":"#DIV/0!"},{"$error":"#DIV/0!"},{"$error":"#DIV/0!"}]
[null,null,1,"体　操　競　技",{"$f":"J33+O33+T33+Y33+AD33+AI33+AN33+AS33+AX33+BC33+BH33+BM33+BR33+BW33","v":0},0,0,0,0,{"$f":"'１前橋'!E34","v":0},{"$f":"'１前橋'!F34","v":0},{"$f":"'１前橋'!G34","v":0},{"$f":"'１前橋'!H34","v":0},{"$f":"'１前橋'!I34","v":0},{"$f":"'２高崎'!E34","v":0},{"$f":"'２高崎'!F34","v":0},{"$f":"'２高崎'!G34","v":0},{"$f":"'２高崎'!H34","v":0},{"$f":"'２高崎'!I34","v":0},{"$f":"'３桐生'!E34","v":0},{"$f":"'３桐生'!F34","v":0},{"$f":"'３桐生'!G34","v":0},{"$f":"'３桐生'!H34","v":0},{"$f":"'３桐生'!I34","v":0},{"$f":"'４伊勢崎佐波'!E34","v":0},{"$f":"'４伊勢崎佐波'!F34","v":0},{"$f":"'４伊勢崎佐波'!G34","v":0},{"$f":"'４伊勢崎佐波'!H34","v":0},{"$f":"'４伊勢崎佐波'!I34","v":0},{"$f":"'５太田'!E34","v":0},{"$f":"'５太田'!F34","v":0},{"$f":"'５太田'!G34","v":0},{"$f":"'５太田'!H34","v":0},{"$f":"'５太田'!I34","v":0},{"$f":"'６沼田'!E34","v":0},{"$f":"'６沼田'!F34","v":0},{"$f":"'６沼田'!G34","v":0},{"$f":"'６沼田'!H34","v":0},{"$f":"'６沼田'!I34","v":0},{"$f":"'７館林'!E34","v":0},{"$f":"'７館林'!F34","v":0},{"$f":"'７館林'!G34","v":0},{"$f":"'７館林'!H34","v":0},{"$f":"'７館林'!I34","v":0},{"$f":"'８渋川北群馬'!E34","v":0},{"$f":"'８渋川北群馬'!F34","v":0},{"$f":"'８渋川北群馬'!G34","v":0},{"$f":"'８渋川北群馬'!H34","v":0},{"$f":"'８渋川北群馬'!I34","v":0},{"$f":"'９藤岡多野'!E34","v":0},{"$f":"'９藤岡多野'!F34","v":0},{"$f":"'９藤岡多野'!G34","v":0},{"$f":"'９藤岡多野'!H34","v":0},{"$f":"'９藤岡多野'!I34","v":0},{"$f":"'10富岡甘楽'!E34","v":0},{"$f":"'10富岡甘楽'!F34","v":0},{"$f":"'10富岡甘楽'!G34","v":0},{"$f":"'10富岡甘楽'!H34","v":0},{"$f":"'10富岡甘楽'!I34","v":0},{"$f":"'11安中'!E34","v":0},{"$f":"'11安中'!F34","v":0},{"$f":"'11安中'!G34","v":0},{"$f":"'11安中'!H34","v":0},{"$f":"'11安中'!I34","v":0},{"$f":"'12吾妻'!E34","v":0},{"$f":"'12吾妻'!F34","v":0},{"$f":"'12吾妻'!G34","v":0},{"$f":"'12吾妻'!H34","v":0},{"$f":"'12吾妻'!I34","v":0},{"$f":"'13利根'!E34","v":0},{"$f":"'13利根'!F34","v":0},{"$f":"'13利根'!G34","v":0},{"$f":"'13利根'!H34","v":0},{"$f":"'13利根'!I34","v":0},{"$f":"'14邑楽'!E34","v":0},{"$f":"'14邑楽'!F34","v":0},{"$f":"'14邑楽'!G34","v":0},{"$f":"'14邑楽'!H34","v":0},{"$f":"'14邑楽'!I34","v":0}]
[null,null,2,"新    体    操",0,0,0,0,0,{"$f":"'１前橋'!E35","v":0},{"$f":"'１前橋'!F35","v":0},{"$f":"'１前橋'!G35","v":0},{"$f":"'１前橋'!H35","v":0},{"$f":"'１前橋'!I35","v":0},{"$f":"'２高崎'!E35","v":0},{"$f":"'２高崎'!F35","v":0},{"$f":"'２高崎'!G35","v":0},{"$f":"'２高崎'!H35","v":0},{"$f":"'２高崎'!I35","v":0},{"$f":"'３桐生'!E35","v":0},{"$f":"'３桐生'!F35","v":0},{"$f":"'３桐生'!G35","v":0},{"$f":"'３桐生'!H35","v":0},{"$f":"'３桐生'!I35","v":0},{"$f":"'４伊勢崎佐波'!E35","v":0},{"$f":"'４伊勢崎佐波'!F35","v":0},{"$f":"'４伊勢崎佐波'!G35","v":0},{"$f":"'４伊勢崎佐波'!H35","v":0},{"$f":"'４伊勢崎佐波'!I35","v":0},{"$f":"'５太田'!E35","v":0},{"$f":"'５太田'!F35","v":0},{"$f":"'５太田'!G35","v":0},{"$f":"'５太田'!H35","v":0},{"$f":"'５太田'!I35","v":0},{"$f":"'６沼田'!E35","v":0},{"$f":"'６沼田'!F35","v":0},{"$f":"'６沼田'!G35","v":0},{"$f":"'６沼田'!H35","v":0},{"$f":"'６沼田'!I35","v":0},{"$f":"'７館林'!E35","v":0},{"$f":"'７館林'!F35","v":0},{"$f":"'７館林'!G35","v":0},{"$f":"'７館林'!H35","v":0},{"$f":"'７館林'!I35","v":0},{"$f":"'８渋川北群馬'!E35","v":0},{"$f":"'８渋川北群馬'!F35","v":0},{"$f":"'８渋川北群馬'!G35","v":0},{"$f":"'８渋川北群馬'!H35","v":0},{"$f":"'８渋川北群馬'!I35","v":0},{"$f":"'９藤岡多野'!E35","v":0},{"$f":"'９藤岡多野'!F35","v":0},{"$f":"'９藤岡多野'!G35","v":0},{"$f":"'９藤岡多野'!H35","v":0},{"$f":"'９藤岡多野'!I35","v":0},{"$f":"'10富岡甘楽'!E35","v":0},{"$f":"'10富岡甘楽'!F35","v":0},{"$f":"'10富岡甘楽'!G35","v":0},{"$f":"'10富岡甘楽'!H35","v":0},{"$f":"'10富岡甘楽'!I35","v":0},{"$f":"'11安中'!E35","v":0},{"$f":"'11安中'!F35","v":0},{"$f":"'11安中'!G35","v":0},{"$f":"'11安中'!H35","v":0},{"$f":"'11安中'!I35","v":0},{"$f":"'12吾妻'!E35","v":0},{"$f":"'12吾妻'!F35","v":0},{"$f":"'12吾妻'!G35","v":0},{"$f":"'12吾妻'!H35","v":0},{"$f":"'12吾妻'!I35","v":0},{"$f":"'13利根'!E35","v":0},{"$f":"'13利根'!F35","v":0},{"$f":"'13利根'!G35","v":0},{"$f":"'13利根'!H35","v":0},{"$f":"'13利根'!I35","v":0},{"$f":"'14邑楽'!E35","v":0},{"$f":"'14邑楽'!F35","v":0},{"$f":"'14邑楽'!G35","v":0},{"$f":"'14邑楽'!H35","v":0},{"$f":"'14邑楽'!I35","v":0}]
[null,null,3,"軟　式　野　球",{"$f":"J35+O35+T35+Y35+AD35+AI35+AN35+AS35+AX35+BC35+BH35+BM35+BR35+BW35","v":0},{"$f":"K35+P35+U35+Z35+AE35+AJ35+AO35+AT35+AY35+BD35+BI35+BN35+BS35+BX35","v":0},{"$f":"L35+Q35+V35+AA35+AF35+AK35+AP35+AU35+AZ35+BE35+BJ35+BO35+BT35+BY35","v":0},{"$f":"M35+R35+W35+AB35+AG35+AL35+AQ35+AV35+BA35+BF35+BK35+BP35+BU35+BZ35","v":0},{"$f":"N35+S35+X35+AC35+AH35+AM35+AR35+AW35+BB35+BG35+BL35+BQ35+BV35+CA35","v":0},{"$f":"'１前橋'!E36","v":0},{"$f":"'１前橋'!F36","v":0},{"$f":"'１前橋'!G36","v":0},{"$f":"'１前橋'!H36","v":0},{"$f":"'１前橋'!I36","v":0},{"$f":"'２高崎'!E36","v":0},{"$f":"'２高崎'!F36","v":0},{"$f":"'２高崎'!G36","v":0},{"$f":"'２高崎'!H36","v":0},{"$f":"'２高崎'!I36","v":0},{"$f":"'３桐生'!E36","v":0},{"$f":"'３桐生'!F36","v":0},{"$f":"'３桐生'!G36","v":0},{"$f":"'３桐生'!H36","v":0},{"$f":"'３桐生'!I36","v":0},{"$f":"'４伊勢崎佐波'!E36","v":0},{"$f":"'４伊勢崎佐波'!F36","v":0},{"$f":"'４伊勢崎佐波'!G36","v":0},{"$f":"'４伊勢崎佐波'!H36","v":0},{"$f":"'４伊勢崎佐波'!I36","v":0},{"$f":"'５太田'!E36","v":0},{"$f":"'５太田'!F36","v":0},{"$f":"'５太田'!G36","v":0},{"$f":"'５太田'!H36","v":0},{"$f":"'５太田'!I36","v":0},{"$f":"'６沼田'!E36","v":0},{"$f":"'６沼田'!F36","v":0},{"$f":"'６沼田'!G36","v":0},{"$f":"'６沼田'!H36","v":0},{"$f":"'６沼田'!I36","v":0},{"$f":"'７館林'!E36","v":0},{"$f":"'７館林'!F36","v":0},{"$f":"'７館林'!G36","v":0},{"$f":"'７館林'!H36","v":0},{"$f":"'７館林'!I36","v":0},{"$f":"'８渋川北群馬'!E36","v":0},{"$f":"'８渋川北群馬'!F36","v":0},{"$f":"'８渋川北群馬'!G36","v":0},{"$f":"'８渋川北群馬'!H36","v":0},{"$f":"'８渋川北群馬'!I36","v":0},{"$f":"'９藤岡多野'!E36","v":0},{"$f":"'９藤岡多野'!F36","v":0},{"$f":"'９藤岡多野'!G36","v":0},{"$f":"'９藤岡多野'!H36","v":0},{"$f":"'９藤岡多野'!I36","v":0},{"$f":"'10富岡甘楽'!E36","v":0},{"$f":"'10富岡甘楽'!F36","v":0},{"$f":"'10富岡甘楽'!G36","v":0},{"$f":"'10富岡甘楽'!H36","v":0},{"$f":"'10富岡甘楽'!I36","v":0},{"$f":"'11安中'!E36","v":0},{"$f":"'11安中'!F36","v":0},{"$f":"'11安中'!G36","v":0},{"$f":"'11安中'!H36","v":0},{"$f":"'11安中'!I36","v":0},{"$f":"'12吾妻'!E36","v":0},{"$f":"'12吾妻'!F36","v":0},{"$f":"'12吾妻'!G36","v":0},{"$f":"'12吾妻'!H36","v":0},{"$f":"'12吾妻'!I36","v":0},{"$f":"'13利根'!E36","v":0},{"$f":"'13利根'!F36","v":0},{"$f":"'13利根'!G36","v":0},{"$f":"'13利根'!H36","v":0},{"$f":"'13利根'!I36","v":0},{"$f":"'14邑楽'!E36","v":0},{"$f":"'14邑楽'!F36","v":0},{"$f":"'14邑楽'!G36","v":0},{"$f":"'14邑楽'!H36","v":0},{"$f":"'14邑楽'!I36","v":0}]
[null,null,4,"ソフトボール",0,0,0,0,0,{"$f":"'１前橋'!E37","v":0},{"$f":"'１前橋'!F37","v":0},{"$f":"'１前橋'!G37","v":0},{"$f":"'１前橋'!H37","v":0},{"$f":"'１前橋'!I37","v":0},{"$f":"'２高崎'!E37","v":0},{"$f":"'２高崎'!F37","v":0},{"$f":"'２高崎'!G37","v":0},{"$f":"'２高崎'!H37","v":0},{"$f":"'２高崎'!I37","v":0},{"$f":"'３桐生'!E37","v":0},{"$f":"'３桐生'!F37","v":0},{"$f":"'３桐生'!G37","v":0},{"$f":"'３桐生'!H37","v":0},{"$f":"'３桐生'!I37","v":0},{"$f":"'４伊勢崎佐波'!E37","v":0},{"$f":"'４伊勢崎佐波'!F37","v":0},{"$f":"'４伊勢崎佐波'!G37","v":0},{"$f":"'４伊勢崎佐波'!H37","v":0},{"$f":"'４伊勢崎佐波'!I37","v":0},{"$f":"'５太田'!E37","v":0},{"$f":"'５太田'!F37","v":0},{"$f":"'５太田'!G37","v":0},{"$f":"'５太田'!H37","v":0},{"$f":"'５太田'!I37","v":0},{"$f":"'６沼田'!E37","v":0},{"$f":"'６沼田'!F37","v":0},{"$f":"'６沼田'!G37","v":0},{"$f":"'６沼田'!H37","v":0},{"$f":"'６沼田'!I37","v":0},{"$f":"'７館林'!E37","v":0},{"$f":"'７館林'!F37","v":0},{"$f":"'７館林'!G37","v":0},{"$f":"'７館林'!H37","v":0},{"$f":"'７館林'!I37","v":0},{"$f":"'８渋川北群馬'!E37","v":0},{"$f":"'８渋川北群馬'!F37","v":0},{"$f":"'８渋川北群馬'!G37","v":0},{"$f":"'８渋川北群馬'!H37","v":0},{"$f":"'８渋川北群馬'!I37","v":0},{"$f":"'９藤岡多野'!E37","v":0},{"$f":"'９藤岡多野'!F37","v":0},{"$f":"'９藤岡多野'!G37","v":0},{"$f":"'９藤岡多野'!H37","v":0},{"$f":"'９藤岡多野'!I37","v":0},{"$f":"'10富岡甘楽'!E37","v":0},{"$f":"'10富岡甘楽'!F37","v":0},{"$f":"'10富岡甘楽'!G37","v":0},{"$f":"'10富岡甘楽'!H37","v":0},{"$f":"'10富岡甘楽'!I37","v":0},{"$f":"'11安中'!E37","v":0},{"$f":"'11安中'!F37","v":0},{"$f":"'11安中'!G37","v":0},{"$f":"'11安中'!H37","v":0},{"$f":"'11安中'!I37","v":0},{"$f":"'12吾妻'!E37","v":0},{"$f":"'12吾妻'!F37","v":0},{"$f":"'12吾妻'!G37","v":0},{"$f":"'12吾妻'!H37","v":0},{"$f":"'12吾妻'!I37","v":0},{"$f":"'13利根'!E37","v":0},{"$f":"'13利根'!F37","v":0},{"$f":"'13利根'!G37","v":0},{"$f":"'13利根'!H37","v":0},{"$f":"'13利根'!I37","v":0},{"$f":"'14邑楽'!E37","v":0},{"$f":"'14邑楽'!F37","v":0},{"$f":"'14邑楽'!G37","v":0},{"$f":"'14邑楽'!H37","v":0},{"$f":"'14邑楽'!I37","v":0}]
[null,null,5,"バスケットボール",0,0,0,0,0,{"$f":"'１前橋'!E38","v":0},{"$f":"'１前橋'!F38","v":0},{"$f":"'１前橋'!G38","v":0},{"$f":"'１前橋'!H38","v":0},{"$f":"'１前橋'!I38","v":0},{"$f":"'２高崎'!E38","v":0},{"$f":"'２高崎'!F38","v":0},{"$f":"'２高崎'!G38","v":0},{"$f":"'２高崎'!H38","v":0},{"$f":"'２高崎'!I38","v":0},{"$f":"'３桐生'!E38","v":0},{"$f":"'３桐生'!F38","v":0},{"$f":"'３桐生'!G38","v":0},{"$f":"'３桐生'!H38","v":0},{"$f":"'３桐生'!I38","v":0},{"$f":"'４伊勢崎佐波'!E38","v":0},{"$f":"'４伊勢崎佐波'!F38","v":0},{"$f":"'４伊勢崎佐波'!G38","v":0},{"$f":"'４伊勢崎佐波'!H38","v":0},{"$f":"'４伊勢崎佐波'!I38","v":0},{"$f":"'５太田'!E38","v":0},{"$f":"'５太田'!F38","v":0},{"$f":"'５太田'!G38","v":0},{"$f":"'５太田'!H38","v":0},{"$f":"'５太田'!I38","v":0},{"$f":"'６沼田'!E38","v":0},{"$f":"'６沼田'!F38","v":0},{"$f":"'６沼田'!G38","v":0},{"$f":"'６沼田'!H38","v":0},{"$f":"'６沼田'!I38","v":0},{"$f":"'７館林'!E38","v":0},{"$f":"'７館林'!F38","v":0},{"$f":"'７館林'!G38","v":0},{"$f":"'７館林'!H38","v":0},{"$f":"'７館林'!I38","v":0},{"$f":"'８渋川北群馬'!E38","v":0},{"$f":"'８渋川北群馬'!F38","v":0},{"$f":"'８渋川北群馬'!G38","v":0},{"$f":"'８渋川北群馬'!H38","v":0},{"$f":"'８渋川北群馬'!I38","v":0},{"$f":"'９藤岡多野'!E38","v":0},{"$f":"'９藤岡多野'!F38","v":0},{"$f":"'９藤岡多野'!G38","v":0},{"$f":"'９藤岡多野'!H38","v":0},{"$f":"'９藤岡多野'!I38","v":0},{"$f":"'10富岡甘楽'!E38","v":0},{"$f":"'10富岡甘楽'!F38","v":0},{"$f":"'10富岡甘楽'!G38","v":0},{"$f":"'10富岡甘楽'!H38","v":0},{"$f":"'10富岡甘楽'!I38","v":0},{"$f":"'11安中'!E38","v":0},{"$f":"'11安中'!F38","v":0},{"$f":"'11安中'!G38","v":0},{"$f":"'11安中'!H38","v":0},{"$f":"'11安中'!I38","v":0},{"$f":"'12吾妻'!E38","v":0},{"$f":"'12吾妻'!F38","v":0},{"$f":"'12吾妻'!G38","v":0},{"$f":"'12吾妻'!H38","v":0},{"$f":"'12吾妻'!I38","v":0},{"$f":"'13利根'!E38","v":0},{"$f":"'13利根'!F38","v":0},{"$f":"'13利根'!G38","v":0},{"$f":"'13利根'!H38","v":0},{"$f":"'13利根'!I38","v":0},{"$f":"'14邑楽'!E38","v":0},{"$f":"'14邑楽'!F38","v":0},{"$f":"'14邑楽'!G38","v":0},{"$f":"'14邑楽'!H38","v":0},{"$f":"'14邑楽'!I38","v":0}]
[null,null,6,"ハンドボール",0,0,0,0,0,{"$f":"'１前橋'!E39","v":0},{"$f":"'１前橋'!F39","v":0},{"$f":"'１前橋'!G39","v":0},{"$f":"'１前橋'!H39","v":0},{"$f":"'１前橋'!I39","v":0},{"$f":"'２高崎'!E39","v":0},{"$f":"'２高崎'!F39","v":0},{"$f":"'２高崎'!G39","v":0},{"$f":"'２高崎'!H39","v":0},{"$f":"'２高崎'!I39","v":0},{"$f":"'３桐生'!E39","v":0},{"$f":"'３桐生'!F39","v":0},{"$f":"'３桐生'!G39","v":0},{"$f":"'３桐生'!H39","v":0},{"$f":"'３桐生'!I39","v":0},{"$f":"'４伊勢崎佐波'!E39","v":0},{"$f":"'４伊勢崎佐波'!F39","v":0},{"$f":"'４伊勢崎佐波'!G39","v":0},{"$f":"'４伊勢崎佐波'!H39","v":0},{"$f":"'４伊勢崎佐波'!I39","v":0},{"$f":"'５太田'!E39","v":0},{"$f":"'５太田'!F39","v":0},{"$f":"'５太田'!G39","v":0},{"$f":"'５太田'!H39","v":0},{"$f":"'５太田'!I39","v":0},{"$f":"'６沼田'!E39","v":0},{"$f":"'６沼田'!F39","v":0},{"$f":"'６沼田'!G39","v":0},{"$f":"'６沼田'!H39","v":0},{"$f":"'６沼田'!I39","v":0},{"$f":"'７館林'!E39","v":0},{"$f":"'７館林'!F39","v":0},{"$f":"'７館林'!G39","v":0},{"$f":"'７館林'!H39","v":0},{"$f":"'７館林'!I39","v":0},{"$f":"'８渋川北群馬'!E39","v":0},{"$f":"'８渋川北群馬'!F39","v":0},{"$f":"'８渋川北群馬'!G39","v":0},{"$f":"'８渋川北群馬'!H39","v":0},{"$f":"'８渋川北群馬'!I39","v":0},{"$f":"'９藤岡多野'!E39","v":0},{"$f":"'９藤岡多野'!F39","v":0},{"$f":"'９藤岡多野'!G39","v":0},{"$f":"'９藤岡多野'!H39","v":0},{"$f":"'９藤岡多野'!I39","v":0},{"$f":"'10富岡甘楽'!E39","v":0},{"$f":"'10富岡甘楽'!F39","v":0},{"$f":"'10富岡甘楽'!G39","v":0},{"$f":"'10富岡甘楽'!H39","v":0},{"$f":"'10富岡甘楽'!I39","v":0},{"$f":"'11安中'!E39","v":0},{"$f":"'11安中'!F39","v":0},{"$f":"'11安中'!G39","v":0},{"$f":"'11安中'!H39","v":0},{"$f":"'11安中'!I39","v":0},{"$f":"'12吾妻'!E39","v":0},{"$f":"'12吾妻'!F39","v":0},{"$f":"'12吾妻'!G39","v":0},{"$f":"'12吾妻'!H39","v":0},{"$f":"'12吾妻'!I39","v":0},{"$f":"'13利根'!E39","v":0},{"$f":"'13利根'!F39","v":0},{"$f":"'13利根'!G39","v":0},{"$f":"'13利根'!H39","v":0},{"$f":"'13利根'!I39","v":0},{"$f":"'14邑楽'!E39","v":0},{"$f":"'14邑楽'!F39","v":0},{"$f":"'14邑楽'!G39","v":0},{"$f":"'14邑楽'!H39","v":0},{"$f":"'14邑楽'!I39","v":0}]
[null,"女",7,"バレーボール",0,0,0,0,0,{"$f":"'１前橋'!E40","v":0},{"$f":"'１前橋'!F40","v":0},{"$f":"'１前橋'!G40","v":0},{"$f":"'１前橋'!H40","v":0},{"$f":"'１前橋'!I40","v":0},{"$f":"'２高崎'!E40","v":0},{"$f":"'２高崎'!F40","v":0},{"$f":"'２高崎'!G40","v":0},{"$f":"'２高崎'!H40","v":0},{"$f":"'２高崎'!I40","v":0},{"$f":"'３桐生'!E40","v":0},{"$f":"'３桐生'!F40","v":0},{"$f":"'３桐生'!G40","v":0},{"$f":"'３桐生'!H40","v":0},{"$f":"'３桐生'!I40","v":0},{"$f":"'４伊勢崎佐波'!E40","v":0},{"$f":"'４伊勢崎佐波'!F40","v":0},{"$f":"'４伊勢崎佐波'!G40","v":0},{"$f":"'４伊勢崎佐波'!H40","v":0},{"$f":"'４伊勢崎佐波'!I40","v":0},{"$f":"'５太田'!E40","v":0},{"$f":"'５太田'!F40","v":0},{"$f":"'５太田'!G40","v":0},{"$f":"'５太田'!H40","v":0},{"$f":"'５太田'!I40","v":0},{"$f":"'６沼田'!E40","v":0},{"$f":"'６沼田'!F40","v":0},{"$f":"'６沼田'!G40","v":0},{"$f":"'６沼田'!H40","v":0},{"$f":"'６沼田'!I40","v":0},{"$f":"'７館林'!E40","v":0},{"$f":"'７館林'!F40","v":0},{"$f":"'７館林'!G40","v":0},{"$f":"'７館林'!H40","v":0},{"$f":"'７館林'!I40","v":0},{"$f":"'８渋川北群馬'!E40","v":0},{"$f":"'８渋川北群馬'!F40","v":0},{"$f":"'８渋川北群馬'!G40","v":0},{"$f":"'８渋川北群馬'!H40","v":0},{"$f":"'８渋川北群馬'!I40","v":0},{"$f":"'９藤岡多野'!E40","v":0},{"$f":"'９藤岡多野'!F40","v":0},{"$f":"'９藤岡多野'!G40","v":0},{"$f":"'９藤岡多野'!H40","v":0},{"$f":"'９藤岡多野'!I40","v":0},{"$f":"'10富岡甘楽'!E40","v":0},{"$f":"'10富岡甘楽'!F40","v":0},{"$f":"'10富岡甘楽'!G40","v":0},{"$f":"'10富岡甘楽'!H40","v":0},{"$f":"'10富岡甘楽'!I40","v":0},{"$f":"'11安中'!E40","v":0},{"$f":"'11安中'!F40","v":0},{"$f":"'11安中'!G40","v":0},{"$f":"'11安中'!H40","v":0},{"$f":"'11安中'!I40","v":0},{"$f":"'12吾妻'!E40","v":0},{"$f":"'12吾妻'!F40","v":0},{"$f":"'12吾妻'!G40","v":0},{"$f":"'12吾妻'!H40","v":0},{"$f":"'12吾妻'!I40","v":0},{"$f":"'13利根'!E40","v":0},{"$f":"'13利根'!F40","v":0},{"$f":"'13利根'!G40","v":0},{"$f":"'13利根'!H40","v":0},{"$f":"'13利根'!I40","v":0},{"$f":"'14邑楽'!E40","v":0},{"$f":"'14邑楽'!F40","v":0},{"$f":"'14邑楽'!G40","v":0},{"$f":"'14邑楽'!H40","v":0},{"$f":"'14邑楽'!I40","v":0}]
[null,null,8,"ソフトテニス",0,0,0,0,0,{"$f":"'１前橋'!E41","v":0},{"$f":"'１前橋'!F41","v":0},{"$f":"'１前橋'!G41","v":0},{"$f":"'１前橋'!H41","v":0},{"$f":"'１前橋'!I41","v":0},{"$f":"'２高崎'!E41","v":0},{"$f":"'２高崎'!F41","v":0},{"$f":"'２高崎'!G41","v":0},{"$f":"'２高崎'!H41","v":0},{"$f":"'２高崎'!I41","v":0},{"$f":"'３桐生'!E41","v":0},{"$f":"'３桐生'!F41","v":0},{"$f":"'３桐生'!G41","v":0},{"$f":"'３桐生'!H41","v":0},{"$f":"'３桐生'!I41","v":0},{"$f":"'４伊勢崎佐波'!E41","v":0},{"$f":"'４伊勢崎佐波'!F41","v":0},{"$f":"'４伊勢崎佐波'!G41","v":0},{"$f":"'４伊勢崎佐波'!H41","v":0},{"$f":"'４伊勢崎佐波'!I41","v":0},{"$f":"'５太田'!E41","v":0},{"$f":"'５太田'!F41","v":0},{"$f":"'５太田'!G41","v":0},{"$f":"'５太田'!H41","v":0},{"$f":"'５太田'!I41","v":0},{"$f":"'６沼田'!E41","v":0},{"$f":"'６沼田'!F41","v":0},{"$f":"'６沼田'!G41","v":0},{"$f":"'６沼田'!H41","v":0},{"$f":"'６沼田'!I41","v":0},{"$f":"'７館林'!E41","v":0},{"$f":"'７館林'!F41","v":0},{"$f":"'７館林'!G41","v":0},{"$f":"'７館林'!H41","v":0},{"$f":"'７館林'!I41","v":0},{"$f":"'８渋川北群馬'!E41","v":0},{"$f":"'８渋川北群馬'!F41","v":0},{"$f":"'８渋川北群馬'!G41","v":0},{"$f":"'８渋川北群馬'!H41","v":0},{"$f":"'８渋川北群馬'!I41","v":0},{"$f":"'９藤岡多野'!E41","v":0},{"$f":"'９藤岡多野'!F41","v":0},{"$f":"'９藤岡多野'!G41","v":0},{"$f":"'９藤岡多野'!H41","v":0},{"$f":"'９藤岡多野'!I41","v":0},{"$f":"'10富岡甘楽'!E41","v":0},{"$f":"'10富岡甘楽'!F41","v":0},{"$f":"'10富岡甘楽'!G41","v":0},{"$f":"'10富岡甘楽'!H41","v":0},{"$f":"'10富岡甘楽'!I41","v":0},{"$f":"'11安中'!E41","v":0},{"$f":"'11安中'!F41","v":0},{"$f":"'11安中'!G41","v":0},{"$f":"'11安中'!H41","v":0},{"$f":"'11安中'!I41","v":0},{"$f":"'12吾妻'!E41","v":0},{"$f":"'12吾妻'!F41","v":0},{"$f":"'12吾妻'!G41","v":0},{"$f":"'12吾妻'!H41","v":0},{"$f":"'12吾妻'!I41","v":0},{"$f":"'13利根'!E41","v":0},{"$f":"'13利根'!F41","v":0},{"$f":"'13利根'!G41","v":0},{"$f":"'13利根'!H41","v":0},{"$f":"'13利根'!I41","v":0},{"$f":"'14邑楽'!E41","v":0},{"$f":"'14邑楽'!F41","v":0},{"$f":"'14邑楽'!G41","v":0},{"$f":"'14邑楽'!H41","v":0},{"$f":"'14邑楽'!I41","v":0}]
[null,null,9,"卓    球",0,0,0,0,0,{"$f":"'１前橋'!E42","v":0},{"$f":"'１前橋'!F42","v":0},{"$f":"'１前橋'!G42","v":0},{"$f":"'１前橋'!H42","v":0},{"$f":"'１前橋'!I42","v":0},{"$f":"'２高崎'!E42","v":0},{"$f":"'２高崎'!F42","v":0},{"$f":"'２高崎'!G42","v":0},{"$f":"'２高崎'!H42","v":0},{"$f":"'２高崎'!I42","v":0},{"$f":"'３桐生'!E42","v":0},{"$f":"'３桐生'!F42","v":0},{"$f":"'３桐生'!G42","v":0},{"$f":"'３桐生'!H42","v":0},{"$f":"'３桐生'!I42","v":0},{"$f":"'４伊勢崎佐波'!E42","v":0},{"$f":"'４伊勢崎佐波'!F42","v":0},{"$f":"'４伊勢崎佐波'!G42","v":0},{"$f":"'４伊勢崎佐波'!H42","v":0},{"$f":"'４伊勢崎佐波'!I42","v":0},{"$f":"'５太田'!E42","v":0},{"$f":"'５太田'!F42","v":0},{"$f":"'５太田'!G42","v":0},{"$f":"'５太田'!H42","v":0},{"$f":"'５太田'!I42","v":0},{"$f":"'６沼田'!E42","v":0},{"$f":"'６沼田'!F42","v":0},{"$f":"'６沼田'!G42","v":0},{"$f":"'６沼田'!H42","v":0},{"$f":"'６沼田'!I42","v":0},{"$f":"'７館林'!E42","v":0},{"$f":"'７館林'!F42","v":0},{"$f":"'７館林'!G42","v":0},{"$f":"'７館林'!H42","v":0},{"$f":"'７館林'!I42","v":0},{"$f":"'８渋川北群馬'!E42","v":0},{"$f":"'８渋川北群馬'!F42","v":0},{"$f":"'８渋川北群馬'!G42","v":0},{"$f":"'８渋川北群馬'!H42","v":0},{"$f":"'８渋川北群馬'!I42","v":0},{"$f":"'９藤岡多野'!E42","v":0},{"$f":"'９藤岡多野'!F42","v":0},{"$f":"'９藤岡多野'!G42","v":0},{"$f":"'９藤岡多野'!H42","v":0},{"$f":"'９藤岡多野'!I42","v":0},{"$f":"'10富岡甘楽'!E42","v":0},{"$f":"'10富岡甘楽'!F42","v":0},{"$f":"'10富岡甘楽'!G42","v":0},{"$f":"'10富岡甘楽'!H42","v":0},{"$f":"'10富岡甘楽'!I42","v":0},{"$f":"'11安中'!E42","v":0},{"$f":"'11安中'!F42","v":0},{"$f":"'11安中'!G42","v":0},{"$f":"'11安中'!H42","v":0},{"$f":"'11安中'!I42","v":0},{"$f":"'12吾妻'!E42","v":0},{"$f":"'12吾妻'!F42","v":0},{"$f":"'12吾妻'!G42","v":0},{"$f":"'12吾妻'!H42","v":0},{"$f":"'12吾妻'!I42","v":0},{"$f":"'13利根'!E42","v":0},{"$f":"'13利根'!F42","v":0},{"$f":"'13利根'!G42","v":0},{"$f":"'13利根'!H42","v":0},{"$f":"'13利根'!I42","v":0},{"$f":"'14邑楽'!E42","v":0},{"$f":"'14邑楽'!F42","v":0},{"$f":"'14邑楽'!G42","v":0},{"$f":"'14邑楽'!H42","v":0},{"$f":"'14邑楽'!I42","v":0}]
[null,null,10,"バドミントン",0,0,0,0,0,{"$f":"'１前橋'!E43","v":0},{"$f":"'１前橋'!F43","v":0},{"$f":"'１前橋'!G43","v":0},{"$f":"'１前橋'!H43","v":0},{"$f":"'１前橋'!I43","v":0},{"$f":"'２高崎'!E43","v":0},{"$f":"'２高崎'!F43","v":0},{"$f":"'２高崎'!G43","v":0},{"$f":"'２高崎'!H43","v":0},{"$f":"'２高崎'!I43","v":0},{"$f":"'３桐生'!E43","v":0},{"$f":"'３桐生'!F43","v":0},{"$f":"'３桐生'!G43","v":0},{"$f":"'３桐生'!H43","v":0},{"$f":"'３桐生'!I43","v":0},{"$f":"'４伊勢崎佐波'!E43","v":0},{"$f":"'４伊勢崎佐波'!F43","v":0},{"$f":"'４伊勢崎佐波'!G43","v":0},{"$f":"'４伊勢崎佐波'!H43","v":0},{"$f":"'４伊勢崎佐波'!I43","v":0},{"$f":"'５太田'!E43","v":0},{"$f":"'５太田'!F43","v":0},{"$f":"'５太田'!G43","v":0},{"$f":"'５太田'!H43","v":0},{"$f":"'５太田'!I43","v":0},{"$f":"'６沼田'!E43","v":0},{"$f":"'６沼田'!F43","v":0},{"$f":"'６沼田'!G43","v":0},{"$f":"'６沼田'!H43","v":0},{"$f":"'６沼田'!I43","v":0},{"$f":"'７館林'!E43","v":0},{"$f":"'７館林'!F43","v":0},{"$f":"'７館林'!G43","v":0},{"$f":"'７館林'!H43","v":0},{"$f":"'７館林'!I43","v":0},{"$f":"'８渋川北群馬'!E43","v":0},{"$f":"'８渋川北群馬'!F43","v":0},{"$f":"'８渋川北群馬'!G43","v":0},{"$f":"'８渋川北群馬'!H43","v":0},{"$f":"'８渋川北群馬'!I43","v":0},{"$f":"'９藤岡多野'!E43","v":0},{"$f":"'９藤岡多野'!F43","v":0},{"$f":"'９藤岡多野'!G43","v":0},{"$f":"'９藤岡多野'!H43","v":0},{"$f":"'９藤岡多野'!I43","v":0},{"$f":"'10富岡甘楽'!E43","v":0},{"$f":"'10富岡甘楽'!F43","v":0},{"$f":"'10富岡甘楽'!G43","v":0},{"$f":"'10富岡甘楽'!H43","v":0},{"$f":"'10富岡甘楽'!I43","v":0},{"$f":"'11安中'!E43","v":0},{"$f":"'11安中'!F43","v":0},{"$f":"'11安中'!G43","v":0},{"$f":"'11安中'!H43","v":0},{"$f":"'11安中'!I43","v":0},{"$f":"'12吾妻'!E43","v":0},{"$f":"'12吾妻'!F43","v":0},{"$f":"'12吾妻'!G43","v":0},{"$f":"'12吾妻'!H43","v":0},{"$f":"'12吾妻'!I43","v":0},{"$f":"'13利根'!E43","v":0},{"$f":"'13利根'!F43","v":0},{"$f":"'13利根'!G43","v":0},{"$f":"'13利根'!H43","v":0},{"$f":"'13利根'!I43","v":0},{"$f":"'14邑楽'!E43","v":0},{"$f":"'14邑楽'!F43","v":0},{"$f":"'14邑楽'!G43","v":0},{"$f":"'14邑楽'!H43","v":0},{"$f":"'14邑楽'!I43","v":0}]
[null,null,11,"サッカー",0,0,0,0,0,{"$f":"'１前橋'!E44","v":0},{"$f":"'１前橋'!F44","v":0},{"$f":"'１前橋'!G44","v":0},{"$f":"'１前橋'!H44","v":0},{"$f":"'１前橋'!I44","v":0},{"$f":"'２高崎'!E44","v":0},{"$f":"'２高崎'!F44","v":0},{"$f":"'２高崎'!G44","v":0},{"$f":"'２高崎'!H44","v":0},{"$f":"'２高崎'!I44","v":0},{"$f":"'３桐生'!E44","v":0},{"$f":"'３桐生'!F44","v":0},{"$f":"'３桐生'!G44","v":0},{"$f":"'３桐生'!H44","v":0},{"$f":"'３桐生'!I44","v":0},{"$f":"'４伊勢崎佐波'!E44","v":0},{"$f":"'４伊勢崎佐波'!F44","v":0},{"$f":"'４伊勢崎佐波'!G44","v":0},{"$f":"'４伊勢崎佐波'!H44","v":0},{"$f":"'４伊勢崎佐波'!I44","v":0},{"$f":"'５太田'!E44","v":0},{"$f":"'５太田'!F44","v":0},{"$f":"'５太田'!G44","v":0},{"$f":"'５太田'!H44","v":0},{"$f":"'５太田'!I44","v":0},{"$f":"'６沼田'!E44","v":0},{"$f":"'６沼田'!F44","v":0},{"$f":"'６沼田'!G44","v":0},{"$f":"'６沼田'!H44","v":0},{"$f":"'６沼田'!I44","v":0},{"$f":"'７館林'!E44","v":0},{"$f":"'７館林'!F44","v":0},{"$f":"'７館林'!G44","v":0},{"$f":"'７館林'!H44","v":0},{"$f":"'７館林'!I44","v":0},{"$f":"'８渋川北群馬'!E44","v":0},{"$f":"'８渋川北群馬'!F44","v":0},{"$f":"'８渋川北群馬'!G44","v":0},{"$f":"'８渋川北群馬'!H44","v":0},{"$f":"'８渋川北群馬'!I44","v":0},{"$f":"'９藤岡多野'!E44","v":0},{"$f":"'９藤岡多野'!F44","v":0},{"$f":"'９藤岡多野'!G44","v":0},{"$f":"'９藤岡多野'!H44","v":0},{"$f":"'９藤岡多野'!I44","v":0},{"$f":"'10富岡甘楽'!E44","v":0},{"$f":"'10富岡甘楽'!F44","v":0},{"$f":"'10富岡甘楽'!G44","v":0},{"$f":"'10富岡甘楽'!H44","v":0},{"$f":"'10富岡甘楽'!I44","v":0},{"$f":"'11安中'!E44","v":0},{"$f":"'11安中'!F44","v":0},{"$f":"'11安中'!G44","v":0},{"$f":"'11安中'!H44","v":0},{"$f":"'11安中'!I44","v":0},{"$f":"'12吾妻'!E44","v":0},{"$f":"'12吾妻'!F44","v":0},{"$f":"'12吾妻'!G44","v":0},{"$f":"'12吾妻'!H44","v":0},{"$f":"'12吾妻'!I44","v":0},{"$f":"'13利根'!E44","v":0},{"$f":"'13利根'!F44","v":0},{"$f":"'13利根'!G44","v":0},{"$f":"'13利根'!H44","v":0},{"$f":"'13利根'!I44","v":0},{"$f":"'14邑楽'!E44","v":0},{"$f":"'14邑楽'!F44","v":0},{"$f":"'14邑楽'!G44","v":0},{"$f":"'14邑楽'!H44","v":0},{"$f":"'14邑楽'!I44","v":0}]
[null,null,12,"陸　上　競　技",0,0,0,0,0,{"$f":"'１前橋'!E45","v":0},{"$f":"'１前橋'!F45","v":0},{"$f":"'１前橋'!G45","v":0},{"$f":"'１前橋'!H45","v":0},{"$f":"'１前橋'!I45","v":0},{"$f":"'２高崎'!E45","v":0},{"$f":"'２高崎'!F45","v":0},{"$f":"'２高崎'!G45","v":0},{"$f":"'２高崎'!H45","v":0},{"$f":"'２高崎'!I45","v":0},{"$f":"'３桐生'!E45","v":0},{"$f":"'３桐生'!F45","v":0},{"$f":"'３桐生'!G45","v":0},{"$f":"'３桐生'!H45","v":0},{"$f":"'３桐生'!I45","v":0},{"$f":"'４伊勢崎佐波'!E45","v":0},{"$f":"'４伊勢崎佐波'!F45","v":0},{"$f":"'４伊勢崎佐波'!G45","v":0},{"$f":"'４伊勢崎佐波'!H45","v":0},{"$f":"'４伊勢崎佐波'!I45","v":0},{"$f":"'５太田'!E45","v":0},{"$f":"'５太田'!F45","v":0},{"$f":"'５太田'!G45","v":0},{"$f":"'５太田'!H45","v":0},{"$f":"'５太田'!I45","v":0},{"$f":"'６沼田'!E45","v":0},{"$f":"'６沼田'!F45","v":0},{"$f":"'６沼田'!G45","v":0},{"$f":"'６沼田'!H45","v":0},{"$f":"'６沼田'!I45","v":0},{"$f":"'７館林'!E45","v":0},{"$f":"'７館林'!F45","v":0},{"$f":"'７館林'!G45","v":0},{"$f":"'７館林'!H45","v":0},{"$f":"'７館林'!I45","v":0},{"$f":"'８渋川北群馬'!E45","v":0},{"$f":"'８渋川北群馬'!F45","v":0},{"$f":"'８渋川北群馬'!G45","v":0},{"$f":"'８渋川北群馬'!H45","v":0},{"$f":"'８渋川北群馬'!I45","v":0},{"$f":"'９藤岡多野'!E45","v":0},{"$f":"'９藤岡多野'!F45","v":0},{"$f":"'９藤岡多野'!G45","v":0},{"$f":"'９藤岡多野'!H45","v":0},{"$f":"'９藤岡多野'!I45","v":0},{"$f":"'10富岡甘楽'!E45","v":0},{"$f":"'10富岡甘楽'!F45","v":0},{"$f":"'10富岡甘楽'!G45","v":0},{"$f":"'10富岡甘楽'!H45","v":0},{"$f":"'10富岡甘楽'!I45","v":0},{"$f":"'11安中'!E45","v":0},{"$f":"'11安中'!F45","v":0},{"$f":"'11安中'!G45","v":0},{"$f":"'11安中'!H45","v":0},{"$f":"'11安中'!I45","v":0},{"$f":"'12吾妻'!E45","v":0},{"$f":"'12吾妻'!F45","v":0},{"$f":"'12吾妻'!G45","v":0},{"$f":"'12吾妻'!H45","v":0},{"$f":"'12吾妻'!I45","v":0},{"$f":"'13利根'!E45","v":0},{"$f":"'13利根'!F45","v":0},{"$f":"'13利根'!G45","v":0},{"$f":"'13利根'!H45","v":0},{"$f":"'13利根'!I45","v":0},{"$f":"'14邑楽'!E45","v":0},{"$f":"'14邑楽'!F45","v":0},{"$f":"'14邑楽'!G45","v":0},{"$f":"'14邑楽'!H45","v":0},{"$f":"'14邑楽'!I45","v":0}]
[null,null,13,"水　　泳",0,0,0,0,0,{"$f":"'１前橋'!E46","v":0},{"$f":"'１前橋'!F46","v":0},{"$f":"'１前橋'!G46","v":0},{"$f":"'１前橋'!H46","v":0},{"$f":"'１前橋'!I46","v":0},{"$f":"'２高崎'!E46","v":0},{"$f":"'２高崎'!F46","v":0},{"$f":"'２高崎'!G46","v":0},{"$f":"'２高崎'!H46","v":0},{"$f":"'２高崎'!I46","v":0},{"$f":"'３桐生'!E46","v":0},{"$f":"'３桐生'!F46","v":0},{"$f":"'３桐生'!G46","v":0},{"$f":"'３桐生'!H46","v":0},{"$f":"'３桐生'!I46","v":0},{"$f":"'４伊勢崎佐波'!E46","v":0},{"$f":"'４伊勢崎佐波'!F46","v":0},{"$f":"'４伊勢崎佐波'!G46","v":0},{"$f":"'４伊勢崎佐波'!H46","v":0},{"$f":"'４伊勢崎佐波'!I46","v":0},{"$f":"'５太田'!E46","v":0},{"$f":"'５太田'!F46","v":0},{"$f":"'５太田'!G46","v":0},{"$f":"'５太田'!H46","v":0},{"$f":"'５太田'!I46","v":0},{"$f":"'６沼田'!E46","v":0},{"$f":"'６沼田'!F46","v":0},{"$f":"'６沼田'!G46","v":0},{"$f":"'６沼田'!H46","v":0},{"$f":"'６沼田'!I46","v":0},{"$f":"'７館林'!E46","v":0},{"$f":"'７館林'!F46","v":0},{"$f":"'７館林'!G46","v":0},{"$f":"'７館林'!H46","v":0},{"$f":"'７館林'!I46","v":0},{"$f":"'８渋川北群馬'!E46","v":0},{"$f":"'８渋川北群馬'!F46","v":0},{"$f":"'８渋川北群馬'!G46","v":0},{"$f":"'８渋川北群馬'!H46","v":0},{"$f":"'８渋川北群馬'!I46","v":0},{"$f":"'９藤岡多野'!E46","v":0},{"$f":"'９藤岡多野'!F46","v":0},{"$f":"'９藤岡多野'!G46","v":0},{"$f":"'９藤岡多野'!H46","v":0},{"$f":"'９藤岡多野'!I46","v":0},{"$f":"'10富岡甘楽'!E46","v":0},{"$f":"'10富岡甘楽'!F46","v":0},{"$f":"'10富岡甘楽'!G46","v":0},{"$f":"'10富岡甘楽'!H46","v":0},{"$f":"'10富岡甘楽'!I46","v":0},{"$f":"'11安中'!E46","v":0},{"$f":"'11安中'!F46","v":0},{"$f":"'11安中'!G46","v":0},{"$f":"'11安中'!H46","v":0},{"$f":"'11安中'!I46","v":0},{"$f":"'12吾妻'!E46","v":0},{"$f":"'12吾妻'!F46","v":0},{"$f":"'12吾妻'!G46","v":0},{"$f":"'12吾妻'!H46","v":0},{"$f":"'12吾妻'!I46","v":0},{"$f":"'13利根'!E46","v":0},{"$f":"'13利根'!F46","v":0},{"$f":"'13利根'!G46","v":0},{"$f":"'13利根'!H46","v":0},{"$f":"'13利根'!I46","v":0},{"$f":"'14邑楽'!E46","v":0},{"$f":"'14邑楽'!F46","v":0},{"$f":"'14邑楽'!G46","v":0},{"$f":"'14邑楽'!H46","v":0},{"$f":"'14邑楽'!I46","v":0}]
[null,"子",14,"柔　　道",0,0,0,0,0,{"$f":"'１前橋'!E47","v":0},{"$f":"'１前橋'!F47","v":0},{"$f":"'１前橋'!G47","v":0},{"$f":"'１前橋'!H47","v":0},{"$f":"'１前橋'!I47","v":0},{"$f":"'２高崎'!E47","v":0},{"$f":"'２高崎'!F47","v":0},{"$f":"'２高崎'!G47","v":0},{"$f":"'２高崎'!H47","v":0},{"$f":"'２高崎'!I47","v":0},{"$f":"'３桐生'!E47","v":0},{"$f":"'３桐生'!F47","v":0},{"$f":"'３桐生'!G47","v":0},{"$f":"'３桐生'!H47","v":0},{"$f":"'３桐生'!I47","v":0},{"$f":"'４伊勢崎佐波'!E47","v":0},{"$f":"'４伊勢崎佐波'!F47","v":0},{"$f":"'４伊勢崎佐波'!G47","v":0},{"$f":"'４伊勢崎佐波'!H47","v":0},{"$f":"'４伊勢崎佐波'!I47","v":0},{"$f":"'５太田'!E47","v":0},{"$f":"'５太田'!F47","v":0},{"$f":"'５太田'!G47","v":0},{"$f":"'５太田'!H47","v":0},{"$f":"'５太田'!I47","v":0},{"$f":"'６沼田'!E47","v":0},{"$f":"'６沼田'!F47","v":0},{"$f":"'６沼田'!G47","v":0},{"$f":"'６沼田'!H47","v":0},{"$f":"'６沼田'!I47","v":0},{"$f":"'７館林'!E47","v":0},{"$f":"'７館林'!F47","v":0},{"$f":"'７館林'!G47","v":0},{"$f":"'７館林'!H47","v":0},{"$f":"'７館林'!I47","v":0},{"$f":"'８渋川北群馬'!E47","v":0},{"$f":"'８渋川北群馬'!F47","v":0},{"$f":"'８渋川北群馬'!G47","v":0},{"$f":"'８渋川北群馬'!H47","v":0},{"$f":"'８渋川北群馬'!I47","v":0},{"$f":"'９藤岡多野'!E47","v":0},{"$f":"'９藤岡多野'!F47","v":0},{"$f":"'９藤岡多野'!G47","v":0},{"$f":"'９藤岡多野'!H47","v":0},{"$f":"'９藤岡多野'!I47","v":0},{"$f":"'10富岡甘楽'!E47","v":0},{"$f":"'10富岡甘楽'!F47","v":0},{"$f":"'10富岡甘楽'!G47","v":0},{"$f":"'10富岡甘楽'!H47","v":0},{"$f":"'10富岡甘楽'!I47","v":0},{"$f":"'11安中'!E47","v":0},{"$f":"'11安中'!F47","v":0},{"$f":"'11安中'!G47","v":0},{"$f":"'11安中'!H47","v":0},{"$f":"'11安中'!I47","v":0},{"$f":"'12吾妻'!E47","v":0},{"$f":"'12吾妻'!F47","v":0},{"$f":"'12吾妻'!G47","v":0},{"$f":"'12吾妻'!H47","v":0},{"$f":"'12吾妻'!I47","v":0},{"$f":"'13利根'!E47","v":0},{"$f":"'13利根'!F47","v":0},{"$f":"'13利根'!G47","v":0},{"$f":"'13利根'!H47","v":0},{"$f":"'13利根'!I47","v":0},{"$f":"'14邑楽'!E47","v":0},{"$f":"'14邑楽'!F47","v":0},{"$f":"'14邑楽'!G47","v":0},{"$f":"'14邑楽'!H47","v":0},{"$f":"'14邑楽'!I47","v":0}]
[null,null,15,"剣　　道",0,0,0,0,0,{"$f":"'１前橋'!E48","v":0},{"$f":"'１前橋'!F48","v":0},{"$f":"'１前橋'!G48","v":0},{"$f":"'１前橋'!H48","v":0},{"$f":"'１前橋'!I48","v":0},{"$f":"'２高崎'!E48","v":0},{"$f":"'２高崎'!F48","v":0},{"$f":"'２高崎'!G48","v":0},{"$f":"'２高崎'!H48","v":0},{"$f":"'２高崎'!I48","v":0},{"$f":"'３桐生'!E48","v":0},{"$f":"'３桐生'!F48","v":0},{"$f":"'３桐生'!G48","v":0},{"$f":"'３桐生'!H48","v":0},{"$f":"'３桐生'!I48","v":0},{"$f":"'４伊勢崎佐波'!E48","v":0},{"$f":"'４伊勢崎佐波'!F48","v":0},{"$f":"'４伊勢崎佐波'!G48","v":0},{"$f":"'４伊勢崎佐波'!H48","v":0},{"$f":"'４伊勢崎佐波'!I48","v":0},{"$f":"'５太田'!E48","v":0},{"$f":"'５太田'!F48","v":0},{"$f":"'５太田'!G48","v":0},{"$f":"'５太田'!H48","v":0},{"$f":"'５太田'!I48","v":0},{"$f":"'６沼田'!E48","v":0},{"$f":"'６沼田'!F48","v":0},{"$f":"'６沼田'!G48","v":0},{"$f":"'６沼田'!H48","v":0},{"$f":"'６沼田'!I48","v":0},{"$f":"'７館林'!E48","v":0},{"$f":"'７館林'!F48","v":0},{"$f":"'７館林'!G48","v":0},{"$f":"'７館林'!H48","v":0},{"$f":"'７館林'!I48","v":0},{"$f":"'８渋川北群馬'!E48","v":0},{"$f":"'８渋川北群馬'!F48","v":0},{"$f":"'８渋川北群馬'!G48","v":0},{"$f":"'８渋川北群馬'!H48","v":0},{"$f":"'８渋川北群馬'!I48","v":0},{"$f":"'９藤岡多野'!E48","v":0},{"$f":"'９藤岡多野'!F48","v":0},{"$f":"'９藤岡多野'!G48","v":0},{"$f":"'９藤岡多野'!H48","v":0},{"$f":"'９藤岡多野'!I48","v":0},{"$f":"'10富岡甘楽'!E48","v":0},{"$f":"'10富岡甘楽'!F48","v":0},{"$f":"'10富岡甘楽'!G48","v":0},{"$f":"'10富岡甘楽'!H48","v":0},{"$f":"'10富岡甘楽'!I48","v":0},{"$f":"'11安中'!E48","v":0},{"$f":"'11安中'!F48","v":0},{"$f":"'11安中'!G48","v":0},{"$f":"'11安中'!H48","v":0},{"$f":"'11安中'!I48","v":0},{"$f":"'12吾妻'!E48","v":0},{"$f":"'12吾妻'!F48","v":0},{"$f":"'12吾妻'!G48","v":0},{"$f":"'12吾妻'!H48","v":0},{"$f":"'12吾妻'!I48","v":0},{"$f":"'13利根'!E48","v":0},{"$f":"'13利根'!F48","v":0},{"$f":"'13利根'!G48","v":0},{"$f":"'13利根'!H48","v":0},{"$f":"'13利根'!I48","v":0},{"$f":"'14邑楽'!E48","v":0},{"$f":"'14邑楽'!F48","v":0},{"$f":"'14邑楽'!G48","v":0},{"$f":"'14邑楽'!H48","v":0},{"$f":"'14邑楽'!I48","v":0}]
[null,null,16,"ダ    ン    ス",0,0,0,0,0,{"$f":"'１前橋'!E49","v":0},{"$f":"'１前橋'!F49","v":0},{"$f":"'１前橋'!G49","v":0},{"$f":"'１前橋'!H49","v":0},{"$f":"'１前橋'!I49","v":0},{"$f":"'２高崎'!E49","v":0},{"$f":"'２高崎'!F49","v":0},{"$f":"'２高崎'!G49","v":0},{"$f":"'２高崎'!H49","v":0},{"$f":"'２高崎'!I49","v":0},{"$f":"'３桐生'!E49","v":0},{"$f":"'３桐生'!F49","v":0},{"$f":"'３桐生'!G49","v":0},{"$f":"'３桐生'!H49","v":0},{"$f":"'３桐生'!I49","v":0},{"$f":"'４伊勢崎佐波'!E49","v":0},{"$f":"'４伊勢崎佐波'!F49","v":0},{"$f":"'４伊勢崎佐波'!G49","v":0},{"$f":"'４伊勢崎佐波'!H49","v":0},{"$f":"'４伊勢崎佐波'!I49","v":0},{"$f":"'５太田'!E49","v":0},{"$f":"'５太田'!F49","v":0},{"$f":"'５太田'!G49","v":0},{"$f":"'５太田'!H49","v":0},{"$f":"'５太田'!I49","v":0},{"$f":"'６沼田'!E49","v":0},{"$f":"'６沼田'!F49","v":0},{"$f":"'６沼田'!G49","v":0},{"$f":"'６沼田'!H49","v":0},{"$f":"'６沼田'!I49","v":0},{"$f":"'７館林'!E49","v":0},{"$f":"'７館林'!F49","v":0},{"$f":"'７館林'!G49","v":0},{"$f":"'７館林'!H49","v":0},{"$f":"'７館林'!I49","v":0},{"$f":"'８渋川北群馬'!E49","v":0},{"$f":"'８渋川北群馬'!F49","v":0},{"$f":"'８渋川北群馬'!G49","v":0},{"$f":"'８渋川北群馬'!H49","v":0},{"$f":"'８渋川北群馬'!I49","v":0},{"$f":"'９藤岡多野'!E49","v":0},{"$f":"'９藤岡多野'!F49","v":0},{"$f":"'９藤岡多野'!G49","v":0},{"$f":"'９藤岡多野'!H49","v":0},{"$f":"'９藤岡多野'!I49","v":0},{"$f":"'10富岡甘楽'!E49","v":0},{"$f":"'10富岡甘楽'!F49","v":0},{"$f":"'10富岡甘楽'!G49","v":0},{"$f":"'10富岡甘楽'!H49","v":0},{"$f":"'10富岡甘楽'!I49","v":0},{"$f":"'11安中'!E49","v":0},{"$f":"'11安中'!F49","v":0},{"$f":"'11安中'!G49","v":0},{"$f":"'11安中'!H49","v":0},{"$f":"'11安中'!I49","v":0},{"$f":"'12吾妻'!E49","v":0},{"$f":"'12吾妻'!F49","v":0},{"$f":"'12吾妻'!G49","v":0},{"$f":"'12吾妻'!H49","v":0},{"$f":"'12吾妻'!I49","v":0},{"$f":"'13利根'!E49","v":0},{"$f":"'13利根'!F49","v":0},{"$f":"'13利根'!G49","v":0},{"$f":"'13利根'!H49","v":0},{"$f":"'13利根'!I49","v":0},{"$f":"'14邑楽'!E49","v":0},{"$f":"'14邑楽'!F49","v":0},{"$f":"'14邑楽'!G49","v":0},{"$f":"'14邑楽'!H49","v":0},{"$f":"'14邑楽'!I49","v":0}]
[null,null,17,"ス    キ    ー",0,0,0,0,0,{"$f":"'１前橋'!E50","v":0},{"$f":"'１前橋'!F50","v":0},{"$f":"'１前橋'!G50","v":0},{"$f":"'１前橋'!H50","v":0},{"$f":"'１前橋'!I50","v":0},{"$f":"'２高崎'!E50","v":0},{"$f":"'２高崎'!F50","v":0},{"$f":"'２高崎'!G50","v":0},{"$f":"'２高崎'!H50","v":0},{"$f":"'２高崎'!I50","v":0},{"$f":"'３桐生'!E50","v":0},{"$f":"'３桐生'!F50","v":0},{"$f":"'３桐生'!G50","v":0},{"$f":"'３桐生'!H50","v":0},{"$f":"'３桐生'!I50","v":0},{"$f":"'４伊勢崎佐波'!E50","v":0},{"$f":"'４伊勢崎佐波'!F50","v":0},{"$f":"'４伊勢崎佐波'!G50","v":0},{"$f":"'４伊勢崎佐波'!H50","v":0},{"$f":"'４伊勢崎佐波'!I50","v":0},{"$f":"'５太田'!E50","v":0},{"$f":"'５太田'!F50","v":0},{"$f":"'５太田'!G50","v":0},{"$f":"'５太田'!H50","v":0},{"$f":"'５太田'!I50","v":0},{"$f":"'６沼田'!E50","v":0},{"$f":"'６沼田'!F50","v":0},{"$f":"'６沼田'!G50","v":0},{"$f":"'６沼田'!H50","v":0},{"$f":"'６沼田'!I50","v":0},{"$f":"'７館林'!E50","v":0},{"$f":"'７館林'!F50","v":0},{"$f":"'７館林'!G50","v":0},{"$f":"'７館林'!H50","v":0},{"$f":"'７館林'!I50","v":0},{"$f":"'８渋川北群馬'!E50","v":0},{"$f":"'８渋川北群馬'!F50","v":0},{"$f":"'８渋川北群馬'!G50","v":0},{"$f":"'８渋川北群馬'!H50","v":0},{"$f":"'８渋川北群馬'!I50","v":0},{"$f":"'９藤岡多野'!E50","v":0},{"$f":"'９藤岡多野'!F50","v":0},{"$f":"'９藤岡多野'!G50","v":0},{"$f":"'９藤岡多野'!H50","v":0},{"$f":"'９藤岡多野'!I50","v":0},{"$f":"'10富岡甘楽'!E50","v":0},{"$f":"'10富岡甘楽'!F50","v":0},{"$f":"'10富岡甘楽'!G50","v":0},{"$f":"'10富岡甘楽'!H50","v":0},{"$f":"'10富岡甘楽'!I50","v":0},{"$f":"'11安中'!E50","v":0},{"$f":"'11安中'!F50","v":0},{"$f":"'11安中'!G50","v":0},{"$f":"'11安中'!H50","v":0},{"$f":"'11安中'!I50","v":0},{"$f":"'12吾妻'!E50","v":0},{"$f":"'12吾妻'!F50","v":0},{"$f":"'12吾妻'!G50","v":0},{"$f":"'12吾妻'!H50","v":0},{"$f":"'12吾妻'!I50","v":0},{"$f":"'13利根'!E50","v":0},{"$f":"'13利根'!F50","v":0},{"$f":"'13利根'!G50","v":0},{"$f":"'13利根'!H50","v":0},{"$f":"'13利根'!I50","v":0},{"$f":"'14邑楽'!E50","v":0},{"$f":"'14邑楽'!F50","v":0},{"$f":"'14邑楽'!G50","v":0},{"$f":"'14邑楽'!H50","v":0},{"$f":"'14邑楽'!I50","v":0}]
[null,null,18,"ス  ケ  ー  ト",0,0,0,0,0,{"$f":"'１前橋'!E51","v":0},{"$f":"'１前橋'!F51","v":0},{"$f":"'１前橋'!G51","v":0},{"$f":"'１前橋'!H51","v":0},{"$f":"'１前橋'!I51","v":0},{"$f":"'２高崎'!E51","v":0},{"$f":"'２高崎'!F51","v":0},{"$f":"'２高崎'!G51","v":0},{"$f":"'２高崎'!H51","v":0},{"$f":"'２高崎'!I51","v":0},{"$f":"'３桐生'!E51","v":0},{"$f":"'３桐生'!F51","v":0},{"$f":"'３桐生'!G51","v":0},{"$f":"'３桐生'!H51","v":0},{"$f":"'３桐生'!I51","v":0},{"$f":"'４伊勢崎佐波'!E51","v":0},{"$f":"'４伊勢崎佐波'!F51","v":0},{"$f":"'４伊勢崎佐波'!G51","v":0},{"$f":"'４伊勢崎佐波'!H51","v":0},{"$f":"'４伊勢崎佐波'!I51","v":0},{"$f":"'５太田'!E51","v":0},{"$f":"'５太田'!F51","v":0},{"$f":"'５太田'!G51","v":0},{"$f":"'５太田'!H51","v":0},{"$f":"'５太田'!I51","v":0},{"$f":"'６沼田'!E51","v":0},{"$f":"'６沼田'!F51","v":0},{"$f":"'６沼田'!G51","v":0},{"$f":"'６沼田'!H51","v":0},{"$f":"'６沼田'!I51","v":0},{"$f":"'７館林'!E51","v":0},{"$f":"'７館林'!F51","v":0},{"$f":"'７館林'!G51","v":0},{"$f":"'７館林'!H51","v":0},{"$f":"'７館林'!I51","v":0},{"$f":"'８渋川北群馬'!E51","v":0},{"$f":"'８渋川北群馬'!F51","v":0},{"$f":"'８渋川北群馬'!G51","v":0},{"$f":"'８渋川北群馬'!H51","v":0},{"$f":"'８渋川北群馬'!I51","v":0},{"$f":"'９藤岡多野'!E51","v":0},{"$f":"'９藤岡多野'!F51","v":0},{"$f":"'９藤岡多野'!G51","v":0},{"$f":"'９藤岡多野'!H51","v":0},{"$f":"'９藤岡多野'!I51","v":0},{"$f":"'10富岡甘楽'!E51","v":0},{"$f":"'10富岡甘楽'!F51","v":0},{"$f":"'10富岡甘楽'!G51","v":0},{"$f":"'10富岡甘楽'!H51","v":0},{"$f":"'10富岡甘楽'!I51","v":0},{"$f":"'11安中'!E51","v":0},{"$f":"'11安中'!F51","v":0},{"$f":"'11安中'!G51","v":0},{"$f":"'11安中'!H51","v":0},{"$f":"'11安中'!I51","v":0},{"$f":"'12吾妻'!E51","v":0},{"$f":"'12吾妻'!F51","v":0},{"$f":"'12吾妻'!G51","v":0},{"$f":"'12吾妻'!H51","v":0},{"$f":"'12吾妻'!I51","v":0},{"$f":"'13利根'!E51","v":0},{"$f":"'13利根'!F51","v":0},{"$f":"'13利根'!G51","v":0},{"$f":"'13利根'!H51","v":0},{"$f":"'13利根'!I51","v":0},{"$f":"'14邑楽'!E51","v":0},{"$f":"'14邑楽'!F51","v":0},{"$f":"'14邑楽'!G51","v":0},{"$f":"'14邑楽'!H51","v":0},{"$f":"'14邑楽'!I51","v":0}]
[null,null,19,"アイスホッケー",0,0,0,0,0,{"$f":"'１前橋'!E52","v":0},{"$f":"'１前橋'!F52","v":0},{"$f":"'１前橋'!G52","v":0},{"$f":"'１前橋'!H52","v":0},{"$f":"'１前橋'!I52","v":0},{"$f":"'２高崎'!E52","v":0},{"$f":"'２高崎'!F52","v":0},{"$f":"'２高崎'!G52","v":0},{"$f":"'２高崎'!H52","v":0},{"$f":"'２高崎'!I52","v":0},{"$f":"'３桐生'!E52","v":0},{"$f":"'３桐生'!F52","v":0},{"$f":"'３桐生'!G52","v":0},{"$f":"'３桐生'!H52","v":0},{"$f":"'３桐生'!I52","v":0},{"$f":"'４伊勢崎佐波'!E52","v":0},{"$f":"'４伊勢崎佐波'!F52","v":0},{"$f":"'４伊勢崎佐波'!G52","v":0},{"$f":"'４伊勢崎佐波'!H52","v":0},{"$f":"'４伊勢崎佐波'!I52","v":0},{"$f":"'５太田'!E52","v":0},{"$f":"'５太田'!F52","v":0},{"$f":"'５太田'!G52","v":0},{"$f":"'５太田'!H52","v":0},{"$f":"'５太田'!I52","v":0},{"$f":"'６沼田'!E52","v":0},{"$f":"'６沼田'!F52","v":0},{"$f":"'６沼田'!G52","v":0},{"$f":"'６沼田'!H52","v":0},{"$f":"'６沼田'!I52","v":0},{"$f":"'７館林'!E52","v":0},{"$f":"'７館林'!F52","v":0},{"$f":"'７館林'!G52","v":0},{"$f":"'７館林'!H52","v":0},{"$f":"'７館林'!I52","v":0},{"$f":"'８渋川北群馬'!E52","v":0},{"$f":"'８渋川北群馬'!F52","v":0},{"$f":"'８渋川北群馬'!G52","v":0},{"$f":"'８渋川北群馬'!H52","v":0},{"$f":"'８渋川北群馬'!I52","v":0},{"$f":"'９藤岡多野'!E52","v":0},{"$f":"'９藤岡多野'!F52","v":0},{"$f":"'９藤岡多野'!G52","v":0},{"$f":"'９藤岡多野'!H52","v":0},{"$f":"'９藤岡多野'!I52","v":0},{"$f":"'10富岡甘楽'!E52","v":0},{"$f":"'10富岡甘楽'!F52","v":0},{"$f":"'10富岡甘楽'!G52","v":0},{"$f":"'10富岡甘楽'!H52","v":0},{"$f":"'10富岡甘楽'!I52","v":0},{"$f":"'11安中'!E52","v":0},{"$f":"'11安中'!F52","v":0},{"$f":"'11安中'!G52","v":0},{"$f":"'11安中'!H52","v":0},{"$f":"'11安中'!I52","v":0},{"$f":"'12吾妻'!E52","v":0},{"$f":"'12吾妻'!F52","v":0},{"$f":"'12吾妻'!G52","v":0},{"$f":"'12吾妻'!H52","v":0},{"$f":"'12吾妻'!I52","v":0},{"$f":"'13利根'!E52","v":0},{"$f":"'13利根'!F52","v":0},{"$f":"'13利根'!G52","v":0},{"$f":"'13利根'!H52","v":0},{"$f":"'13利根'!I52","v":0},{"$f":"'14邑楽'!E52","v":0},{"$f":"'14邑楽'!F52","v":0},{"$f":"'14邑楽'!G52","v":0},{"$f":"'14邑楽'!H52","v":0},{"$f":"'14邑楽'!I52","v":0}]
[null,null,20,"テ　　ニ　　ス",0,0,0,0,0,{"$f":"'１前橋'!E53","v":0},{"$f":"'１前橋'!F53","v":0},{"$f":"'１前橋'!G53","v":0},{"$f":"'１前橋'!H53","v":0},{"$f":"'１前橋'!I53","v":0},{"$f":"'２高崎'!E53","v":0},{"$f":"'２高崎'!F53","v":0},{"$f":"'２高崎'!G53","v":0},{"$f":"'２高崎'!H53","v":0},{"$f":"'２高崎'!I53","v":0},{"$f":"'３桐生'!E53","v":0},{"$f":"'３桐生'!F53","v":0},{"$f":"'３桐生'!G53","v":0},{"$f":"'３桐生'!H53","v":0},{"$f":"'３桐生'!I53","v":0},{"$f":"'４伊勢崎佐波'!E53","v":0},{"$f":"'４伊勢崎佐波'!F53","v":0},{"$f":"'４伊勢崎佐波'!G53","v":0},{"$f":"'４伊勢崎佐波'!H53","v":0},{"$f":"'４伊勢崎佐波'!I53","v":0},{"$f":"'５太田'!E53","v":0},{"$f":"'５太田'!F53","v":0},{"$f":"'５太田'!G53","v":0},{"$f":"'５太田'!H53","v":0},{"$f":"'５太田'!I53","v":0},{"$f":"'６沼田'!E53","v":0},{"$f":"'６沼田'!F53","v":0},{"$f":"'６沼田'!G53","v":0},{"$f":"'６沼田'!H53","v":0},{"$f":"'６沼田'!I53","v":0},{"$f":"'７館林'!E53","v":0},{"$f":"'７館林'!F53","v":0},{"$f":"'７館林'!G53","v":0},{"$f":"'７館林'!H53","v":0},{"$f":"'７館林'!I53","v":0},{"$f":"'８渋川北群馬'!E53","v":0},{"$f":"'８渋川北群馬'!F53","v":0},{"$f":"'８渋川北群馬'!G53","v":0},{"$f":"'８渋川北群馬'!H53","v":0},{"$f":"'８渋川北群馬'!I53","v":0},{"$f":"'９藤岡多野'!E53","v":0},{"$f":"'９藤岡多野'!F53","v":0},{"$f":"'９藤岡多野'!G53","v":0},{"$f":"'９藤岡多野'!H53","v":0},{"$f":"'９藤岡多野'!I53","v":0},{"$f":"'10富岡甘楽'!E53","v":0},{"$f":"'10富岡甘楽'!F53","v":0},{"$f":"'10富岡甘楽'!G53","v":0},{"$f":"'10富岡甘楽'!H53","v":0},{"$f":"'10富岡甘楽'!I53","v":0},{"$f":"'11安中'!E53","v":0},{"$f":"'11安中'!F53","v":0},{"$f":"'11安中'!G53","v":0},{"$f":"'11安中'!H53","v":0},{"$f":"'11安中'!I53","v":0},{"$f":"'12吾妻'!E53","v":0},{"$f":"'12吾妻'!F53","v":0},{"$f":"'12吾妻'!G53","v":0},{"$f":"'12吾妻'!H53","v":0},{"$f":"'12吾妻'!I53","v":0},{"$f":"'13利根'!E53","v":0},{"$f":"'13利根'!F53","v":0},{"$f":"'13利根'!G53","v":0},{"$f":"'13利根'!H53","v":0},{"$f":"'13利根'!I53","v":0},{"$f":"'14邑楽'!E53","v":0},{"$f":"'14邑楽'!F53","v":0},{"$f":"'14邑楽'!G53","v":0},{"$f":"'14邑楽'!H53","v":0},{"$f":"'14邑楽'!I53","v":0}]
[null,null,21,"弓　　道　",0,0,0,0,0,{"$f":"'１前橋'!E54","v":0},{"$f":"'１前橋'!F54","v":0},{"$f":"'１前橋'!G54","v":0},{"$f":"'１前橋'!H54","v":0},{"$f":"'１前橋'!I54","v":0},{"$f":"'２高崎'!E54","v":0},{"$f":"'２高崎'!F54","v":0},{"$f":"'２高崎'!G54","v":0},{"$f":"'２高崎'!H54","v":0},{"$f":"'２高崎'!I54","v":0},{"$f":"'３桐生'!E54","v":0},{"$f":"'３桐生'!F54","v":0},{"$f":"'３桐生'!G54","v":0},{"$f":"'３桐生'!H54","v":0},{"$f":"'３桐生'!I54","v":0},{"$f":"'４伊勢崎佐波'!E54","v":0},{"$f":"'４伊勢崎佐波'!F54","v":0},{"$f":"'４伊勢崎佐波'!G54","v":0},{"$f":"'４伊勢崎佐波'!H54","v":0},{"$f":"'４伊勢崎佐波'!I54","v":0},{"$f":"'５太田'!E54","v":0},{"$f":"'５太田'!F54","v":0},{"$f":"'５太田'!G54","v":0},{"$f":"'５太田'!H54","v":0},{"$f":"'５太田'!I54","v":0},{"$f":"'６沼田'!E54","v":0},{"$f":"'６沼田'!F54","v":0},{"$f":"'６沼田'!G54","v":0},{"$f":"'６沼田'!H54","v":0},{"$f":"'６沼田'!I54","v":0},{"$f":"'７館林'!E54","v":0},{"$f":"'７館林'!F54","v":0},{"$f":"'７館林'!G54","v":0},{"$f":"'７館林'!H54","v":0},{"$f":"'７館林'!I54","v":0},{"$f":"'８渋川北群馬'!E54","v":0},{"$f":"'８渋川北群馬'!F54","v":0},{"$f":"'８渋川北群馬'!G54","v":0},{"$f":"'８渋川北群馬'!H54","v":0},{"$f":"'８渋川北群馬'!I54","v":0},{"$f":"'９藤岡多野'!E54","v":0},{"$f":"'９藤岡多野'!F54","v":0},{"$f":"'９藤岡多野'!G54","v":0},{"$f":"'９藤岡多野'!H54","v":0},{"$f":"'９藤岡多野'!I54","v":0},{"$f":"'10富岡甘楽'!E54","v":0},{"$f":"'10富岡甘楽'!F54","v":0},{"$f":"'10富岡甘楽'!G54","v":0},{"$f":"'10富岡甘楽'!H54","v":0},{"$f":"'10富岡甘楽'!I54","v":0},{"$f":"'11安中'!E54","v":0},{"$f":"'11安中'!F54","v":0},{"$f":"'11安中'!G54","v":0},{"$f":"'11安中'!H54","v":0},{"$f":"'11安中'!I54","v":0},{"$f":"'12吾妻'!E54","v":0},{"$f":"'12吾妻'!F54","v":0},{"$f":"'12吾妻'!G54","v":0},{"$f":"'12吾妻'!H54","v":0},{"$f":"'12吾妻'!I54","v":0},{"$f":"'13利根'!E54","v":0},{"$f":"'13利根'!F54","v":0},{"$f":"'13利根'!G54","v":0},{"$f":"'13利根'!H54","v":0},{"$f":"'13利根'!I54","v":0},{"$f":"'14邑楽'!E54","v":0},{"$f":"'14邑楽'!F54","v":0},{"$f":"'14邑楽'!G54","v":0},{"$f":"'14邑楽'!H54","v":0},{"$f":"'14邑楽'!I54","v":0}]
[null,null,22,"空　　手",0,0,0,0,0,{"$f":"'１前橋'!E55","v":0},{"$f":"'１前橋'!F55","v":0},{"$f":"'１前橋'!G55","v":0},{"$f":"'１前橋'!H55","v":0},{"$f":"'１前橋'!I55","v":0},{"$f":"'２高崎'!E55","v":0},{"$f":"'２高崎'!F55","v":0},{"$f":"'２高崎'!G55","v":0},{"$f":"'２高崎'!H55","v":0},{"$f":"'２高崎'!I55","v":0},{"$f":"'３桐生'!E55","v":0},{"$f":"'３桐生'!F55","v":0},{"$f":"'３桐生'!G55","v":0},{"$f":"'３桐生'!H55","v":0},{"$f":"'３桐生'!I55","v":0},{"$f":"'４伊勢崎佐波'!E55","v":0},{"$f":"'４伊勢崎佐波'!F55","v":0},{"$f":"'４伊勢崎佐波'!G55","v":0},{"$f":"'４伊勢崎佐波'!H55","v":0},{"$f":"'４伊勢崎佐波'!I55","v":0},{"$f":"'５太田'!E55","v":0},{"$f":"'５太田'!F55","v":0},{"$f":"'５太田'!G55","v":0},{"$f":"'５太田'!H55","v":0},{"$f":"'５太田'!I55","v":0},{"$f":"'６沼田'!E55","v":0},{"$f":"'６沼田'!F55","v":0},{"$f":"'６沼田'!G55","v":0},{"$f":"'６沼田'!H55","v":0},{"$f":"'６沼田'!I55","v":0},{"$f":"'７館林'!E55","v":0},{"$f":"'７館林'!F55","v":0},{"$f":"'７館林'!G55","v":0},{"$f":"'７館林'!H55","v":0},{"$f":"'７館林'!I55","v":0},{"$f":"'８渋川北群馬'!E55","v":0},{"$f":"'８渋川北群馬'!F55","v":0},{"$f":"'８渋川北群馬'!G55","v":0},{"$f":"'８渋川北群馬'!H55","v":0},{"$f":"'８渋川北群馬'!I55","v":0},{"$f":"'９藤岡多野'!E55","v":0},{"$f":"'９藤岡多野'!F55","v":0},{"$f":"'９藤岡多野'!G55","v":0},{"$f":"'９藤岡多野'!H55","v":0},{"$f":"'９藤岡多野'!I55","v":0},{"$f":"'10富岡甘楽'!E55","v":0},{"$f":"'10富岡甘楽'!F55","v":0},{"$f":"'10富岡甘楽'!G55","v":0},{"$f":"'10富岡甘楽'!H55","v":0},{"$f":"'10富岡甘楽'!I55","v":0},{"$f":"'11安中'!E55","v":0},{"$f":"'11安中'!F55","v":0},{"$f":"'11安中'!G55","v":0},{"$f":"'11安中'!H55","v":0},{"$f":"'11安中'!I55","v":0},{"$f":"'12吾妻'!E55","v":0},{"$f":"'12吾妻'!F55","v":0},{"$f":"'12吾妻'!G55","v":0},{"$f":"'12吾妻'!H55","v":0},{"$f":"'12吾妻'!I55","v":0},{"$f":"'13利根'!E55","v":0},{"$f":"'13利根'!F55","v":0},{"$f":"'13利根'!G55","v":0},{"$f":"'13利根'!H55","v":0},{"$f":"'13利根'!I55","v":0},{"$f":"'14邑楽'!E55","v":0},{"$f":"'14邑楽'!F55","v":0},{"$f":"'14邑楽'!G55","v":0},{"$f":"'14邑楽'!H55","v":0},{"$f":"'14邑楽'!I55","v":0}]
[null,null,23,"ホッケー",0,0,0,0,0,{"$f":"'１前橋'!E56","v":0},{"$f":"'１前橋'!F56","v":0},{"$f":"'１前橋'!G56","v":0},{"$f":"'１前橋'!H56","v":0},{"$f":"'１前橋'!I56","v":0},{"$f":"'２高崎'!E56","v":0},{"$f":"'２高崎'!F56","v":0},{"$f":"'２高崎'!G56","v":0},{"$f":"'２高崎'!H56","v":0},{"$f":"'２高崎'!I56","v":0},{"$f":"'３桐生'!E56","v":0},{"$f":"'３桐生'!F56","v":0},{"$f":"'３桐生'!G56","v":0},{"$f":"'３桐生'!H56","v":0},{"$f":"'３桐生'!I56","v":0},{"$f":"'４伊勢崎佐波'!E56","v":0},{"$f":"'４伊勢崎佐波'!F56","v":0},{"$f":"'４伊勢崎佐波'!G56","v":0},{"$f":"'４伊勢崎佐波'!H56","v":0},{"$f":"'４伊勢崎佐波'!I56","v":0},{"$f":"'５太田'!E56","v":0},{"$f":"'５太田'!F56","v":0},{"$f":"'５太田'!G56","v":0},{"$f":"'５太田'!H56","v":0},{"$f":"'５太田'!I56","v":0},{"$f":"'６沼田'!E56","v":0},{"$f":"'６沼田'!F56","v":0},{"$f":"'６沼田'!G56","v":0},{"$f":"'６沼田'!H56","v":0},{"$f":"'６沼田'!I56","v":0},{"$f":"'７館林'!E56","v":0},{"$f":"'７館林'!F56","v":0},{"$f":"'７館林'!G56","v":0},{"$f":"'７館林'!H56","v":0},{"$f":"'７館林'!I56","v":0},{"$f":"'８渋川北群馬'!E56","v":0},{"$f":"'８渋川北群馬'!F56","v":0},{"$f":"'８渋川北群馬'!G56","v":0},{"$f":"'８渋川北群馬'!H56","v":0},{"$f":"'８渋川北群馬'!I56","v":0},{"$f":"'９藤岡多野'!E56","v":0},{"$f":"'９藤岡多野'!F56","v":0},{"$f":"'９藤岡多野'!G56","v":0},{"$f":"'９藤岡多野'!H56","v":0},{"$f":"'９藤岡多野'!I56","v":0},{"$f":"'10富岡甘楽'!E56","v":0},{"$f":"'10富岡甘楽'!F56","v":0},{"$f":"'10富岡甘楽'!G56","v":0},{"$f":"'10富岡甘楽'!H56","v":0},{"$f":"'10富岡甘楽'!I56","v":0},{"$f":"'11安中'!E56","v":0},{"$f":"'11安中'!F56","v":0},{"$f":"'11安中'!G56","v":0},{"$f":"'11安中'!H56","v":0},{"$f":"'11安中'!I56","v":0},{"$f":"'12吾妻'!E56","v":0},{"$f":"'12吾妻'!F56","v":0},{"$f":"'12吾妻'!G56","v":0},{"$f":"'12吾妻'!H56","v":0},{"$f":"'12吾妻'!I56","v":0},{"$f":"'13利根'!E56","v":0},{"$f":"'13利根'!F56","v":0},{"$f":"'13利根'!G56","v":0},{"$f":"'13利根'!H56","v":0},{"$f":"'13利根'!I56","v":0},{"$f":"'14邑楽'!E56","v":0},{"$f":"'14邑楽'!F56","v":0},{"$f":"'14邑楽'!G56","v":0},{"$f":"'14邑楽'!H56","v":0},{"$f":"'14邑楽'!I56","v":0}]
[null,null,"女　子　合　計 (名)",null,{"$f":"J56+O56+T56+Y56+AD56+AI56+AN56+AS56+AX56+BC56+BH56+BM56+BR56+BW56","v":0},0,0,{"$f":"M56+R56+W56+AB56+AG56+AL56+AQ56+AV56+BA56+BF56+BK56+BP56+BU56+BZ56","v":0},0,{"$f":"'１前橋'!E59","v":0},{"$f":"'１前橋'!F59","v":0},{"$f":"'１前橋'!G59","v":0},{"$f":"'１前橋'!H59","v":0},{"$f":"SUM(N33:N55)","v":0},{"$f":"'２高崎'!E59","v":0},{"$f":"'２高崎'!F59","v":0},{"$f":"'２高崎'!G59","v":0},{"$f":"'２高崎'!H59","v":0},{"$f":"SUM(S33:S55)","v":0},{"$f":"'３桐生'!E59","v":0},{"$f":"'３桐生'!F59","v":0},{"$f":"'３桐生'!G59","v":0},{"$f":"'３桐生'!H59","v":0},{"$f":"SUM(X33:X55)","v":0},{"$f":"'４伊勢崎佐波'!E59","v":0},{"$f":"'４伊勢崎佐波'!F59","v":0},{"$f":"'４伊勢崎佐波'!G59","v":0},{"$f":"'４伊勢崎佐波'!H59","v":0},{"$f":"SUM(AC33:AC55)","v":0},{"$f":"'５太田'!E59","v":0},{"$f":"'５太田'!F59","v":0},{"$f":"'５太田'!G59","v":0},{"$f":"'５太田'!H59","v":0},{"$f":"SUM(AH33:AH55)","v":0},{"$f":"'６沼田'!E59","v":0},{"$f":"'６沼田'!F59","v":0},{"$f":"'６沼田'!G59","v":0},{"$f":"'６沼田'!H59","v":0},{"$f":"SUM(AM33:AM55)","v":0},{"$f":"'７館林'!E59","v":0},{"$f":"'７館林'!F59","v":0},{"$f":"'７館林'!G59","v":0},{"$f":"'７館林'!H59","v":0},{"$f":"SUM(AR33:AR55)","v":0},{"$f":"'８渋川北群馬'!E59","v":0},{"$f":"'８渋川北群馬'!F59","v":0},{"$f":"'８渋川北群馬'!G59","v":0},{"$f":"'８渋川北群馬'!H59","v":0},{"$f":"SUM(AW33:AW55)","v":0},{"$f":"'９藤岡多野'!E59","v":0},{"$f":"'９藤岡多野'!F59","v":0},{"$f":"'９藤岡多野'!G59","v":0},{"$f":"'９藤岡多野'!H59","v":0},{"$f":"SUM(BB33:BB55)","v":0},{"$f":"'10富岡甘楽'!E59","v":0},{"$f":"'10富岡甘楽'!F59","v":0},{"$f":"'10富岡甘楽'!G59","v":0},{"$f":"'10富岡甘楽'!H59","v":0},{"$f":"SUM(BG33:BG55)","v":0},{"$f":"'11安中'!E59","v":0},{"$f":"'11安中'!F59","v":0},{"$f":"'11安中'!G59","v":0},{"$f":"'11安中'!H59","v":0},{"$f":"SUM(BL33:BL55)","v":0},{"$f":"'12吾妻'!E59","v":0},{"$f":"'12吾妻'!F59","v":0},{"$f":"'12吾妻'!G59","v":0},{"$f":"'12吾妻'!H59","v":0},{"$f":"SUM(BQ33:BQ55)","v":0},{"$f":"'13利根'!E59","v":0},{"$f":"'13利根'!F59","v":0},{"$f":"'13利根'!G59","v":0},{"$f":"'13利根'!H59","v":0},{"$f":"SUM(BV33:BV55)","v":0},{"$f":"'14邑楽'!E59","v":0},{"$f":"'14邑楽'!F59","v":0},{"$f":"'14邑楽'!G59","v":0},{"$f":"'14邑楽'!H59","v":0},{"$f":"SUM(CA33:CA55)","v":0}]
[null,null,"女 子 在 籍 数 (名)",null,53,69,74,{"$f":"M57+R57+W57+AB57+AG57+AL57+AQ57+AV57+BA57+BF57+BK57+BP57+BU57+BZ57","v":196},null,{"$f":"'１前橋'!E60","v":0},{"$f":"'１前橋'!F60","v":0},{"$f":"'１前橋'!G60","v":0},{"$f":"'１前橋'!H60","v":0},null,{"$f":"'２高崎'!E60","v":0},{"$f":"'２高崎'!F60","v":0},{"$f":"'２高崎'!G60","v":0},{"$f":"'２高崎'!H60","v":0},null,{"$f":"'３桐生'!E60","v":53},{"$f":"'３桐生'!F60","v":69},{"$f":"'３桐生'!G60","v":74},{"$f":"'３桐生'!H60","v":196},null,{"$f":"'４伊勢崎佐波'!E60","v":0},{"$f":"'４伊勢崎佐波'!F60","v":0},{"$f":"'４伊勢崎佐波'!G60","v":0},{"$f":"'４伊勢崎佐波'!H60","v":0},null,{"$f":"'５太田'!E60","v":0},{"$f":"'５太田'!F60","v":0},{"$f":"'５太田'!G60","v":0},{"$f":"'５太田'!H60","v":0},null,{"$f":"'６沼田'!E60","v":0},{"$f":"'６沼田'!F60","v":0},{"$f":"'６沼田'!G60","v":0},{"$f":"'６沼田'!H60","v":0},null,{"$f":"'７館林'!E60","v":0},{"$f":"'７館林'!F60","v":0},{"$f":"'７館林'!G60","v":0},{"$f":"'７館林'!H60","v":0},null,{"$f":"'８渋川北群馬'!E60","v":0},{"$f":"'８渋川北群馬'!F60","v":0},{"$f":"'８渋川北群馬'!G60","v":0},{"$f":"'８渋川北群馬'!H60","v":0},null,{"$f":"'９藤岡多野'!E60","v":0},{"$f":"'９藤岡多野'!F60","v":0},{"$f":"'９藤岡多野'!G60","v":0},{"$f":"'９藤岡多野'!H60","v":0},null,{"$f":"'10富岡甘楽'!E60","v":0},{"$f":"'10富岡甘楽'!F60","v":0},{"$f":"'10富岡甘楽'!G60","v":0},{"$f":"'10富岡甘楽'!H60","v":0},null,{"$f":"'11安中'!E60","v":0},{"$f":"'11安中'!F60","v":0},{"$f":"'11安中'!G60","v":0},{"$f":"'11安中'!H60","v":0},null,{"$f":"'12吾妻'!E60","v":0},{"$f":"'12吾妻'!F60","v":0},{"$f":"'12吾妻'!G60","v":0},{"$f":"'12吾妻'!H60","v":0},null,{"$f":"'13利根'!E60","v":0},{"$f":"'13利根'!F60","v":0},{"$f":"'13利根'!G60","v":0},{"$f":"'13利根'!H60","v":0},null,{"$f":"'14邑楽'!E60","v":0},{"$f":"'14邑楽'!F60","v":0},{"$f":"'14邑楽'!G60","v":0},{"$f":"'14邑楽'!H60","v":0}]
[null,null,"女 子 入 部 率 (％)",null,{"$f":"E56/E57*100","v":0},{"$f":"F56/F57*100","v":0},0,0,null,{"$f":"'１前橋'!E61","v":{"$error":"#DIV/0!"}},{"$f":"'１前橋'!F61","v":{"$error":"#DIV/0!"}},{"$f":"'１前橋'!G61","v":{"$error":"#DIV/0!"}},{"$f":"'１前橋'!H61","v":{"$error":"#DIV/0!"}},null,{"$error":"#DIV/0!"},{"$error":"#DIV/0!"},{"$error":"#DIV/0!"},{"$error":"#DIV/0!"},null,0,0,0,0,null,{"$error":"#DIV/0!"},{"$error":"#DIV/0!"},{"$error":"#DIV/0!"},{"$error":"#DIV/0!"},null,{"$error":"#DIV/0!"},{"$error":"#DIV/0!"},{"$error":"#DIV/0!"},{"$error":"#DIV/0!"},null,{"$error":"#DIV/0!"},{"$error":"#DIV/0!"},{"$error":"#DIV/0!"},{"$error":"#DIV/0!"},null,{"$error":"#DIV/0!"},{"$error":"#DIV/0!"},{"$error":"#DIV/0!"},{"$error":"#DIV/0!"},null,{"$error":"#DIV/0!"},{"$error":"#DIV/0!"},{"$error":"#DIV/0!"},{"$error":"#DIV/0!"},null,{"$error":"#DIV/0!"},{"$error":"#DIV/0!"},{"$error":"#DIV/0!"},{"$error":"#DIV/0!"},null,{"$f":"BC56/BC57*100","v":{"$error":"#DIV/0!"}},{"$error":"#DIV/0!"},{"$error":"#DIV/0!"},{"$error":"#DIV/0!"},null,{"$error":"#DIV/0!"},{"$error":"#DIV/0!"},{"$error":"#DIV/0!"},{"$error":"#DIV/0!"},null,{"$error":"#DIV/0!"},{"$error":"#DIV/0!"},{"$error":"#DIV/0!"},{"$error":"#DIV/0!"},null,{"$error":"#DIV/0!"},{"$error":"#DIV/0!"},{"$error":"#DIV/0!"},{"$error":"#DIV/0!"},null,{"$error":"#DIV/0!"},{"$error":"#DIV/0!"},{"$error":"#DIV/0!"},{"$error":"#DIV/0!"}]
[null,null,"男　女　合　計 (名)",null,{"$f":"J59+O59+T59+Y59+AD59+AI59+AN59+AS59+AX59+BC59+BH59+BM59+BR59+BW59","v":0},0,0,0,null,{"$f":"'１前橋'!E62","v":0},{"$f":"'１前橋'!F62","v":0},{"$f":"'１前橋'!G62","v":0},{"$f":"'１前橋'!H62","v":0},null,{"$f":"'２高崎'!E62","v":0},{"$f":"'２高崎'!F62","v":0},{"$f":"'２高崎'!G62","v":0},{"$f":"'２高崎'!H62","v":0},null,{"$f":"'３桐生'!E62","v":0},{"$f":"'３桐生'!F62","v":0},{"$f":"'３桐生'!G62","v":0},{"$f":"'３桐生'!H62","v":0},null,{"$f":"'４伊勢崎佐波'!E62","v":0},{"$f":"'４伊勢崎佐波'!F62","v":0},{"$f":"'４伊勢崎佐波'!G62","v":0},{"$f":"'４伊勢崎佐波'!H62","v":0},null,{"$f":"'５太田'!E62","v":0},{"$f":"'５太田'!F62","v":0},{"$f":"'５太田'!G62","v":0},{"$f":"'５太田'!H62","v":0},null,{"$f":"'６沼田'!E62","v":0},{"$f":"'６沼田'!F62","v":0},{"$f":"'６沼田'!G62","v":0},{"$f":"'６沼田'!H62","v":0},null,{"$f":"'７館林'!E62","v":0},{"$f":"'７館林'!F62","v":0},{"$f":"'７館林'!G62","v":0},{"$f":"'７館林'!H62","v":0},null,{"$f":"'８渋川北群馬'!E62","v":0},{"$f":"'８渋川北群馬'!F62","v":0},{"$f":"'８渋川北群馬'!G62","v":0},{"$f":"'８渋川北群馬'!H62","v":0},null,{"$f":"'９藤岡多野'!E62","v":0},{"$f":"'９藤岡多野'!F62","v":0},{"$f":"'９藤岡多野'!G62","v":0},{"$f":"'９藤岡多野'!H62","v":0},null,{"$f":"'10富岡甘楽'!E62","v":0},{"$f":"'10富岡甘楽'!F62","v":0},{"$f":"'10富岡甘楽'!G62","v":0},{"$f":"'10富岡甘楽'!H62","v":0},null,{"$f":"'11安中'!E62","v":0},{"$f":"'11安中'!F62","v":0},{"$f":"'11安中'!G62","v":0},{"$f":"'11安中'!H62","v":0},null,{"$f":"'12吾妻'!E62","v":0},{"$f":"'12吾妻'!F62","v":0},{"$f":"'12吾妻'!G62","v":0},{"$f":"'12吾妻'!H62","v":0},null,{"$f":"'13利根'!E62","v":0},{"$f":"'13利根'!F62","v":0},{"$f":"'13利根'!G62","v":0},{"$f":"'13利根'!H62","v":0},null,{"$f":"'14邑楽'!E62","v":0},{"$f":"'14邑楽'!F62","v":0},{"$f":"'14邑楽'!G62","v":0},{"$f":"'14邑楽'!H62","v":0}]
[null,null,"男 女 在 籍 数 (名)",null,121,145,149,415,null,{"$f":"'１前橋'!E63","v":0},{"$f":"'１前橋'!F63","v":0},{"$f":"'１前橋'!G63","v":0},{"$f":"'１前橋'!H63","v":0},null,{"$f":"'２高崎'!E63","v":0},{"$f":"'２高崎'!F63","v":0},{"$f":"'２高崎'!G63","v":0},{"$f":"'２高崎'!H63","v":0},null,{"$f":"'３桐生'!E63","v":121},{"$f":"'３桐生'!F63","v":145},{"$f":"'３桐生'!G63","v":149},{"$f":"'３桐生'!H63","v":415},null,{"$f":"'４伊勢崎佐波'!E63","v":0},{"$f":"'４伊勢崎佐波'!F63","v":0},{"$f":"'４伊勢崎佐波'!G63","v":0},{"$f":"'４伊勢崎佐波'!H63","v":0},null,{"$f":"'５太田'!E63","v":0},{"$f":"'５太田'!F63","v":0},{"$f":"'５太田'!G63","v":0},{"$f":"'５太田'!H63","v":0},null,{"$f":"'６沼田'!E63","v":0},{"$f":"'６沼田'!F63","v":0},{"$f":"'６沼田'!G63","v":0},{"$f":"'６沼田'!H63","v":0},null,{"$f":"'７館林'!E63","v":0},{"$f":"'７館林'!F63","v":0},{"$f":"'７館林'!G63","v":0},{"$f":"'７館林'!H63","v":0},null,{"$f":"'８渋川北群馬'!E63","v":0},{"$f":"'８渋川北群馬'!F63","v":0},{"$f":"'８渋川北群馬'!G63","v":0},{"$f":"'８渋川北群馬'!H63","v":0},null,{"$f":"'９藤岡多野'!E63","v":0},{"$f":"'９藤岡多野'!F63","v":0},{"$f":"'９藤岡多野'!G63","v":0},{"$f":"'９藤岡多野'!H63","v":0},null,{"$f":"'10富岡甘楽'!E63","v":0},{"$f":"'10富岡甘楽'!F63","v":0},{"$f":"'10富岡甘楽'!G63","v":0},{"$f":"'10富岡甘楽'!H63","v":0},null,{"$f":"'11安中'!E63","v":0},{"$f":"'11安中'!F63","v":0},{"$f":"'11安中'!G63","v":0},{"$f":"'11安中'!H63","v":0},null,{"$f":"'12吾妻'!E63","v":0},{"$f":"'12吾妻'!F63","v":0},{"$f":"'12吾妻'!G63","v":0},{"$f":"'12吾妻'!H63","v":0},null,{"$f":"'13利根'!E63","v":0},{"$f":"'13利根'!F63","v":0},{"$f":"'13利根'!G63","v":0},{"$f":"'13利根'!H63","v":0},null,{"$f":"'14邑楽'!E63","v":0},{"$f":"'14邑楽'!F63","v":0},{"$f":"'14邑楽'!G63","v":0},{"$f":"'14邑楽'!H63","v":0}]
[null,null,"男 女 入 部 率 (％)",null,{"$f":"E59/E60*100","v":0},0,0,0,null,{"$error":"#DIV/0!"},{"$error":"#DIV/0!"},{"$error":"#DIV/0!"},{"$error":"#DIV/0!"},null,{"$error":"#DIV/0!"},{"$error":"#DIV/0!"},{"$error":"#DIV/0!"},{"$error":"#DIV/0!"},null,0,0,0,0,null,{"$error":"#DIV/0!"},{"$error":"#DIV/0!"},{"$error":"#DIV/0!"},{"$error":"#DIV/0!"},null,{"$error":"#DIV/0!"},{"$error":"#DIV/0!"},{"$error":"#DIV/0!"},{"$error":"#DIV/0!"},null,{"$error":"#DIV/0!"},{"$error":"#DIV/0!"},{"$error":"#DIV/0!"},{"$error":"#DIV/0!"},null,{"$error":"#DIV/0!"},{"$error":"#DIV/0!"},{"$error":"#DIV/0!"},{"$error":"#DIV/0!"},null,{"$error":"#DIV/0!"},{"$error":"#DIV/0!"},{"$error":"#DIV/0!"},{"$error":"#DIV/0!"},null,{"$error":"#DIV/0!"},{"$error":"#DIV/0!"},{"$error":"#DIV/0!"},{"$error":"#DIV/0!"},null,{"$f":"BC59/BC60*100","v":{"$error":"#DIV/0!"}},{"$error":"#DIV/0!"},{"$error":"#DIV/0!"},{"$error":"#DIV/0!"},null,{"$error":"#DIV/0!"},{"$error":"#DIV/0!"},{"$error":"#DIV/0!"},{"$error":"#DIV/0!"},null,{"$error":"#DIV/0!"},{"$error":"#DIV/0!"},{"$error":"#DIV/0!"},{"$error":"#DIV/0!"},null,{"$error":"#DIV/0!"},{"$error":"#DIV/0!"},{"$error":"#DIV/0!"},{"$error":"#DIV/0!"},null,{"$error":"#DIV/0!"},{"$error":"#DIV/0!"},{"$error":"#DIV/0!"},{"$error":"#DIV/0!"}]

{"sheet":"１前橋","index":1,"n_rows":68,"n_cols":119,"rows_kept":68,"cut":false,"hidden":false,"merged":[]}
[]
[null,null,"令和８年度　群馬県中学校　運動部員数調査結果    （黄色部分は入力禁止）"]
[null,null,null,null,"１前橋市(22校)",null,null,null,null,null,"第一",null,null,null,null,"みずき",null,null,null,null,"第三",null,null,null,null,"第五",null,null,null,null,"第六",null,null,null,null,"第七",null,null,null,null,"桂萱",null,null,null,null,"芳賀",null,null,null,null,"元総社",null,null,null,null,"東",null,null,null,null,"南橘",null,null,null,null,"木瀬",null,null,null,null,"荒砥",null,null,null,null,"明桜",null,null,null,null,"鎌倉",null,null,null,null,"箱田",null,null,null,null,"大胡",null,null,null,null,"宮城",null,null,null,null,"粕川",null,null,null,null,"富士見",null,null,null,null,"群大附属",null,null,null,null,"共愛"]
[null,null,"№","  競　技　名","１年","２年","３年","合計","設置","１年","２年","３年","合計","設置","１年","２年","３年","合計","設置","１年","２年","３年","合計","設置","１年","２年","３年","合計","設置","１年","２年","３年","合計","設置","１年","２年","３年","合計","設置","１年","２年","３年","合計","設置","１年","２年","３年","合計","設置","１年","２年","３年","合計","設置","１年","２年","３年","合計","設置","１年","２年","３年","合計","設置","１年","２年","３年","合計","設置","１年","２年","３年","合計","設置","１年","２年","３年","合計","設置","１年","２年","３年","合計","設置","１年","２年","３年","合計","設置","１年","２年","３年","合計","設置","１年","２年","３年","合計","設置","１年","２年","３年","合計","設置","１年","２年","３年","合計","設置","１年","２年","３年","合計","設置","１年","２年","３年","合計","設置"]
[null,null,1,"体　操　競　技",{"$f":"J5+O5+T5+Y5+AD5+AI5+AN5+AS5+AX5+BC5+BH5+BM5+BR5+BW5+CB5+CG5+CL5+CQ5+CV5+DA5+DF5+DK5","v":0},{"$f":"K5+P5+U5+Z5+AE5+AJ5+AO5+AT5+AY5+BD5+BI5+BN5+BS5+BX5+CC5+CH5+CM5+CR5+CW5+DB5+DG5+DL5","v":0},{"$f":"L5+Q5+V5+AA5+AF5+AK5+AP5+AU5+AZ5+BE5+BJ5+BO5+BT5+BY5+CD5+CI5+CN5+CS5+CX5+DC5+DH5+DM5","v":0},{"$f":"M5+R5+W5+AB5+AG5+AL5+AQ5+AV5+BA5+BF5+BK5+BP5+BU5+BZ5+CE5+CJ5+CO5+CT5+CY5+DD5+DI5+DN5","v":0},{"$f":"N5+S5+X5+AC5+AH5+AM5+AR5+AW5+BB5+BG5+BL5+BQ5+BV5+CA5+CF5+CK5+CP5+CU5+CZ5+DE5+DJ5+DO5","v":0},null,null,null,{"$f":"SUM(J5:L5)","v":0},null,null,null,null,{"$f":"SUM(O5:Q5)","v":0},null,null,null,null,{"$f":"SUM(T5:V5)","v":0},null,null,null,null,{"$f":"SUM(Y5:AA5)","v":0},null,null,null,null,{"$f":"SUM(AD5:AF5)","v":0},null,null,null,null,{"$f":"SUM(AI5:AK5)","v":0},null,null,null,null,{"$f":"SUM(AN5:AP5)","v":0},null,null,null,null,{"$f":"SUM(AS5:AU5)","v":0},null,null,null,null,{"$f":"SUM(AX5:AZ5)","v":0},null,null,null,null,{"$f":"SUM(BC5:BE5)","v":0},null,null,null,null,{"$f":"SUM(BH5:BJ5)","v":0},null,null,null,null,{"$f":"SUM(BM5:BO5)","v":0},null,null,null,null,{"$f":"SUM(BR5:BT5)","v":0},null,null,null,null,{"$f":"SUM(BW5:BY5)","v":0},null,null,null,null,{"$f":"SUM(CB5:CD5)","v":0},null,null,null,null,{"$f":"SUM(CG5:CI5)","v":0},null,null,null,null,{"$f":"SUM(CL5:CN5)","v":0},null,null,null,null,{"$f":"SUM(CQ5:CS5)","v":0},null,null,null,null,{"$f":"SUM(CV5:CX5)","v":0},null,null,null,null,{"$f":"SUM(DA5:DC5)","v":0},null,null,null,null,{"$f":"SUM(DF5:DH5)","v":0},null,null,null,null,{"$f":"SUM(DK5:DM5)","v":0}]
[null,null,2,"新    体    操",{"$f":"J6+O6+T6+Y6+AD6+AI6+AN6+AS6+AX6+BC6+BH6+BM6+BR6+BW6+CB6+CG6+CL6+CQ6+CV6+DA6+DF6+DK6","v":0},{"$f":"K6+P6+U6+Z6+AE6+AJ6+AO6+AT6+AY6+BD6+BI6+BN6+BS6+BX6+CC6+CH6+CM6+CR6+CW6+DB6+DG6+DL6","v":0},{"$f":"L6+Q6+V6+AA6+AF6+AK6+AP6+AU6+AZ6+BE6+BJ6+BO6+BT6+BY6+CD6+CI6+CN6+CS6+CX6+DC6+DH6+DM6","v":0},{"$f":"M6+R6+W6+AB6+AG6+AL6+AQ6+AV6+BA6+BF6+BK6+BP6+BU6+BZ6+CE6+CJ6+CO6+CT6+CY6+DD6+DI6+DN6","v":0},{"$f":"N6+S6+X6+AC6+AH6+AM6+AR6+AW6+BB6+BG6+BL6+BQ6+BV6+CA6+CF6+CK6+CP6+CU6+CZ6+DE6+DJ6+DO6","v":0},null,null,null,{"$f":"SUM(J6:L6)","v":0},null,null,null,null,{"$f":"SUM(O6:Q6)","v":0},null,null,null,null,{"$f":"SUM(T6:V6)","v":0},null,null,null,null,{"$f":"SUM(Y6:AA6)","v":0},null,null,null,null,{"$f":"SUM(AD6:AF6)","v":0},null,null,null,null,{"$f":"SUM(AI6:AK6)","v":0},null,null,null,null,{"$f":"SUM(AN6:AP6)","v":0},null,null,null,null,{"$f":"SUM(AS6:AU6)","v":0},null,null,null,null,{"$f":"SUM(AX6:AZ6)","v":0},null,null,null,null,{"$f":"SUM(BC6:BE6)","v":0},null,null,null,null,{"$f":"SUM(BH6:BJ6)","v":0},null,null,null,null,{"$f":"SUM(BM6:BO6)","v":0},null,null,null,null,{"$f":"SUM(BR6:BT6)","v":0},null,null,null,null,{"$f":"SUM(BW6:BY6)","v":0},null,null,null,null,{"$f":"SUM(CB6:CD6)","v":0},null,null,null,null,{"$f":"SUM(CG6:CI6)","v":0},null,null,null,null,{"$f":"SUM(CL6:CN6)","v":0},null,null,null,null,{"$f":"SUM(CQ6:CS6)","v":0},null,null,null,null,{"$f":"SUM(CV6:CX6)","v":0},null,null,null,null,{"$f":"SUM(DA6:DC6)","v":0},null,null,null,null,{"$f":"SUM(DF6:DH6)","v":0},null,null,null,null,{"$f":"SUM(DK6:DM6)","v":0}]
[null,null,3,"軟　式　野　球",0,0,0,0,0,null,null,null,0,null,null,null,null,0,null,null,null,null,0,null,null,null,null,0,null,null,null,null,0,null,null,null,null,0,null,null,null,null,0,null,null,null,null,0,null,null,null,null,0,null,null,null,null,0,null,null,null,null,0,null,null,null,null,0,null,null,null,null,0,null,null,null,null,0,null,null,null,null,0,null,null,null,null,0,null,null,null,null,0,null,null,null,null,0,null,null,null,null,0,null,null,null,null,0,null,null,null,null,0,null,null,null,null,0]
[null,null,4,"ソフトボール",0,0,0,0,0,null,null,null,0,null,null,null,null,0,null,null,null,null,0,null,null,null,null,0,null,null,null,null,0,null,null,null,null,0,null,null,null,null,0,null,null,null,null,0,null,null,null,null,0,null,null,null,null,0,null,null,null,null,0,null,null,null,null,0,null,null,null,null,0,null,null,null,null,0,null,null,null,null,0,null,null,null,null,0,null,null,null,null,0,null,null,null,null,0,null,null,null,null,0,null,null,null,null,0,null,null,null,null,0,null,null,null,null,0]
[null,null,5,"バスケットボール",0,0,0,0,0,null,null,null,0,null,null,null,null,0,null,null,null,null,0,null,null,null,null,0,null,null,null,null,0,null,null,null,null,0,null,null,null,null,0,null,null,null,null,0,null,null,null,null,0,null,null,null,null,0,null,null,null,null,0,null,null,null,null,0,null,null,null,null,0,null,null,null,null,0,null,null,null,null,0,null,null,null,null,0,null,null,null,null,0,null,null,null,null,0,null,null,null,null,0,null,null,null,null,0,null,null,null,null,0,null,null,null,null,0]
[null,null,6,"ハンドボール",0,0,0,0,0,null,null,null,0,null,null,null,null,0,null,null,null,null,0,null,null,null,null,0,null,null,null,null,0,null,null,null,null,0,null,null,null,null,0,null,null,null,null,0,null,null,null,null,0,null,null,null,null,0,null,null,null,null,0,null,null,null,null,0,null,null,null,null,0,null,null,null,null,0,null,null,null,null,0,null,null,null,null,0,null,null,null,null,0,null,null,null,null,0,null,null,null,null,0,null,null,null,null,0,null,null,null,null,0,null,null,null,null,0]
[null,"男",7,"バレーボール",0,0,0,0,0,null,null,null,0,null,null,null,null,0,null,null,null,null,0,null,null,null,null,0,null,null,null,null,0,null,null,null,null,0,null,null,null,null,0,null,null,null,null,0,null,null,null,null,0,null,null,null,null,0,null,null,null,null,0,null,null,null,null,0,null,null,null,null,0,null,null,null,null,0,null,null,null,null,0,null,null,null,null,0,null,null,null,null,0,null,null,null,null,0,null,null,null,null,0,null,null,null,null,0,null,null,null,null,0,null,null,null,null,0]
[null,null,8,"ソフトテニス",0,0,0,0,0,null,null,null,0,null,null,null,null,0,null,null,null,null,0,null,null,null,null,0,null,null,null,null,0,null,null,null,null,0,null,null,null,null,0,null,null,null,null,0,null,null,null,null,0,null,null,null,null,0,null,null,null,null,0,null,null,null,null,0,null,null,null,null,0,null,null,null,null,0,null,null,null,null,0,null,null,null,null,0,null,null,null,null,0,null,null,null,null,0,null,null,null,null,0,null,null,null,null,0,null,null,null,null,0,null,null,null,null,0]
[null,null,9,"卓    球",0,0,0,0,0,null,null,null,0,null,null,null,null,0,null,null,null,null,0,null,null,null,null,0,null,null,null,null,0,null,null,null,null,0,null,null,null,null,0,null,null,null,null,0,null,null,null,null,0,null,null,null,null,0,null,null,null,null,0,null,null,null,null,0,null,null,null,null,0,null,null,null,null,0,null,null,null,null,0,null,null,null,null,0,null,null,null,null,0,null,null,null,null,0,null,null,null,null,0,null,null,null,null,0,null,null,null,null,0,null,null,null,null,0]
[null,null,10,"バドミントン",0,0,0,0,0,null,null,null,0,null,null,null,null,0,null,null,null,null,0,null,null,null,null,0,null,null,null,null,0,null,null,null,null,0,null,null,null,null,0,null,null,null,null,0,null,null,null,null,0,null,null,null,null,0,null,null,null,null,0,null,null,null,null,0,null,null,null,null,0,null,null,null,null,0,null,null,null,null,0,null,null,null,null,0,null,null,null,null,0,null,null,null,null,0,null,null,null,null,0,null,null,null,null,0,null,null,null,null,0,null,null,null,null,0]
[null,null,11,"サッカー",0,0,0,0,0,null,null,null,0,null,null,null,null,0,null,null,null,null,0,null,null,null,null,0,null,null,null,null,0,null,null,null,null,0,null,null,null,null,0,null,null,null,null,0,null,null,null,null,0,null,null,null,null,0,null,null,null,null,0,null,null,null,null,0,null,null,null,null,0,null,null,null,null,0,null,null,null,null,0,null,null,null,null,0,null,null,null,null,0,null,null,null,null,0,null,null,null,null,0,null,null,null,null,0,null,null,null,null,0,null,null,null,null,0]
[null,null,12,"陸　上　競　技",0,0,0,0,0,null,null,null,0,null,null,null,null,0,null,null,null,null,0,null,null,null,null,0,null,null,null,null,0,null,null,null,null,0,null,null,null,null,0,null,null,null,null,0,null,null,null,null,0,null,null,null,null,0,null,null,null,null,0,null,null,null,null,0,null,null,null,null,0,null,null,null,null,0,null,null,null,null,0,null,null,null,null,0,null,null,null,null,0,null,null,null,null,0,null,null,null,null,0,null,null,null,null,0,null,null,null,null,0,null,null,null,null,0]
[null,null,13,"水　　泳",0,0,0,0,0,null,null,null,0,null,null,null,null,0,null,null,null,null,0,null,null,null,null,0,null,null,null,null,0,null,null,null,null,0,null,null,null,null,0,null,null,null,null,0,null,null,null,null,0,null,null,null,null,0,null,null,null,null,0,null,null,null,null,0,null,null,null,null,0,null,null,null,null,0,null,null,null,null,0,null,null,null,null,0,null,null,null,null,0,null,null,null,null,0,null,null,null,null,0,null,null,null,null,0,null,null,null,null,0,null,null,null,null,0]
[null,"子",14,"柔　　道",0,0,0,0,0,null,null,null,0,null,null,null,null,0,null,null,null,null,0,null,null,null,null,0,null,null,null,null,0,null,null,null,null,0,null,null,null,null,0,null,null,null,null,0,null,null,null,null,0,null,null,null,null,0,null,null,null,null,0,null,null,null,null,0,null,null,null,null,0,null,null,null,null,0,null,null,null,null,0,null,null,null,null,0,null,null,null,null,0,null,null,null,null,0,null,null,null,null,0,null,null,null,null,0,null,null,null,null,0,null,null,null,null,0]
[null,null,15,"剣　　道",0,0,0,0,0,null,null,null,0,null,null,null,null,0,null,null,null,null,0,null,null,null,null,0,null,null,null,null,0,null,null,null,null,0,null,null,null,null,0,null,null,null,null,0,null,null,null,null,0,null,null,null,null,0,null,null,null,null,0,null,null,null,null,0,null,null,null,null,0,null,null,null,null,0,null,null,null,null,0,null,null,null,null,0,null,null,null,null,0,null,null,null,null,0,null,null,null,null,0,null,null,null,null,0,null,null,null,null,0,null,null,null,null,0]
[null,null,16,"相　　撲",0,0,0,0,0,null,null,null,0,null,null,null,null,0,null,null,null,null,0,null,null,null,null,0,null,null,null,null,0,null,null,null,null,0,null,null,null,null,0,null,null,null,null,0,null,null,null,null,0,null,null,null,null,0,null,null,null,null,0,null,null,null,null,0,null,null,null,null,0,null,null,null,null,0,null,null,null,null,0,null,null,null,null,0,null,null,null,null,0,null,null,null,null,0,null,null,null,null,0,null,null,null,null,0,null,null,null,null,0,null,null,null,null,0]
[null,null,17,"ダ    ン    ス",0,0,0,0,0,null,null,null,0,null,null,null,null,0,null,null,null,null,0,null,null,null,null,0,null,null,null,null,0,null,null,null,null,0,null,null,null,null,0,null,null,null,null,0,null,null,null,null,0,null,null,null,null,0,null,null,null,null,0,null,null,null,null,0,null,null,null,null,0,null,null,null,null,0,null,null,null,null,0,null,null,null,null,0,null,null,null,null,0,null,null,null,null,0,null,null,null,null,0,null,null,null,null,0,null,null,null,null,0,null,null,null,null,0]
[null,null,18,"ス    キ    ー",0,0,0,0,0,null,null,null,0,null,null,null,null,0,null,null,null,null,0,null,null,null,null,0,null,null,null,null,0,null,null,null,null,0,null,null,null,null,0,null,null,null,null,0,null,null,null,null,0,null,null,null,null,0,null,null,null,null,0,null,null,null,null,0,null,null,null,null,0,null,null,null,null,0,null,null,null,null,0,null,null,null,null,0,null,null,null,null,0,null,null,null,null,0,null,null,null,null,0,null,null,null,null,0,null,null,null,null,0,null,null,null,null,0]
[null,null,19,"ス  ケ  ー  ト",0,0,0,0,0,null,null,null,0,null,null,null,null,0,null,null,null,null,0,null,null,null,null,0,null,null,null,null,0,null,null,null,null,0,null,null,null,null,0,null,null,null,null,0,null,null,null,null,0,null,null,null,null,0,null,null,null,null,0,null,null,null,null,0,null,null,null,null,0,null,null,null,null,0,null,null,null,null,0,null,null,null,null,0,null,null,null,null,0,null,null,null,null,0,null,null,null,null,0,null,null,null,null,0,null,null,null,null,0,null,null,null,null,0]
[null,null,20,"アイスホッケー",0,0,0,0,0,null,null,null,0,null,null,null,null,0,null,null,null,null,0,null,null,null,null,0,null,null,null,null,0,null,null,null,null,0,null,null,null,null,0,null,null,null,null,0,null,null,null,null,0,null,null,null,null,0,null,null,null,null,0,null,null,null,null,0,null,null,null,null,0,null,null,null,null,0,null,null,null,null,0,null,null,null,null,0,null,null,null,null,0,null,null,null,null,0,null,null,null,null,0,null,null,null,null,0,null,null,null,null,0,null,null,null,null,0]
[null,null,21,"テ　　ニ　　ス",0,0,0,0,0,null,null,null,0,null,null,null,null,0,null,null,null,null,0,null,null,null,null,0,null,null,null,null,0,null,null,null,null,0,null,null,null,null,0,null,null,null,null,0,null,null,null,null,0,null,null,null,null,0,null,null,null,null,0,null,null,null,null,0,null,null,null,null,0,null,null,null,null,0,null,null,null,null,0,null,null,null,null,0,null,null,null,null,0,null,null,null,null,0,null,null,null,null,0,null,null,null,null,0,null,null,null,null,0,null,null,null,null,0]
[null,null,22,"空　　　手",0,0,0,0,0,null,null,null,0,null,null,null,null,0,null,null,null,null,0,null,null,null,null,0,null,null,null,null,0,null,null,null,null,0,null,null,null,null,0,null,null,null,null,0,null,null,null,null,0,null,null,null,null,0,null,null,null,null,0,null,null,null,null,0,null,null,null,null,0,null,null,null,null,0,null,null,null,null,0,null,null,null,null,0,null,null,null,null,0,null,null,null,null,0,null,null,null,null,0,null,null,null,null,0,null,null,null,null,0,null,null,null,null,0]
[null,null,23,"ラ　グ　ビ　ー",0,0,0,0,0,null,null,null,0,null,null,null,null,0,null,null,null,null,0,null,null,null,null,0,null,null,null,null,0,null,null,null,null,0,null,null,null,null,0,null,null,null,null,0,null,null,null,null,0,null,null,null,null,0,null,null,null,null,0,null,null,null,null,0,null,null,null,null,0,null,null,null,null,0,null,null,null,null,0,null,null,null,null,0,null,null,null,null,0,null,null,null,null,0,null,null,null,null,0,null,null,null,null,0,null,null,null,null,0,null,null,null,null,0]
[null,null,24,"弓　　道",0,0,0,0,0,null,null,null,0,null,null,null,null,0,null,null,null,null,0,null,null,null,null,0,null,null,null,null,0,null,null,null,null,0,null,null,null,null,0,null,null,null,null,0,null,null,null,null,0,null,null,null,null,0,null,null,null,null,0,null,null,null,null,0,null,null,null,null,0,null,null,null,null,0,null,null,null,null,0,null,null,null,null,0,null,null,null,null,0,null,null,null,null,0,null,null,null,null,0,null,null,null,null,0,null,null,null,null,0,null,null,null,null,0]
[null,null,25,"ホッケー",0,0,0,0,0,null,null,null,0,null,null,null,null,0,null,null,null,null,0,null,null,null,null,0,null,null,null,null,0,null,null,null,null,0,null,null,null,null,0,null,null,null,null,0,null,null,null,null,0,null,null,null,null,0,null,null,null,null,0,null,null,null,null,0,null,null,null,null,0,null,null,null,null,0,null,null,null,null,0,null,null,null,null,0,null,null,null,null,0,null,null,null,null,0,null,null,null,null,0,null,null,null,null,0,null,null,null,null,0,null,null,null,null,0]
[null,null,26,"アーチェリー",0,0,0,0,0,null,null,null,0,null,null,null,null,0,null,null,null,null,0,null,null,null,null,0,null,null,null,null,0,null,null,null,null,0,null,null,null,null,0,null,null,null,null,0,null,null,null,null,0,null,null,null,null,0,null,null,null,null,0,null,null,null,null,0,null,null,null,null,0,null,null,null,null,0,null,null,null,null,0,null,null,null,null,0,null,null,null,null,0,null,null,null,null,0,null,null,null,null,0,null,null,null,null,0,null,null,null,null,0,null,null,null,null,0]
[null,null,"男　子　合　計 (名)",null,0,0,0,0,0,{"$f":"SUM(J5:J30)","v":0},{"$f":"SUM(K5:K30)","v":0},0,0,0,0,0,0,0,0,0,0,0,0,0,0,0,0,0,0,0,0,0,0,0,0,0,0,0,0,0,0,0,0,0,0,0,0,0,0,0,0,0,0,0,0,0,0,0,0,0,0,0,0,0,0,0,0,0,0,{"$f":"SUM(BR5:BR30)","v":0},0,0,0,0,0,0,0,0,0,0,0,0,0,0,0,0,0,0,0,0,0,0,0,0,0,0,0,0,0,0,0,0,0,0,0,0,0,0,0,0,0,0,0,0,0,0,0,0,0]
[null,null,"男 子 在 籍 数 (名)",null,0,0,0,0,0,null,null,null,0,null,null,null,null,{"$f":"SUM(O32:Q32)","v":0},null,null,null,null,{"$f":"SUM(T32:V32)","v":0},null,null,null,null,{"$f":"SUM(Y32:AA32)","v":0},null,null,null,null,{"$f":"SUM(AD32:AF32)","v":0},null,null,null,null,{"$f":"SUM(AI32:AK32)","v":0},null,null,null,null,{"$f":"SUM(AN32:AP32)","v":0},null,null,null,null,{"$f":"SUM(AS32:AU32)","v":0},null,null,null,null,{"$f":"SUM(AX32:AZ32)","v":0},null,null,null,null,{"$f":"SUM(BC32:BE32)","v":0},null,null,null,null,{"$f":"SUM(BH32:BJ32)","v":0},null,null,null,null,{"$f":"SUM(BM32:BO32)","v":0},null,null,null,null,{"$f":"SUM(BR32:BT32)","v":0},null,null,null,null,{"$f":"SUM(BW32:BY32)","v":0},null,null,null,null,{"$f":"SUM(CB32:CD32)","v":0},null,null,null,null,{"$f":"SUM(CG32:CI32)","v":0},null,null,null,null,{"$f":"SUM(CL32:CN32)","v":0},null,null,null,null,{"$f":"SUM(CQ32:CS32)","v":0},null,null,null,null,{"$f":"SUM(CV32:CX32)","v":0},null,null,null,null,{"$f":"SUM(DA32:DC32)","v":0},null,null,null,null,{"$f":"SUM(DF32:DH32)","v":0},null,null,null,null,{"$f":"SUM(DK32:DM32)","v":0}]
[null,null,"男 子 入 部 率 (％)",null,{"$f":"E31/E32*100","v":{"$error":"#DIV/0!"}},{"$f":"F31/F32*100","v":{"$error":"#DIV/0!"}},{"$f":"G31/G32*100","v":{"$error":"#DIV/0!"}},{"$f":"H31/H32*100","v":{"$error":"#DIV/0!"}},null,{"$f":"J31/J32*100","v":{"$error":"#DIV/0!"}},{"$f":"K31/K32*100","v":{"$error":"#DIV/0!"}},{"$f":"L31/L32*100","v":{"$error":"#DIV/0!"}},{"$f":"M31/M32*100","v":{"$error":"#DIV/0!"}},null,{"$f":"O31/O32*100","v":{"$error":"#DIV/0!"}},{"$f":"P31/P32*100","v":{"$error":"#DIV/0!"}},{"$f":"Q31/Q32*100","v":{"$error":"#DIV/0!"}},{"$f":"R31/R32*100","v":{"$error":"#DIV/0!"}},null,{"$f":"T31/T32*100","v":{"$error":"#DIV/0!"}},{"$f":"U31/U32*100","v":{"$error":"#DIV/0!"}},{"$f":"V31/V32*100","v":{"$error":"#DIV/0!"}},{"$f":"W31/W32*100","v":{"$error":"#DIV/0!"}},null,{"$f":"Y31/Y32*100","v":{"$error":"#DIV/0!"}},{"$f":"Z31/Z32*100","v":{"$error":"#DIV/0!"}},{"$f":"AA31/AA32*100","v":{"$error":"#DIV/0!"}},{"$f":"AB31/AB32*100","v":{"$error":"#DIV/0!"}},null,{"$f":"AD31/AD32*100","v":{"$error":"#DIV/0!"}},{"$f":"AE31/AE32*100","v":{"$error":"#DIV/0!"}},{"$f":"AF31/AF32*100","v":{"$error":"#DIV/0!"}},{"$f":"AG31/AG32*100","v":{"$error":"#DIV/0!"}},null,{"$f":"AI31/AI32*100","v":{"$error":"#DIV/0!"}},{"$f":"AJ31/AJ32*100","v":{"$error":"#DIV/0!"}},{"$f":"AK31/AK32*100","v":{"$error":"#DIV/0!"}},{"$f":"AL31/AL32*100","v":{"$error":"#DIV/0!"}},null,{"$f":"AN31/AN32*100","v":{"$error":"#DIV/0!"}},{"$f":"AO31/AO32*100","v":{"$error":"#DIV/0!"}},{"$f":"AP31/AP32*100","v":{"$error":"#DIV/0!"}},{"$f":"AQ31/AQ32*100","v":{"$error":"#DIV/0!"}},null,{"$f":"AS31/AS32*100","v":{"$error":"#DIV/0!"}},{"$f":"AT31/AT32*100","v":{"$error":"#DIV/0!"}},{"$f":"AU31/AU32*100","v":{"$error":"#DIV/0!"}},{"$f":"AV31/AV32*100","v":{"$error":"#DIV/0!"}},null,{"$f":"AX31/AX32*100","v":{"$error":"#DIV/0!"}},{"$f":"AY31/AY32*100","v":{"$error":"#DIV/0!"}},{"$f":"AZ31/AZ32*100","v":{"$error":"#DIV/0!"}},{"$f":"BA31/BA32*100","v":{"$error":"#DIV/0!"}},null,{"$f":"BC31/BC32*100","v":{"$error":"#DIV/0!"}},{"$f":"BD31/BD32*100","v":{"$error":"#DIV/0!"}},{"$f":"BE31/BE32*100","v":{"$error":"#DIV/0!"}},{"$f":"BF31/BF32*100","v":{"$error":"#DIV/0!"}},null,{"$f":"BH31/BH32*100","v":{"$error":"#DIV/0!"}},{"$f":"BI31/BI32*100","v":{"$error":"#DIV/0!"}},{"$f":"BJ31/BJ32*100","v":{"$error":"#DIV/0!"}},{"$f":"BK31/BK32*100","v":{"$error":"#DIV/0!"}},null,{"$f":"BM31/BM32*100","v":{"$error":"#DIV/0!"}},{"$f":"BN31/BN32*100","v":{"$error":"#DIV/0!"}},{"$f":"BO31/BO32*100","v":{"$error":"#DIV/0!"}},{"$f":"BP31/BP32*100","v":{"$error":"#DIV/0!"}},null,{"$f":"BR31/BR32*100","v":{"$error":"#DIV/0!"}},{"$f":"BS31/BS32*100","v":{"$error":"#DIV/0!"}},{"$f":"BT31/BT32*100","v":{"$error":"#DIV/0!"}},{"$f":"BU31/BU32*100","v":{"$error":"#DIV/0!"}},null,{"$f":"BW31/BW32*100","v":{"$error":"#DIV/0!"}},{"$f":"BX31/BX32*100","v":{"$error":"#DIV/0!"}},{"$f":"BY31/BY32*100","v":{"$error":"#DIV/0!"}},{"$f":"BZ31/BZ32*100","v":{"$error":"#DIV/0!"}},null,{"$f":"CB31/CB32*100","v":{"$error":"#DIV/0!"}},{"$f":"CC31/CC32*100","v":{"$error":"#DIV/0!"}},{"$f":"CD31/CD32*100","v":{"$error":"#DIV/0!"}},{"$f":"CE31/CE32*100","v":{"$error":"#DIV/0!"}},null,{"$f":"CG31/CG32*100","v":{"$error":"#DIV/0!"}},{"$f":"CH31/CH32*100","v":{"$error":"#DIV/0!"}},{"$f":"CI31/CI32*100","v":{"$error":"#DIV/0!"}},{"$f":"CJ31/CJ32*100","v":{"$error":"#DIV/0!"}},null,{"$f":"CL31/CL32*100","v":{"$error":"#DIV/0!"}},{"$f":"CM31/CM32*100","v":{"$error":"#DIV/0!"}},{"$f":"CN31/CN32*100","v":{"$error":"#DIV/0!"}},{"$f":"CO31/CO32*100","v":{"$error":"#DIV/0!"}},null,{"$f":"CQ31/CQ32*100","v":{"$error":"#DIV/0!"}},{"$f":"CR31/CR32*100","v":{"$error":"#DIV/0!"}},{"$f":"CS31/CS32*100","v":{"$error":"#DIV/0!"}},{"$f":"CT31/CT32*100","v":{"$error":"#DIV/0!"}},null,{"$f":"CV31/CV32*100","v":{"$error":"#DIV/0!"}},{"$f":"CW31/CW32*100","v":{"$error":"#DIV/0!"}},{"$f":"CX31/CX32*100","v":{"$error":"#DIV/0!"}},{"$f":"CY31/CY32*100","v":{"$error":"#DIV/0!"}},null,{"$f":"DA31/DA32*100","v":{"$error":"#DIV/0!"}},{"$f":"DB31/DB32*100","v":{"$error":"#DIV/0!"}},{"$f":"DC31/DC32*100","v":{"$error":"#DIV/0!"}},{"$f":"DD31/DD32*100","v":{"$error":"#DIV/0!"}},null,{"$f":"DF31/DF32*100","v":{"$error":"#DIV/0!"}},{"$f":"DG31/DG32*100","v":{"$error":"#DIV/0!"}},{"$f":"DH31/DH32*100","v":{"$error":"#DIV/0!"}},{"$f":"DI31/DI32*100","v":{"$error":"#DIV/0!"}},null,{"$f":"DK31/DK32*100","v":{"$error":"#DIV/0!"}},{"$f":"DL31/DL32*100","v":{"$error":"#DIV/0!"}},{"$f":"DM31/DM32*100","v":{"$error":"#DIV/0!"}},{"$f":"DN31/DN32*100","v":{"$error":"#DIV/0!"}}]
[null,null,1,"体　操　競　技",{"$f":"J34+O34+T34+Y34+AD34+AI34+AN34+AS34+AX34+BC34+BH34+BM34+BR34+BW34+CB34+CG34+CL34+CQ34+CV34+DA34+DF34+DK34","v":0},{"$f":"K34+P34+U34+Z34+AE34+AJ34+AO34+AT34+AY34+BD34+BI34+BN34+BS34+BX34+CC34+CH34+CM34+CR34+CW34+DB34+DG34+DL34","v":0},{"$f":"L34+Q34+V34+AA34+AF34+AK34+AP34+AU34+AZ34+BE34+BJ34+BO34+BT34+BY34+CD34+CI34+CN34+CS34+CX34+DC34+DH34+DM34","v":0},{"$f":"M34+R34+W34+AB34+AG34+AL34+AQ34+AV34+BA34+BF34+BK34+BP34+BU34+BZ34+CE34+CJ34+CO34+CT34+CY34+DD34+DI34+DN34","v":0},{"$f":"N34+S34+X34+AC34+AH34+AM34+AR34+AW34+BB34+BG34+BL34+BQ34+BV34+CA34+CF34+CK34+CP34+CU34+CZ34+DE34+DJ34+DO34","v":0},null,null,null,{"$f":"SUM(J34:L34)","v":0},null,null,null,null,{"$f":"SUM(O34:Q34)","v":0},null,null,null,null,{"$f":"SUM(T34:V34)","v":0},null,null,null,null,{"$f":"SUM(Y34:AA34)","v":0},null,null,null,null,{"$f":"SUM(AD34:AF34)","v":0},null,null,null,null,{"$f":"SUM(AI34:AK34)","v":0},null,null,null,null,{"$f":"SUM(AN34:AP34)","v":0},null,null,null,null,{"$f":"SUM(AS34:AU34)","v":0},null,null,null,null,{"$f":"SUM(AX34:AZ34)","v":0},null,null,null,null,{"$f":"SUM(BC34:BE34)","v":0},null,null,null,null,{"$f":"SUM(BH34:BJ34)","v":0},null,null,null,null,{"$f":"SUM(BM34:BO34)","v":0},null,null,null,null,0,null,null,null,null,{"$f":"SUM(BW34:BY34)","v":0},null,null,null,null,{"$f":"SUM(CB34:CD34)","v":0},null,null,null,null,{"$f":"SUM(CG34:CI34)","v":0},null,null,null,null,{"$f":"SUM(CL34:CN34)","v":0},null,null,null,null,{"$f":"SUM(CQ34:CS34)","v":0},null,null,null,null,{"$f":"SUM(CV34:CX34)","v":0},null,null,null,null,{"$f":"SUM(DA34:DC34)","v":0},null,null,null,null,{"$f":"SUM(DF34:DH34)","v":0},null,null,null,null,{"$f":"SUM(DK34:DM34)","v":0}]
[null,null,2,"新    体    操",{"$f":"J35+O35+T35+Y35+AD35+AI35+AN35+AS35+AX35+BC35+BH35+BM35+BR35+BW35+CB35+CG35+CL35+CQ35+CV35+DA35+DF35+DK35","v":0},{"$f":"K35+P35+U35+Z35+AE35+AJ35+AO35+AT35+AY35+BD35+BI35+BN35+BS35+BX35+CC35+CH35+CM35+CR35+CW35+DB35+DG35+DL35","v":0},{"$f":"L35+Q35+V35+AA35+AF35+AK35+AP35+AU35+AZ35+BE35+BJ35+BO35+BT35+BY35+CD35+CI35+CN35+CS35+CX35+DC35+DH35+DM35","v":0},{"$f":"M35+R35+W35+AB35+AG35+AL35+AQ35+AV35+BA35+BF35+BK35+BP35+BU35+BZ35+CE35+CJ35+CO35+CT35+CY35+DD35+DI35+DN35","v":0},{"$f":"N35+S35+X35+AC35+AH35+AM35+AR35+AW35+BB35+BG35+BL35+BQ35+BV35+CA35+CF35+CK35+CP35+CU35+CZ35+DE35+DJ35+DO35","v":0},null,null,null,{"$f":"SUM(J35:L35)","v":0},null,null,null,null,{"$f":"SUM(O35:Q35)","v":0},null,null,null,null,{"$f":"SUM(T35:V35)","v":0},null,null,null,null,{"$f":"SUM(Y35:AA35)","v":0},null,null,null,null,{"$f":"SUM(AD35:AF35)","v":0},null,null,null,null,{"$f":"SUM(AI35:AK35)","v":0},null,null,null,null,{"$f":"SUM(AN35:AP35)","v":0},null,null,null,null,{"$f":"SUM(AS35:AU35)","v":0},null,null,null,null,{"$f":"SUM(AX35:AZ35)","v":0},null,null,null,null,{"$f":"SUM(BC35:BE35)","v":0},null,null,null,null,{"$f":"SUM(BH35:BJ35)","v":0},null,null,null,null,{"$f":"SUM(BM35:BO35)","v":0},null,null,null,null,0,null,null,null,null,{"$f":"SUM(BW35:BY35)","v":0},null,null,null,null,{"$f":"SUM(CB35:CD35)","v":0},null,null,null,null,{"$f":"SUM(CG35:CI35)","v":0},null,null,null,null,{"$f":"SUM(CL35:CN35)","v":0},null,null,null,null,{"$f":"SUM(CQ35:CS35)","v":0},null,null,null,null,{"$f":"SUM(CV35:CX35)","v":0},null,null,null,null,{"$f":"SUM(DA35:DC35)","v":0},null,null,null,null,{"$f":"SUM(DF35:DH35)","v":0},null,null,null,null,{"$f":"SUM(DK35:DM35)","v":0}]
[null,null,3,"軟　式　野　球",0,0,0,0,0,null,null,null,0,null,null,null,null,0,null,null,null,null,0,null,null,null,null,0,null,null,null,null,0,null,null,null,null,0,null,null,null,null,0,null,null,null,null,0,null,null,null,null,0,null,null,null,null,0,null,null,null,null,0,null,null,null,null,0,null,null,null,null,0,null,null,null,null,0,null,null,null,null,0,null,null,null,null,0,null,null,null,null,0,null,null,null,null,0,null,null,null,null,0,null,null,null,null,0,null,null,null,null,0,null,null,null,null,0]
[null,null,4,"ソフトボール",0,0,0,0,0,null,null,null,0,null,null,null,null,0,null,null,null,null,0,null,null,null,null,0,null,null,null,null,0,null,null,null,null,0,null,null,null,null,0,null,null,null,null,0,null,null,null,null,0,null,null,null,null,0,null,null,null,null,0,null,null,null,null,0,null,null,null,null,0,null,null,null,null,0,null,null,null,null,0,null,null,null,null,0,null,null,null,null,0,null,null,null,null,0,null,null,null,null,0,null,null,null,null,0,null,null,null,null,0,null,null,null,null,0]
[null,null,5,"バスケットボール",0,0,0,0,0,null,null,null,0,null,null,null,null,0,null,null,null,null,0,null,null,null,null,0,null,null,null,null,0,null,null,null,null,0,null,null,null,null,0,null,null,null,null,0,null,null,null,null,0,null,null,null,null,0,null,null,null,null,0,null,null,null,null,0,null,null,null,null,0,null,null,null,null,0,null,null,null,null,0,null,null,null,null,0,null,null,null,null,0,null,null,null,null,0,null,null,null,null,0,null,null,null,null,0,null,null,null,null,0,null,null,null,null,0]
[null,null,6,"ハンドボール",0,0,0,0,0,null,null,null,0,null,null,null,null,0,null,null,null,null,0,null,null,null,null,0,null,null,null,null,0,null,null,null,null,0,null,null,null,null,0,null,null,null,null,0,null,null,null,null,0,null,null,null,null,0,null,null,null,null,0,null,null,null,null,0,null,null,null,null,0,null,null,null,null,0,null,null,null,null,0,null,null,null,null,0,null,null,null,null,0,null,null,null,null,0,null,null,null,null,0,null,null,null,null,0,null,null,null,null,0,null,null,null,null,0]
[null,"女",7,"バレーボール",0,0,0,0,0,null,null,null,0,null,null,null,null,0,null,null,null,null,0,null,null,null,null,0,null,null,null,null,0,null,null,null,null,0,null,null,null,null,0,null,null,null,null,0,null,null,null,null,0,null,null,null,null,0,null,null,null,null,0,null,null,null,null,0,null,null,null,null,0,null,null,null,null,0,null,null,null,null,0,null,null,null,null,0,null,null,null,null,0,null,null,null,null,0,null,null,null,null,0,null,null,null,null,0,null,null,null,null,0,null,null,null,null,0]
[null,null,8,"ソフトテニス",0,0,0,0,0,null,null,null,0,null,null,null,null,0,null,null,null,null,0,null,null,null,null,0,null,null,null,null,0,null,null,null,null,0,null,null,null,null,0,null,null,null,null,0,null,null,null,null,0,null,null,null,null,0,null,null,null,null,0,null,null,null,null,0,null,null,null,null,0,null,null,null,null,0,null,null,null,null,0,null,null,null,null,0,null,null,null,null,0,null,null,null,null,0,null,null,null,null,0,null,null,null,null,0,null,null,null,null,0,null,null,null,null,0]
[null,null,9,"卓    球",0,0,0,0,0,null,null,null,0,null,null,null,null,0,null,null,null,null,0,null,null,null,null,0,null,null,null,null,0,null,null,null,null,0,null,null,null,null,0,null,null,null,null,0,null,null,null,null,0,null,null,null,null,0,null,null,null,null,0,null,null,null,null,0,null,null,null,null,0,null,null,null,null,0,null,null,null,null,0,null,null,null,null,0,null,null,null,null,0,null,null,null,null,0,null,null,null,null,0,null,null,null,null,0,null,null,null,null,0,null,null,null,null,0]
[null,null,10,"バドミントン",0,0,0,0,0,null,null,null,0,null,null,null,null,0,null,null,null,null,0,null,null,null,null,0,null,null,null,null,0,null,null,null,null,0,null,null,null,null,0,null,null,null,null,0,null,null,null,null,0,null,null,null,null,0,null,null,null,null,0,null,null,null,null,0,null,null,null,null,0,null,null,null,null,0,null,null,null,null,0,null,null,null,null,0,null,null,null,null,0,null,null,null,null,0,null,null,null,null,0,null,null,null,null,0,null,null,null,null,0,null,null,null,null,0]
[null,null,11,"サッカー",0,0,0,0,0,null,null,null,0,null,null,null,null,0,null,null,null,null,0,null,null,null,null,0,null,null,null,null,0,null,null,null,null,0,null,null,null,null,0,null,null,null,null,0,null,null,null,null,0,null,null,null,null,0,null,null,null,null,0,null,null,null,null,0,null,null,null,null,0,null,null,null,null,0,null,null,null,null,0,null,null,null,null,0,null,null,null,null,0,null,null,null,null,0,null,null,null,null,0,null,null,null,null,0,null,null,null,null,0,null,null,null,null,0]
[null,null,12,"陸　上　競　技",0,0,0,0,0,null,null,null,0,null,null,null,null,0,null,null,null,null,0,null,null,null,null,0,null,null,null,null,0,null,null,null,null,0,null,null,null,null,0,null,null,null,null,0,null,null,null,null,0,null,null,null,null,0,null,null,null,null,0,null,null,null,null,0,null,null,null,null,0,null,null,null,null,0,null,null,null,null,0,null,null,null,null,0,null,null,null,null,0,null,null,null,null,0,null,null,null,null,0,null,null,null,null,0,null,null,null,null,0,null,null,null,null,0]
[null,null,13,"水　　泳",0,0,0,0,0,null,null,null,0,null,null,null,null,0,null,null,null,null,0,null,null,null,null,0,null,null,null,null,0,null,null,null,null,0,null,null,null,null,0,null,null,null,null,0,null,null,null,null,0,null,null,null,null,0,null,null,null,null,0,null,null,null,null,0,null,null,null,null,0,null,null,null,null,0,null,null,null,null,0,null,null,null,null,0,null,null,null,null,0,null,null,null,null,0,null,null,null,null,0,null,null,null,null,0,null,null,null,null,0,null,null,null,null,0]
[null,"子",14,"柔　　道",0,0,0,0,0,null,null,null,0,null,null,null,null,0,null,null,null,null,0,null,null,null,null,0,null,null,null,null,0,null,null,null,null,0,null,null,null,null,0,null,null,null,null,0,null,null,null,null,0,null,null,null,null,0,null,null,null,null,0,null,null,null,null,0,null,null,null,null,0,null,null,null,null,0,null,null,null,null,0,null,null,null,null,0,null,null,null,null,0,null,null,null,null,0,null,null,null,null,0,null,null,null,null,0,null,null,null,null,0,null,null,null,null,0]
[null,null,15,"剣　　道",0,0,0,0,0,null,null,null,0,null,null,null,null,0,null,null,null,null,0,null,null,null,null,0,null,null,null,null,0,null,null,null,null,0,null,null,null,null,0,null,null,null,null,0,null,null,null,null,0,null,null,null,null,0,null,null,null,null,0,null,null,null,null,0,null,null,null,null,0,null,null,null,null,0,null,null,null,null,0,null,null,null,null,0,null,null,null,null,0,null,null,null,null,0,null,null,null,null,0,null,null,null,null,0,null,null,null,null,0,null,null,null,null,0]
[null,null,16,"ダ    ン    ス",0,0,0,0,0,null,null,null,0,null,null,null,null,0,null,null,null,null,0,null,null,null,null,0,null,null,null,null,0,null,null,null,null,0,null,null,null,null,0,null,null,null,null,0,null,null,null,null,0,null,null,null,null,0,null,null,null,null,0,null,null,null,null,0,null,null,null,null,0,null,null,null,null,0,null,null,null,null,0,null,null,null,null,0,null,null,null,null,0,null,null,null,null,0,null,null,null,null,0,null,null,null,null,0,null,null,null,null,0,null,null,null,null,0]
[null,null,17,"ス    キ    ー",0,0,0,0,0,null,null,null,0,null,null,null,null,0,null,null,null,null,0,null,null,null,null,0,null,null,null,null,0,null,null,null,null,0,null,null,null,null,0,null,null,null,null,0,null,null,null,null,0,null,null,null,null,0,null,null,null,null,0,null,null,null,null,0,null,null,null,null,0,null,null,null,null,0,null,null,null,null,0,null,null,null,null,0,null,null,null,null,0,null,null,null,null,0,null,null,null,null,0,null,null,null,null,0,null,null,null,null,0,null,null,null,null,0]
[null,null,18,"ス  ケ  ー  ト",0,0,0,0,0,null,null,null,0,null,null,null,null,0,null,null,null,null,0,null,null,null,null,0,null,null,null,null,0,null,null,null,null,0,null,null,null,null,0,null,null,null,null,0,null,null,null,null,0,null,null,null,null,0,null,null,null,null,0,null,null,null,null,0,null,null,null,null,0,null,null,null,null,0,null,null,null,null,0,null,null,null,null,0,null,null,null,null,0,null,null,null,null,0,null,null,null,null,0,null,null,null,null,0,null,null,null,null,0,null,null,null,null,0]
[null,null,19,"アイスホッケー",0,0,0,0,0,null,null,null,0,null,null,null,null,0,null,null,null,null,0,null,null,null,null,0,null,null,null,null,0,null,null,null,null,0,null,null,null,null,0,null,null,null,null,0,null,null,null,null,0,null,null,null,null,0,null,null,null,null,0,null,null,null,null,0,null,null,null,null,0,null,null,null,null,0,null,null,null,null,0,null,null,null,null,0,null,null,null,null,0,null,null,null,null,0,null,null,null,null,0,null,null,null,null,0,null,null,null,null,0,null,null,null,null,0]
[null,null,20,"テ　　ニ　　ス",0,0,0,0,0,null,null,null,0,null,null,null,null,0,null,null,null,null,0,null,null,null,null,0,null,null,null,null,0,null,null,null,null,0,null,null,null,null,0,null,null,null,null,0,null,null,null,null,0,null,null,null,null,0,null,null,null,null,0,null,null,null,null,0,null,null,null,null,0,null,null,null,null,0,null,null,null,null,0,null,null,null,null,0,null,null,null,null,0,null,null,null,null,0,null,null,null,null,0,null,null,null,null,0,null,null,null,null,0,null,null,null,null,0]
[null,null,21,"弓　　道　",0,0,0,0,0,null,null,null,0,null,null,null,null,0,null,null,null,null,0,null,null,null,null,0,null,null,null,null,0,null,null,null,null,0,null,null,null,null,0,null,null,null,null,0,null,null,null,null,0,null,null,null,null,0,null,null,null,null,0,null,null,null,null,0,null,null,null,null,0,null,null,null,null,0,null,null,null,null,0,null,null,null,null,0,null,null,null,null,0,null,null,null,null,0,null,null,null,null,0,null,null,null,null,0,null,null,null,null,0,null,null,null,null,0]
[null,null,22,"空　　手",0,0,0,0,0,null,null,null,0,null,null,null,null,0,null,null,null,null,0,null,null,null,null,0,null,null,null,null,0,null,null,null,null,0,null,null,null,null,0,null,null,null,null,0,null,null,null,null,0,null,null,null,null,0,null,null,null,null,0,null,null,null,null,0,null,null,null,null,0,null,null,null,null,0,null,null,null,null,0,null,null,null,null,0,null,null,null,null,0,null,null,null,null,0,null,null,null,null,0,null,null,null,null,0,null,null,null,null,0,null,null,null,null,0]
[null,null,null,null,0,0,0,0,0,null,null,null,0,null,null,null,null,0,null,null,null,null,0,null,null,null,null,0,null,null,null,null,0,null,null,null,null,0,null,null,null,null,0,null,null,null,null,0,null,null,null,null,0,null,null,null,null,0,null,null,null,null,0,null,null,null,null,0,null,null,null,null,0,null,null,null,null,0,null,null,null,null,0,null,null,null,null,0,null,null,null,null,0,null,null,null,null,0,null,null,null,null,0,null,null,null,null,0,null,null,null,null,0,null,null,null,null,0]
[null,null,null,null,0,0,0,0,0,null,null,null,0,null,null,null,null,0,null,null,null,null,0,null,null,null,null,0,null,null,null,null,0,null,null,null,null,0,null,null,null,null,0,null,null,null,null,0,null,null,null,null,0,null,null,null,null,0,null,null,null,null,0,null,null,null,null,0,null,null,null,null,0,null,null,null,null,0,null,null,null,null,0,null,null,null,null,0,null,null,null,null,0,null,null,null,null,0,null,null,null,null,0,null,null,null,null,0,null,null,null,null,0,null,null,null,null,0]
[null,null,null,null,0,0,0,0,0,null,null,null,0,null,null,null,null,0,null,null,null,null,0,null,null,null,null,0,null,null,null,null,0,null,null,null,null,0,null,null,null,null,0,null,null,null,null,0,null,null,null,null,0,null,null,null,null,0,null,null,null,null,0,null,null,null,null,0,null,null,null,null,0,null,null,null,null,0,null,null,null,null,0,null,null,null,null,0,null,null,null,null,0,null,null,null,null,0,null,null,null,null,0,null,null,null,null,0,null,null,null,null,0,null,null,null,null,0]
[null,null,"女　子　合　計 (名)",null,0,0,0,0,0,{"$f":"SUM(J34:J58)","v":0},{"$f":"SUM(K34:K58)","v":0},0,0,0,{"$f":"SUM(O34:O58)","v":0},{"$f":"SUM(P34:P58)","v":0},0,0,0,{"$f":"SUM(T34:T58)","v":0},{"$f":"SUM(U34:U58)","v":0},0,0,0,{"$f":"SUM(Y34:Y58)","v":0},{"$f":"SUM(Z34:Z58)","v":0},0,0,0,{"$f":"SUM(AD34:AD58)","v":0},{"$f":"SUM(AE34:AE58)","v":0},0,0,0,{"$f":"SUM(AI34:AI58)","v":0},{"$f":"SUM(AJ34:AJ58)","v":0},0,0,0,{"$f":"SUM(AN34:AN58)","v":0},{"$f":"SUM(AO34:AO58)","v":0},0,0,0,{"$f":"SUM(AS34:AS58)","v":0},{"$f":"SUM(AT34:AT58)","v":0},0,0,0,{"$f":"SUM(AX34:AX58)","v":0},{"$f":"SUM(AY34:AY58)","v":0},0,0,0,{"$f":"SUM(BC34:BC58)","v":0},{"$f":"SUM(BD34:BD58)","v":0},0,0,0,{"$f":"SUM(BH34:BH58)","v":0},{"$f":"SUM(BI34:BI58)","v":0},0,0,0,{"$f":"SUM(BM34:BM58)","v":0},{"$f":"SUM(BN34:BN58)","v":0},0,0,0,0,0,0,0,0,{"$f":"SUM(BW34:BW58)","v":0},{"$f":"SUM(BX34:BX58)","v":0},0,0,0,{"$f":"SUM(CB34:CB58)","v":0},{"$f":"SUM(CC34:CC58)","v":0},0,0,0,{"$f":"SUM(CG34:CG58)","v":0},{"$f":"SUM(CH34:CH58)","v":0},0,0,0,{"$f":"SUM(CL34:CL58)","v":0},{"$f":"SUM(CM34:CM58)","v":0},0,0,0,{"$f":"SUM(CQ34:CQ58)","v":0},{"$f":"SUM(CR34:CR58)","v":0},0,0,0,{"$f":"SUM(CV34:CV58)","v":0},{"$f":"SUM(CW34:CW58)","v":0},0,0,0,{"$f":"SUM(DA34:DA58)","v":0},{"$f":"SUM(DB34:DB58)","v":0},0,0,0,{"$f":"SUM(DF34:DF58)","v":0},{"$f":"SUM(DG34:DG58)","v":0},0,0,0,{"$f":"SUM(DK34:DK58)","v":0},{"$f":"SUM(DL34:DL58)","v":0},0,0,0]
[null,null,"女 子 在 籍 数 (名)",null,0,0,0,{"$f":"M60+R60+W60+AB60+AG60+AL60+AQ60+AV60+BA60+BF60+BK60+BP60+BU60+BZ60+CE60+CJ60+CO60+CT60+CY60+DD60+DI60+DN60","v":0},0,null,null,null,0,null,null,null,null,{"$f":"SUM(O60:Q60)","v":0},null,null,null,null,{"$f":"SUM(T60:V60)","v":0},null,null,null,null,{"$f":"SUM(Y60:AA60)","v":0},null,null,null,null,{"$f":"SUM(AD60:AF60)","v":0},null,null,null,null,{"$f":"SUM(AI60:AK60)","v":0},null,null,null,null,{"$f":"SUM(AN60:AP60)","v":0},null,null,null,null,{"$f":"SUM(AS60:AU60)","v":0},null,null,null,null,{"$f":"SUM(AX60:AZ60)","v":0},null,null,null,null,{"$f":"SUM(BC60:BE60)","v":0},null,null,null,null,{"$f":"SUM(BH60:BJ60)","v":0},null,null,null,null,{"$f":"SUM(BM60:BO60)","v":0},null,null,null,null,0,null,null,null,null,{"$f":"SUM(BW60:BY60)","v":0},null,null,null,null,{"$f":"SUM(CB60:CD60)","v":0},null,null,null,null,{"$f":"SUM(CG60:CI60)","v":0},null,null,null,null,{"$f":"SUM(CL60:CN60)","v":0},null,null,null,null,{"$f":"SUM(CQ60:CS60)","v":0},null,null,null,null,{"$f":"SUM(CV60:CX60)","v":0},null,null,null,null,{"$f":"SUM(DA60:DC60)","v":0},null,null,null,null,{"$f":"SUM(DF60:DH60)","v":0},null,null,null,null,{"$f":"SUM(DK60:DM60)","v":0}]
[null,null,"女 子 入 部 率 (％)",null,{"$f":"E59/E60*100","v":{"$error":"#DIV/0!"}},{"$f":"F59/F60*100","v":{"$error":"#DIV/0!"}},{"$f":"G59/G60*100","v":{"$error":"#DIV/0!"}},{"$f":"H59/H60*100","v":{"$error":"#DIV/0!"}},null,{"$f":"J59/J60*100","v":{"$error":"#DIV/0!"}},{"$error":"#DIV/0!"},{"$error":"#DIV/0!"},{"$error":"#DIV/0!"},null,{"$error":"#DIV/0!"},{"$error":"#DIV/0!"},{"$error":"#DIV/0!"},{"$error":"#DIV/0!"},null,{"$error":"#DIV/0!"},{"$error":"#DIV/0!"},{"$error":"#DIV/0!"},{"$error":"#DIV/0!"},null,{"$error":"#DIV/0!"},{"$error":"#DIV/0!"},{"$error":"#DIV/0!"},{"$error":"#DIV/0!"},null,{"$error":"#DIV/0!"},{"$error":"#DIV/0!"},{"$error":"#DIV/0!"},{"$error":"#DIV/0!"},null,{"$error":"#DIV/0!"},{"$error":"#DIV/0!"},{"$error":"#DIV/0!"},{"$f":"AL59/AL60*100","v":{"$error":"#DIV/0!"}},null,{"$error":"#DIV/0!"},{"$error":"#DIV/0!"},{"$error":"#DIV/0!"},{"$error":"#DIV/0!"},null,{"$error":"#DIV/0!"},{"$error":"#DIV/0!"},{"$error":"#DIV/0!"},{"$error":"#DIV/0!"},null,{"$error":"#DIV/0!"},{"$error":"#DIV/0!"},{"$error":"#DIV/0!"},{"$error":"#DIV/0!"},null,{"$error":"#DIV/0!"},{"$error":"#DIV/0!"},{"$error":"#DIV/0!"},{"$error":"#DIV/0!"},null,{"$error":"#DIV/0!"},{"$error":"#DIV/0!"},{"$error":"#DIV/0!"},{"$error":"#DIV/0!"},null,{"$error":"#DIV/0!"},{"$error":"#DIV/0!"},{"$error":"#DIV/0!"},{"$error":"#DIV/0!"},null,{"$f":"BR59/BR60*100","v":{"$error":"#DIV/0!"}},{"$error":"#DIV/0!"},{"$error":"#DIV/0!"},{"$error":"#DIV/0!"},null,{"$error":"#DIV/0!"},{"$error":"#DIV/0!"},{"$error":"#DIV/0!"},{"$error":"#DIV/0!"},null,{"$error":"#DIV/0!"},{"$error":"#DIV/0!"},{"$error":"#DIV/0!"},{"$error":"#DIV/0!"},null,{"$error":"#DIV/0!"},{"$error":"#DIV/0!"},{"$error":"#DIV/0!"},{"$error":"#DIV/0!"},null,{"$error":"#DIV/0!"},{"$error":"#DIV/0!"},{"$error":"#DIV/0!"},{"$error":"#DIV/0!"},null,{"$error":"#DIV/0!"},{"$error":"#DIV/0!"},{"$error":"#DIV/0!"},{"$error":"#DIV/0!"},null,{"$error":"#DIV/0!"},{"$error":"#DIV/0!"},{"$error":"#DIV/0!"},{"$error":"#DIV/0!"},null,{"$error":"#DIV/0!"},{"$error":"#DIV/0!"},{"$error":"#DIV/0!"},{"$error":"#DIV/0!"},null,{"$error":"#DIV/0!"},{"$error":"#DIV/0!"},{"$error":"#DIV/0!"},{"$error":"#DIV/0!"},null,{"$error":"#DIV/0!"},{"$error":"#DIV/0!"},{"$error":"#DIV/0!"},{"$error":"#DIV/0!"}]
[null,null,"男　女　合　計 (名)",null,{"$f":"E31+E59","v":0},0,0,{"$f":"SUM(E62:G62)","v":0},null,{"$f":"J31+J59","v":0},{"$f":"K31+K59","v":0},0,0,0,0,0,0,0,0,0,0,0,0,0,0,0,0,0,0,0,0,0,0,0,0,0,0,0,0,0,0,0,0,0,0,0,0,0,0,0,0,0,0,0,0,0,0,0,0,0,0,0,0,0,0,0,0,0,0,{"$f":"BR31+BR59","v":0},0,0,0,0,0,0,0,0,0,0,0,0,0,0,0,0,0,0,0,0,0,0,0,0,0,0,0,0,0,0,0,0,0,0,0,0,0,0,0,0,0,0,0,0,0,0,0,0,0]
[null,null,"男 女 在 籍 数 (名)",null,0,0,0,{"$f":"SUM(E63:G63)","v":0},null,{"$f":"J32+J60","v":0},0,0,0,0,0,0,0,0,0,0,0,0,0,0,0,0,0,0,0,0,0,0,0,0,0,0,0,0,0,0,0,0,0,0,0,0,0,0,0,0,0,0,0,0,0,0,0,0,0,0,0,0,0,0,0,0,0,0,0,0,0,0,0,0,0,0,0,0,0,0,0,0,0,0,0,0,0,0,0,0,0,0,0,0,0,0,0,0,0,0,0,0,0,0,0,0,0,0,0,0,0,0,0,0,0,0,0,0,0]
[null,null,"男 女 入 部 率 (％)",null,{"$f":"E62/E63*100","v":{"$error":"#DIV/0!"}},{"$f":"F62/F63*100","v":{"$error":"#DIV/0!"}},{"$f":"G62/G63*100","v":{"$error":"#DIV/0!"}},{"$f":"H62/H63*100","v":{"$error":"#DIV/0!"}},null,{"$f":"J62/J63*100","v":{"$error":"#DIV/0!"}},{"$error":"#DIV/0!"},{"$error":"#DIV/0!"},{"$error":"#DIV/0!"},null,{"$error":"#DIV/0!"},{"$error":"#DIV/0!"},{"$error":"#DIV/0!"},{"$error":"#DIV/0!"},null,{"$error":"#DIV/0!"},{"$error":"#DIV/0!"},{"$error":"#DIV/0!"},{"$error":"#DIV/0!"},null,{"$error":"#DIV/0!"},{"$error":"#DIV/0!"},{"$error":"#DIV/0!"},{"$error":"#DIV/0!"},null,{"$error":"#DIV/0!"},{"$error":"#DIV/0!"},{"$error":"#DIV/0!"},{"$error":"#DIV/0!"},null,{"$error":"#DIV/0!"},{"$error":"#DIV/0!"},{"$error":"#DIV/0!"},{"$error":"#DIV/0!"},null,{"$error":"#DIV/0!"},{"$error":"#DIV/0!"},{"$error":"#DIV/0!"},{"$error":"#DIV/0!"},null,{"$error":"#DIV/0!"},{"$error":"#DIV/0!"},{"$error":"#DIV/0!"},{"$error":"#DIV/0!"},null,{"$error":"#DIV/0!"},{"$error":"#DIV/0!"},{"$error":"#DIV/0!"},{"$error":"#DIV/0!"},null,{"$error":"#DIV/0!"},{"$error":"#DIV/0!"},{"$error":"#DIV/0!"},{"$error":"#DIV/0!"},null,{"$error":"#DIV/0!"},{"$error":"#DIV/0!"},{"$error":"#DIV/0!"},{"$error":"#DIV/0!"},null,{"$error":"#DIV/0!"},{"$error":"#DIV/0!"},{"$error":"#DIV/0!"},{"$error":"#DIV/0!"},null,{"$f":"BR62/BR63*100","v":{"$error":"#DIV/0!"}},{"$error":"#DIV/0!"},{"$error":"#DIV/0!"},{"$error":"#DIV/0!"},null,{"$error":"#DIV/0!"},{"$error":"#DIV/0!"},{"$error":"#DIV/0!"},{"$error":"#DIV/0!"},null,{"$error":"#DIV/0!"},{"$error":"#DIV/0!"},{"$error":"#DIV/0!"},{"$error":"#DIV/0!"},null,{"$error":"#DIV/0!"},{"$error":"#DIV/0!"},{"$error":"#DIV/0!"},{"$error":"#DIV/0!"},null,{"$error":"#DIV/0!"},{"$error":"#DIV/0!"},{"$error":"#DIV/0!"},{"$error":"#DIV/0!"},null,{"$error":"#DIV/0!"},{"$error":"#DIV/0!"},{"$error":"#DIV/0!"},{"$error":"#DIV/0!"},null,{"$error":"#DIV/0!"},{"$error":"#DIV/0!"},{"$error":"#DIV/0!"},{"$error":"#DIV/0!"},null,{"$error":"#DIV/0!"},{"$error":"#DIV/0!"},{"$error":"#DIV/0!"},{"$error":"#DIV/0!"},null,{"$error":"#DIV/0!"},{"$error":"#DIV/0!"},{"$error":"#DIV/0!"},{"$error":"#DIV/0!"},null,{"$error":"#DIV/0!"},{"$error":"#DIV/0!"},{"$error":"#DIV/0!"},{"$error":"#DIV/0!"}]
[]
[]
[]
[null,null,null,null,null,null,null,null,"s"]

{"sheet":"２高崎","index":2,"n_rows":64,"n_cols":144,"rows_kept":64,"cut":false,"hidden":false,"merged":[[2,4,2,8]]}
[]
[null,null,"令和８年度　群馬県中学校　運動部員数調査結果    （黄色部分は入力禁止）"]
[null,null,null,null,"２高崎市(２７校)",null,null,null,null,null,"第一",null,null,null,null,"並榎",null,null,null,null,"豊岡",null,null,null,null,"中尾",null,null,null,null,"塚沢",null,null,null,null,"片岡",null,null,null,null,"佐野",null,null,null,null,"長野郷",null,null,null,null,"南八幡",null,null,null,null,"倉賀野",null,null,null,null,"高南",null,null,null,null,"大類",null,null,null,null,"寺尾",null,null,null,null,"八幡",null,null,null,null,"矢中",null,null,null,null,"高松",null,null,null,null,"倉渕",null,null,null,null,"箕郷",null,null,null,null,"群馬中央",null,null,null,null,"群馬南",null,null,null,null,"新町",null,null,null,null,"榛名",null,null,null,null,"吉井西",null,null,null,null,"吉井中央",null,null,null,null,"入野",null,null,null,null,"中央中等",null,null,null,null,"農大二"]
[null,null,"№","  競　技　名","１年","２年","３年","合計","設置","１年","２年","３年","合計","設置","１年","２年","３年","合計","設置","１年","２年","３年","合計","設置","１年","２年","３年","合計","設置","１年","２年","３年","合計","設置","１年","２年","３年","合計","設置","１年","２年","３年","合計","設置","１年","２年","３年","合計","設置","１年","２年","３年","合計","設置","１年","２年","３年","合計","設置","１年","２年","３年","合計","設置","１年","２年","３年","合計","設置","１年","２年","３年","合計","設置","１年","２年","３年","合計","設置","１年","２年","３年","合計","設置","１年","２年","３年","合計","設置","１年","２年","３年","合計","設置","１年","２年","３年","合計","設置","１年","２年","３年","合計","設置","１年","２年","３年","合計","設置","１年","２年","３年","合計","設置","１年","２年","３年","合計","設置","１年","２年","３年","合計","設置","１年","２年","３年","合計","設置","１年","２年","３年","合計","設置","１年","２年","３年","合計","設置","１年","２年","３年","合計","設置"]
[null,null,1,"体　操　競　技",{"$f":"J5+O5+T5+Y5+AD5+AI5+AN5+AS5+AX5+BC5+BH5+BM5+BR5+BW5+CB5+CG5+CL5+CQ5+CV5+DA5+DF5+DK5+DP5+DU5+EE5+DZ5+EJ5","v":0},{"$f":"K5+P5+U5+Z5+AE5+AJ5+AO5+AT5+AY5+BD5+BI5+BN5+BS5+BX5+CC5+CH5+CM5+CR5+CW5+DB5+DG5+DL5+DQ5+DV5+EF5+EA5+EK5","v":0},{"$f":"L5+Q5+V5+AA5+AF5+AK5+AP5+AU5+AZ5+BE5+BJ5+BO5+BT5+BY5+CD5+CI5+CN5+CS5+CX5+DC5+DH5+DM5+DR5+DW5+EG5+EB5+EL5","v":0},{"$f":"M5+R5+W5+AB5+AG5+AL5+AQ5+AV5+BA5+BF5+BK5+BP5+BU5+BZ5+CE5+CJ5+CO5+CT5+CY5+DD5+DI5+DN5+DS5+DX5+EH5+EC5+EM5","v":0},{"$f":"N5+S5+X5+AC5+AH5+AM5+AR5+AW5+BB5+BG5+BL5+BQ5+BV5+CA5+CF5+CK5+CP5+CU5+CZ5+DE5+DJ5+DO5+DT5+DY5+EI5+ED5","v":0},null,null,null,{"$f":"SUM(J5:L5)","v":0},null,null,null,null,{"$f":"SUM(O5:Q5)","v":0},null,null,null,null,{"$f":"SUM(T5:V5)","v":0},null,null,null,null,{"$f":"SUM(Y5:AA5)","v":0},null,null,null,null,{"$f":"SUM(AD5:AF5)","v":0},null,null,null,null,{"$f":"SUM(AI5:AK5)","v":0},null,null,null,null,{"$f":"SUM(AN5:AP5)","v":0},null,null,null,null,{"$f":"SUM(AS5:AU5)","v":0},null,null,null,null,{"$f":"SUM(AX5:AZ5)","v":0},null,null,null,null,{"$f":"SUM(BC5:BE5)","v":0},null,null,null,null,{"$f":"SUM(BH5:BJ5)","v":0},null,null,null,null,{"$f":"SUM(BM5:BO5)","v":0},null,null,null,null,{"$f":"SUM(BR5:BT5)","v":0},null,null,null,null,{"$f":"SUM(BW5:BY5)","v":0},null,null,null,null,{"$f":"SUM(CB5:CD5)","v":0},null,null,null,null,{"$f":"SUM(CG5:CI5)","v":0},null,null,null,null,{"$f":"SUM(CL5:CN5)","v":0},null,null,null,null,{"$f":"SUM(CQ5:CS5)","v":0},null,null,null,null,{"$f":"SUM(CV5:CX5)","v":0},null,null,null,null,{"$f":"SUM(DA5:DC5)","v":0},null,null,null,null,{"$f":"SUM(DF5:DH5)","v":0},null,null,null,null,{"$f":"SUM(DK5:DM5)","v":0},null,null,null,null,{"$f":"SUM(DP5:DR5)","v":0},null,null,null,null,{"$f":"SUM(DU5:DW5)","v":0},null,null,null,null,{"$f":"SUM(DZ5:EB5)","v":0},null,null,null,null,{"$f":"SUM(EE5:EG5)","v":0},null,null,null,null,{"$f":"SUM(EJ5:EL5)","v":0}]
[null,null,2,"新    体    操",{"$f":"J6+O6+T6+Y6+AD6+AI6+AN6+AS6+AX6+BC6+BH6+BM6+BR6+BW6+CB6+CG6+CL6+CQ6+CV6+DA6+DF6+DK6+DP6+DU6+EE6+DZ6+EJ6","v":0},{"$f":"K6+P6+U6+Z6+AE6+AJ6+AO6+AT6+AY6+BD6+BI6+BN6+BS6+BX6+CC6+CH6+CM6+CR6+CW6+DB6+DG6+DL6+DQ6+DV6+EF6+EA6+EK6","v":0},{"$f":"L6+Q6+V6+AA6+AF6+AK6+AP6+AU6+AZ6+BE6+BJ6+BO6+BT6+BY6+CD6+CI6+CN6+CS6+CX6+DC6+DH6+DM6+DR6+DW6+EG6+EB6+EL6","v":0},{"$f":"M6+R6+W6+AB6+AG6+AL6+AQ6+AV6+BA6+BF6+BK6+BP6+BU6+BZ6+CE6+CJ6+CO6+CT6+CY6+DD6+DI6+DN6+DS6+DX6+EH6+EC6+EM6","v":0},{"$f":"N6+S6+X6+AC6+AH6+AM6+AR6+AW6+BB6+BG6+BL6+BQ6+BV6+CA6+CF6+CK6+CP6+CU6+CZ6+DE6+DJ6+DO6+DT6+DY6+EI6+ED6","v":0},null,null,null,{"$f":"SUM(J6:L6)","v":0},null,null,null,null,{"$f":"SUM(O6:Q6)","v":0},null,null,null,null,{"$f":"SUM(T6:V6)","v":0},null,null,null,null,{"$f":"SUM(Y6:AA6)","v":0},null,null,null,null,{"$f":"SUM(AD6:AF6)","v":0},null,null,null,null,{"$f":"SUM(AI6:AK6)","v":0},null,null,null,null,{"$f":"SUM(AN6:AP6)","v":0},null,null,null,null,{"$f":"SUM(AS6:AU6)","v":0},null,null,null,null,{"$f":"SUM(AX6:AZ6)","v":0},null,null,null,null,{"$f":"SUM(BC6:BE6)","v":0},null,null,null,null,{"$f":"SUM(BH6:BJ6)","v":0},null,null,null,null,{"$f":"SUM(BM6:BO6)","v":0},null,null,null,null,{"$f":"SUM(BR6:BT6)","v":0},null,null,null,null,{"$f":"SUM(BW6:BY6)","v":0},null,null,null,null,{"$f":"SUM(CB6:CD6)","v":0},null,null,null,null,{"$f":"SUM(CG6:CI6)","v":0},null,null,null,null,{"$f":"SUM(CL6:CN6)","v":0},null,null,null,null,{"$f":"SUM(CQ6:CS6)","v":0},null,null,null,null,{"$f":"SUM(CV6:CX6)","v":0},null,null,null,null,{"$f":"SUM(DA6:DC6)","v":0},null,null,null,null,{"$f":"SUM(DF6:DH6)","v":0},null,null,null,null,{"$f":"SUM(DK6:DM6)","v":0},null,null,null,null,{"$f":"SUM(DP6:DR6)","v":0},null,null,null,null,{"$f":"SUM(DU6:DW6)","v":0},null,null,null,null,{"$f":"SUM(DZ6:EB6)","v":0},null,null,null,null,{"$f":"SUM(EE6:EG6)","v":0},null,null,null,null,{"$f":"SUM(EJ6:EL6)","v":0}]
[null,null,3,"軟　式　野　球",0,0,0,0,0,null,null,null,0,null,null,null,null,0,null,null,null,null,0,null,null,null,null,0,null,null,null,null,0,null,null,null,null,0,null,null,null,null,0,null,null,null,null,0,null,null,null,null,0,null,null,null,null,0,null,null,null,null,0,null,null,null,null,0,null,null,null,null,0,null,null,null,null,0,null,null,null,null,0,null,null,null,null,0,null,null,null,null,0,null,null,null,null,0,null,null,null,null,0,null,null,null,null,0,null,null,null,null,0,null,null,null,null,0,null,null,null,null,0,null,null,null,null,0,null,null,null,null,0,null,null,null,null,0,null,null,null,null,0]
[null,null,4,"ソフトボール",0,0,0,0,0,null,null,null,0,null,null,null,null,0,null,null,null,null,0,null,null,null,null,0,null,null,null,null,0,null,null,null,null,0,null,null,null,null,0,null,null,null,null,0,null,null,null,null,0,null,null,null,null,0,null,null,null,null,0,null,null,null,null,0,null,null,null,null,0,null,null,null,null,0,null,null,null,null,0,null,null,null,null,0,null,null,null,null,0,null,null,null,null,0,null,null,null,null,0,null,null,null,null,0,null,null,null,null,0,null,null,null,null,0,null,null,null,null,0,null,null,null,null,0,null,null,null,null,0,null,null,null,null,0,null,null,null,null,0]
[null,null,5,"バスケットボール",0,0,0,0,0,null,null,null,0,null,null,null,null,0,null,null,null,null,0,null,null,null,null,0,null,null,null,null,0,null,null,null,null,0,null,null,null,null,0,null,null,null,null,0,null,null,null,null,0,null,null,null,null,0,null,null,null,null,0,null,null,null,null,0,null,null,null,null,0,null,null,null,null,0,null,null,null,null,0,null,null,null,null,0,null,null,null,null,0,null,null,null,null,0,null,null,null,null,0,null,null,null,null,0,null,null,null,null,0,null,null,null,null,0,null,null,null,null,0,null,null,null,null,0,null,null,null,null,0,null,null,null,null,0,null,null,null,null,0]
[null,null,6,"ハンドボール",0,0,0,0,0,null,null,null,0,null,null,null,null,0,null,null,null,null,0,null,null,null,null,0,null,null,null,null,0,null,null,null,null,0,null,null,null,null,0,null,null,null,null,0,null,null,null,null,0,null,null,null,null,0,null,null,null,null,0,null,null,null,null,0,null,null,null,null,0,null,null,null,null,0,null,null,null,null,0,null,null,null,null,0,null,null,null,null,0,null,null,null,null,0,null,null,null,null,0,null,null,null,null,0,null,null,null,null,0,null,null,null,null,0,null,null,null,null,0,null,null,null,null,0,null,null,null,null,0,null,null,null,null,0,null,null,null,null,0]
[null,"男",7,"バレーボール",{"$f":"J11+O11+T11+Y11+AD11+AI11+AN11+AS11+AX11+BC11+BH11+BM11+BR11+BW11+CB11+CG11+CL11+CQ11+CV11+DA11+DF11+DK11+DP11+DU11+EE11+DZ11+EJ11","v":0},0,0,0,0,null,null,null,0,null,null,null,null,0,null,null,null,null,0,null,null,null,null,0,null,null,null,null,0,null,null,null,null,0,null,null,null,null,0,null,null,null,null,0,null,null,null,null,0,null,null,null,null,0,null,null,null,null,0,null,null,null,null,0,null,null,null,null,0,null,null,null,null,0,null,null,null,null,0,null,null,null,null,0,null,null,null,null,0,null,null,null,null,0,null,null,null,null,0,null,null,null,null,0,null,null,null,null,0,null,null,null,null,0,null,null,null,null,0,null,null,null,null,0,null,null,null,null,0,null,null,null,null,0,null,null,null,null,0]
[null,null,8,"ソフトテニス",{"$f":"J12+O12+T12+Y12+AD12+AI12+AN12+AS12+AX12+BC12+BH12+BM12+BR12+BW12+CB12+CG12+CL12+CQ12+CV12+DA12+DF12+DK12+DP12+DU12+EE12+DZ12+EJ12","v":0},0,0,0,0,null,null,null,0,null,null,null,null,0,null,null,null,null,0,null,null,null,null,0,null,null,null,null,0,null,null,null,null,0,null,null,null,null,0,null,null,null,null,0,null,null,null,null,0,null,null,null,null,0,null,null,null,null,0,null,null,null,null,0,null,null,null,null,0,null,null,null,null,0,null,null,null,null,0,null,null,null,null,0,null,null,null,null,0,null,null,null,null,0,null,null,null,null,0,null,null,null,null,0,null,null,null,null,0,null,null,null,null,0,null,null,null,null,0,null,null,null,null,0,null,null,null,null,0,null,null,null,null,0,null,null,null,null,0]
[null,null,9,"卓    球",0,0,0,0,0,null,null,null,0,null,null,null,null,0,null,null,null,null,0,null,null,null,null,0,null,null,null,null,0,null,null,null,null,0,null,null,null,null,0,null,null,null,null,0,null,null,null,null,0,null,null,null,null,0,null,null,null,null,0,null,null,null,null,0,null,null,null,null,0,null,null,null,null,0,null,null,null,null,0,null,null,null,null,0,null,null,null,null,0,null,null,null,null,0,null,null,null,null,0,null,null,null,null,0,null,null,null,null,0,null,null,null,null,0,null,null,null,null,0,null,null,null,null,0,null,null,null,null,0,null,null,null,null,0,null,null,null,null,0]
[null,null,10,"バドミントン",0,0,0,0,0,null,null,null,0,null,null,null,null,0,null,null,null,null,0,null,null,null,null,0,null,null,null,null,0,null,null,null,null,0,null,null,null,null,0,null,null,null,null,0,null,null,null,null,0,null,null,null,null,0,null,null,null,null,0,null,null,null,null,0,null,null,null,null,0,null,null,null,null,0,null,null,null,null,0,null,null,null,null,0,null,null,null,null,0,null,null,null,null,0,null,null,null,null,0,null,null,null,null,0,null,null,null,null,0,null,null,null,null,0,null,null,null,null,0,null,null,null,null,0,null,null,null,null,0,null,null,null,null,0,null,null,null,null,0]
[null,null,11,"サッカー",0,0,0,0,0,null,null,null,0,null,null,null,null,0,null,null,null,null,0,null,null,null,null,0,null,null,null,null,0,null,null,null,null,0,null,null,null,null,0,null,null,null,null,0,null,null,null,null,0,null,null,null,null,0,null,null,null,null,0,null,null,null,null,0,null,null,null,null,0,null,null,null,null,0,null,null,null,null,0,null,null,null,null,0,null,null,null,null,0,null,null,null,null,0,null,null,null,null,0,null,null,null,null,0,null,null,null,null,0,null,null,null,null,0,null,null,null,null,0,null,null,null,null,0,null,null,null,null,0,null,null,null,null,0,null,null,null,null,0]
[null,null,12,"陸　上　競　技",0,0,0,0,0,null,null,null,0,null,null,null,null,0,null,null,null,null,0,null,null,null,null,0,null,null,null,null,0,null,null,null,null,0,null,null,null,null,0,null,null,null,null,0,null,null,null,null,0,null,null,null,null,0,null,null,null,null,0,null,null,null,null,0,null,null,null,null,0,null,null,null,null,0,null,null,null,null,0,null,null,null,null,0,null,null,null,null,0,null,null,null,null,0,null,null,null,null,0,null,null,null,null,0,null,null,null,null,0,null,null,null,null,0,null,null,null,null,0,null,null,null,null,0,null,null,null,null,0,null,null,null,null,0,null,null,null,null,0]
[null,null,13,"水　　泳",0,0,0,0,0,null,null,null,0,null,null,null,null,0,null,null,null,null,0,null,null,null,null,0,null,null,null,null,0,null,null,null,null,0,null,null,null,null,0,null,null,null,null,0,null,null,null,null,0,null,null,null,null,0,null,null,null,null,0,null,null,null,null,0,null,null,null,null,0,null,null,null,null,0,null,null,null,null,0,null,null,null,null,0,null,null,null,null,0,null,null,null,null,0,null,null,null,null,0,null,null,null,null,0,null,null,null,null,0,null,null,null,null,0,null,null,null,null,0,null,null,null,null,0,null,null,null,null,0,null,null,null,null,0,null,null,null,null,0]
[null,"子",14,"柔　　道",0,0,0,0,0,null,null,null,0,null,null,null,null,0,null,null,null,null,0,null,null,null,null,0,null,null,null,null,0,null,null,null,null,0,null,null,null,null,0,null,null,null,null,0,null,null,null,null,0,null,null,null,null,0,null,null,null,null,0,null,null,null,null,0,null,null,null,null,0,null,null,null,null,0,null,null,null,null,0,null,null,null,null,0,null,null,null,null,0,null,null,null,null,0,null,null,null,null,0,null,null,null,null,0,null,null,null,null,0,null,null,null,null,0,null,null,null,null,0,null,null,null,null,0,null,null,null,null,0,null,null,null,null,0,null,null,null,null,0]
[null,null,15,"剣　　道",0,0,0,0,0,null,null,null,0,null,null,null,null,0,null,null,null,null,0,null,null,null,null,0,null,null,null,null,0,null,null,null,null,0,null,null,null,null,0,null,null,null,null,0,null,null,null,null,0,null,null,null,null,0,null,null,null,null,0,null,null,null,null,0,null,null,null,null,0,null,null,null,null,0,null,null,null,null,0,null,null,null,null,0,null,null,null,null,0,null,null,null,null,0,null,null,null,null,0,null,null,null,null,0,null,null,null,null,0,null,null,null,null,0,null,null,null,null,0,null,null,null,null,0,null,null,null,null,0,null,null,null,null,0,null,null,null,null,0]
[null,null,16,"相　　撲",0,0,0,0,0,null,null,null,0,null,null,null,null,0,null,null,null,null,0,null,null,null,null,0,null,null,null,null,0,null,null,null,null,0,null,null,null,null,0,null,null,null,null,0,null,null,null,null,0,null,null,null,null,0,null,null,null,null,0,null,null,null,null,0,null,null,null,null,0,null,null,null,null,0,null,null,null,null,0,null,null,null,null,0,null,null,null,null,0,null,null,null,null,0,null,null,null,null,0,null,null,null,null,0,null,null,null,null,0,null,null,null,null,0,null,null,null,null,0,null,null,null,null,0,null,null,null,null,0,null,null,null,null,0,null,null,null,null,0]
[null,null,17,"ダ    ン    ス",0,0,0,0,0,null,null,null,0,null,null,null,null,0,null,null,null,null,0,null,null,null,null,0,null,null,null,null,0,null,null,null,null,0,null,null,null,null,0,null,null,null,null,0,null,null,null,null,0,null,null,null,null,0,null,null,null,null,0,null,null,null,null,0,null,null,null,null,0,null,null,null,null,0,null,null,null,null,0,null,null,null,null,0,null,null,null,null,0,null,null,null,null,0,null,null,null,null,0,null,null,null,null,0,null,null,null,null,0,null,null,null,null,0,null,null,null,null,0,null,null,null,null,0,null,null,null,null,0,null,null,null,null,0,null,null,null,null,0]
[null,null,18,"ス    キ    ー",0,0,0,0,0,null,null,null,0,null,null,null,null,0,null,null,null,null,0,null,null,null,null,0,null,null,null,null,0,null,null,null,null,0,null,null,null,null,0,null,null,null,null,0,null,null,null,null,0,null,null,null,null,0,null,null,null,null,0,null,null,null,null,0,null,null,null,null,0,null,null,null,null,0,null,null,null,null,0,null,null,null,null,0,null,null,null,null,0,null,null,null,null,0,null,null,null,null,0,null,null,null,null,0,null,null,null,null,0,null,null,null,null,0,null,null,null,null,0,null,null,null,null,0,null,null,null,null,0,null,null,null,null,0,null,null,null,null,0]
[null,null,19,"ス  ケ  ー  ト",0,0,0,0,0,null,null,null,0,null,null,null,null,0,null,null,null,null,0,null,null,null,null,0,null,null,null,null,0,null,null,null,null,0,null,null,null,null,0,null,null,null,null,0,null,null,null,null,0,null,null,null,null,0,null,null,null,null,0,null,null,null,null,0,null,null,null,null,0,null,null,null,null,0,null,null,null,null,0,null,null,null,null,0,null,null,null,null,0,null,null,null,null,0,null,null,null,null,0,null,null,null,null,0,null,null,null,null,0,null,null,null,null,0,null,null,null,null,0,null,null,null,null,0,null,null,null,null,0,null,null,null,null,0,null,null,null,null,0]
[null,null,20,"アイスホッケー",{"$f":"J24+O24+T24+Y24+AD24+AI24+AN24+AS24+AX24+BC24+BH24+BM24+BR24+BW24+CB24+CG24+CL24+CQ24+CV24+DA24+DF24+DK24+DP24+DU24+EE24+DZ24","v":0},0,0,0,0,null,null,null,0,null,null,null,null,0,null,null,null,null,0,null,null,null,null,0,null,null,null,null,0,null,null,null,null,0,null,null,null,null,0,null,null,null,null,0,null,null,null,null,0,null,null,null,null,0,null,null,null,null,0,null,null,null,null,0,null,null,null,null,0,null,null,null,null,0,null,null,null,null,0,null,null,null,null,0,null,null,null,null,0,null,null,null,null,0,null,null,null,null,0,null,null,null,null,0,null,null,null,null,0,null,null,null,null,0,null,null,null,null,0,null,null,null,null,0,null,null,null,null,0,null,null,null,null,0,null,null,null,null,0]
[null,null,21,"テ　　ニ　　ス",0,0,0,0,0,null,null,null,0,null,null,null,null,0,null,null,null,null,0,null,null,null,null,0,null,null,null,null,0,null,null,null,null,0,null,null,null,null,0,null,null,null,null,0,null,null,null,null,0,null,null,null,null,0,null,null,null,null,0,null,null,null,null,0,null,null,null,null,0,null,null,null,null,0,null,null,null,null,0,null,null,null,null,0,null,null,null,null,0,null,null,null,null,0,null,null,null,null,0,null,null,null,null,0,null,null,null,null,0,null,null,null,null,0,null,null,null,null,0,null,null,null,null,0,null,null,null,null,0,null,null,null,null,0,null,null,null,null,0]
[null,null,22,"空　　　手",0,0,0,0,0,null,null,null,0,null,null,null,null,0,null,null,null,null,0,null,null,null,null,0,null,null,null,null,0,null,null,null,null,0,null,null,null,null,0,null,null,null,null,0,null,null,null,null,0,null,null,null,null,0,null,null,null,null,0,null,null,null,null,0,null,null,null,null,0,null,null,null,null,0,null,null,null,null,0,null,null,null,null,0,null,null,null,null,0,null,null,null,null,0,null,null,null,null,0,null,null,null,null,0,null,null,null,null,0,null,null,null,null,0,null,null,null,null,0,null,null,null,null,0,null,null,null,null,0,null,null,null,null,0,null,null,null,null,0]
[null,null,23,"ラ　グ　ビ　ー",{"$f":"J27+O27+T27+Y27+AD27+AI27+AN27+AS27+AX27+BC27+BH27+BM27+BR27+BW27+CB27+CG27+CL27+CQ27+CV27+DA27+DF27+DK27+DP27+DU27+EJ27+DZ27","v":0},0,0,0,{"$f":"N27+S27+X27+AC27+AH27+AM27+AR27+AW27+BB27+BG27+BL27+BQ27+BV27+CA27+CF27+CK27+CP27+CU27+CZ27+DE27+DJ27+DO27+DT27+DY27+EN27+ED27","v":0},null,null,null,{"$f":"SUM(J27:L27)","v":0},null,null,null,null,{"$f":"SUM(O27:Q27)","v":0},null,null,null,null,{"$f":"SUM(T27:V27)","v":0},null,null,null,null,{"$f":"SUM(Y27:AA27)","v":0},null,null,null,null,{"$f":"SUM(AD27:AF27)","v":0},null,null,null,null,{"$f":"SUM(AI27:AK27)","v":0},null,null,null,null,{"$f":"SUM(AN27:AP27)","v":0},null,null,null,null,{"$f":"SUM(AS27:AU27)","v":0},null,null,null,null,{"$f":"SUM(AX27:AZ27)","v":0},null,null,null,null,{"$f":"SUM(BC27:BE27)","v":0},null,null,null,null,{"$f":"SUM(BH27:BJ27)","v":0},null,null,null,null,{"$f":"SUM(BM27:BO27)","v":0},null,null,null,null,{"$f":"SUM(BR27:BT27)","v":0},null,null,null,null,{"$f":"SUM(BW27:BY27)","v":0},null,null,null,null,{"$f":"SUM(CB27:CD27)","v":0},null,null,null,null,{"$f":"SUM(CG27:CI27)","v":0},null,null,null,null,{"$f":"SUM(CL27:CN27)","v":0},null,null,null,null,{"$f":"SUM(CQ27:CS27)","v":0},null,null,null,null,{"$f":"SUM(CV27:CX27)","v":0},null,null,null,null,{"$f":"SUM(DA27:DC27)","v":0},null,null,null,null,{"$f":"SUM(DF27:DH27)","v":0},null,null,null,null,{"$f":"SUM(DK27:DM27)","v":0},null,null,null,null,{"$f":"SUM(DP27:DR27)","v":0},null,null,null,null,{"$f":"SUM(DU27:DW27)","v":0},null,null,null,null,{"$f":"SUM(DZ27:EB27)","v":0},null,null,null,null,{"$f":"SUM(EE27:EG27)","v":0},null,null,null,null,{"$f":"SUM(EJ27:EL27)","v":0}]
[null,null,null,null,{"$f":"J28+O28+T28+Y28+AD28+AI28+AN28+AS28+AX28+BC28+BH28+BM28+BR28+BW28+CB28+CG28+CL28+CQ28+CV28+DA28+DF28+DK28+DP28+DU28+EE28+DZ28","v":0},{"$f":"K28+P28+U28+Z28+AE28+AJ28+AO28+AT28+AY28+BD28+BI28+BN28+BS28+BX28+CC28+CH28+CM28+CR28+CW28+DB28+DG28+DL28+DQ28+DV28+EF28+EA28+EK28","v":0},0,0,{"$f":"N28+S28+X28+AC28+AH28+AM28+AR28+AW28+BB28+BG28+BL28+BQ28+BV28+CA28+CF28+CK28+CP28+CU28+CZ28+DE28+DJ28+DO28+DT28+DY28+EI28+ED28","v":0}]
[null,null,null,null,{"$f":"J29+O29+T29+Y29+AD29+AI29+AN29+AS29+AX29+BC29+BH29+BM29+BR29+BW29+CB29+CG29+CL29+CQ29+CV29+DA29+DF29+DK29+DP29+DU29+EJ29+DZ29","v":0},0,0,0,{"$f":"N29+S29+X29+AC29+AH29+AM29+AR29+AW29+BB29+BG29+BL29+BQ29+BV29+CA29+CF29+CK29+CP29+CU29+CZ29+DE29+DJ29+DO29+DT29+DY29+EN29+ED29","v":0}]
[null,null,null,null,{"$f":"J30+O30+T30+Y30+AD30+AI30+AN30+AS30+AX30+BC30+BH30+BM30+BR30+BW30+CB30+CG30+CL30+CQ30+CV30+DA30+DF30+DK30+DP30+DU30+EJ30+DZ30","v":0},0,0,0,{"$f":"N30+S30+X30+AC30+AH30+AM30+AR30+AW30+BB30+BG30+BL30+BQ30+BV30+CA30+CF30+CK30+CP30+CU30+CZ30+DE30+DJ30+DO30+DT30+DY30+EN30+ED30","v":0}]
[null,null,"男　子　合　計 (名)",null,{"$f":"J31+O31+T31+Y31+AD31+AI31+AN31+AS31+AX31+BC31+BH31+BM31+BR31+BW31+CB31+CG31+CL31+CQ31+CV31+DA31+DF31+DK31+DP31+DU31+EJ31+DZ31","v":0},{"$f":"K31+P31+U31+Z31+AE31+AJ31+AO31+AT31+AY31+BD31+BI31+BN31+BS31+BX31+CC31+CH31+CM31+CR31+CW31+DB31+DG31+DL31+DQ31+DV31+EK31+EA31","v":0},0,0,{"$f":"N31+S31+X31+AC31+AH31+AM31+AR31+AW31+BB31+BG31+BL31+BQ31+BV31+CA31+CF31+CK31+CP31+CU31+CZ31+DE31+DJ31+DO31+DT31+DY31+EN31+ED31","v":0},{"$f":"SUM(J5:J30)","v":0},0,0,{"$f":"SUM(M5:M30)","v":0},0,0,0,0,0,0,0,0,0,0,0,0,0,0,0,0,0,0,0,0,0,0,0,0,0,0,0,0,0,0,0,0,0,0,0,0,0,0,0,0,0,0,0,0,0,0,0,0,0,0,0,0,0,0,0,0,0,0,0,0,{"$f":"SUM(BV5:BV30)","v":0},{"$f":"SUM(BW5:BW30)","v":0},0,0,0,0,0,0,0,0,0,0,0,0,0,0,0,0,0,0,0,0,0,0,0,0,0,0,0,0,0,0,0,0,0,0,0,0,0,0,0,0,0,0,0,0,0,0,0,0,0,0,0,0,0,0,0,0,0,0,0,{"$f":"SUM(EE5:EE30)","v":0},0,0,0,0,{"$f":"SUM(EJ5:EJ30)","v":0},0,0,0,0]
[null,null,"男 子 在 籍 数 (名)",null,{"$f":"J32+O32+T32+Y32+AD32+AI32+AN32+AS32+AX32+BC32+BH32+BM32+BR32+BW32+CB32+CG32+CL32+CQ32+CV32+DA32+DF32+DK32+DP32+DU32+EJ32+DZ32","v":0},0,0,0,null,null,null,null,{"$f":"SUM(J32:L32)","v":0},null,null,null,null,{"$f":"SUM(O32:Q32)","v":0},null,null,null,null,{"$f":"SUM(T32:V32)","v":0},null,null,null,null,{"$f":"SUM(Y32:AA32)","v":0},null,null,null,null,{"$f":"SUM(AD32:AF32)","v":0},null,null,null,null,{"$f":"SUM(AI32:AK32)","v":0},null,null,null,null,{"$f":"SUM(AN32:AP32)","v":0},null,null,null,null,{"$f":"SUM(AS32:AU32)","v":0},null,null,null,null,{"$f":"SUM(AX32:AZ32)","v":0},null,null,null,null,{"$f":"SUM(BC32:BE32)","v":0},null,null,null,null,{"$f":"SUM(BH32:BJ32)","v":0},null,null,null,null,{"$f":"SUM(BM32:BO32)","v":0},null,null,null,null,{"$f":"SUM(BR32:BT32)","v":0},null,null,null,null,{"$f":"SUM(BW32:BY32)","v":0},null,null,null,null,{"$f":"SUM(CB32:CD32)","v":0},null,null,null,null,{"$f":"SUM(CG32:CI32)","v":0},null,null,null,null,{"$f":"SUM(CL32:CN32)","v":0},null,null,null,null,{"$f":"SUM(CQ32:CS32)","v":0},null,null,null,null,{"$f":"SUM(CV32:CX32)","v":0},null,null,null,null,{"$f":"SUM(DA32:DC32)","v":0},null,null,null,null,{"$f":"SUM(DF32:DH32)","v":0},null,null,null,null,{"$f":"SUM(DK32:DM32)","v":0},null,null,null,null,{"$f":"SUM(DP32:DR32)","v":0},null,null,null,null,{"$f":"SUM(DU32:DW32)","v":0},null,null,null,null,{"$f":"SUM(DZ32:EB32)","v":0},null,null,null,null,{"$f":"SUM(EE32:EG32)","v":0},null,null,null,null,{"$f":"SUM(EJ32:EL32)","v":0}]
[null,null,"男 子 入 部 率 (％)",null,{"$f":"E31/E32*100","v":{"$error":"#DIV/0!"}},{"$f":"F31/F32*100","v":{"$error":"#DIV/0!"}},{"$f":"G31/G32*100","v":{"$error":"#DIV/0!"}},{"$f":"H31/H32*100","v":{"$error":"#DIV/0!"}},null,{"$f":"J31/J32*100","v":{"$error":"#DIV/0!"}},{"$error":"#DIV/0!"},{"$error":"#DIV/0!"},{"$error":"#DIV/0!"},null,{"$error":"#DIV/0!"},{"$error":"#DIV/0!"},{"$error":"#DIV/0!"},{"$f":"R31/R32*100","v":{"$error":"#DIV/0!"}},null,{"$error":"#DIV/0!"},{"$error":"#DIV/0!"},{"$error":"#DIV/0!"},{"$f":"W31/W32*100","v":{"$error":"#DIV/0!"}},null,{"$error":"#DIV/0!"},{"$error":"#DIV/0!"},{"$error":"#DIV/0!"},{"$f":"AB31/AB32*100","v":{"$error":"#DIV/0!"}},null,{"$error":"#DIV/0!"},{"$error":"#DIV/0!"},{"$error":"#DIV/0!"},{"$f":"AG31/AG32*100","v":{"$error":"#DIV/0!"}},null,{"$error":"#DIV/0!"},{"$error":"#DIV/0!"},{"$error":"#DIV/0!"},{"$f":"AL31/AL32*100","v":{"$error":"#DIV/0!"}},null,{"$error":"#DIV/0!"},{"$error":"#DIV/0!"},{"$error":"#DIV/0!"},{"$f":"AQ31/AQ32*100","v":{"$error":"#DIV/0!"}},null,{"$error":"#DIV/0!"},{"$error":"#DIV/0!"},{"$error":"#DIV/0!"},{"$f":"AV31/AV32*100","v":{"$error":"#DIV/0!"}},null,{"$error":"#DIV/0!"},{"$error":"#DIV/0!"},{"$error":"#DIV/0!"},{"$f":"BA31/BA32*100","v":{"$error":"#DIV/0!"}},null,{"$error":"#DIV/0!"},{"$error":"#DIV/0!"},{"$error":"#DIV/0!"},{"$f":"BF31/BF32*100","v":{"$error":"#DIV/0!"}},null,{"$error":"#DIV/0!"},{"$error":"#DIV/0!"},{"$error":"#DIV/0!"},{"$f":"BK31/BK32*100","v":{"$error":"#DIV/0!"}},null,{"$error":"#DIV/0!"},{"$error":"#DIV/0!"},{"$error":"#DIV/0!"},{"$f":"BP31/BP32*100","v":{"$error":"#DIV/0!"}},null,{"$error":"#DIV/0!"},{"$error":"#DIV/0!"},{"$error":"#DIV/0!"},{"$f":"BU31/BU32*100","v":{"$error":"#DIV/0!"}},null,{"$f":"BW31/BW32*100","v":{"$error":"#DIV/0!"}},{"$error":"#DIV/0!"},{"$error":"#DIV/0!"},{"$error":"#DIV/0!"},null,{"$error":"#DIV/0!"},{"$error":"#DIV/0!"},{"$error":"#DIV/0!"},{"$error":"#DIV/0!"},null,{"$error":"#DIV/0!"},{"$error":"#DIV/0!"},{"$error":"#DIV/0!"},{"$error":"#DIV/0!"},null,{"$error":"#DIV/0!"},{"$error":"#DIV/0!"},{"$error":"#DIV/0!"},{"$error":"#DIV/0!"},null,{"$error":"#DIV/0!"},{"$error":"#DIV/0!"},{"$error":"#DIV/0!"},{"$error":"#DIV/0!"},null,{"$error":"#DIV/0!"},{"$error":"#DIV/0!"},{"$error":"#DIV/0!"},{"$error":"#DIV/0!"},null,{"$error":"#DIV/0!"},{"$error":"#DIV/0!"},{"$error":"#DIV/0!"},{"$error":"#DIV/0!"},null,{"$error":"#DIV/0!"},{"$error":"#DIV/0!"},{"$error":"#DIV/0!"},{"$error":"#DIV/0!"},null,{"$error":"#DIV/0!"},{"$error":"#DIV/0!"},{"$error":"#DIV/0!"},{"$error":"#DIV/0!"},null,{"$error":"#DIV/0!"},{"$error":"#DIV/0!"},{"$error":"#DIV/0!"},{"$error":"#DIV/0!"},null,{"$error":"#DIV/0!"},{"$error":"#DIV/0!"},{"$error":"#DIV/0!"},{"$error":"#DIV/0!"},null,{"$error":"#DIV/0!"},{"$error":"#DIV/0!"},{"$error":"#DIV/0!"},{"$error":"#DIV/0!"},null,{"$f":"EE31/EE32*100","v":{"$error":"#DIV/0!"}},{"$error":"#DIV/0!"},{"$error":"#DIV/0!"},{"$error":"#DIV/0!"},null,{"$f":"EJ31/EJ32*100","v":{"$error":"#DIV/0!"}},{"$error":"#DIV/0!"},{"$error":"#DIV/0!"},{"$error":"#DIV/0!"}]
[null,null,1,"体　操　競　技",{"$f":"J34+O34+T34+Y34+AD34+AI34+AN34+AS34+AX34+BC34+BH34+BM34+BR34+BW34+CB34+CG34+CL34+CQ34+CV34+DA34+DF34+DK34+DP34+DU34+EE34+DZ34","v":0},{"$f":"K34+P34+U34+Z34+AE34+AJ34+AO34+AT34+AY34+BD34+BI34+BN34+BS34+BX34+CC34+CH34+CM34+CR34+CW34+DB34+DG34+DL34+DQ34+DV34+EF34+EA34","v":0},{"$f":"L34+Q34+V34+AA34+AF34+AK34+AP34+AU34+AZ34+BE34+BJ34+BO34+BT34+BY34+CD34+CI34+CN34+CS34+CX34+DC34+DH34+DM34+DR34+DW34+EG34+EB34","v":0},{"$f":"M34+R34+W34+AB34+AG34+AL34+AQ34+AV34+BA34+BF34+BK34+BP34+BU34+BZ34+CE34+CJ34+CO34+CT34+CY34+DD34+DI34+DN34+DS34+DX34+EH34+EC34","v":0},{"$f":"N34+S34+X34+AC34+AH34+AM34+AR34+AW34+BB34+BG34+BL34+BQ34+BV34+CA34+CF34+CK34+CP34+CU34+CZ34+DE34+DJ34+DO34+DT34+DY34+EI34+ED34","v":0},null,null,null,{"$f":"J34+K34+L34","v":0},null,null,null,null,{"$f":"O34+P34+Q34","v":0},null,null,null,null,{"$f":"T34+U34+V34","v":0},null,null,null,null,{"$f":"Y34+Z34+AA34","v":0},null,null,null,null,{"$f":"AD34+AE34+AF34","v":0},null,null,null,null,{"$f":"AI34+AJ34+AK34","v":0},null,null,null,null,{"$f":"AN34+AO34+AP34","v":0},null,null,null,null,{"$f":"AS34+AT34+AU34","v":0},null,null,null,null,{"$f":"AX34+AY34+AZ34","v":0},null,null,null,null,{"$f":"BC34+BD34+BE34","v":0},null,null,null,null,{"$f":"BH34+BI34+BJ34","v":0},null,null,null,null,{"$f":"BM34+BN34+BO34","v":0},null,null,null,null,{"$f":"BR34+BS34+BT34","v":0},null,null,null,null,{"$f":"BW34+BX34+BY34","v":0},null,null,null,null,{"$f":"CB34+CC34+CD34","v":0},null,null,null,null,{"$f":"CG34+CH34+CI34","v":0},null,null,null,null,{"$f":"CL34+CM34+CN34","v":0},null,null,null,null,{"$f":"CQ34+CR34+CS34","v":0},null,null,null,null,{"$f":"CV34+CW34+CX34","v":0},null,null,null,null,{"$f":"DA34+DB34+DC34","v":0},null,null,null,null,{"$f":"DF34+DG34+DH34","v":0},null,null,null,null,{"$f":"DK34+DL34+DM34","v":0},null,null,null,null,{"$f":"DP34+DQ34+DR34","v":0},null,null,null,null,{"$f":"DU34+DV34+DW34","v":0},null,null,null,null,{"$f":"DZ34+EA34+EB34","v":0},null,null,null,null,{"$f":"EE34+EF34+EG34","v":0},null,null,null,null,{"$f":"EJ34+EK34+EL34","v":0}]
[null,null,2,"新    体    操",{"$f":"J35+O35+T35+Y35+AD35+AI35+AN35+AS35+AX35+BC35+BH35+BM35+BR35+BW35+CB35+CG35+CL35+CQ35+CV35+DA35+DF35+DK35+DP35+DU35+EE35+DZ35","v":0},0,0,0,0,null,null,null,0,null,null,null,null,0,null,null,null,null,0,null,null,null,null,0,null,null,null,null,0,null,null,null,null,0,null,null,null,null,0,null,null,null,null,0,null,null,null,null,0,null,null,null,null,0,null,null,null,null,0,null,null,null,null,0,null,null,null,null,0,null,null,null,null,0,null,null,null,null,0,null,null,null,null,0,null,null,null,null,0,null,null,null,null,0,null,null,null,null,0,null,null,null,null,0,null,null,null,null,0,null,null,null,null,0,null,null,null,null,0,null,null,null,null,0,null,null,null,null,0,null,null,null,null,0,null,null,null,null,0]
[null,null,3,"軟　式　野　球",0,0,0,0,0,null,null,null,0,null,null,null,null,0,null,null,null,null,0,null,null,null,null,0,null,null,null,null,0,null,null,null,null,0,null,null,null,null,0,null,null,null,null,0,null,null,null,null,0,null,null,null,null,0,null,null,null,null,0,null,null,null,null,0,null,null,null,null,0,null,null,null,null,0,null,null,null,null,0,null,null,null,null,0,null,null,null,null,0,null,null,null,null,0,null,null,null,null,0,null,null,null,null,0,null,null,null,null,0,null,null,null,null,0,null,null,null,null,0,null,null,null,null,0,null,null,null,null,0,null,null,null,null,0,null,null,null,null,0]
[null,null,4,"ソフトボール",0,0,0,0,0,null,null,null,0,null,null,null,null,0,null,null,null,null,0,null,null,null,null,0,null,null,null,null,0,null,null,null,null,0,null,null,null,null,0,null,null,null,null,0,null,null,null,null,0,null,null,null,null,0,null,null,null,null,0,null,null,null,null,0,null,null,null,null,0,null,null,null,null,0,null,null,null,null,0,null,null,null,null,0,null,null,null,null,0,null,null,null,null,0,null,null,null,null,0,null,null,null,null,0,null,null,null,null,0,null,null,null,null,0,null,null,null,null,0,null,null,null,null,0,null,null,null,null,0,null,null,null,null,0,null,null,null,null,0]
[null,null,5,"バスケットボール",0,0,0,0,0,null,null,null,0,null,null,null,null,0,null,null,null,null,0,null,null,null,null,0,null,null,null,null,0,null,null,null,null,0,null,null,null,null,0,null,null,null,null,0,null,null,null,null,0,null,null,null,null,0,null,null,null,null,0,null,null,null,null,0,null,null,null,null,0,null,null,null,null,0,null,null,null,null,0,null,null,null,null,0,null,null,null,null,0,null,null,null,null,0,null,null,null,null,0,null,null,null,null,0,null,null,null,null,0,null,null,null,null,0,null,null,null,null,0,null,null,null,null,0,null,null,null,null,0,null,null,null,null,0,null,null,null,null,0]
[null,null,6,"ハンドボール",0,0,0,0,0,null,null,null,0,null,null,null,null,0,null,null,null,null,0,null,null,null,null,0,null,null,null,null,0,null,null,null,null,0,null,null,null,null,0,null,null,null,null,0,null,null,null,null,0,null,null,null,null,0,null,null,null,null,0,null,null,null,null,0,null,null,null,null,0,null,null,null,null,0,null,null,null,null,0,null,null,null,null,0,null,null,null,null,0,null,null,null,null,0,null,null,null,null,0,null,null,null,null,0,null,null,null,null,0,null,null,null,null,0,null,null,null,null,0,null,null,null,null,0,null,null,null,null,0,null,null,null,null,0,null,null,null,null,0]
[null,"女",7,"バレーボール",0,0,0,0,0,null,null,null,0,null,null,null,null,0,null,null,null,null,0,null,null,null,null,0,null,null,null,null,0,null,null,null,null,0,null,null,null,null,0,null,null,null,null,0,null,null,null,null,0,null,null,null,null,0,null,null,null,null,0,null,null,null,null,0,null,null,null,null,0,null,null,null,null,0,null,null,null,null,0,null,null,null,null,0,null,null,null,null,0,null,null,null,null,0,null,null,null,null,0,null,null,null,null,0,null,null,null,null,0,null,null,null,null,0,null,null,null,null,0,null,null,null,null,0,null,null,null,null,0,null,null,null,null,0,null,null,null,null,0]
[null,null,8,"ソフトテニス",0,0,0,0,0,null,null,null,0,null,null,null,null,0,null,null,null,null,0,null,null,null,null,0,null,null,null,null,0,null,null,null,null,0,null,null,null,null,0,null,null,null,null,0,null,null,null,null,0,null,null,null,null,0,null,null,null,null,0,null,null,null,null,0,null,null,null,null,0,null,null,null,null,0,null,null,null,null,0,null,null,null,null,0,null,null,null,null,0,null,null,null,null,0,null,null,null,null,0,null,null,null,null,0,null,null,null,null,0,null,null,null,null,0,null,null,null,null,0,null,null,null,null,0,null,null,null,null,0,null,null,null,null,0,null,null,null,null,0]
[null,null,9,"卓    球",0,0,0,0,0,null,null,null,0,null,null,null,null,0,null,null,null,null,0,null,null,null,null,0,null,null,null,null,0,null,null,null,null,0,null,null,null,null,0,null,null,null,null,0,null,null,null,null,0,null,null,null,null,0,null,null,null,null,0,null,null,null,null,0,null,null,null,null,0,null,null,null,null,0,null,null,null,null,0,null,null,null,null,0,null,null,null,null,0,null,null,null,null,0,null,null,null,null,0,null,null,null,null,0,null,null,null,null,0,null,null,null,null,0,null,null,null,null,0,null,null,null,null,0,null,null,null,null,0,null,null,null,null,0,null,null,null,null,0]
[null,null,10,"バドミントン",0,0,0,0,0,null,null,null,0,null,null,null,null,0,null,null,null,null,0,null,null,null,null,0,null,null,null,null,0,null,null,null,null,0,null,null,null,null,0,null,null,null,null,0,null,null,null,null,0,null,null,null,null,0,null,null,null,null,0,null,null,null,null,0,null,null,null,null,0,null,null,null,null,0,null,null,null,null,0,null,null,null,null,0,null,null,null,null,0,null,null,null,null,0,null,null,null,null,0,null,null,null,null,0,null,null,null,null,0,null,null,null,null,0,null,null,null,null,0,null,null,null,null,0,null,null,null,null,0,null,null,null,null,0,null,null,null,null,0]
[null,null,11,"サッカー",0,0,0,0,0,null,null,null,0,null,null,null,null,0,null,null,null,null,0,null,null,null,null,0,null,null,null,null,0,null,null,null,null,0,null,null,null,null,0,null,null,null,null,0,null,null,null,null,0,null,null,null,null,0,null,null,null,null,0,null,null,null,null,0,null,null,null,null,0,null,null,null,null,0,null,null,null,null,0,null,null,null,null,0,null,null,null,null,0,null,null,null,null,0,null,null,null,null,0,null,null,null,null,0,null,null,null,null,0,null,null,null,null,0,null,null,null,null,0,null,null,null,null,0,null,null,null,null,0,null,null,null,null,0,null,null,null,null,0]
[null,null,12,"陸　上　競　技",0,0,0,0,0,null,null,null,0,null,null,null,null,0,null,null,null,null,0,null,null,null,null,0,null,null,null,null,0,null,null,null,null,0,null,null,null,null,0,null,null,null,null,0,null,null,null,null,0,null,null,null,null,0,null,null,null,null,0,null,null,null,null,0,null,null,null,null,0,null,null,null,null,0,null,null,null,null,0,null,null,null,null,0,null,null,null,null,0,null,null,null,null,0,null,null,null,null,0,null,null,null,null,0,null,null,null,null,0,null,null,null,null,0,null,null,null,null,0,null,null,null,null,0,null,null,null,null,0,null,null,null,null,0,null,null,null,null,0]
[null,null,13,"水　　泳",0,0,0,0,0,null,null,null,0,null,null,null,null,0,null,null,null,null,0,null,null,null,null,0,null,null,null,null,0,null,null,null,null,0,null,null,null,null,0,null,null,null,null,0,null,null,null,null,0,null,null,null,null,0,null,null,null,null,0,null,null,null,null,0,null,null,null,null,0,null,null,null,null,0,null,null,null,null,0,null,null,null,null,0,null,null,null,null,0,null,null,null,null,0,null,null,null,null,0,null,null,null,null,0,null,null,null,null,0,null,null,null,null,0,null,null,null,null,0,null,null,null,null,0,null,null,null,null,0,null,null,null,null,0,null,null,null,null,0]
[null,"子",14,"柔　　道",0,0,0,0,0,null,null,null,0,null,null,null,null,0,null,null,null,null,0,null,null,null,null,0,null,null,null,null,0,null,null,null,null,0,null,null,null,null,0,null,null,null,null,0,null,null,null,null,0,null,null,null,null,0,null,null,null,null,0,null,null,null,null,0,null,null,null,null,0,null,null,null,null,0,null,null,null,null,0,null,null,null,null,0,null,null,null,null,0,null,null,null,null,0,null,null,null,null,0,null,null,null,null,0,null,null,null,null,0,null,null,null,null,0,null,null,null,null,0,null,null,null,null,0,null,null,null,null,0,null,null,null,null,0,null,null,null,null,0]
[null,null,15,"剣　　道",0,0,0,0,0,null,null,null,0,null,null,null,null,0,null,null,null,null,0,null,null,null,null,0,null,null,null,null,0,null,null,null,null,0,null,null,null,null,0,null,null,null,null,0,null,null,null,null,0,null,null,null,null,0,null,null,null,null,0,null,null,null,null,0,null,null,null,null,0,null,null,null,null,0,null,null,null,null,0,null,null,null,null,0,null,null,null,null,0,null,null,null,null,0,null,null,null,null,0,null,null,null,null,0,null,null,null,null,0,null,null,null,null,0,null,null,null,null,0,null,null,null,null,0,null,null,null,null,0,null,null,null,null,0,null,null,null,null,0]
[null,null,16,"ダ    ン    ス",0,0,0,0,0,null,null,null,0,null,null,null,null,0,null,null,null,null,0,null,null,null,null,0,null,null,null,null,0,null,null,null,null,0,null,null,null,null,0,null,null,null,null,0,null,null,null,null,0,null,null,null,null,0,null,null,null,null,0,null,null,null,null,0,null,null,null,null,0,null,null,null,null,0,null,null,null,null,0,null,null,null,null,0,null,null,null,null,0,null,null,null,null,0,null,null,null,null,0,null,null,null,null,0,null,null,null,null,0,null,null,null,null,0,null,null,null,null,0,null,null,null,null,0,null,null,null,null,0,null,null,null,null,0,null,null,null,null,0]
[null,null,17,"ス    キ    ー",0,0,0,0,0,null,null,null,0,null,null,null,null,0,null,null,null,null,0,null,null,null,null,0,null,null,null,null,0,null,null,null,null,0,null,null,null,null,0,null,null,null,null,0,null,null,null,null,0,null,null,null,null,0,null,null,null,null,0,null,null,null,null,0,null,null,null,null,0,null,null,null,null,0,null,null,null,null,0,null,null,null,null,0,null,null,null,null,0,null,null,null,null,0,null,null,null,null,0,null,null,null,null,0,null,null,null,null,0,null,null,null,null,0,null,null,null,null,0,null,null,null,null,0,null,null,null,null,0,null,null,null,null,0,null,null,null,null,0]
[null,null,18,"ス  ケ  ー  ト",0,0,0,0,0,null,null,null,0,null,null,null,null,0,null,null,null,null,0,null,null,null,null,0,null,null,null,null,0,null,null,null,null,0,null,null,null,null,0,null,null,null,null,0,null,null,null,null,0,null,null,null,null,0,null,null,null,null,0,null,null,null,null,0,null,null,null,null,0,null,null,null,null,0,null,null,null,null,0,null,null,null,null,0,null,null,null,null,0,null,null,null,null,0,null,null,null,null,0,null,null,null,null,0,null,null,null,null,0,null,null,null,null,0,null,null,null,null,0,null,null,null,null,0,null,null,null,null,0,null,null,null,null,0,null,null,null,null,0]
[null,null,19,"アイスホッケー",0,0,0,0,0,null,null,null,0,null,null,null,null,0,null,null,null,null,0,null,null,null,null,0,null,null,null,null,0,null,null,null,null,0,null,null,null,null,0,null,null,null,null,0,null,null,null,null,0,null,null,null,null,0,null,null,null,null,0,null,null,null,null,0,null,null,null,null,0,null,null,null,null,0,null,null,null,null,0,null,null,null,null,0,null,null,null,null,0,null,null,null,null,0,null,null,null,null,0,null,null,null,null,0,null,null,null,null,0,null,null,null,null,0,null,null,null,null,0,null,null,null,null,0,null,null,null,null,0,null,null,null,null,0,null,null,null,null,0]
[null,null,20,"テ　　ニ　　ス",{"$f":"J53+O53+T53+Y53+AD53+AI53+AN53+AS53+AX53+BC53+BH53+BM53+BR53+BW53+CB53+CG53+CL53+CQ53+CV53+DA53+DF53+DK53+DP53+DU53+EE53+DZ53","v":0},0,0,0,0,null,null,null,0,null,null,null,null,0,null,null,null,null,0,null,null,null,null,0,null,null,null,null,0,null,null,null,null,0,null,null,null,null,0,null,null,null,null,0,null,null,null,null,0,null,null,null,null,0,null,null,null,null,0,null,null,null,null,0,null,null,null,null,0,null,null,null,null,0,null,null,null,null,0,null,null,null,null,0,null,null,null,null,0,null,null,null,null,0,null,null,null,null,0,null,null,null,null,0,null,null,null,null,0,null,null,null,null,0,null,null,null,null,0,null,null,null,null,0,null,null,null,null,0,null,null,null,null,0,null,null,null,null,0]
[null,null,21,"弓　　道　",0,0,0,0,0,null,null,null,0,null,null,null,null,0,null,null,null,null,0,null,null,null,null,0,null,null,null,null,0,null,null,null,null,0,null,null,null,null,0,null,null,null,null,0,null,null,null,null,0,null,null,null,null,0,null,null,null,null,0,null,null,null,null,0,null,null,null,null,0,null,null,null,null,0,null,null,null,null,0,null,null,null,null,0,null,null,null,null,0,null,null,null,null,0,null,null,null,null,0,null,null,null,null,0,null,null,null,null,0,null,null,null,null,0,null,null,null,null,0,null,null,null,null,0,null,null,null,null,0,null,null,null,null,0,null,null,null,null,0]
[null,null,22,"空　　手",0,0,0,0,0,null,null,null,0,null,null,null,null,0,null,null,null,null,0,null,null,null,null,0,null,null,null,null,0,null,null,null,null,0,null,null,null,null,0,null,null,null,null,0,null,null,null,null,0,null,null,null,null,0,null,null,null,null,0,null,null,null,null,{"$f":"BM55+BN55+BO55","v":0},null,null,null,null,0,null,null,null,null,0,null,null,null,null,0,null,null,null,null,0,null,null,null,null,0,null,null,null,null,0,null,null,null,null,0,null,null,null,null,0,null,null,null,null,0,null,null,null,null,0,null,null,null,null,0,null,null,null,null,0,null,null,null,null,0,null,null,null,null,0,null,null,null,null,0]
[null,null,null,null,null,null,null,null,null,null,null,null,0,null,null,null,null,0,null,null,null,null,0,null,null,null,null,0,null,null,null,null,0,null,null,null,null,0,null,null,null,null,0,null,null,null,null,0,null,null,null,null,0,null,null,null,null,0,null,null,null,null,0,null,null,null,null,0,null,null,null,null,0,null,null,null,null,0,null,null,null,null,0,null,null,null,null,0,null,null,null,null,0,null,null,null,null,0,null,null,null,null,0,null,null,null,null,0,null,null,null,null,0,null,null,null,null,0,null,null,null,null,0,null,null,null,null,0,null,null,null,null,0,null,null,null,null,0,null,null,null,null,0]
[null,null,null,null,null,null,null,null,null,null,null,null,0,null,null,null,null,0,null,null,null,null,0,null,null,null,null,0,null,null,null,null,0,null,null,null,null,0,null,null,null,null,0,null,null,null,null,0,null,null,null,null,0,null,null,null,null,0,null,null,null,null,0,null,null,null,null,0,null,null,null,null,0,null,null,null,null,0,null,null,null,null,0,null,null,null,null,0,null,null,null,null,0,null,null,null,null,0,null,null,null,null,0,null,null,null,null,0,null,null,null,null,0,null,null,null,null,0,null,null,null,null,0,null,null,null,null,0,null,null,null,null,0,null,null,null,null,0,null,null,null,null,0]
[null,null,null,null,null,null,null,null,null,null,null,null,0,null,null,null,null,0,null,null,null,null,0,null,null,null,null,0,null,null,null,null,0,null,null,null,null,0,null,null,null,null,0,null,null,null,null,0,null,null,null,null,0,null,null,null,null,0,null,null,null,null,0,null,null,null,null,0,null,null,null,null,0,null,null,null,null,0,null,null,null,null,0,null,null,null,null,0,null,null,null,null,0,null,null,null,null,0,null,null,null,null,0,null,null,null,null,0,null,null,null,null,0,null,null,null,null,0,null,null,null,null,0,null,null,null,null,0,null,null,null,null,0,null,null,null,null,0,null,null,null,null,0]
[null,null,"女　子　合　計 (名)",null,{"$f":"J59+O59+T59+Y59+AD59+AI59+AN59+AS59+AX59+BC59+BH59+BM59+BR59+BW59+CB59+CG59+CL59+CQ59+CV59+DA59+DF59+DK59+DP59+DU59+EJ59+DZ59","v":0},{"$f":"K59+P59+U59+Z59+AE59+AJ59+AO59+AT59+AY59+BD59+BI59+BN59+BS59+BX59+CC59+CH59+CM59+CR59+CW59+DB59+DG59+DL59+DQ59+DV59+EK59+EA59","v":0},{"$f":"L59+Q59+V59+AA59+AF59+AK59+AP59+AU59+AZ59+BE59+BJ59+BO59+BT59+BY59+CD59+CI59+CN59+CS59+CX59+DC59+DH59+DM59+DR59+DW59+EL59+EB59","v":0},{"$f":"M59+R59+W59+AB59+AG59+AL59+AQ59+AV59+BA59+BF59+BK59+BP59+BU59+BZ59+CE59+CJ59+CO59+CT59+CY59+DD59+DI59+DN59+DS59+DX59+EM59+EC59","v":0},{"$f":"N59+S59+X59+AC59+AH59+AM59+AR59+AW59+BB59+BG59+BL59+BQ59+BV59+CA59+CF59+CK59+CP59+CU59+CZ59+DE59+DJ59+DO59+DT59+DY59+EN59+ED59","v":0},{"$f":"SUM(J34:J58)","v":0},0,0,0,0,0,0,0,0,0,0,0,0,0,0,0,0,0,0,0,0,0,0,0,0,0,0,0,0,0,0,0,{"$f":"SUM(AP34:AP58)","v":0},0,0,0,0,0,0,0,0,0,0,0,0,0,0,0,0,0,0,0,0,0,0,0,0,0,0,0,0,0,0,0,0,0,0,0,0,0,0,0,0,0,0,0,0,0,0,0,0,0,0,0,0,0,0,0,0,0,0,0,0,0,0,0,{"$f":"SUM(DB34:DB58)","v":0},0,0,0,0,0,0,0,0,0,0,0,0,0,0,0,0,0,0,0,0,0,0,0,0,0,0,0,0,{"$f":"SUM(EE34:EE58)","v":0},0,0,0,0,{"$f":"SUM(EJ34:EJ58)","v":0},0,0,0,0]
[null,null,"女 子 在 籍 数 (名)",null,{"$f":"J60+O60+T60+Y60+AD60+AI60+AN60+AS60+AX60+BC60+BH60+BM60+BR60+BW60+CB60+CG60+CL60+CQ60+CV60+DA60+DF60+DK60+DP60+DU60+EJ60+DZ60","v":0},{"$f":"K60+P60+U60+Z60+AE60+AJ60+AO60+AT60+AY60+BD60+BI60+BN60+BS60+BX60+CC60+CH60+CM60+CR60+CW60+DB60+DG60+DL60+DQ60+DV60+EK60+EA60","v":0},{"$f":"L60+Q60+V60+AA60+AF60+AK60+AP60+AU60+AZ60+BE60+BJ60+BO60+BT60+BY60+CD60+CI60+CN60+CS60+CX60+DC60+DH60+DM60+DR60+DW60+EL60+EB60","v":0},{"$f":"M60+R60+W60+AB60+AG60+AL60+AQ60+AV60+BA60+BF60+BK60+BP60+BU60+BZ60+CE60+CJ60+CO60+CT60+CY60+DD60+DI60+DN60+DS60+DX60+EM60+EC60","v":0},null,null,null,null,{"$f":"SUM(J60:L60)","v":0},null,null,null,null,{"$f":"SUM(O60:Q60)","v":0},null,null,null,null,{"$f":"SUM(T60:V60)","v":0},null,null,null,null,{"$f":"SUM(Y60:AA60)","v":0},null,null,null,null,{"$f":"SUM(AD60:AF60)","v":0},null,null,null,null,{"$f":"SUM(AI60:AK60)","v":0},null,null,null,null,{"$f":"SUM(AN60:AP60)","v":0},null,null,null,null,{"$f":"SUM(AS60:AU60)","v":0},null,null,null,null,{"$f":"SUM(AX60:AZ60)","v":0},null,null,null,null,{"$f":"SUM(BC60:BE60)","v":0},null,null,null,null,{"$f":"SUM(BH60:BJ60)","v":0},null,null,null,null,{"$f":"SUM(BM60:BO60)","v":0},null,null,null,null,{"$f":"SUM(BR60:BT60)","v":0},null,null,null,null,{"$f":"SUM(BW60:BY60)","v":0},null,null,null,null,{"$f":"SUM(CB60:CD60)","v":0},null,null,null,null,{"$f":"SUM(CG60:CI60)","v":0},null,null,null,null,{"$f":"SUM(CL60:CN60)","v":0},null,null,null,null,{"$f":"SUM(CQ60:CS60)","v":0},null,null,null,null,{"$f":"SUM(CV60:CX60)","v":0},null,null,null,null,{"$f":"SUM(DA60:DC60)","v":0},null,null,null,null,{"$f":"SUM(DF60:DH60)","v":0},null,null,null,null,{"$f":"SUM(DK60:DM60)","v":0},null,null,null,null,{"$f":"SUM(DP60:DR60)","v":0},null,null,null,null,{"$f":"SUM(DU60:DW60)","v":0},null,null,null,null,{"$f":"SUM(DZ60:EB60)","v":0},null,null,null,null,{"$f":"SUM(EE60:EG60)","v":0},null,null,null,null,{"$f":"SUM(EJ60:EL60)","v":0}]
[null,null,"女 子 入 部 率 (％)",null,{"$f":"E59/E60*100","v":{"$error":"#DIV/0!"}},{"$f":"F59/F60*100","v":{"$error":"#DIV/0!"}},{"$f":"G59/G60*100","v":{"$error":"#DIV/0!"}},{"$f":"H59/H60*100","v":{"$error":"#DIV/0!"}},null,{"$f":"J59/J60*100","v":{"$error":"#DIV/0!"}},{"$error":"#DIV/0!"},{"$error":"#DIV/0!"},{"$error":"#DIV/0!"},null,{"$error":"#DIV/0!"},{"$error":"#DIV/0!"},{"$error":"#DIV/0!"},{"$f":"R59/R60*100","v":{"$error":"#DIV/0!"}},null,{"$error":"#DIV/0!"},{"$error":"#DIV/0!"},{"$error":"#DIV/0!"},{"$f":"W59/W60*100","v":{"$error":"#DIV/0!"}},null,{"$error":"#DIV/0!"},{"$error":"#DIV/0!"},{"$error":"#DIV/0!"},{"$f":"AB59/AB60*100","v":{"$error":"#DIV/0!"}},null,{"$error":"#DIV/0!"},{"$error":"#DIV/0!"},{"$error":"#DIV/0!"},{"$f":"AG59/AG60*100","v":{"$error":"#DIV/0!"}},null,{"$error":"#DIV/0!"},{"$error":"#DIV/0!"},{"$error":"#DIV/0!"},{"$f":"AL59/AL60*100","v":{"$error":"#DIV/0!"}},null,{"$error":"#DIV/0!"},{"$error":"#DIV/0!"},{"$error":"#DIV/0!"},{"$f":"AQ59/AQ60*100","v":{"$error":"#DIV/0!"}},null,{"$error":"#DIV/0!"},{"$error":"#DIV/0!"},{"$error":"#DIV/0!"},{"$f":"AV59/AV60*100","v":{"$error":"#DIV/0!"}},null,{"$error":"#DIV/0!"},{"$error":"#DIV/0!"},{"$error":"#DIV/0!"},{"$f":"BA59/BA60*100","v":{"$error":"#DIV/0!"}},null,{"$error":"#DIV/0!"},{"$error":"#DIV/0!"},{"$error":"#DIV/0!"},{"$f":"BF59/BF60*100","v":{"$error":"#DIV/0!"}},null,{"$error":"#DIV/0!"},{"$error":"#DIV/0!"},{"$error":"#DIV/0!"},{"$f":"BK59/BK60*100","v":{"$error":"#DIV/0!"}},null,{"$error":"#DIV/0!"},{"$error":"#DIV/0!"},{"$error":"#DIV/0!"},{"$f":"BP59/BP60*100","v":{"$error":"#DIV/0!"}},null,{"$error":"#DIV/0!"},{"$error":"#DIV/0!"},{"$error":"#DIV/0!"},{"$f":"BU59/BU60*100","v":{"$error":"#DIV/0!"}},null,{"$f":"BW59/BW60*100","v":{"$error":"#DIV/0!"}},{"$error":"#DIV/0!"},{"$error":"#DIV/0!"},{"$error":"#DIV/0!"},null,{"$error":"#DIV/0!"},{"$error":"#DIV/0!"},{"$error":"#DIV/0!"},{"$error":"#DIV/0!"},null,{"$error":"#DIV/0!"},{"$error":"#DIV/0!"},{"$error":"#DIV/0!"},{"$error":"#DIV/0!"},null,{"$error":"#DIV/0!"},{"$error":"#DIV/0!"},{"$error":"#DIV/0!"},{"$error":"#DIV/0!"},null,{"$error":"#DIV/0!"},{"$error":"#DIV/0!"},{"$error":"#DIV/0!"},{"$error":"#DIV/0!"},null,{"$error":"#DIV/0!"},{"$error":"#DIV/0!"},{"$error":"#DIV/0!"},{"$error":"#DIV/0!"},null,{"$error":"#DIV/0!"},{"$error":"#DIV/0!"},{"$error":"#DIV/0!"},{"$error":"#DIV/0!"},null,{"$error":"#DIV/0!"},{"$error":"#DIV/0!"},{"$error":"#DIV/0!"},{"$error":"#DIV/0!"},null,{"$error":"#DIV/0!"},{"$error":"#DIV/0!"},{"$error":"#DIV/0!"},{"$error":"#DIV/0!"},null,{"$error":"#DIV/0!"},{"$error":"#DIV/0!"},{"$error":"#DIV/0!"},{"$error":"#DIV/0!"},null,{"$error":"#DIV/0!"},{"$error":"#DIV/0!"},{"$error":"#DIV/0!"},{"$error":"#DIV/0!"},null,{"$error":"#DIV/0!"},{"$error":"#DIV/0!"},{"$error":"#DIV/0!"},{"$error":"#DIV/0!"},null,{"$f":"EE59/EE60*100","v":{"$error":"#DIV/0!"}},{"$error":"#DIV/0!"},{"$error":"#DIV/0!"},{"$error":"#DIV/0!"},null,{"$f":"EJ59/EJ60*100","v":{"$error":"#DIV/0!"}},{"$error":"#DIV/0!"},{"$error":"#DIV/0!"},{"$error":"#DIV/0!"}]
[null,null,"男　女　合　計 (名)",null,{"$f":"E31+E59","v":0},0,0,{"$f":"SUM(E62:G62)","v":0},null,{"$f":"J31+J59","v":0},{"$f":"K31+K59","v":0},0,0,0,0,0,0,{"$f":"R31+R59","v":0},0,0,0,0,{"$f":"W31+W59","v":0},0,0,0,0,{"$f":"AB31+AB59","v":0},0,0,0,0,{"$f":"AG31+AG59","v":0},0,0,0,0,{"$f":"AL31+AL59","v":0},0,0,0,0,{"$f":"AQ31+AQ59","v":0},0,0,0,0,{"$f":"AV31+AV59","v":0},0,0,0,0,{"$f":"BA31+BA59","v":0},0,0,0,0,{"$f":"BF31+BF59","v":0},0,0,0,0,{"$f":"BK31+BK59","v":0},0,0,0,0,{"$f":"BP31+BP59","v":0},0,0,0,0,{"$f":"BU31+BU59","v":0},0,{"$f":"BW31+BW59","v":0},0,0,0,0,0,0,0,0,0,0,0,0,0,0,0,0,0,0,0,0,0,0,0,0,0,0,0,0,0,0,0,0,0,0,0,0,0,0,0,0,0,0,0,0,0,0,0,0,0,0,0,0,0,0,0,0,0,0,0,{"$f":"EE31+EE59","v":0},0,0,0,0,{"$f":"EJ31+EJ59","v":0},0,0,0,0]
[null,null,"男 女 在 籍 数 (名)",null,0,0,0,{"$f":"SUM(E63:G63)","v":0},null,{"$f":"J60+J62","v":0},{"$f":"K60+K62","v":0},0,0,0,0,0,0,{"$f":"R60+R62","v":0},0,0,0,0,{"$f":"W60+W62","v":0},0,0,0,0,{"$f":"AB60+AB62","v":0},0,0,0,0,{"$f":"AG60+AG62","v":0},0,0,0,0,{"$f":"AL60+AL62","v":0},0,0,0,0,{"$f":"AQ60+AQ62","v":0},0,0,0,0,{"$f":"AV60+AV62","v":0},0,0,0,0,{"$f":"BA60+BA62","v":0},0,0,0,0,{"$f":"BF60+BF62","v":0},0,0,0,0,{"$f":"BK60+BK62","v":0},0,0,0,0,{"$f":"BP60+BP62","v":0},0,0,0,0,{"$f":"BU60+BU62","v":0},0,{"$f":"BW60+BW62","v":0},0,0,0,0,0,0,0,0,0,0,0,0,0,0,0,0,0,0,0,0,0,0,0,0,0,0,0,0,0,0,0,0,0,0,0,0,0,0,0,0,0,0,0,0,0,0,0,0,0,0,0,0,0,0,0,0,0,0,0,{"$f":"EE60+EE62","v":0},0,0,0,0,{"$f":"EJ60+EJ62","v":0},0,0,0,0]
[null,null,"男 女 入 部 率 (％)",null,{"$f":"E62/E63*100","v":{"$error":"#DIV/0!"}},{"$f":"F62/F63*100","v":{"$error":"#DIV/0!"}},{"$f":"G62/G63*100","v":{"$error":"#DIV/0!"}},{"$f":"H62/H63*100","v":{"$error":"#DIV/0!"}},null,{"$f":"J62/J63*100","v":{"$error":"#DIV/0!"}},{"$error":"#DIV/0!"},{"$error":"#DIV/0!"},{"$error":"#DIV/0!"},null,{"$error":"#DIV/0!"},{"$error":"#DIV/0!"},{"$error":"#DIV/0!"},{"$f":"R62/R63*100","v":{"$error":"#DIV/0!"}},null,{"$error":"#DIV/0!"},{"$error":"#DIV/0!"},{"$error":"#DIV/0!"},{"$f":"W62/W63*100","v":{"$error":"#DIV/0!"}},null,{"$error":"#DIV/0!"},{"$error":"#DIV/0!"},{"$error":"#DIV/0!"},{"$f":"AB62/AB63*100","v":{"$error":"#DIV/0!"}},null,{"$error":"#DIV/0!"},{"$error":"#DIV/0!"},{"$error":"#DIV/0!"},{"$f":"AG62/AG63*100","v":{"$error":"#DIV/0!"}},null,{"$error":"#DIV/0!"},{"$error":"#DIV/0!"},{"$error":"#DIV/0!"},{"$f":"AL62/AL63*100","v":{"$error":"#DIV/0!"}},null,{"$error":"#DIV/0!"},{"$error":"#DIV/0!"},{"$error":"#DIV/0!"},{"$f":"AQ62/AQ63*100","v":{"$error":"#DIV/0!"}},null,{"$error":"#DIV/0!"},{"$error":"#DIV/0!"},{"$error":"#DIV/0!"},{"$f":"AV62/AV63*100","v":{"$error":"#DIV/0!"}},null,{"$error":"#DIV/0!"},{"$error":"#DIV/0!"},{"$error":"#DIV/0!"},{"$f":"BA62/BA63*100","v":{"$error":"#DIV/0!"}},null,{"$error":"#DIV/0!"},{"$error":"#DIV/0!"},{"$error":"#DIV/0!"},{"$f":"BF62/BF63*100","v":{"$error":"#DIV/0!"}},null,{"$error":"#DIV/0!"},{"$error":"#DIV/0!"},{"$error":"#DIV/0!"},{"$f":"BK62/BK63*100","v":{"$error":"#DIV/0!"}},null,{"$error":"#DIV/0!"},{"$error":"#DIV/0!"},{"$error":"#DIV/0!"},{"$f":"BP62/BP63*100","v":{"$error":"#DIV/0!"}},null,{"$error":"#DIV/0!"},{"$error":"#DIV/0!"},{"$error":"#DIV/0!"},{"$f":"BU62/BU63*100","v":{"$error":"#DIV/0!"}},null,{"$f":"BW62/BW63*100","v":{"$error":"#DIV/0!"}},{"$error":"#DIV/0!"},{"$error":"#DIV/0!"},{"$error":"#DIV/0!"},null,{"$error":"#DIV/0!"},{"$error":"#DIV/0!"},{"$error":"#DIV/0!"},{"$error":"#DIV/0!"},null,{"$error":"#DIV/0!"},{"$error":"#DIV/0!"},{"$error":"#DIV/0!"},{"$error":"#DIV/0!"},null,{"$error":"#DIV/0!"},{"$error":"#DIV/0!"},{"$error":"#DIV/0!"},{"$error":"#DIV/0!"},null,{"$error":"#DIV/0!"},{"$error":"#DIV/0!"},{"$error":"#DIV/0!"},{"$error":"#DIV/0!"},null,{"$error":"#DIV/0!"},{"$error":"#DIV/0!"},{"$error":"#DIV/0!"},{"$error":"#DIV/0!"},null,{"$error":"#DIV/0!"},{"$error":"#DIV/0!"},{"$error":"#DIV/0!"},{"$error":"#DIV/0!"},null,{"$error":"#DIV/0!"},{"$error":"#DIV/0!"},{"$error":"#DIV/0!"},{"$error":"#DIV/0!"},null,{"$error":"#DIV/0!"},{"$error":"#DIV/0!"},{"$error":"#DIV/0!"},{"$error":"#DIV/0!"},null,{"$error":"#DIV/0!"},{"$error":"#DIV/0!"},{"$error":"#DIV/0!"},{"$error":"#DIV/0!"},null,{"$error":"#DIV/0!"},{"$error":"#DIV/0!"},{"$error":"#DIV/0!"},{"$error":"#DIV/0!"},null,{"$error":"#DIV/0!"},{"$error":"#DIV/0!"},{"$error":"#DIV/0!"},{"$error":"#DIV/0!"},null,{"$f":"EE62/EE63*100","v":{"$error":"#DIV/0!"}},{"$error":"#DIV/0!"},{"$error":"#DIV/0!"},{"$error":"#DIV/0!"},null,{"$f":"EJ62/EJ63*100","v":{"$error":"#DIV/0!"}},{"$error":"#DIV/0!"},{"$error":"#DIV/0!"},{"$error":"#DIV/0!"}]

{"sheet":"３桐生","index":3,"n_rows":64,"n_cols":134,"rows_kept":64,"cut":false,"hidden":false,"merged":[]}
[]
[null,null,"令和８年度　群馬県中学校　運動部員数調査結果    （黄色部分は入力禁止）"]
[null,null,null,null,"３桐生市(17校)",null,null,null,null,null,"中央",null,null,null,null,"清流",null,null,null,null,"境野",null,null,null,null,"広沢",null,null,null,null,"梅田",null,null,null,null,"相生",null,null,null,null,"川内",null,null,null,null,"桜木",null,null,null,null,"新里",null,null,null,null,"黒保根",null,null,null,null,"樹徳",null,null,null,null,"桐生大学附属",null,null,null,null,"笠懸",null,null,null,null,"笠懸南",null,null,null,null,"大間々",null,null,null,null,"大間々東",null,null,null,null,"あずま"]
[null,null,"№","  競　技　名","１年","２年","３年","合計","設置","１年","２年","３年","合計","設置","１年","２年","３年","合計","設置","１年","２年","３年","合計","設置","１年","２年","３年","合計","設置","１年","２年","３年","合計","設置","１年","２年","３年","合計","設置","１年","２年","３年","合計","設置","１年","２年","３年","合計","設置","１年","２年","３年","合計","設置","１年","２年","３年","合計","設置","１年","２年","３年","合計","設置","１年","２年","３年","合計","設置","１年","２年","３年","合計","設置","１年","２年","３年","合計","設置","１年","２年","３年","合計","設置","１年","２年","３年","合計","設置","１年","２年","３年","合計","設置","１年","２年","３年","合計","設置","１年","２年","３年","合計","設置","１年","２年","３年","合計","設置","１年","２年","３年","合計","設置","１年","２年","３年","合計","設置","１年","２年","３年","合計","設置","１年","２年","３年","合計","設置","１年","２年","３年","合計","設置"]
[null,null,1,"体　操　競　技",{"$f":"J5+O5+T5+Y5+AD5+AI5+AN5+AS5+AX5+BC5+BH5+BM5+BR5+BW5+CB5+CG5+CL5+CQ5+CV5+DA5+DF5+DK5+DP5+DU5+DZ5","v":0},{"$f":"K5+P5+U5+Z5+AE5+AJ5+AO5+AT5+AY5+BD5+BI5+BN5+BS5+BX5+CC5+CH5+CM5+CR5+CW5+DB5+DG5+DL5+DQ5+DV5+EA5","v":0},{"$f":"L5+Q5+V5+AA5+AF5+AK5+AP5+AU5+AZ5+BE5+BJ5+BO5+BT5+BY5+CD5+CI5+CN5+CS5+CX5+DC5+DH5+DM5+DR5+DW5+EB5","v":0},{"$f":"M5+R5+W5+AB5+AG5+AL5+AQ5+AV5+BA5+BF5+BK5+BP5+BU5+BZ5+CE5+CJ5+CO5+CT5+CY5+DD5+DI5+DN5+DS5+DX5+EC5","v":0},{"$f":"N5+S5+X5+AC5+AH5+AM5+AR5+AW5+BB5+BG5+BL5+BQ5+BV5+CA5+CF5+CK5+CP5+CU5+CZ5+DE5+DJ5+DO5+DT5+DY5+ED5","v":0},null,null,null,{"$f":"SUM(J5:L5)","v":0},null,null,null,null,{"$f":"SUM(O5:Q5)","v":0},null,null,null,null,{"$f":"SUM(T5:V5)","v":0},null,null,null,null,{"$f":"SUM(Y5:AA5)","v":0},null,null,null,null,{"$f":"SUM(AD5:AF5)","v":0},null,null,null,null,{"$f":"SUM(AI5:AK5)","v":0},null,null,null,null,{"$f":"SUM(AN5:AP5)","v":0},null,null,null,null,{"$f":"SUM(AS5:AU5)","v":0},null,null,null,null,{"$f":"SUM(AX5:AZ5)","v":0},null,null,null,null,{"$f":"SUM(BC5:BE5)","v":0},null,null,null,null,{"$f":"SUM(BH5:BJ5)","v":0},null,null,null,null,{"$f":"SUM(BM5:BO5)","v":0},null,null,null,null,{"$f":"SUM(BR5:BT5)","v":0},null,null,null,null,{"$f":"SUM(BW5:BY5)","v":0},null,null,null,null,{"$f":"SUM(CB5:CD5)","v":0},null,null,null,null,{"$f":"SUM(CG5:CI5)","v":0},null,null,null,null,{"$f":"SUM(CL5:CN5)","v":0},null,null,null,null,{"$f":"SUM(CQ5:CS5)","v":0},null,null,null,null,{"$f":"SUM(CV5:CX5)","v":0},null,null,null,null,{"$f":"SUM(DA5:DC5)","v":0},null,null,null,null,{"$f":"SUM(DF5:DH5)","v":0},null,null,null,null,{"$f":"SUM(DK5:DM5)","v":0},null,null,null,null,{"$f":"SUM(DP5:DR5)","v":0},null,null,null,null,{"$f":"SUM(DU5:DW5)","v":0},null,null,null,null,{"$f":"SUM(DZ5:EB5)","v":0}]
[null,null,2,"新    体    操",{"$f":"J6+O6+T6+Y6+AD6+AI6+AN6+AS6+AX6+BC6+BH6+BM6+BR6+BW6+CB6+CG6+CL6+CQ6+CV6+DA6+DF6+DK6+DP6+DU6+DZ6","v":0},0,0,0,0,null,null,null,{"$f":"SUM(J6:L6)","v":0},null,null,null,null,{"$f":"SUM(O6:Q6)","v":0},null,null,null,null,{"$f":"SUM(T6:V6)","v":0},null,null,null,null,{"$f":"SUM(Y6:AA6)","v":0},null,null,null,null,{"$f":"SUM(AD6:AF6)","v":0},null,null,null,null,{"$f":"SUM(AI6:AK6)","v":0},null,null,null,null,{"$f":"SUM(AN6:AP6)","v":0},null,null,null,null,{"$f":"SUM(AS6:AU6)","v":0},null,null,null,null,{"$f":"SUM(AX6:AZ6)","v":0},null,null,null,null,{"$f":"SUM(BC6:BE6)","v":0},null,null,null,null,{"$f":"SUM(BH6:BJ6)","v":0},null,null,null,null,{"$f":"SUM(BM6:BO6)","v":0},null,null,null,null,{"$f":"SUM(BR6:BT6)","v":0},null,null,null,null,{"$f":"SUM(BW6:BY6)","v":0},null,null,null,null,{"$f":"SUM(CB6:CD6)","v":0},null,null,null,null,{"$f":"SUM(CG6:CI6)","v":0},null,null,null,null,{"$f":"SUM(CL6:CN6)","v":0},null,null,null,null,0,null,null,null,null,0,null,null,null,null,0,null,null,null,null,0,null,null,null,null,0,null,null,null,null,0,null,null,null,null,0,null,null,null,null,0]
[null,null,3,"軟　式　野　球",0,0,0,0,0,null,null,null,0,null,null,null,null,0,null,null,null,null,0,null,null,null,null,0,null,null,null,null,0,null,null,null,null,0,null,null,null,null,0,null,null,null,null,0,null,null,null,null,0,null,null,null,null,0,null,null,null,null,0,null,null,null,null,0,null,null,null,null,0,null,null,null,null,0,null,null,null,null,0,null,null,null,null,0,null,null,null,null,0,null,null,null,null,0,null,null,null,null,0,null,null,null,null,0,null,null,null,null,0,null,null,null,null,0,null,null,null,null,0,null,null,null,null,0,null,null,null,null,0]
[null,null,4,"ソフトボール",0,0,0,0,0,null,null,null,0,null,null,null,null,0,null,null,null,null,0,null,null,null,null,0,null,null,null,null,0,null,null,null,null,0,null,null,null,null,0,null,null,null,null,0,null,null,null,null,0,null,null,null,null,0,null,null,null,null,0,null,null,null,null,0,null,null,null,null,0,null,null,null,null,0,null,null,null,null,0,null,null,null,null,0,null,null,null,null,0,null,null,null,null,0,null,null,null,null,0,null,null,null,null,0,null,null,null,null,0,null,null,null,null,0,null,null,null,null,0,null,null,null,null,0,null,null,null,null,0]
[null,null,5,"バスケットボール",0,0,0,0,0,null,null,null,0,null,null,null,null,0,null,null,null,null,0,null,null,null,null,0,null,null,null,null,0,null,null,null,null,0,null,null,null,null,0,null,null,null,null,0,null,null,null,null,0,null,null,null,null,0,null,null,null,null,0,null,null,null,null,0,null,null,null,null,0,null,null,null,null,0,null,null,null,null,0,null,null,null,null,0,null,null,null,null,0,null,null,null,null,0,null,null,null,null,0,null,null,null,null,0,null,null,null,null,0,null,null,null,null,0,null,null,null,null,0,null,null,null,null,0,null,null,null,null,0]
[null,null,6,"ハンドボール",0,0,0,0,0,null,null,null,0,null,null,null,null,0,null,null,null,null,0,null,null,null,null,0,null,null,null,null,0,null,null,null,null,0,null,null,null,null,0,null,null,null,null,0,null,null,null,null,0,null,null,null,null,0,null,null,null,null,0,null,null,null,null,0,null,null,null,null,0,null,null,null,null,0,null,null,null,null,0,null,null,null,null,0,null,null,null,null,0,null,null,null,null,0,null,null,null,null,0,null,null,null,null,0,null,null,null,null,0,null,null,null,null,0,null,null,null,null,0,null,null,null,null,0,null,null,null,null,0]
[null,"男",7,"バレーボール",0,0,0,0,0,null,null,null,0,null,null,null,null,0,null,null,null,null,0,null,null,null,null,0,null,null,null,null,0,null,null,null,null,0,null,null,null,null,0,null,null,null,null,0,null,null,null,null,0,null,null,null,null,0,null,null,null,null,0,null,null,null,null,0,null,null,null,null,0,null,null,null,null,0,null,null,null,null,0,null,null,null,null,0,null,null,null,null,0,null,null,null,null,0,null,null,null,null,0,null,null,null,null,0,null,null,null,null,0,null,null,null,null,0,null,null,null,null,0,null,null,null,null,0,null,null,null,null,0]
[null,null,8,"ソフトテニス",0,0,0,0,0,null,null,null,0,null,null,null,null,0,null,null,null,null,0,null,null,null,null,0,null,null,null,null,0,null,null,null,null,0,null,null,null,null,0,null,null,null,null,0,null,null,null,null,0,null,null,null,null,0,null,null,null,null,0,null,null,null,null,0,null,null,null,null,0,null,null,null,null,0,null,null,null,null,0,null,null,null,null,0,null,null,null,null,0,null,null,null,null,0,null,null,null,null,0,null,null,null,null,0,null,null,null,null,0,null,null,null,null,0,null,null,null,null,0,null,null,null,null,0,null,null,null,null,0]
[null,null,9,"卓    球",0,0,0,0,0,null,null,null,0,null,null,null,null,0,null,null,null,null,0,null,null,null,null,0,null,null,null,null,0,null,null,null,null,0,null,null,null,null,0,null,null,null,null,0,null,null,null,null,0,null,null,null,null,0,null,null,null,null,0,null,null,null,null,0,null,null,null,null,0,null,null,null,null,0,null,null,null,null,0,null,null,null,null,0,null,null,null,null,0,null,null,null,null,0,null,null,null,null,0,null,null,null,null,0,null,null,null,null,0,null,null,null,null,0,null,null,null,null,0,null,null,null,null,0,null,null,null,null,0]
[null,null,10,"バドミントン",0,0,0,0,0,null,null,null,0,null,null,null,null,0,null,null,null,null,0,null,null,null,null,0,null,null,null,null,0,null,null,null,null,0,null,null,null,null,0,null,null,null,null,0,null,null,null,null,0,null,null,null,null,0,null,null,null,null,0,null,null,null,null,0,null,null,null,null,0,null,null,null,null,0,null,null,null,null,0,null,null,null,null,0,null,null,null,null,0,null,null,null,null,0,null,null,null,null,0,null,null,null,null,0,null,null,null,null,0,null,null,null,null,0,null,null,null,null,0,null,null,null,null,0,null,null,null,null,0]
[null,null,11,"サッカー",0,0,0,0,0,null,null,null,0,null,null,null,null,0,null,null,null,null,0,null,null,null,null,0,null,null,null,null,0,null,null,null,null,0,null,null,null,null,0,null,null,null,null,0,null,null,null,null,0,null,null,null,null,0,null,null,null,null,0,null,null,null,null,0,null,null,null,null,0,null,null,null,null,0,null,null,null,null,0,null,null,null,null,0,null,null,null,null,0,null,null,null,null,0,null,null,null,null,0,null,null,null,null,0,null,null,null,null,0,null,null,null,null,0,null,null,null,null,0,null,null,null,null,0,null,null,null,null,0]
[null,null,12,"陸　上　競　技",0,0,0,0,0,null,null,null,0,null,null,null,null,0,null,null,null,null,0,null,null,null,null,0,null,null,null,null,0,null,null,null,null,0,null,null,null,null,0,null,null,null,null,0,null,null,null,null,0,null,null,null,null,0,null,null,null,null,0,null,null,null,null,0,null,null,null,null,0,null,null,null,null,0,null,null,null,null,0,null,null,null,null,0,null,null,null,null,0,null,null,null,null,0,null,null,null,null,0,null,null,null,null,0,null,null,null,null,0,null,null,null,null,0,null,null,null,null,0,null,null,null,null,0,null,null,null,null,0]
[null,null,13,"水　　泳",0,0,0,0,0,null,null,null,0,null,null,null,null,0,null,null,null,null,0,null,null,null,null,0,null,null,null,null,0,null,null,null,null,0,null,null,null,null,0,null,null,null,null,0,null,null,null,null,0,null,null,null,null,0,null,null,null,null,0,null,null,null,null,0,null,null,null,null,0,null,null,null,null,0,null,null,null,null,0,null,null,null,null,0,null,null,null,null,0,null,null,null,null,0,null,null,null,null,0,null,null,null,null,0,null,null,null,null,0,null,null,null,null,0,null,null,null,null,0,null,null,null,null,0,null,null,null,null,0]
[null,"子",14,"柔　　道",0,0,0,0,0,null,null,null,0,null,null,null,null,0,null,null,null,null,0,null,null,null,null,0,null,null,null,null,0,null,null,null,null,0,null,null,null,null,0,null,null,null,null,0,null,null,null,null,0,null,null,null,null,0,null,null,null,null,0,null,null,null,null,0,null,null,null,null,0,null,null,null,null,0,null,null,null,null,0,null,null,null,null,0,null,null,null,null,0,null,null,null,null,0,null,null,null,null,0,null,null,null,null,0,null,null,null,null,0,null,null,null,null,0,null,null,null,null,0,null,null,null,null,0,null,null,null,null,0]
[null,null,15,"剣　　道",0,0,0,0,0,null,null,null,0,null,null,null,null,0,null,null,null,null,0,null,null,null,null,0,null,null,null,null,0,null,null,null,null,0,null,null,null,null,0,null,null,null,null,0,null,null,null,null,0,null,null,null,null,0,null,null,null,null,0,null,null,null,null,0,null,null,null,null,0,null,null,null,null,0,null,null,null,null,0,null,null,null,null,0,null,null,null,null,0,null,null,null,null,0,null,null,null,null,0,null,null,null,null,0,null,null,null,null,0,null,null,null,null,0,null,null,null,null,0,null,null,null,null,0,null,null,null,null,0]
[null,null,16,"相　　撲",0,0,0,0,0,null,null,null,0,null,null,null,null,0,null,null,null,null,0,null,null,null,null,0,null,null,null,null,0,null,null,null,null,0,null,null,null,null,0,null,null,null,null,0,null,null,null,null,0,null,null,null,null,0,null,null,null,null,0,null,null,null,null,0,null,null,null,null,0,null,null,null,null,0,null,null,null,null,0,null,null,null,null,0,null,null,null,null,0,null,null,null,null,0,null,null,null,null,0,null,null,null,null,0,null,null,null,null,0,null,null,null,null,0,null,null,null,null,0,null,null,null,null,0,null,null,null,null,0]
[null,null,17,"ダ    ン    ス",0,0,0,0,0,null,null,null,0,null,null,null,null,0,null,null,null,null,0,null,null,null,null,0,null,null,null,null,0,null,null,null,null,0,null,null,null,null,0,null,null,null,null,0,null,null,null,null,0,null,null,null,null,0,null,null,null,null,0,null,null,null,null,0,null,null,null,null,0,null,null,null,null,0,null,null,null,null,0,null,null,null,null,0,null,null,null,null,0,null,null,null,null,0,null,null,null,null,0,null,null,null,null,0,null,null,null,null,0,null,null,null,null,0,null,null,null,null,0,null,null,null,null,0,null,null,null,null,0]
[null,null,18,"ス    キ    ー",0,0,0,0,0,null,null,null,0,null,null,null,null,0,null,null,null,null,0,null,null,null,null,0,null,null,null,null,0,null,null,null,null,0,null,null,null,null,0,null,null,null,null,0,null,null,null,null,0,null,null,null,null,0,null,null,null,null,0,null,null,null,null,0,null,null,null,null,0,null,null,null,null,0,null,null,null,null,0,null,null,null,null,0,null,null,null,null,0,null,null,null,null,0,null,null,null,null,0,null,null,null,null,0,null,null,null,null,0,null,null,null,null,0,null,null,null,null,0,null,null,null,null,0,null,null,null,null,0]
[null,null,19,"ス  ケ  ー  ト",0,0,0,0,0,null,null,null,0,null,null,null,null,0,null,null,null,null,0,null,null,null,null,0,null,null,null,null,0,null,null,null,null,0,null,null,null,null,0,null,null,null,null,0,null,null,null,null,0,null,null,null,null,0,null,null,null,null,0,null,null,null,null,0,null,null,null,null,0,null,null,null,null,0,null,null,null,null,0,null,null,null,null,0,null,null,null,null,0,null,null,null,null,0,null,null,null,null,0,null,null,null,null,0,null,null,null,null,0,null,null,null,null,0,null,null,null,null,0,null,null,null,null,0,null,null,null,null,0]
[null,null,20,"アイスホッケー",0,0,0,0,0,null,null,null,0,null,null,null,null,0,null,null,null,null,0,null,null,null,null,0,null,null,null,null,0,null,null,null,null,0,null,null,null,null,0,null,null,null,null,0,null,null,null,null,0,null,null,null,null,0,null,null,null,null,0,null,null,null,null,0,null,null,null,null,0,null,null,null,null,0,null,null,null,null,0,null,null,null,null,0,null,null,null,null,0,null,null,null,null,0,null,null,null,null,0,null,null,null,null,0,null,null,null,null,0,null,null,null,null,0,null,null,null,null,0,null,null,null,null,0,null,null,null,null,0]
[null,null,21,"テ　　ニ　　ス",0,0,0,0,0,null,null,null,0,null,null,null,null,0,null,null,null,null,0,null,null,null,null,0,null,null,null,null,0,null,null,null,null,0,null,null,null,null,0,null,null,null,null,0,null,null,null,null,0,null,null,null,null,0,null,null,null,null,0,null,null,null,null,0,null,null,null,null,0,null,null,null,null,0,null,null,null,null,0,null,null,null,null,0,null,null,null,null,0,null,null,null,null,0,null,null,null,null,0,null,null,null,null,0,null,null,null,null,0,null,null,null,null,0,null,null,null,null,0,null,null,null,null,0,null,null,null,null,0]
[null,null,22,"空　　手",0,0,0,0,0,null,null,null,0,null,null,null,null,0,null,null,null,null,0,null,null,null,null,0,null,null,null,null,0,null,null,null,null,0,null,null,null,null,0,null,null,null,null,0,null,null,null,null,0,null,null,null,null,0,null,null,null,null,0,null,null,null,null,0,null,null,null,null,0,null,null,null,null,0,null,null,null,null,0,null,null,null,null,0,null,null,null,null,0,null,null,null,null,0,null,null,null,null,0,null,null,null,null,0,null,null,null,null,0,null,null,null,null,0,null,null,null,null,0,null,null,null,null,0,null,null,null,null,0]
[null,null,23,"ラ　グ　ビ　ー",0,0,0,0,0,null,null,null,{"$f":"SUM(J27:L27)","v":0},null,null,null,null,{"$f":"SUM(O27:Q27)","v":0},null,null,null,null,{"$f":"SUM(T27:V27)","v":0},null,null,null,null,{"$f":"SUM(Y27:AA27)","v":0},null,null,null,null,{"$f":"SUM(AD27:AF27)","v":0},null,null,null,null,{"$f":"SUM(AI27:AK27)","v":0},null,null,null,null,{"$f":"SUM(AN27:AP27)","v":0},null,null,null,null,{"$f":"SUM(AS27:AU27)","v":0},null,null,null,null,{"$f":"SUM(AX27:AZ27)","v":0},null,null,null,null,{"$f":"SUM(BC27:BE27)","v":0},null,null,null,null,{"$f":"SUM(BH27:BJ27)","v":0},null,null,null,null,{"$f":"SUM(BM27:BO27)","v":0},null,null,null,null,{"$f":"SUM(BR27:BT27)","v":0},null,null,null,null,{"$f":"SUM(BW27:BY27)","v":0},null,null,null,null,{"$f":"SUM(CB27:CD27)","v":0},null,null,null,null,{"$f":"SUM(CG27:CI27)","v":0},null,null,null,null,{"$f":"SUM(CL27:CN27)","v":0},null,null,null,null,0,null,null,null,null,0,null,null,null,null,0,null,null,null,null,0,null,null,null,null,0,null,null,null,null,0,null,null,null,null,0,null,null,null,null,0]
[null,null,null,null,0,0,0,0,0,null,null,null,null,null,null,null,null,null,null,null,null,null,null,null,null,null,null,null,null,null,null,null,null,null,null,null,null,null,null,null,null,null,null,null,null,null,null,null,null,null,null,null,null,null,null,null,null,null,null,null,null,null,null,null,null,null,null,null,null,null,null,null,null,null,null,null,null,null,null,null,null,null,null,null,null,null,null,null,null,null,null,null,null,null,null,null,null,0,null,null,null,null,0,null,null,null,null,0,null,null,null,null,0,null,null,null,null,0,null,null,null,null,0,null,null,null,null,0,null,null,null,null,0]
[null,null,null,null,0,0,0,0,0,null,null,null,null,null,null,null,null,null,null,null,null,null,null,null,null,null,null,null,null,null,null,null,null,null,null,null,null,null,null,null,null,null,null,null,null,null,null,null,null,null,null,null,null,null,null,null,null,null,null,null,null,null,null,null,null,null,null,null,null,null,null,null,null,null,null,null,null,null,null,null,null,null,null,null,null,null,null,null,null,null,null,null,null,null,null,null,null,0,null,null,null,null,0,null,null,null,null,0,null,null,null,null,0,null,null,null,null,0,null,null,null,null,0,null,null,null,null,0,null,null,null,null,0]
[null,null,null,null,0,0,0,0,0,null,null,null,null,null,null,null,null,null,null,null,null,null,null,null,null,null,null,null,null,null,null,null,null,null,null,null,null,null,null,null,null,null,null,null,null,null,null,null,null,null,null,null,null,null,null,null,null,null,null,null,null,null,null,null,null,null,null,null,null,null,null,null,null,null,null,null,null,null,null,null,null,null,null,null,null,null,null,null,null,null,null,null,null,null,null,null,null,0,null,null,null,null,0,null,null,null,null,0,null,null,null,null,0,null,null,null,null,0,null,null,null,null,0,null,null,null,null,0,null,null,null,null,0]
[null,null,"男　子　合　計 (名)",null,{"$f":"J31+O31+T31+Y31+AD31+AI31+AN31+AS31+AX31+BC31+BH31+BM31+BR31+BW31+CB31+CG31+CL31+CQ31+CV31+DA31+DF31+DK31+DP31+DU31+DZ31","v":0},0,0,0,0,{"$f":"SUM(J5:J30)","v":0},0,0,{"$f":"SUM(M5:M30)","v":0},0,0,0,0,0,0,0,0,0,0,0,0,0,0,0,0,0,0,0,0,0,0,0,0,0,0,0,0,0,0,0,0,0,0,0,0,0,0,0,0,0,0,0,0,0,0,0,0,0,0,0,0,0,0,0,0,0,0,0,0,{"$f":"SUM(BV5:BV30)","v":0},{"$f":"SUM(BW5:BW30)","v":0},0,0,0,0,{"$f":"SUM(CB5:CB30)","v":0},{"$f":"SUM(CC5:CC30)","v":0},{"$f":"SUM(CD5:CD30)","v":0},{"$f":"SUM(CB31:CD31)","v":0},{"$f":"SUM(CF5:CF30)","v":0},{"$f":"SUM(CG5:CG30)","v":0},{"$f":"SUM(CH5:CH30)","v":0},{"$f":"SUM(CI5:CI30)","v":0},{"$f":"SUM(CG31:CI31)","v":0},{"$f":"SUM(CK5:CK30)","v":0},{"$f":"SUM(CL5:CL30)","v":0},{"$f":"SUM(CM5:CM30)","v":0},{"$f":"SUM(CN5:CN30)","v":0},{"$f":"SUM(CL31:CN31)","v":0},{"$f":"SUM(CP5:CP30)","v":0},{"$f":"SUM(CQ5:CQ30)","v":0},{"$f":"SUM(CR5:CR30)","v":0},{"$f":"SUM(CS5:CS30)","v":0},0,{"$f":"SUM(CU5:CU30)","v":0},{"$f":"SUM(CV5:CV30)","v":0},{"$f":"SUM(CW5:CW30)","v":0},{"$f":"SUM(CX5:CX30)","v":0},0,{"$f":"SUM(CZ5:CZ30)","v":0},{"$f":"SUM(DA5:DA30)","v":0},{"$f":"SUM(DB5:DB30)","v":0},{"$f":"SUM(DC5:DC30)","v":0},0,{"$f":"SUM(DE5:DE30)","v":0},{"$f":"SUM(DF5:DF30)","v":0},{"$f":"SUM(DG5:DG30)","v":0},{"$f":"SUM(DH5:DH30)","v":0},0,{"$f":"SUM(DJ5:DJ30)","v":0},{"$f":"SUM(DK5:DK30)","v":0},{"$f":"SUM(DL5:DL30)","v":0},{"$f":"SUM(DM5:DM30)","v":0},0,{"$f":"SUM(DO5:DO30)","v":0},{"$f":"SUM(DP5:DP30)","v":0},{"$f":"SUM(DQ5:DQ30)","v":0},{"$f":"SUM(DR5:DR30)","v":0},0,{"$f":"SUM(DT5:DT30)","v":0},{"$f":"SUM(DU5:DU30)","v":0},{"$f":"SUM(DV5:DV30)","v":0},{"$f":"SUM(DW5:DW30)","v":0},0,{"$f":"SUM(DY5:DY30)","v":0},{"$f":"SUM(DZ5:DZ30)","v":0},{"$f":"SUM(EA5:EA30)","v":0},{"$f":"SUM(EB5:EB30)","v":0},0,{"$f":"SUM(ED5:ED30)","v":0}]
[null,null,"男 子 在 籍 数 (名)",null,68,76,75,{"$f":"M32+R32+W32+AB32+AG32+AL32+AQ32+AV32+BA32+BF32+BK32+BP32+BU32+BZ32+CE32+CJ32+CO32+CT32+CY32+DD32+DI32+DN32+DS32+DX32+EC32","v":219},null,null,null,null,{"$f":"SUM(J32:L32)","v":0},null,null,null,null,{"$f":"SUM(O32:Q32)","v":0},null,null,null,null,{"$f":"SUM(T32:V32)","v":0},null,null,null,null,{"$f":"SUM(Y32:AA32)","v":0},null,null,null,null,{"$f":"SUM(AD32:AF32)","v":0},null,null,null,null,{"$f":"SUM(AI32:AK32)","v":0},null,null,null,null,{"$f":"SUM(AN32:AP32)","v":0},null,null,null,null,{"$f":"SUM(AS32:AU32)","v":0},null,null,null,null,{"$f":"SUM(AX32:AZ32)","v":0},null,null,null,null,{"$f":"SUM(BC32:BE32)","v":0},null,null,null,null,{"$f":"SUM(BH32:BJ32)","v":0},null,null,null,null,{"$f":"SUM(BM32:BO32)","v":0},null,null,null,null,{"$f":"SUM(BR32:BT32)","v":0},null,null,null,null,{"$f":"SUM(BW32:BY32)","v":0},null,27,35,28,{"$f":"SUM(CB32:CD32)","v":90},null,40,38,47,{"$f":"SUM(CG32:CI32)","v":125},null,1,3,0,{"$f":"SUM(CL32:CN32)","v":4},null,null,null,null,0,null,null,null,null,0,null,null,null,null,0,null,null,null,null,0,null,null,null,null,0,null,null,null,null,0,null,null,null,null,0,null,null,null,null,0]
[null,null,"男 子 入 部 率 (％)",null,{"$f":"E31/E32*100","v":0},{"$f":"F31/F32*100","v":0},{"$f":"G31/G32*100","v":0},{"$f":"H31/H32*100","v":0},null,{"$f":"J31/J32*100","v":{"$error":"#DIV/0!"}},{"$error":"#DIV/0!"},{"$error":"#DIV/0!"},{"$error":"#DIV/0!"},null,{"$error":"#DIV/0!"},{"$error":"#DIV/0!"},{"$error":"#DIV/0!"},{"$f":"R31/R32*100","v":{"$error":"#DIV/0!"}},null,{"$error":"#DIV/0!"},{"$error":"#DIV/0!"},{"$error":"#DIV/0!"},{"$f":"W31/W32*100","v":{"$error":"#DIV/0!"}},null,{"$error":"#DIV/0!"},{"$error":"#DIV/0!"},{"$error":"#DIV/0!"},{"$f":"AB31/AB32*100","v":{"$error":"#DIV/0!"}},null,{"$error":"#DIV/0!"},{"$error":"#DIV/0!"},{"$error":"#DIV/0!"},{"$f":"AG31/AG32*100","v":{"$error":"#DIV/0!"}},null,{"$error":"#DIV/0!"},{"$error":"#DIV/0!"},{"$error":"#DIV/0!"},{"$f":"AL31/AL32*100","v":{"$error":"#DIV/0!"}},null,{"$error":"#DIV/0!"},{"$error":"#DIV/0!"},{"$error":"#DIV/0!"},{"$f":"AQ31/AQ32*100","v":{"$error":"#DIV/0!"}},null,{"$error":"#DIV/0!"},{"$error":"#DIV/0!"},{"$error":"#DIV/0!"},{"$f":"AV31/AV32*100","v":{"$error":"#DIV/0!"}},null,{"$error":"#DIV/0!"},{"$error":"#DIV/0!"},{"$error":"#DIV/0!"},{"$f":"BA31/BA32*100","v":{"$error":"#DIV/0!"}},null,{"$error":"#DIV/0!"},{"$error":"#DIV/0!"},{"$error":"#DIV/0!"},{"$f":"BF31/BF32*100","v":{"$error":"#DIV/0!"}},null,{"$error":"#DIV/0!"},{"$error":"#DIV/0!"},{"$error":"#DIV/0!"},{"$f":"BK31/BK32*100","v":{"$error":"#DIV/0!"}},null,{"$error":"#DIV/0!"},{"$error":"#DIV/0!"},{"$error":"#DIV/0!"},{"$f":"BP31/BP32*100","v":{"$error":"#DIV/0!"}},null,{"$error":"#DIV/0!"},{"$error":"#DIV/0!"},{"$error":"#DIV/0!"},{"$f":"BU31/BU32*100","v":{"$error":"#DIV/0!"}},null,{"$f":"BW31/BW32*100","v":{"$error":"#DIV/0!"}},{"$error":"#DIV/0!"},{"$error":"#DIV/0!"},{"$error":"#DIV/0!"},null,{"$f":"CB31/CB32*100","v":0},0,0,0,null,0,0,0,0,null,0,0,{"$error":"#DIV/0!"},0,null,{"$f":"CQ31/CQ32*100","v":{"$error":"#DIV/0!"}},{"$f":"CR31/CR32*100","v":{"$error":"#DIV/0!"}},{"$f":"CS31/CS32*100","v":{"$error":"#DIV/0!"}},{"$f":"CT31/CT32*100","v":{"$error":"#DIV/0!"}},null,{"$f":"CV31/CV32*100","v":{"$error":"#DIV/0!"}},{"$f":"CW31/CW32*100","v":{"$error":"#DIV/0!"}},{"$f":"CX31/CX32*100","v":{"$error":"#DIV/0!"}},{"$f":"CY31/CY32*100","v":{"$error":"#DIV/0!"}},null,{"$f":"DA31/DA32*100","v":{"$error":"#DIV/0!"}},{"$f":"DB31/DB32*100","v":{"$error":"#DIV/0!"}},{"$f":"DC31/DC32*100","v":{"$error":"#DIV/0!"}},{"$f":"DD31/DD32*100","v":{"$error":"#DIV/0!"}},null,{"$f":"DF31/DF32*100","v":{"$error":"#DIV/0!"}},{"$f":"DG31/DG32*100","v":{"$error":"#DIV/0!"}},{"$f":"DH31/DH32*100","v":{"$error":"#DIV/0!"}},{"$f":"DI31/DI32*100","v":{"$error":"#DIV/0!"}},null,{"$f":"DK31/DK32*100","v":{"$error":"#DIV/0!"}},{"$f":"DL31/DL32*100","v":{"$error":"#DIV/0!"}},{"$f":"DM31/DM32*100","v":{"$error":"#DIV/0!"}},{"$f":"DN31/DN32*100","v":{"$error":"#DIV/0!"}},null,{"$f":"DP31/DP32*100","v":{"$error":"#DIV/0!"}},{"$f":"DQ31/DQ32*100","v":{"$error":"#DIV/0!"}},{"$f":"DR31/DR32*100","v":{"$error":"#DIV/0!"}},{"$f":"DS31/DS32*100","v":{"$error":"#DIV/0!"}},null,{"$f":"DU31/DU32*100","v":{"$error":"#DIV/0!"}},{"$f":"DV31/DV32*100","v":{"$error":"#DIV/0!"}},{"$f":"DW31/DW32*100","v":{"$error":"#DIV/0!"}},{"$f":"DX31/DX32*100","v":{"$error":"#DIV/0!"}},null,{"$f":"DZ31/DZ32*100","v":{"$error":"#DIV/0!"}},{"$f":"EA31/EA32*100","v":{"$error":"#DIV/0!"}},{"$f":"EB31/EB32*100","v":{"$error":"#DIV/0!"}},{"$f":"EC31/EC32*100","v":{"$error":"#DIV/0!"}}]
[null,null,1,"体　操　競　技",{"$f":"J34+O34+T34+Y34+AD34+AI34+AN34+AS34+AX34+BC34+BH34+BM34+BR34+BW34+CB34+CG34+CL34+CQ34+CV34+DA34+DF34+DK34+DP34+DU34+DZ34","v":0},0,0,0,0,null,null,null,{"$f":"J34+K34+L34","v":0},null,null,null,null,{"$f":"O34+P34+Q34","v":0},null,null,null,null,{"$f":"T34+U34+V34","v":0},null,null,null,null,{"$f":"Y34+Z34+AA34","v":0},null,null,null,null,{"$f":"AD34+AE34+AF34","v":0},null,null,null,null,{"$f":"AI34+AJ34+AK34","v":0},null,null,null,null,{"$f":"AN34+AO34+AP34","v":0},null,null,null,null,{"$f":"AS34+AT34+AU34","v":0},null,null,null,null,{"$f":"AX34+AY34+AZ34","v":0},null,null,null,null,{"$f":"BC34+BD34+BE34","v":0},null,null,null,null,{"$f":"BH34+BI34+BJ34","v":0},null,null,null,null,{"$f":"BM34+BN34+BO34","v":0},null,null,null,null,{"$f":"BR34+BS34+BT34","v":0},null,null,null,null,{"$f":"BW34+BX34+BY34","v":0},null,null,null,null,{"$f":"CB34+CC34+CD34","v":0},null,null,null,null,{"$f":"CG34+CH34+CI34","v":0},null,null,null,null,{"$f":"CL34+CM34+CN34","v":0},null,null,null,null,{"$f":"SUM(CQ34:CS34)","v":0},null,null,null,null,{"$f":"SUM(CV34:CX34)","v":0},null,null,null,null,{"$f":"SUM(DA34:DC34)","v":0},null,null,null,null,{"$f":"SUM(DF34:DH34)","v":0},null,null,null,null,{"$f":"SUM(DK34:DM34)","v":0},null,null,null,null,{"$f":"SUM(DP34:DR34)","v":0},null,null,null,null,{"$f":"SUM(DU34:DW34)","v":0},null,null,null,null,{"$f":"SUM(DZ34:EB34)","v":0}]
[null,null,2,"新    体    操",0,0,0,0,0,null,null,null,0,null,null,null,null,0,null,null,null,null,0,null,null,null,null,0,null,null,null,null,0,null,null,null,null,0,null,null,null,null,0,null,null,null,null,0,null,null,null,null,0,null,null,null,null,0,null,null,null,null,0,null,null,null,null,0,null,null,null,null,0,null,null,null,null,0,null,null,null,null,0,null,null,null,null,0,null,null,null,null,0,null,null,null,null,0,null,null,null,null,0,null,null,null,null,0,null,null,null,null,0,null,null,null,null,0,null,null,null,null,0,null,null,null,null,0,null,null,null,null,0]
[null,null,3,"軟　式　野　球",0,0,0,0,0,null,null,null,0,null,null,null,null,0,null,null,null,null,0,null,null,null,null,0,null,null,null,null,0,null,null,null,null,0,null,null,null,null,0,null,null,null,null,0,null,null,null,null,0,null,null,null,null,0,null,null,null,null,0,null,null,null,null,0,null,null,null,null,0,null,null,null,null,0,null,null,null,null,0,null,null,null,null,0,null,null,null,null,0,null,null,null,null,0,null,null,null,null,0,null,null,null,null,0,null,null,null,null,0,null,null,null,null,0,null,null,null,null,0,null,null,null,null,0,null,null,null,null,0]
[null,null,4,"ソフトボール",0,0,0,0,0,null,null,null,0,null,null,null,null,0,null,null,null,null,0,null,null,null,null,0,null,null,null,null,0,null,null,null,null,0,null,null,null,null,0,null,null,null,null,0,null,null,null,null,0,null,null,null,null,0,null,null,null,null,0,null,null,null,null,0,null,null,null,null,0,null,null,null,null,0,null,null,null,null,0,null,null,null,null,0,null,null,null,null,0,null,null,null,null,0,null,null,null,null,0,null,null,null,null,0,null,null,null,null,0,null,null,null,null,0,null,null,null,null,0,null,null,null,null,0,null,null,null,null,0]
[null,null,5,"バスケットボール",0,0,0,0,0,null,null,null,0,null,null,null,null,0,null,null,null,null,0,null,null,null,null,0,null,null,null,null,0,null,null,null,null,0,null,null,null,null,0,null,null,null,null,0,null,null,null,null,0,null,null,null,null,0,null,null,null,null,0,null,null,null,null,0,null,null,null,null,0,null,null,null,null,0,null,null,null,null,0,null,null,null,null,0,null,null,null,null,0,null,null,null,null,0,null,null,null,null,0,null,null,null,null,0,null,null,null,null,0,null,null,null,null,0,null,null,null,null,0,null,null,null,null,0,null,null,null,null,0]
[null,null,6,"ハンドボール",0,0,0,0,0,null,null,null,0,null,null,null,null,0,null,null,null,null,0,null,null,null,null,0,null,null,null,null,0,null,null,null,null,0,null,null,null,null,0,null,null,null,null,0,null,null,null,null,0,null,null,null,null,0,null,null,null,null,0,null,null,null,null,0,null,null,null,null,0,null,null,null,null,0,null,null,null,null,0,null,null,null,null,0,null,null,null,null,0,null,null,null,null,0,null,null,null,null,0,null,null,null,null,0,null,null,null,null,0,null,null,null,null,0,null,null,null,null,0,null,null,null,null,0,null,null,null,null,0]
[null,"女",7,"バレーボール",0,0,0,0,0,null,null,null,0,null,null,null,null,0,null,null,null,null,0,null,null,null,null,0,null,null,null,null,0,null,null,null,null,0,null,null,null,null,0,null,null,null,null,0,null,null,null,null,0,null,null,null,null,0,null,null,null,null,0,null,null,null,null,0,null,null,null,null,0,null,null,null,null,0,null,null,null,null,0,null,null,null,null,0,null,null,null,null,0,null,null,null,null,0,null,null,null,null,0,null,null,null,null,0,null,null,null,null,0,null,null,null,null,0,null,null,null,null,0,null,null,null,null,0,null,null,null,null,0]
[null,null,8,"ソフトテニス",0,0,0,0,0,null,null,null,0,null,null,null,null,0,null,null,null,null,0,null,null,null,null,0,null,null,null,null,0,null,null,null,null,0,null,null,null,null,0,null,null,null,null,0,null,null,null,null,0,null,null,null,null,0,null,null,null,null,0,null,null,null,null,0,null,null,null,null,0,null,null,null,null,0,null,null,null,null,0,null,null,null,null,0,null,null,null,null,0,null,null,null,null,0,null,null,null,null,0,null,null,null,null,0,null,null,null,null,0,null,null,null,null,0,null,null,null,null,0,null,null,null,null,0,null,null,null,null,0]
[null,null,9,"卓    球",0,0,0,0,0,null,null,null,0,null,null,null,null,0,null,null,null,null,0,null,null,null,null,0,null,null,null,null,0,null,null,null,null,0,null,null,null,null,0,null,null,null,null,0,null,null,null,null,0,null,null,null,null,0,null,null,null,null,0,null,null,null,null,0,null,null,null,null,0,null,null,null,null,0,null,null,null,null,0,null,null,null,null,0,null,null,null,null,0,null,null,null,null,0,null,null,null,null,0,null,null,null,null,0,null,null,null,null,0,null,null,null,null,0,null,null,null,null,0,null,null,null,null,0,null,null,null,null,0]
[null,null,10,"バドミントン",0,0,0,0,0,null,null,null,0,null,null,null,null,0,null,null,null,null,0,null,null,null,null,0,null,null,null,null,0,null,null,null,null,0,null,null,null,null,0,null,null,null,null,0,null,null,null,null,0,null,null,null,null,0,null,null,null,null,0,null,null,null,null,0,null,null,null,null,0,null,null,null,null,0,null,null,null,null,0,null,null,null,null,0,null,null,null,null,0,null,null,null,null,0,null,null,null,null,0,null,null,null,null,0,null,null,null,null,0,null,null,null,null,0,null,null,null,null,0,null,null,null,null,0,null,null,null,null,0]
[null,null,11,"サッカー",0,0,0,0,0,null,null,null,0,null,null,null,null,0,null,null,null,null,0,null,null,null,null,0,null,null,null,null,0,null,null,null,null,0,null,null,null,null,0,null,null,null,null,0,null,null,null,null,0,null,null,null,null,0,null,null,null,null,0,null,null,null,null,0,null,null,null,null,0,null,null,null,null,0,null,null,null,null,0,null,null,null,null,0,null,null,null,null,0,null,null,null,null,0,null,null,null,null,0,null,null,null,null,0,null,null,null,null,0,null,null,null,null,0,null,null,null,null,0,null,null,null,null,0,null,null,null,null,0]
[null,null,12,"陸　上　競　技",0,0,0,0,0,null,null,null,0,null,null,null,null,0,null,null,null,null,0,null,null,null,null,0,null,null,null,null,0,null,null,null,null,0,null,null,null,null,0,null,null,null,null,0,null,null,null,null,0,null,null,null,null,0,null,null,null,null,0,null,null,null,null,0,null,null,null,null,0,null,null,null,null,0,null,null,null,null,0,null,null,null,null,0,null,null,null,null,0,null,null,null,null,0,null,null,null,null,0,null,null,null,null,0,null,null,null,null,0,null,null,null,null,0,null,null,null,null,0,null,null,null,null,0,null,null,null,null,0]
[null,null,13,"水　　泳",0,0,0,0,0,null,null,null,0,null,null,null,null,0,null,null,null,null,0,null,null,null,null,0,null,null,null,null,0,null,null,null,null,0,null,null,null,null,0,null,null,null,null,0,null,null,null,null,0,null,null,null,null,0,null,null,null,null,0,null,null,null,null,0,null,null,null,null,0,null,null,null,null,0,null,null,null,null,0,null,null,null,null,0,null,null,null,null,0,null,null,null,null,0,null,null,null,null,0,null,null,null,null,0,null,null,null,null,0,null,null,null,null,0,null,null,null,null,0,null,null,null,null,0,null,null,null,null,0]
[null,"子",14,"柔　　道",0,0,0,0,0,null,null,null,0,null,null,null,null,0,null,null,null,null,0,null,null,null,null,0,null,null,null,null,0,null,null,null,null,0,null,null,null,null,0,null,null,null,null,0,null,null,null,null,0,null,null,null,null,0,null,null,null,null,0,null,null,null,null,0,null,null,null,null,0,null,null,null,null,0,null,null,null,null,0,null,null,null,null,0,null,null,null,null,0,null,null,null,null,0,null,null,null,null,0,null,null,null,null,0,null,null,null,null,0,null,null,null,null,0,null,null,null,null,0,null,null,null,null,0,null,null,null,null,0]
[null,null,15,"剣　　道",0,0,0,0,0,null,null,null,0,null,null,null,null,0,null,null,null,null,0,null,null,null,null,0,null,null,null,null,0,null,null,null,null,0,null,null,null,null,0,null,null,null,null,0,null,null,null,null,0,null,null,null,null,0,null,null,null,null,0,null,null,null,null,0,null,null,null,null,0,null,null,null,null,0,null,null,null,null,0,null,null,null,null,0,null,null,null,null,0,null,null,null,null,0,null,null,null,null,0,null,null,null,null,0,null,null,null,null,0,null,null,null,null,0,null,null,null,null,0,null,null,null,null,0,null,null,null,null,0]
[null,null,16,"ダ    ン    ス",0,0,0,0,0,null,null,null,0,null,null,null,null,0,null,null,null,null,0,null,null,null,null,0,null,null,null,null,0,null,null,null,null,0,null,null,null,null,0,null,null,null,null,0,null,null,null,null,0,null,null,null,null,0,null,null,null,null,0,null,null,null,null,0,null,null,null,null,0,null,null,null,null,0,null,null,null,null,0,null,null,null,null,0,null,null,null,null,0,null,null,null,null,0,null,null,null,null,0,null,null,null,null,0,null,null,null,null,0,null,null,null,null,0,null,null,null,null,0,null,null,null,null,0,null,null,null,null,0]
[null,null,17,"ス    キ    ー",0,0,0,0,0,null,null,null,0,null,null,null,null,0,null,null,null,null,0,null,null,null,null,0,null,null,null,null,0,null,null,null,null,0,null,null,null,null,0,null,null,null,null,0,null,null,null,null,0,null,null,null,null,0,null,null,null,null,0,null,null,null,null,0,null,null,null,null,0,null,null,null,null,0,null,null,null,null,0,null,null,null,null,0,null,null,null,null,0,null,null,null,null,0,null,null,null,null,0,null,null,null,null,0,null,null,null,null,0,null,null,null,null,0,null,null,null,null,0,null,null,null,null,0,null,null,null,null,0]
[null,null,18,"ス  ケ  ー  ト",0,0,0,0,0,null,null,null,0,null,null,null,null,0,null,null,null,null,0,null,null,null,null,0,null,null,null,null,0,null,null,null,null,0,null,null,null,null,0,null,null,null,null,0,null,null,null,null,0,null,null,null,null,0,null,null,null,null,0,null,null,null,null,0,null,null,null,null,0,null,null,null,null,0,null,null,null,null,0,null,null,null,null,0,null,null,null,null,0,null,null,null,null,0,null,null,null,null,0,null,null,null,null,0,null,null,null,null,0,null,null,null,null,0,null,null,null,null,0,null,null,null,null,0,null,null,null,null,0]
[null,null,19,"アイスホッケー",0,0,0,0,0,null,null,null,0,null,null,null,null,0,null,null,null,null,0,null,null,null,null,0,null,null,null,null,0,null,null,null,null,0,null,null,null,null,0,null,null,null,null,0,null,null,null,null,0,null,null,null,null,0,null,null,null,null,0,null,null,null,null,0,null,null,null,null,0,null,null,null,null,0,null,null,null,null,0,null,null,null,null,0,null,null,null,null,0,null,null,null,null,0,null,null,null,null,0,null,null,null,null,0,null,null,null,null,0,null,null,null,null,0,null,null,null,null,0,null,null,null,null,0,null,null,null,null,0]
[null,null,20,"テ　　ニ　　ス",0,0,0,0,0,null,null,null,0,null,null,null,null,0,null,null,null,null,0,null,null,null,null,0,null,null,null,null,0,null,null,null,null,0,null,null,null,null,0,null,null,null,null,0,null,null,null,null,0,null,null,null,null,0,null,null,null,null,0,null,null,null,null,0,null,null,null,null,0,null,null,null,null,0,null,null,null,null,0,null,null,null,null,0,null,null,null,null,0,null,null,null,null,0,null,null,null,null,0,null,null,null,null,0,null,null,null,null,0,null,null,null,null,0,null,null,null,null,0,null,null,null,null,0,null,null,null,null,0]
[null,null,21,"弓　　道　",0,0,0,0,0,null,null,null,0,null,null,null,null,0,null,null,null,null,0,null,null,null,null,0,null,null,null,null,0,null,null,null,null,0,null,null,null,null,0,null,null,null,null,0,null,null,null,null,0,null,null,null,null,0,null,null,null,null,0,null,null,null,null,0,null,null,null,null,0,null,null,null,null,0,null,null,null,null,0,null,null,null,null,0,null,null,null,null,0,null,null,null,null,0,null,null,null,null,0,null,null,null,null,0,null,null,null,null,0,null,null,null,null,0,null,null,null,null,0,null,null,null,null,0,null,null,null,null,0]
[null,null,22,"空　　手",0,0,0,0,0,null,null,null,0,null,null,null,null,0,null,null,null,null,0,null,null,null,null,0,null,null,null,null,0,null,null,null,null,0,null,null,null,null,0,null,null,null,null,0,null,null,null,null,0,null,null,null,null,0,null,null,null,null,0,null,null,null,null,{"$f":"BM55+BN55+BO55","v":0},null,null,null,null,0,null,null,null,null,0,null,null,null,null,{"$f":"CB55+CC55+CD55","v":0},null,null,null,null,0,null,null,null,null,0,null,null,null,null,0,null,null,null,null,0,null,null,null,null,0,null,null,null,null,0,null,null,null,null,0,null,null,null,null,0,null,null,null,null,0,null,null,null,null,0]
[null,null,null,null,0,0,0,0,0,null,null,null,0,null,null,null,null,0,null,null,null,null,0,null,null,null,null,0,null,null,null,null,0,null,null,null,null,0,null,null,null,null,0,null,null,null,null,0,null,null,null,null,0,null,null,null,null,0,null,null,null,null,0,null,null,null,null,0,null,null,null,null,0,null,null,null,null,0,null,null,null,null,{"$f":"CB56+CC56+CD56","v":0},null,null,null,null,0,null,null,null,null,0,null,null,null,null,0,null,null,null,null,0,null,null,null,null,0,null,null,null,null,0,null,null,null,null,0,null,null,null,null,0,null,null,null,null,0,null,null,null,null,0]
[null,null,null,null,0,0,0,0,0,null,null,null,0,null,null,null,null,0,null,null,null,null,0,null,null,null,null,0,null,null,null,null,0,null,null,null,null,0,null,null,null,null,0,null,null,null,null,0,null,null,null,null,0,null,null,null,null,0,null,null,null,null,0,null,null,null,null,0,null,null,null,null,0,null,null,null,null,0,null,null,null,null,0,null,null,null,null,0,null,null,null,null,0,null,null,null,null,0,null,null,null,null,0,null,null,null,null,0,null,null,null,null,0,null,null,null,null,0,null,null,null,null,0,null,null,null,null,0,null,null,null,null,0]
[null,null,null,null,0,0,0,0,0,null,null,null,0,null,null,null,null,0,null,null,null,null,0,null,null,null,null,0,null,null,null,null,0,null,null,null,null,0,null,null,null,null,0,null,null,null,null,0,null,null,null,null,0,null,null,null,null,0,null,null,null,null,0,null,null,null,null,0,null,null,null,null,0,null,null,null,null,0,null,null,null,null,0,null,null,null,null,0,null,null,null,null,0,null,null,null,null,0,null,null,null,null,0,null,null,null,null,0,null,null,null,null,0,null,null,null,null,0,null,null,null,null,0,null,null,null,null,0,null,null,null,null,0]
[null,null,"女　子　合　計 (名)",null,0,0,0,{"$f":"M59+R59+W59+AB59+AG59+AL59+AQ59+AV59+BA59+BF59+BK59+BP59+BU59+BZ59+CE59+CJ59+CO59+CT59+CY59+DD59+DI59+DN59+DS59+DX59+EC59","v":0},{"$f":"N59+S59+X59+AC59+AH59+AM59+AR59+AW59+BB59+BG59+BL59+BQ59+BV59+CA59+CF59+CK59+CP59+CU59+CZ59+DE59+DJ59+DO59+DT59+DY59+ED59","v":0},{"$f":"SUM(J34:J58)","v":0},0,0,0,0,0,0,0,0,0,0,0,0,0,0,0,0,0,0,0,0,0,0,0,0,0,0,0,0,0,0,0,{"$f":"SUM(AP34:AP58)","v":0},0,0,0,0,0,0,0,0,0,0,0,0,0,0,0,0,0,0,0,0,0,0,0,0,0,0,0,0,0,0,0,0,0,0,0,0,0,{"$f":"SUM(CB34:CB58)","v":0},{"$f":"SUM(CC34:CC58)","v":0},{"$f":"SUM(CD34:CD58)","v":0},{"$f":"SUM(CB59:CD59)","v":0},{"$f":"SUM(CF34:CF58)","v":0},{"$f":"SUM(CG34:CG58)","v":0},{"$f":"SUM(CH34:CH58)","v":0},{"$f":"SUM(CI34:CI58)","v":0},{"$f":"SUM(CG59:CI59)","v":0},{"$f":"SUM(CK34:CK58)","v":0},{"$f":"SUM(CL34:CL58)","v":0},{"$f":"SUM(CM34:CM58)","v":0},{"$f":"SUM(CN34:CN58)","v":0},{"$f":"SUM(CL59:CN59)","v":0},{"$f":"SUM(CP34:CP58)","v":0},{"$f":"SUM(CQ34:CQ58)","v":0},0,0,0,0,0,0,0,0,0,0,0,0,0,0,0,0,0,0,0,0,0,0,0,0,0,0,0,0,0,0,0,0,0,0,0,0,0,0,0]
[null,null,"女 子 在 籍 数 (名)",null,53,69,74,{"$f":"M60+R60+W60+AB60+AG60+AL60+AQ60+AV60+BA60+BF60+BK60+BP60+BU60+BZ60+CE60+CJ60+CO60+CT60+CY60+DD60+DI60+DN60+DS60+DX60+EC60","v":196},null,null,null,null,{"$f":"SUM(J60:L60)","v":0},null,null,null,null,{"$f":"SUM(O60:Q60)","v":0},null,null,null,null,{"$f":"SUM(T60:V60)","v":0},null,null,null,null,{"$f":"SUM(Y60:AA60)","v":0},null,null,null,null,{"$f":"SUM(AD60:AF60)","v":0},null,null,null,null,{"$f":"SUM(AI60:AK60)","v":0},null,null,null,null,{"$f":"SUM(AN60:AP60)","v":0},null,null,null,null,{"$f":"SUM(AS60:AU60)","v":0},null,null,null,null,{"$f":"SUM(AX60:AZ60)","v":0},null,null,null,null,{"$f":"SUM(BC60:BE60)","v":0},null,null,null,null,{"$f":"SUM(BH60:BJ60)","v":0},null,null,null,null,{"$f":"SUM(BM60:BO60)","v":0},null,null,null,null,{"$f":"SUM(BR60:BT60)","v":0},null,null,null,null,{"$f":"SUM(BW60:BY60)","v":0},null,20,29,26,{"$f":"SUM(CB60:CD60)","v":75},null,30,38,47,{"$f":"SUM(CG60:CI60)","v":115},null,3,2,1,{"$f":"SUM(CL60:CN60)","v":6},null,null,null,null,{"$f":"SUM(CQ60:CS60)","v":0},null,null,null,null,{"$f":"SUM(CV60:CX60)","v":0},null,null,null,null,{"$f":"SUM(DA60:DC60)","v":0},null,null,null,null,{"$f":"SUM(DF60:DH60)","v":0},null,null,null,null,{"$f":"SUM(DK60:DM60)","v":0},null,null,null,null,{"$f":"SUM(DP60:DR60)","v":0},null,null,null,null,{"$f":"SUM(DU60:DW60)","v":0},null,null,null,null,{"$f":"SUM(DZ60:EB60)","v":0}]
[null,null,"女 子 入 部 率 (％)",null,{"$f":"E59/E60*100","v":0},{"$f":"F59/F60*100","v":0},{"$f":"G59/G60*100","v":0},{"$f":"H59/H60*100","v":0},null,{"$f":"J59/J60*100","v":{"$error":"#DIV/0!"}},{"$error":"#DIV/0!"},{"$error":"#DIV/0!"},{"$error":"#DIV/0!"},null,{"$error":"#DIV/0!"},{"$error":"#DIV/0!"},{"$error":"#DIV/0!"},{"$f":"R59/R60*100","v":{"$error":"#DIV/0!"}},null,{"$error":"#DIV/0!"},{"$error":"#DIV/0!"},{"$error":"#DIV/0!"},{"$f":"W59/W60*100","v":{"$error":"#DIV/0!"}},null,{"$error":"#DIV/0!"},{"$error":"#DIV/0!"},{"$error":"#DIV/0!"},{"$f":"AB59/AB60*100","v":{"$error":"#DIV/0!"}},null,{"$error":"#DIV/0!"},{"$error":"#DIV/0!"},{"$error":"#DIV/0!"},{"$f":"AG59/AG60*100","v":{"$error":"#DIV/0!"}},null,{"$error":"#DIV/0!"},{"$error":"#DIV/0!"},{"$error":"#DIV/0!"},{"$f":"AL59/AL60*100","v":{"$error":"#DIV/0!"}},null,{"$error":"#DIV/0!"},{"$error":"#DIV/0!"},{"$error":"#DIV/0!"},{"$f":"AQ59/AQ60*100","v":{"$error":"#DIV/0!"}},null,{"$error":"#DIV/0!"},{"$error":"#DIV/0!"},{"$error":"#DIV/0!"},{"$f":"AV59/AV60*100","v":{"$error":"#DIV/0!"}},null,{"$error":"#DIV/0!"},{"$error":"#DIV/0!"},{"$error":"#DIV/0!"},{"$f":"BA59/BA60*100","v":{"$error":"#DIV/0!"}},null,{"$error":"#DIV/0!"},{"$error":"#DIV/0!"},{"$error":"#DIV/0!"},{"$f":"BF59/BF60*100","v":{"$error":"#DIV/0!"}},null,{"$error":"#DIV/0!"},{"$error":"#DIV/0!"},{"$error":"#DIV/0!"},{"$f":"BK59/BK60*100","v":{"$error":"#DIV/0!"}},null,{"$error":"#DIV/0!"},{"$error":"#DIV/0!"},{"$error":"#DIV/0!"},{"$f":"BP59/BP60*100","v":{"$error":"#DIV/0!"}},null,{"$error":"#DIV/0!"},{"$error":"#DIV/0!"},{"$error":"#DIV/0!"},{"$f":"BU59/BU60*100","v":{"$error":"#DIV/0!"}},null,{"$f":"BW59/BW60*100","v":{"$error":"#DIV/0!"}},{"$error":"#DIV/0!"},{"$error":"#DIV/0!"},{"$error":"#DIV/0!"},null,{"$f":"CB59/CB60*100","v":0},0,0,0,null,0,0,0,0,null,0,0,0,0,null,{"$f":"CQ59/CQ60*100","v":{"$error":"#DIV/0!"}},{"$f":"CR59/CR60*100","v":{"$error":"#DIV/0!"}},{"$f":"CS59/CS60*100","v":{"$error":"#DIV/0!"}},{"$f":"CT59/CT60*100","v":{"$error":"#DIV/0!"}},null,{"$f":"CV59/CV60*100","v":{"$error":"#DIV/0!"}},{"$f":"CW59/CW60*100","v":{"$error":"#DIV/0!"}},{"$f":"CX59/CX60*100","v":{"$error":"#DIV/0!"}},{"$f":"CY59/CY60*100","v":{"$error":"#DIV/0!"}},null,{"$f":"DA59/DA60*100","v":{"$error":"#DIV/0!"}},{"$f":"DB59/DB60*100","v":{"$error":"#DIV/0!"}},{"$f":"DC59/DC60*100","v":{"$error":"#DIV/0!"}},{"$f":"DD59/DD60*100","v":{"$error":"#DIV/0!"}},null,{"$f":"DF59/DF60*100","v":{"$error":"#DIV/0!"}},{"$f":"DG59/DG60*100","v":{"$error":"#DIV/0!"}},{"$f":"DH59/DH60*100","v":{"$error":"#DIV/0!"}},{"$f":"DI59/DI60*100","v":{"$error":"#DIV/0!"}},null,{"$f":"DK59/DK60*100","v":{"$error":"#DIV/0!"}},{"$f":"DL59/DL60*100","v":{"$error":"#DIV/0!"}},{"$f":"DM59/DM60*100","v":{"$error":"#DIV/0!"}},{"$f":"DN59/DN60*100","v":{"$error":"#DIV/0!"}},null,{"$f":"DP59/DP60*100","v":{"$error":"#DIV/0!"}},{"$f":"DQ59/DQ60*100","v":{"$error":"#DIV/0!"}},{"$f":"DR59/DR60*100","v":{"$error":"#DIV/0!"}},{"$f":"DS59/DS60*100","v":{"$error":"#DIV/0!"}},null,{"$f":"DU59/DU60*100","v":{"$error":"#DIV/0!"}},{"$f":"DV59/DV60*100","v":{"$error":"#DIV/0!"}},{"$f":"DW59/DW60*100","v":{"$error":"#DIV/0!"}},{"$f":"DX59/DX60*100","v":{"$error":"#DIV/0!"}},null,{"$f":"DZ59/DZ60*100","v":{"$error":"#DIV/0!"}},{"$f":"EA59/EA60*100","v":{"$error":"#DIV/0!"}},{"$f":"EB59/EB60*100","v":{"$error":"#DIV/0!"}},{"$f":"EC59/EC60*100","v":{"$error":"#DIV/0!"}}]
[null,null,"男　女　合　計 (名)",null,{"$f":"E31+E59","v":0},0,0,{"$f":"SUM(E62:G62)","v":0},null,{"$f":"J31+J59","v":0},{"$f":"K31+K59","v":0},0,0,0,0,0,0,{"$f":"R31+R59","v":0},0,0,0,0,{"$f":"W31+W59","v":0},0,0,0,0,{"$f":"AB31+AB59","v":0},0,0,0,0,{"$f":"AG31+AG59","v":0},0,0,0,0,{"$f":"AL31+AL59","v":0},0,0,0,0,{"$f":"AQ31+AQ59","v":0},0,0,0,0,{"$f":"AV31+AV59","v":0},0,0,0,0,{"$f":"BA31+BA59","v":0},0,0,0,0,{"$f":"BF31+BF59","v":0},0,0,0,0,{"$f":"BK31+BK59","v":0},0,0,0,0,{"$f":"BP31+BP59","v":0},0,0,0,0,{"$f":"BU31+BU59","v":0},0,{"$f":"BW31+BW59","v":0},0,0,0,0,{"$f":"CB31+CB59","v":0},0,0,{"$f":"SUM(CB62:CD62)","v":0},null,{"$f":"CG31+CG59","v":0},0,0,{"$f":"SUM(CG62:CI62)","v":0},null,{"$f":"CL31+CL59","v":0},0,0,{"$f":"SUM(CL62:CN62)","v":0},null,{"$f":"CQ31+CQ59","v":0},0,0,{"$f":"SUM(CQ62:CS62)","v":0},null,{"$f":"CV31+CV59","v":0},0,0,{"$f":"SUM(CV62:CX62)","v":0},null,{"$f":"DA31+DA59","v":0},0,0,{"$f":"SUM(DA62:DC62)","v":0},null,{"$f":"DF31+DF59","v":0},0,0,{"$f":"SUM(DF62:DH62)","v":0},null,{"$f":"DK31+DK59","v":0},0,0,{"$f":"SUM(DK62:DM62)","v":0},null,{"$f":"DP31+DP59","v":0},0,0,{"$f":"SUM(DP62:DR62)","v":0},null,{"$f":"DU31+DU59","v":0},0,0,{"$f":"SUM(DU62:DW62)","v":0},null,{"$f":"DZ31+DZ59","v":0},0,0,{"$f":"SUM(DZ62:EB62)","v":0}]
[null,null,"男 女 在 籍 数 (名)",null,121,145,149,{"$f":"SUM(E63:G63)","v":415},null,{"$f":"J60+J62","v":0},{"$f":"K60+K62","v":0},0,0,0,0,0,0,{"$f":"R60+R62","v":0},0,0,0,0,{"$f":"W60+W62","v":0},0,0,0,0,{"$f":"AB60+AB62","v":0},0,0,0,0,{"$f":"AG60+AG62","v":0},0,0,0,0,{"$f":"AL60+AL62","v":0},0,0,0,0,{"$f":"AQ60+AQ62","v":0},0,0,0,0,{"$f":"AV60+AV62","v":0},0,0,0,0,{"$f":"BA60+BA62","v":0},0,0,0,0,{"$f":"BF60+BF62","v":0},0,0,0,0,{"$f":"BK60+BK62","v":0},0,0,0,0,{"$f":"BP60+BP62","v":0},0,0,0,0,{"$f":"BU60+BU62","v":0},0,{"$f":"BW60+BW62","v":0},0,0,0,0,47,64,54,{"$f":"SUM(CB63:CD63)","v":165},null,70,76,94,{"$f":"SUM(CG63:CI63)","v":240},null,4,5,1,{"$f":"SUM(CL63:CN63)","v":10},null,0,0,0,{"$f":"SUM(CQ63:CS63)","v":0},null,0,0,0,{"$f":"SUM(CV63:CX63)","v":0},null,0,0,0,{"$f":"SUM(DA63:DC63)","v":0},null,0,0,0,{"$f":"SUM(DF63:DH63)","v":0},null,0,0,0,{"$f":"SUM(DK63:DM63)","v":0},null,0,0,0,{"$f":"SUM(DP63:DR63)","v":0},null,0,0,0,{"$f":"SUM(DU63:DW63)","v":0},null,0,0,0,{"$f":"SUM(DZ63:EB63)","v":0}]
[null,null,"男 女 入 部 率 (％)",null,{"$f":"E62/E63*100","v":0},{"$f":"F62/F63*100","v":0},{"$f":"G62/G63*100","v":0},{"$f":"H62/H63*100","v":0},null,{"$f":"J62/J63*100","v":{"$error":"#DIV/0!"}},{"$error":"#DIV/0!"},{"$error":"#DIV/0!"},{"$error":"#DIV/0!"},null,{"$error":"#DIV/0!"},{"$error":"#DIV/0!"},{"$error":"#DIV/0!"},{"$f":"R62/R63*100","v":{"$error":"#DIV/0!"}},null,{"$error":"#DIV/0!"},{"$error":"#DIV/0!"},{"$error":"#DIV/0!"},{"$f":"W62/W63*100","v":{"$error":"#DIV/0!"}},null,{"$error":"#DIV/0!"},{"$error":"#DIV/0!"},{"$error":"#DIV/0!"},{"$f":"AB62/AB63*100","v":{"$error":"#DIV/0!"}},null,{"$error":"#DIV/0!"},{"$error":"#DIV/0!"},{"$error":"#DIV/0!"},{"$f":"AG62/AG63*100","v":{"$error":"#DIV/0!"}},null,{"$error":"#DIV/0!"},{"$error":"#DIV/0!"},{"$error":"#DIV/0!"},{"$f":"AL62/AL63*100","v":{"$error":"#DIV/0!"}},null,{"$error":"#DIV/0!"},{"$error":"#DIV/0!"},{"$error":"#DIV/0!"},{"$f":"AQ62/AQ63*100","v":{"$error":"#DIV/0!"}},null,{"$error":"#DIV/0!"},{"$error":"#DIV/0!"},{"$error":"#DIV/0!"},{"$f":"AV62/AV63*100","v":{"$error":"#DIV/0!"}},null,{"$error":"#DIV/0!"},{"$error":"#DIV/0!"},{"$error":"#DIV/0!"},{"$f":"BA62/BA63*100","v":{"$error":"#DIV/0!"}},null,{"$error":"#DIV/0!"},{"$error":"#DIV/0!"},{"$error":"#DIV/0!"},{"$f":"BF62/BF63*100","v":{"$error":"#DIV/0!"}},null,{"$error":"#DIV/0!"},{"$error":"#DIV/0!"},{"$error":"#DIV/0!"},{"$f":"BK62/BK63*100","v":{"$error":"#DIV/0!"}},null,{"$error":"#DIV/0!"},{"$error":"#DIV/0!"},{"$error":"#DIV/0!"},{"$f":"BP62/BP63*100","v":{"$error":"#DIV/0!"}},null,{"$error":"#DIV/0!"},{"$error":"#DIV/0!"},{"$error":"#DIV/0!"},{"$f":"BU62/BU63*100","v":{"$error":"#DIV/0!"}},null,{"$f":"BW62/BW63*100","v":{"$error":"#DIV/0!"}},{"$error":"#DIV/0!"},{"$error":"#DIV/0!"},{"$error":"#DIV/0!"},null,{"$f":"CB62/CB63*100","v":0},0,0,0,null,0,0,0,0,null,0,0,0,0,null,{"$f":"CQ62/CQ63*100","v":{"$error":"#DIV/0!"}},{"$f":"CR62/CR63*100","v":{"$error":"#DIV/0!"}},{"$f":"CS62/CS63*100","v":{"$error":"#DIV/0!"}},{"$f":"CT62/CT63*100","v":{"$error":"#DIV/0!"}},null,{"$f":"CV62/CV63*100","v":{"$error":"#DIV/0!"}},{"$f":"CW62/CW63*100","v":{"$error":"#DIV/0!"}},{"$f":"CX62/CX63*100","v":{"$error":"#DIV/0!"}},{"$f":"CY62/CY63*100","v":{"$error":"#DIV/0!"}},null,{"$f":"DA62/DA63*100","v":{"$error":"#DIV/0!"}},{"$f":"DB62/DB63*100","v":{"$error":"#DIV/0!"}},{"$f":"DC62/DC63*100","v":{"$error":"#DIV/0!"}},{"$f":"DD62/DD63*100","v":{"$error":"#DIV/0!"}},null,{"$f":"DF62/DF63*100","v":{"$error":"#DIV/0!"}},{"$f":"DG62/DG63*100","v":{"$error":"#DIV/0!"}},{"$f":"DH62/DH63*100","v":{"$error":"#DIV/0!"}},{"$f":"DI62/DI63*100","v":{"$error":"#DIV/0!"}},null,{"$f":"DK62/DK63*100","v":{"$error":"#DIV/0!"}},{"$f":"DL62/DL63*100","v":{"$error":"#DIV/0!"}},{"$f":"DM62/DM63*100","v":{"$error":"#DIV/0!"}},{"$f":"DN62/DN63*100","v":{"$error":"#DIV/0!"}},null,{"$f":"DP62/DP63*100","v":{"$error":"#DIV/0!"}},{"$f":"DQ62/DQ63*100","v":{"$error":"#DIV/0!"}},{"$f":"DR62/DR63*100","v":{"$error":"#DIV/0!"}},{"$f":"DS62/DS63*100","v":{"$error":"#DIV/0!"}},null,{"$f":"DU62/DU63*100","v":{"$error":"#DIV/0!"}},{"$f":"DV62/DV63*100","v":{"$error":"#DIV/0!"}},{"$f":"DW62/DW63*100","v":{"$error":"#DIV/0!"}},{"$f":"DX62/DX63*100","v":{"$error":"#DIV/0!"}},null,{"$f":"DZ62/DZ63*100","v":{"$error":"#DIV/0!"}},{"$f":"EA62/EA63*100","v":{"$error":"#DIV/0!"}},{"$f":"EB62/EB63*100","v":{"$error":"#DIV/0!"}},{"$f":"EC62/EC63*100","v":{"$error":"#DIV/0!"}}]

{"sheet":"４伊勢崎佐波","index":4,"n_rows":64,"n_cols":134,"rows_kept":64,"cut":false,"hidden":false,"merged":[[2,4,2,8]]}
[]
[null,null,"令和８年度　群馬県中学校　運動部員数調査結果    （黄色部分は入力禁止）"]
[null,null,null,null,"４伊勢崎市佐波郡(14校)",null,null,null,null,null,"第一",null,null,null,null,"第二",null,null,null,null,"第三",null,null,null,null,"殖蓮",null,null,null,null,"宮郷",null,null,null,null,"第四",null,null,null,null,"赤堀",null,null,null,null,"あずま",null,null,null,null,"境北",null,null,null,null,"境西",null,null,null,null,"境南",null,null,null,null,"玉村",null,null,null,null,"玉村南",null,null,null,null,"四ツ葉"]
[null,null,"№","  競　技　名","１年","２年","３年","合計","設置","１年","２年","３年","合計","設置","１年","２年","３年","合計","設置","１年","２年","３年","合計","設置","１年","２年","３年","合計","設置","１年","２年","３年","合計","設置","１年","２年","３年","合計","設置","１年","２年","３年","合計","設置","１年","２年","３年","合計","設置","１年","２年","３年","合計","設置","１年","２年","３年","合計","設置","１年","２年","３年","合計","設置","１年","２年","３年","合計","設置","１年","２年","３年","合計","設置","１年","２年","３年","合計","設置","１年","２年","３年","合計","設置","１年","２年","３年","合計","設置","１年","２年","３年","合計","設置","１年","２年","３年","合計","設置","１年","２年","３年","合計","設置","１年","２年","３年","合計","設置","１年","２年","３年","合計","設置","１年","２年","３年","合計","設置","１年","２年","３年","合計","設置","１年","２年","３年","合計","設置","１年","２年","３年","合計","設置"]
[null,null,1,"体　操　競　技",{"$f":"J5+O5+T5+Y5+AD5+AI5+AN5+AS5+AX5+BC5+BH5+BM5+BR5+BW5+CB5+CG5+CL5+CQ5+CV5+DA5+DF5+DK5+DP5+DU5+DZ5","v":0},0,0,0,0,null,null,null,{"$f":"SUM(J5:L5)","v":0},null,null,null,null,{"$f":"SUM(O5:Q5)","v":0},null,null,null,null,{"$f":"SUM(T5:V5)","v":0},null,null,null,null,{"$f":"SUM(Y5:AA5)","v":0},null,null,null,null,{"$f":"SUM(AD5:AF5)","v":0},null,null,null,null,{"$f":"SUM(AI5:AK5)","v":0},null,null,null,null,{"$f":"SUM(AN5:AP5)","v":0},null,null,null,null,{"$f":"SUM(AS5:AU5)","v":0},null,null,null,null,{"$f":"SUM(AX5:AZ5)","v":0},null,null,null,null,{"$f":"SUM(BC5:BE5)","v":0},null,null,null,null,{"$f":"SUM(BH5:BJ5)","v":0},null,null,null,null,{"$f":"SUM(BM5:BO5)","v":0},null,null,null,null,{"$f":"SUM(BR5:BT5)","v":0},null,null,null,null,{"$f":"SUM(BW5:BY5)","v":0},null,null,null,null,{"$f":"SUM(CB5:CD5)","v":0},null,null,null,null,{"$f":"SUM(CG5:CI5)","v":0},null,null,null,null,{"$f":"SUM(CL5:CN5)","v":0},null,null,null,null,{"$f":"SUM(CQ5:CS5)","v":0},null,null,null,null,{"$f":"SUM(CV5:CX5)","v":0},null,null,null,null,{"$f":"SUM(DA5:DC5)","v":0},null,null,null,null,{"$f":"SUM(DF5:DH5)","v":0},null,null,null,null,{"$f":"SUM(DK5:DM5)","v":0},null,null,null,null,{"$f":"SUM(DP5:DR5)","v":0},null,null,null,null,{"$f":"SUM(DU5:DW5)","v":0},null,null,null,null,{"$f":"SUM(DZ5:EB5)","v":0}]
[null,null,2,"新    体    操",0,0,0,0,0,null,null,null,{"$f":"SUM(J6:L6)","v":0},null,null,null,null,{"$f":"SUM(O6:Q6)","v":0},null,null,null,null,{"$f":"SUM(T6:V6)","v":0},null,null,null,null,{"$f":"SUM(Y6:AA6)","v":0},null,null,null,null,{"$f":"SUM(AD6:AF6)","v":0},null,null,null,null,{"$f":"SUM(AI6:AK6)","v":0},null,null,null,null,{"$f":"SUM(AN6:AP6)","v":0},null,null,null,null,{"$f":"SUM(AS6:AU6)","v":0},null,null,null,null,{"$f":"SUM(AX6:AZ6)","v":0},null,null,null,null,{"$f":"SUM(BC6:BE6)","v":0},null,null,null,null,{"$f":"SUM(BH6:BJ6)","v":0},null,null,null,null,{"$f":"SUM(BM6:BO6)","v":0},null,null,null,null,{"$f":"SUM(BR6:BT6)","v":0},null,null,null,null,{"$f":"SUM(BW6:BY6)","v":0},null,null,null,null,{"$f":"SUM(CB6:CD6)","v":0},null,null,null,null,{"$f":"SUM(CG6:CI6)","v":0},null,null,null,null,{"$f":"SUM(CL6:CN6)","v":0},null,null,null,null,{"$f":"SUM(CQ6:CS6)","v":0},null,null,null,null,{"$f":"SUM(CV6:CX6)","v":0},null,null,null,null,{"$f":"SUM(DA6:DC6)","v":0},null,null,null,null,{"$f":"SUM(DF6:DH6)","v":0},null,null,null,null,{"$f":"SUM(DK6:DM6)","v":0},null,null,null,null,{"$f":"SUM(DP6:DR6)","v":0},null,null,null,null,{"$f":"SUM(DU6:DW6)","v":0},null,null,null,null,{"$f":"SUM(DZ6:EB6)","v":0}]
[null,null,3,"軟　式　野　球",0,0,0,0,0,null,null,null,0,null,null,null,null,0,null,null,null,null,0,null,null,null,null,0,null,null,null,null,0,null,null,null,null,0,null,null,null,null,0,null,null,null,null,0,null,null,null,null,0,null,null,null,null,0,null,null,null,null,0,null,null,null,null,0,null,null,null,null,0,null,null,null,null,0,null,null,null,null,0,null,null,null,null,0,null,null,null,null,0,null,null,null,null,0,null,null,null,null,0,null,null,null,null,0,null,null,null,null,0,null,null,null,null,0,null,null,null,null,0,null,null,null,null,0,null,null,null,null,0]
[null,null,4,"ソフトボール",0,0,0,0,0,null,null,null,0,null,null,null,null,0,null,null,null,null,0,null,null,null,null,0,null,null,null,null,0,null,null,null,null,0,null,null,null,null,0,null,null,null,null,0,null,null,null,null,0,null,null,null,null,0,null,null,null,null,0,null,null,null,null,0,null,null,null,null,0,null,null,null,null,0,null,null,null,null,0,null,null,null,null,0,null,null,null,null,0,null,null,null,null,0,null,null,null,null,0,null,null,null,null,0,null,null,null,null,0,null,null,null,null,0,null,null,null,null,0,null,null,null,null,0,null,null,null,null,0]
[null,null,5,"バスケットボール",0,0,0,0,0,null,null,null,0,null,null,null,null,0,null,null,null,null,0,null,null,null,null,0,null,null,null,null,0,null,null,null,null,0,null,null,null,null,0,null,null,null,null,0,null,null,null,null,0,null,null,null,null,0,null,null,null,null,0,null,null,null,null,0,null,null,null,null,0,null,null,null,null,0,null,null,null,null,0,null,null,null,null,0,null,null,null,null,0,null,null,null,null,0,null,null,null,null,0,null,null,null,null,0,null,null,null,null,0,null,null,null,null,0,null,null,null,null,0,null,null,null,null,0,null,null,null,null,0]
[null,null,6,"ハンドボール",0,0,0,0,0,null,null,null,0,null,null,null,null,0,null,null,null,null,0,null,null,null,null,0,null,null,null,null,0,null,null,null,null,0,null,null,null,null,0,null,null,null,null,0,null,null,null,null,0,null,null,null,null,0,null,null,null,null,0,null,null,null,null,0,null,null,null,null,0,null,null,null,null,0,null,null,null,null,0,null,null,null,null,0,null,null,null,null,0,null,null,null,null,0,null,null,null,null,0,null,null,null,null,0,null,null,null,null,0,null,null,null,null,0,null,null,null,null,0,null,null,null,null,0,null,null,null,null,0]
[null,"男",7,"バレーボール",0,0,0,0,0,null,null,null,0,null,null,null,null,0,null,null,null,null,0,null,null,null,null,0,null,null,null,null,0,null,null,null,null,0,null,null,null,null,0,null,null,null,null,0,null,null,null,null,0,null,null,null,null,0,null,null,null,null,0,null,null,null,null,0,null,null,null,null,0,null,null,null,null,0,null,null,null,null,0,null,null,null,null,0,null,null,null,null,0,null,null,null,null,0,null,null,null,null,0,null,null,null,null,0,null,null,null,null,0,null,null,null,null,0,null,null,null,null,0,null,null,null,null,0,null,null,null,null,0]
[null,null,8,"ソフトテニス",0,0,0,0,0,null,null,null,0,null,null,null,null,0,null,null,null,null,0,null,null,null,null,0,null,null,null,null,0,null,null,null,null,0,null,null,null,null,0,null,null,null,null,0,null,null,null,null,0,null,null,null,null,0,null,null,null,null,0,null,null,null,null,0,null,null,null,null,0,null,null,null,null,0,null,null,null,null,0,null,null,null,null,0,null,null,null,null,0,null,null,null,null,0,null,null,null,null,0,null,null,null,null,0,null,null,null,null,0,null,null,null,null,0,null,null,null,null,0,null,null,null,null,0,null,null,null,null,0]
[null,null,9,"卓    球",0,0,0,0,0,null,null,null,0,null,null,null,null,0,null,null,null,null,0,null,null,null,null,0,null,null,null,null,0,null,null,null,null,0,null,null,null,null,0,null,null,null,null,0,null,null,null,null,0,null,null,null,null,0,null,null,null,null,0,null,null,null,null,0,null,null,null,null,0,null,null,null,null,0,null,null,null,null,0,null,null,null,null,0,null,null,null,null,0,null,null,null,null,0,null,null,null,null,0,null,null,null,null,0,null,null,null,null,0,null,null,null,null,0,null,null,null,null,0,null,null,null,null,0,null,null,null,null,0]
[null,null,10,"バドミントン",0,0,0,0,0,null,null,null,0,null,null,null,null,0,null,null,null,null,0,null,null,null,null,0,null,null,null,null,0,null,null,null,null,0,null,null,null,null,0,null,null,null,null,0,null,null,null,null,0,null,null,null,null,0,null,null,null,null,0,null,null,null,null,0,null,null,null,null,0,null,null,null,null,0,null,null,null,null,0,null,null,null,null,0,null,null,null,null,0,null,null,null,null,0,null,null,null,null,0,null,null,null,null,0,null,null,null,null,0,null,null,null,null,0,null,null,null,null,0,null,null,null,null,0,null,null,null,null,0]
[null,null,11,"サッカー",0,0,0,0,0,null,null,null,0,null,null,null,null,0,null,null,null,null,0,null,null,null,null,0,null,null,null,null,0,null,null,null,null,0,null,null,null,null,0,null,null,null,null,0,null,null,null,null,0,null,null,null,null,0,null,null,null,null,0,null,null,null,null,0,null,null,null,null,0,null,null,null,null,0,null,null,null,null,0,null,null,null,null,0,null,null,null,null,0,null,null,null,null,0,null,null,null,null,0,null,null,null,null,0,null,null,null,null,0,null,null,null,null,0,null,null,null,null,0,null,null,null,null,0,null,null,null,null,0]
[null,null,12,"陸　上　競　技",0,0,0,0,0,null,null,null,0,null,null,null,null,0,null,null,null,null,0,null,null,null,null,0,null,null,null,null,0,null,null,null,null,0,null,null,null,null,0,null,null,null,null,0,null,null,null,null,0,null,null,null,null,0,null,null,null,null,0,null,null,null,null,0,null,null,null,null,0,null,null,null,null,0,null,null,null,null,0,null,null,null,null,0,null,null,null,null,0,null,null,null,null,0,null,null,null,null,0,null,null,null,null,0,null,null,null,null,0,null,null,null,null,0,null,null,null,null,0,null,null,null,null,0,null,null,null,null,0]
[null,null,13,"水　　泳",0,0,0,0,0,null,null,null,0,null,null,null,null,0,null,null,null,null,0,null,null,null,null,0,null,null,null,null,0,null,null,null,null,0,null,null,null,null,0,null,null,null,null,0,null,null,null,null,0,null,null,null,null,0,null,null,null,null,0,null,null,null,null,0,null,null,null,null,0,null,null,null,null,0,null,null,null,null,0,null,null,null,null,0,null,null,null,null,0,null,null,null,null,0,null,null,null,null,0,null,null,null,null,0,null,null,null,null,0,null,null,null,null,0,null,null,null,null,0,null,null,null,null,0,null,null,null,null,0]
[null,"子",14,"柔　　道",0,0,0,0,0,null,null,null,0,null,null,null,null,0,null,null,null,null,0,null,null,null,null,0,null,null,null,null,0,null,null,null,null,0,null,null,null,null,0,null,null,null,null,0,null,null,null,null,0,null,null,null,null,0,null,null,null,null,0,null,null,null,null,0,null,null,null,null,0,null,null,null,null,0,null,null,null,null,0,null,null,null,null,0,null,null,null,null,0,null,null,null,null,0,null,null,null,null,0,null,null,null,null,0,null,null,null,null,0,null,null,null,null,0,null,null,null,null,0,null,null,null,null,0,null,null,null,null,0]
[null,null,15,"剣　　道",0,0,0,0,0,null,null,null,0,null,null,null,null,0,null,null,null,null,0,null,null,null,null,0,null,null,null,null,0,null,null,null,null,0,null,null,null,null,0,null,null,null,null,0,null,null,null,null,0,null,null,null,null,0,null,null,null,null,0,null,null,null,null,0,null,null,null,null,0,null,null,null,null,0,null,null,null,null,0,null,null,null,null,0,null,null,null,null,0,null,null,null,null,0,null,null,null,null,0,null,null,null,null,0,null,null,null,null,0,null,null,null,null,0,null,null,null,null,0,null,null,null,null,0,null,null,null,null,0]
[null,null,16,"相　　撲",0,0,0,0,0,null,null,null,0,null,null,null,null,0,null,null,null,null,0,null,null,null,null,0,null,null,null,null,0,null,null,null,null,0,null,null,null,null,0,null,null,null,null,0,null,null,null,null,0,null,null,null,null,0,null,null,null,null,0,null,null,null,null,0,null,null,null,null,0,null,null,null,null,0,null,null,null,null,0,null,null,null,null,0,null,null,null,null,0,null,null,null,null,0,null,null,null,null,0,null,null,null,null,0,null,null,null,null,0,null,null,null,null,0,null,null,null,null,0,null,null,null,null,0,null,null,null,null,0]
[null,null,17,"ダ    ン    ス",0,0,0,0,0,null,null,null,0,null,null,null,null,0,null,null,null,null,0,null,null,null,null,0,null,null,null,null,0,null,null,null,null,0,null,null,null,null,0,null,null,null,null,0,null,null,null,null,0,null,null,null,null,0,null,null,null,null,0,null,null,null,null,0,null,null,null,null,0,null,null,null,null,0,null,null,null,null,0,null,null,null,null,0,null,null,null,null,0,null,null,null,null,0,null,null,null,null,0,null,null,null,null,0,null,null,null,null,0,null,null,null,null,0,null,null,null,null,0,null,null,null,null,0,null,null,null,null,0]
[null,null,18,"ス    キ    ー",0,0,0,0,0,null,null,null,0,null,null,null,null,0,null,null,null,null,0,null,null,null,null,0,null,null,null,null,0,null,null,null,null,0,null,null,null,null,0,null,null,null,null,0,null,null,null,null,0,null,null,null,null,0,null,null,null,null,0,null,null,null,null,0,null,null,null,null,0,null,null,null,null,0,null,null,null,null,0,null,null,null,null,0,null,null,null,null,0,null,null,null,null,0,null,null,null,null,0,null,null,null,null,0,null,null,null,null,0,null,null,null,null,0,null,null,null,null,0,null,null,null,null,0,null,null,null,null,0]
[null,null,19,"ス  ケ  ー  ト",0,0,0,0,0,null,null,null,0,null,null,null,null,0,null,null,null,null,0,null,null,null,null,0,null,null,null,null,0,null,null,null,null,0,null,null,null,null,0,null,null,null,null,0,null,null,null,null,0,null,null,null,null,0,null,null,null,null,0,null,null,null,null,0,null,null,null,null,0,null,null,null,null,0,null,null,null,null,0,null,null,null,null,0,null,null,null,null,0,null,null,null,null,0,null,null,null,null,0,null,null,null,null,0,null,null,null,null,0,null,null,null,null,0,null,null,null,null,0,null,null,null,null,0,null,null,null,null,0]
[null,null,20,"アイスホッケー",0,0,0,0,0,null,null,null,0,null,null,null,null,0,null,null,null,null,0,null,null,null,null,0,null,null,null,null,0,null,null,null,null,0,null,null,null,null,0,null,null,null,null,0,null,null,null,null,0,null,null,null,null,0,null,null,null,null,0,null,null,null,null,0,null,null,null,null,0,null,null,null,null,0,null,null,null,null,0,null,null,null,null,0,null,null,null,null,0,null,null,null,null,0,null,null,null,null,0,null,null,null,null,0,null,null,null,null,0,null,null,null,null,0,null,null,null,null,0,null,null,null,null,0,null,null,null,null,0]
[null,null,21,"テ　　ニ　　ス",0,0,0,0,0,null,null,null,0,null,null,null,null,0,null,null,null,null,0,null,null,null,null,0,null,null,null,null,0,null,null,null,null,0,null,null,null,null,0,null,null,null,null,0,null,null,null,null,0,null,null,null,null,0,null,null,null,null,0,null,null,null,null,0,null,null,null,null,0,null,null,null,null,0,null,null,null,null,0,null,null,null,null,0,null,null,null,null,0,null,null,null,null,0,null,null,null,null,0,null,null,null,null,0,null,null,null,null,0,null,null,null,null,0,null,null,null,null,0,null,null,null,null,0,null,null,null,null,0]
[null,null,22,"空　　手",0,0,0,0,0,null,null,null,0,null,null,null,null,0,null,null,null,null,0,null,null,null,null,0,null,null,null,null,0,null,null,null,null,0,null,null,null,null,0,null,null,null,null,0,null,null,null,null,0,null,null,null,null,0,null,null,null,null,0,null,null,null,null,0,null,null,null,null,0,null,null,null,null,0,null,null,null,null,0,null,null,null,null,0,null,null,null,null,0,null,null,null,null,0,null,null,null,null,0,null,null,null,null,0,null,null,null,null,0,null,null,null,null,0,null,null,null,null,0,null,null,null,null,0,null,null,null,null,0]
[null,null,23,"ラ　グ　ビ　ー",0,0,0,0,0,null,null,null,{"$f":"SUM(J27:L27)","v":0},null,null,null,null,{"$f":"SUM(O27:Q27)","v":0},null,null,null,null,{"$f":"SUM(T27:V27)","v":0},null,null,null,null,{"$f":"SUM(Y27:AA27)","v":0},null,null,null,null,{"$f":"SUM(AD27:AF27)","v":0},null,null,null,null,{"$f":"SUM(AI27:AK27)","v":0},null,null,null,null,{"$f":"SUM(AN27:AP27)","v":0},null,null,null,null,{"$f":"SUM(AS27:AU27)","v":0},null,null,null,null,{"$f":"SUM(AX27:AZ27)","v":0},null,null,null,null,{"$f":"SUM(BC27:BE27)","v":0},null,null,null,null,{"$f":"SUM(BH27:BJ27)","v":0},null,null,null,null,{"$f":"SUM(BM27:BO27)","v":0},null,null,null,null,{"$f":"SUM(BR27:BT27)","v":0},null,null,null,null,{"$f":"SUM(BW27:BY27)","v":0},null,null,null,null,{"$f":"SUM(CB27:CD27)","v":0},null,null,null,null,{"$f":"SUM(CG27:CI27)","v":0},null,null,null,null,{"$f":"SUM(CL27:CN27)","v":0},null,null,null,null,{"$f":"SUM(CQ27:CS27)","v":0},null,null,null,null,{"$f":"SUM(CV27:CX27)","v":0},null,null,null,null,{"$f":"SUM(DA27:DC27)","v":0},null,null,null,null,{"$f":"SUM(DF27:DH27)","v":0},null,null,null,null,{"$f":"SUM(DK27:DM27)","v":0},null,null,null,null,{"$f":"SUM(DP27:DR27)","v":0},null,null,null,null,{"$f":"SUM(DU27:DW27)","v":0},null,null,null,null,{"$f":"SUM(DZ27:EB27)","v":0}]
[null,null,null,null,0,0,0,0,0]
[null,null,null,null,0,0,0,0,0]
[null,null,null,null,0,0,0,0,0]
[null,null,"男　子　合　計 (名)",null,{"$f":"J31+O31+T31+Y31+AD31+AI31+AN31+AS31+AX31+BC31+BH31+BM31+BR31+BW31+CB31+CG31+CL31+CQ31+CV31+DA31+DF31+DK31+DP31+DU31+DZ31","v":0},0,0,0,0,{"$f":"SUM(J5:J30)","v":0},0,0,{"$f":"SUM(M5:M30)","v":0},0,0,0,0,0,0,0,0,0,0,0,0,0,0,0,0,0,0,0,0,0,0,0,0,0,0,0,0,0,0,0,0,0,0,0,0,0,0,0,0,0,0,0,0,0,0,0,0,0,0,0,0,0,0,0,0,0,0,0,0,{"$f":"SUM(BV5:BV30)","v":0},{"$f":"SUM(BW5:BW30)","v":0},0,0,0,0,0,0,0,0,0,0,0,0,0,0,0,0,0,0,0,0,0,0,0,0,0,0,0,0,0,0,0,0,0,0,0,0,0,0,0,0,0,0,0,0,0,0,0,0,0,0,0,0,0,0,0,0,0,0,0]
[null,null,"男 子 在 籍 数 (名)",null,0,0,0,0,null,null,null,null,{"$f":"SUM(J32:L32)","v":0},null,null,null,null,{"$f":"SUM(O32:Q32)","v":0},null,null,null,null,{"$f":"SUM(T32:V32)","v":0},null,null,null,null,{"$f":"SUM(Y32:AA32)","v":0},null,null,null,null,{"$f":"SUM(AD32:AF32)","v":0},null,null,null,null,{"$f":"SUM(AI32:AK32)","v":0},null,null,null,null,{"$f":"SUM(AN32:AP32)","v":0},null,null,null,null,{"$f":"SUM(AS32:AU32)","v":0},null,null,null,null,{"$f":"SUM(AX32:AZ32)","v":0},null,null,null,null,{"$f":"SUM(BC32:BE32)","v":0},null,null,null,null,{"$f":"SUM(BH32:BJ32)","v":0},null,null,null,null,{"$f":"SUM(BM32:BO32)","v":0},null,null,null,null,{"$f":"SUM(BR32:BT32)","v":0},null,null,null,null,{"$f":"SUM(BW32:BY32)","v":0},null,null,null,null,{"$f":"SUM(CB32:CD32)","v":0},null,null,null,null,{"$f":"SUM(CG32:CI32)","v":0},null,null,null,null,{"$f":"SUM(CL32:CN32)","v":0},null,null,null,null,{"$f":"SUM(CQ32:CS32)","v":0},null,null,null,null,{"$f":"SUM(CV32:CX32)","v":0},null,null,null,null,{"$f":"SUM(DA32:DC32)","v":0},null,null,null,null,{"$f":"SUM(DF32:DH32)","v":0},null,null,null,null,{"$f":"SUM(DK32:DM32)","v":0},null,null,null,null,{"$f":"SUM(DP32:DR32)","v":0},null,null,null,null,{"$f":"SUM(DU32:DW32)","v":0},null,null,null,null,{"$f":"SUM(DZ32:EB32)","v":0}]
[null,null,"男 子 入 部 率 (％)",null,{"$f":"E31/E32*100","v":{"$error":"#DIV/0!"}},{"$f":"F31/F32*100","v":{"$error":"#DIV/0!"}},{"$f":"G31/G32*100","v":{"$error":"#DIV/0!"}},{"$f":"H31/H32*100","v":{"$error":"#DIV/0!"}},null,{"$f":"J31/J32*100","v":{"$error":"#DIV/0!"}},{"$error":"#DIV/0!"},{"$error":"#DIV/0!"},{"$error":"#DIV/0!"},null,{"$error":"#DIV/0!"},{"$error":"#DIV/0!"},{"$error":"#DIV/0!"},{"$f":"R31/R32*100","v":{"$error":"#DIV/0!"}},null,{"$error":"#DIV/0!"},{"$error":"#DIV/0!"},{"$error":"#DIV/0!"},{"$f":"W31/W32*100","v":{"$error":"#DIV/0!"}},null,{"$error":"#DIV/0!"},{"$error":"#DIV/0!"},{"$error":"#DIV/0!"},{"$f":"AB31/AB32*100","v":{"$error":"#DIV/0!"}},null,{"$error":"#DIV/0!"},{"$error":"#DIV/0!"},{"$error":"#DIV/0!"},{"$f":"AG31/AG32*100","v":{"$error":"#DIV/0!"}},null,{"$error":"#DIV/0!"},{"$error":"#DIV/0!"},{"$error":"#DIV/0!"},{"$f":"AL31/AL32*100","v":{"$error":"#DIV/0!"}},null,{"$error":"#DIV/0!"},{"$error":"#DIV/0!"},{"$error":"#DIV/0!"},{"$f":"AQ31/AQ32*100","v":{"$error":"#DIV/0!"}},null,{"$error":"#DIV/0!"},{"$error":"#DIV/0!"},{"$error":"#DIV/0!"},{"$f":"AV31/AV32*100","v":{"$error":"#DIV/0!"}},null,{"$error":"#DIV/0!"},{"$error":"#DIV/0!"},{"$error":"#DIV/0!"},{"$f":"BA31/BA32*100","v":{"$error":"#DIV/0!"}},null,{"$error":"#DIV/0!"},{"$error":"#DIV/0!"},{"$error":"#DIV/0!"},{"$f":"BF31/BF32*100","v":{"$error":"#DIV/0!"}},null,{"$error":"#DIV/0!"},{"$error":"#DIV/0!"},{"$error":"#DIV/0!"},{"$f":"BK31/BK32*100","v":{"$error":"#DIV/0!"}},null,{"$error":"#DIV/0!"},{"$error":"#DIV/0!"},{"$error":"#DIV/0!"},{"$f":"BP31/BP32*100","v":{"$error":"#DIV/0!"}},null,{"$error":"#DIV/0!"},{"$error":"#DIV/0!"},{"$error":"#DIV/0!"},{"$f":"BU31/BU32*100","v":{"$error":"#DIV/0!"}},null,{"$f":"BW31/BW32*100","v":{"$error":"#DIV/0!"}},{"$error":"#DIV/0!"},{"$error":"#DIV/0!"},{"$error":"#DIV/0!"},null,{"$error":"#DIV/0!"},{"$error":"#DIV/0!"},{"$error":"#DIV/0!"},{"$error":"#DIV/0!"},null,{"$error":"#DIV/0!"},{"$error":"#DIV/0!"},{"$error":"#DIV/0!"},{"$error":"#DIV/0!"},null,{"$error":"#DIV/0!"},{"$error":"#DIV/0!"},{"$error":"#DIV/0!"},{"$error":"#DIV/0!"},null,{"$error":"#DIV/0!"},{"$error":"#DIV/0!"},{"$error":"#DIV/0!"},{"$error":"#DIV/0!"},null,{"$error":"#DIV/0!"},{"$error":"#DIV/0!"},{"$error":"#DIV/0!"},{"$error":"#DIV/0!"},null,{"$error":"#DIV/0!"},{"$error":"#DIV/0!"},{"$error":"#DIV/0!"},{"$error":"#DIV/0!"},null,{"$error":"#DIV/0!"},{"$error":"#DIV/0!"},{"$error":"#DIV/0!"},{"$error":"#DIV/0!"},null,{"$error":"#DIV/0!"},{"$error":"#DIV/0!"},{"$error":"#DIV/0!"},{"$error":"#DIV/0!"},null,{"$error":"#DIV/0!"},{"$error":"#DIV/0!"},{"$error":"#DIV/0!"},{"$error":"#DIV/0!"},null,{"$error":"#DIV/0!"},{"$error":"#DIV/0!"},{"$error":"#DIV/0!"},{"$error":"#DIV/0!"},null,{"$error":"#DIV/0!"},{"$error":"#DIV/0!"},{"$error":"#DIV/0!"},{"$error":"#DIV/0!"}]
[null,null,1,"体　操　競　技",{"$f":"J34+O34+T34+Y34+AD34+AI34+AN34+AS34+AX34+BC34+BH34+BM34+BR34+BW34+CB34+CG34+CL34+CQ34+CV34+DA34+DF34+DK34+DP34+DU34+DZ34","v":0},0,0,0,0,null,null,null,{"$f":"J34+K34+L34","v":0},null,null,null,null,{"$f":"O34+P34+Q34","v":0},null,null,null,null,{"$f":"T34+U34+V34","v":0},null,null,null,null,{"$f":"Y34+Z34+AA34","v":0},null,null,null,null,{"$f":"AD34+AE34+AF34","v":0},null,null,null,null,{"$f":"AI34+AJ34+AK34","v":0},null,null,null,null,{"$f":"AN34+AO34+AP34","v":0},null,null,null,null,{"$f":"AS34+AT34+AU34","v":0},null,null,null,null,{"$f":"AX34+AY34+AZ34","v":0},null,null,null,null,{"$f":"BC34+BD34+BE34","v":0},null,null,null,null,{"$f":"BH34+BI34+BJ34","v":0},null,null,null,null,{"$f":"BM34+BN34+BO34","v":0},null,null,null,null,{"$f":"BR34+BS34+BT34","v":0},null,null,null,null,{"$f":"BW34+BX34+BY34","v":0},null,null,null,null,{"$f":"CB34+CC34+CD34","v":0},null,null,null,null,{"$f":"CG34+CH34+CI34","v":0},null,null,null,null,{"$f":"CL34+CM34+CN34","v":0},null,null,null,null,{"$f":"CQ34+CR34+CS34","v":0},null,null,null,null,{"$f":"CV34+CW34+CX34","v":0},null,null,null,null,{"$f":"DA34+DB34+DC34","v":0},null,null,null,null,{"$f":"DF34+DG34+DH34","v":0},null,null,null,null,{"$f":"DK34+DL34+DM34","v":0},null,null,null,null,{"$f":"DP34+DQ34+DR34","v":0},null,null,null,null,{"$f":"DU34+DV34+DW34","v":0},null,null,null,null,{"$f":"DZ34+EA34+EB34","v":0}]
[null,null,2,"新    体    操",0,0,0,0,0,null,null,null,0,null,null,null,null,0,null,null,null,null,0,null,null,null,null,0,null,null,null,null,0,null,null,null,null,0,null,null,null,null,0,null,null,null,null,0,null,null,null,null,0,null,null,null,null,0,null,null,null,null,0,null,null,null,null,0,null,null,null,null,0,null,null,null,null,0,null,null,null,null,0,null,null,null,null,0,null,null,null,null,0,null,null,null,null,0,null,null,null,null,0,null,null,null,null,0,null,null,null,null,0,null,null,null,null,0,null,null,null,null,0,null,null,null,null,0,null,null,null,null,0]
[null,null,3,"軟　式　野　球",0,0,0,0,0,null,null,null,0,null,null,null,null,0,null,null,null,null,0,null,null,null,null,0,null,null,null,null,0,null,null,null,null,0,null,null,null,null,0,null,null,null,null,0,null,null,null,null,0,null,null,null,null,0,null,null,null,null,0,null,null,null,null,0,null,null,null,null,0,null,null,null,null,0,null,null,null,null,0,null,null,null,null,0,null,null,null,null,0,null,null,null,null,0,null,null,null,null,0,null,null,null,null,0,null,null,null,null,0,null,null,null,null,0,null,null,null,null,0,null,null,null,null,0,null,null,null,null,0]
[null,null,4,"ソフトボール",0,0,0,0,0,null,null,null,0,null,null,null,null,0,null,null,null,null,0,null,null,null,null,0,null,null,null,null,0,null,null,null,null,0,null,null,null,null,0,null,null,null,null,0,null,null,null,null,0,null,null,null,null,0,null,null,null,null,0,null,null,null,null,0,null,null,null,null,0,null,null,null,null,0,null,null,null,null,0,null,null,null,null,0,null,null,null,null,0,null,null,null,null,0,null,null,null,null,0,null,null,null,null,0,null,null,null,null,0,null,null,null,null,0,null,null,null,null,0,null,null,null,null,0,null,null,null,null,0]
[null,null,5,"バスケットボール",0,0,0,0,0,null,null,null,0,null,null,null,null,0,null,null,null,null,0,null,null,null,null,0,null,null,null,null,0,null,null,null,null,0,null,null,null,null,0,null,null,null,null,0,null,null,null,null,0,null,null,null,null,0,null,null,null,null,0,null,null,null,null,0,null,null,null,null,0,null,null,null,null,0,null,null,null,null,0,null,null,null,null,0,null,null,null,null,0,null,null,null,null,0,null,null,null,null,0,null,null,null,null,0,null,null,null,null,0,null,null,null,null,0,null,null,null,null,0,null,null,null,null,0,null,null,null,null,0]
[null,null,6,"ハンドボール",0,0,0,0,0,null,null,null,0,null,null,null,null,0,null,null,null,null,0,null,null,null,null,0,null,null,null,null,0,null,null,null,null,0,null,null,null,null,0,null,null,null,null,0,null,null,null,null,0,null,null,null,null,0,null,null,null,null,0,null,null,null,null,0,null,null,null,null,0,null,null,null,null,0,null,null,null,null,0,null,null,null,null,0,null,null,null,null,0,null,null,null,null,0,null,null,null,null,0,null,null,null,null,0,null,null,null,null,0,null,null,null,null,0,null,null,null,null,0,null,null,null,null,0,null,null,null,null,0]
[null,"女",7,"バレーボール",0,0,0,0,0,null,null,null,0,null,null,null,null,0,null,null,null,null,0,null,null,null,null,0,null,null,null,null,0,null,null,null,null,0,null,null,null,null,0,null,null,null,null,0,null,null,null,null,0,null,null,null,null,0,null,null,null,null,0,null,null,null,null,0,null,null,null,null,0,null,null,null,null,0,null,null,null,null,0,null,null,null,null,0,null,null,null,null,0,null,null,null,null,0,null,null,null,null,0,null,null,null,null,0,null,null,null,null,0,null,null,null,null,0,null,null,null,null,0,null,null,null,null,0,null,null,null,null,0]
[null,null,8,"ソフトテニス",0,0,0,0,0,null,null,null,0,null,null,null,null,0,null,null,null,null,0,null,null,null,null,0,null,null,null,null,0,null,null,null,null,0,null,null,null,null,0,null,null,null,null,0,null,null,null,null,0,null,null,null,null,0,null,null,null,null,0,null,null,null,null,0,null,null,null,null,0,null,null,null,null,0,null,null,null,null,0,null,null,null,null,0,null,null,null,null,0,null,null,null,null,0,null,null,null,null,0,null,null,null,null,0,null,null,null,null,0,null,null,null,null,0,null,null,null,null,0,null,null,null,null,0,null,null,null,null,0]
[null,null,9,"卓    球",0,0,0,0,0,null,null,null,0,null,null,null,null,0,null,null,null,null,0,null,null,null,null,0,null,null,null,null,0,null,null,null,null,0,null,null,null,null,0,null,null,null,null,0,null,null,null,null,0,null,null,null,null,0,null,null,null,null,0,null,null,null,null,0,null,null,null,null,0,null,null,null,null,0,null,null,null,null,0,null,null,null,null,0,null,null,null,null,0,null,null,null,null,0,null,null,null,null,0,null,null,null,null,0,null,null,null,null,0,null,null,null,null,0,null,null,null,null,0,null,null,null,null,0,null,null,null,null,0]
[null,null,10,"バドミントン",0,0,0,0,0,null,null,null,0,null,null,null,null,0,null,null,null,null,0,null,null,null,null,0,null,null,null,null,0,null,null,null,null,0,null,null,null,null,0,null,null,null,null,0,null,null,null,null,0,null,null,null,null,0,null,null,null,null,0,null,null,null,null,0,null,null,null,null,0,null,null,null,null,0,null,null,null,null,0,null,null,null,null,0,null,null,null,null,0,null,null,null,null,0,null,null,null,null,0,null,null,null,null,0,null,null,null,null,0,null,null,null,null,0,null,null,null,null,0,null,null,null,null,0,null,null,null,null,0]
[null,null,11,"サッカー",0,0,0,0,0,null,null,null,0,null,null,null,null,0,null,null,null,null,0,null,null,null,null,0,null,null,null,null,0,null,null,null,null,0,null,null,null,null,0,null,null,null,null,0,null,null,null,null,0,null,null,null,null,0,null,null,null,null,0,null,null,null,null,0,null,null,null,null,0,null,null,null,null,0,null,null,null,null,0,null,null,null,null,0,null,null,null,null,0,null,null,null,null,0,null,null,null,null,0,null,null,null,null,0,null,null,null,null,0,null,null,null,null,0,null,null,null,null,0,null,null,null,null,0,null,null,null,null,0]
[null,null,12,"陸　上　競　技",0,0,0,0,0,null,null,null,0,null,null,null,null,0,null,null,null,null,0,null,null,null,null,0,null,null,null,null,0,null,null,null,null,0,null,null,null,null,0,null,null,null,null,0,null,null,null,null,0,null,null,null,null,0,null,null,null,null,0,null,null,null,null,0,null,null,null,null,0,null,null,null,null,0,null,null,null,null,0,null,null,null,null,0,null,null,null,null,0,null,null,null,null,0,null,null,null,null,0,null,null,null,null,0,null,null,null,null,0,null,null,null,null,0,null,null,null,null,0,null,null,null,null,0,null,null,null,null,0]
[null,null,13,"水　　泳",0,0,0,0,0,null,null,null,0,null,null,null,null,0,null,null,null,null,0,null,null,null,null,0,null,null,null,null,0,null,null,null,null,0,null,null,null,null,0,null,null,null,null,0,null,null,null,null,0,null,null,null,null,0,null,null,null,null,0,null,null,null,null,0,null,null,null,null,0,null,null,null,null,0,null,null,null,null,0,null,null,null,null,0,null,null,null,null,0,null,null,null,null,0,null,null,null,null,0,null,null,null,null,0,null,null,null,null,0,null,null,null,null,0,null,null,null,null,0,null,null,null,null,0,null,null,null,null,0]
[null,"子",14,"柔　　道",0,0,0,0,0,null,null,null,0,null,null,null,null,0,null,null,null,null,0,null,null,null,null,0,null,null,null,null,0,null,null,null,null,0,null,null,null,null,0,null,null,null,null,0,null,null,null,null,0,null,null,null,null,0,null,null,null,null,0,null,null,null,null,0,null,null,null,null,0,null,null,null,null,0,null,null,null,null,0,null,null,null,null,0,null,null,null,null,0,null,null,null,null,0,null,null,null,null,0,null,null,null,null,0,null,null,null,null,0,null,null,null,null,0,null,null,null,null,0,null,null,null,null,0,null,null,null,null,0]
[null,null,15,"剣　　道",0,0,0,0,0,null,null,null,0,null,null,null,null,0,null,null,null,null,0,null,null,null,null,0,null,null,null,null,0,null,null,null,null,0,null,null,null,null,0,null,null,null,null,0,null,null,null,null,0,null,null,null,null,0,null,null,null,null,0,null,null,null,null,0,null,null,null,null,0,null,null,null,null,0,null,null,null,null,0,null,null,null,null,0,null,null,null,null,0,null,null,null,null,0,null,null,null,null,0,null,null,null,null,0,null,null,null,null,0,null,null,null,null,0,null,null,null,null,0,null,null,null,null,0,null,null,null,null,0]
[null,null,16,"ダ    ン    ス",0,0,0,0,0,null,null,null,0,null,null,null,null,0,null,null,null,null,0,null,null,null,null,0,null,null,null,null,0,null,null,null,null,0,null,null,null,null,0,null,null,null,null,0,null,null,null,null,0,null,null,null,null,0,null,null,null,null,0,null,null,null,null,0,null,null,null,null,0,null,null,null,null,0,null,null,null,null,0,null,null,null,null,0,null,null,null,null,0,null,null,null,null,0,null,null,null,null,0,null,null,null,null,0,null,null,null,null,0,null,null,null,null,0,null,null,null,null,0,null,null,null,null,0,null,null,null,null,0]
[null,null,17,"ス    キ    ー",0,0,0,0,0,null,null,null,0,null,null,null,null,0,null,null,null,null,0,null,null,null,null,0,null,null,null,null,0,null,null,null,null,0,null,null,null,null,0,null,null,null,null,0,null,null,null,null,0,null,null,null,null,0,null,null,null,null,0,null,null,null,null,0,null,null,null,null,0,null,null,null,null,0,null,null,null,null,0,null,null,null,null,0,null,null,null,null,0,null,null,null,null,0,null,null,null,null,0,null,null,null,null,0,null,null,null,null,0,null,null,null,null,0,null,null,null,null,0,null,null,null,null,0,null,null,null,null,0]
[null,null,18,"ス  ケ  ー  ト",0,0,0,0,0,null,null,null,0,null,null,null,null,0,null,null,null,null,0,null,null,null,null,0,null,null,null,null,0,null,null,null,null,0,null,null,null,null,0,null,null,null,null,0,null,null,null,null,0,null,null,null,null,0,null,null,null,null,0,null,null,null,null,0,null,null,null,null,0,null,null,null,null,0,null,null,null,null,0,null,null,null,null,0,null,null,null,null,0,null,null,null,null,0,null,null,null,null,0,null,null,null,null,0,null,null,null,null,0,null,null,null,null,0,null,null,null,null,0,null,null,null,null,0,null,null,null,null,0]
[null,null,19,"アイスホッケー",0,0,0,0,0,null,null,null,0,null,null,null,null,0,null,null,null,null,0,null,null,null,null,0,null,null,null,null,0,null,null,null,null,0,null,null,null,null,0,null,null,null,null,0,null,null,null,null,0,null,null,null,null,0,null,null,null,null,0,null,null,null,null,0,null,null,null,null,0,null,null,null,null,0,null,null,null,null,0,null,null,null,null,0,null,null,null,null,0,null,null,null,null,0,null,null,null,null,0,null,null,null,null,0,null,null,null,null,0,null,null,null,null,0,null,null,null,null,0,null,null,null,null,0,null,null,null,null,0]
[null,null,20,"テ　　ニ　　ス",0,0,0,0,0,null,null,null,0,null,null,null,null,0,null,null,null,null,0,null,null,null,null,0,null,null,null,null,0,null,null,null,null,0,null,null,null,null,0,null,null,null,null,0,null,null,null,null,0,null,null,null,null,0,null,null,null,null,0,null,null,null,null,0,null,null,null,null,0,null,null,null,null,0,null,null,null,null,0,null,null,null,null,0,null,null,null,null,0,null,null,null,null,0,null,null,null,null,0,null,null,null,null,0,null,null,null,null,0,null,null,null,null,0,null,null,null,null,0,null,null,null,null,0,null,null,null,null,0]
[null,null,21,"弓　　道　",0,0,0,0,0,null,null,null,0,null,null,null,null,0,null,null,null,null,0,null,null,null,null,0,null,null,null,null,0,null,null,null,null,0,null,null,null,null,0,null,null,null,null,0,null,null,null,null,0,null,null,null,null,0,null,null,null,null,0,null,null,null,null,0,null,null,null,null,0,null,null,null,null,0,null,null,null,null,0,null,null,null,null,0,null,null,null,null,0,null,null,null,null,0,null,null,null,null,0,null,null,null,null,0,null,null,null,null,0,null,null,null,null,0,null,null,null,null,0,null,null,null,null,0,null,null,null,null,0]
[null,null,22,"空　　手",0,0,0,0,0,null,null,null,0,null,null,null,null,0,null,null,null,null,0,null,null,null,null,0,null,null,null,null,0,null,null,null,null,0,null,null,null,null,0,null,null,null,null,0,null,null,null,null,0,null,null,null,null,0,null,null,null,null,0,null,null,null,null,{"$f":"BM55+BN55+BO55","v":0},null,null,null,null,0,null,null,null,null,0,null,null,null,null,0,null,null,null,null,0,null,null,null,null,0,null,null,null,null,0,null,null,null,null,0,null,null,null,null,0,null,null,null,null,0,null,null,null,null,0,null,null,null,null,0,null,null,null,null,0,null,null,null,null,0]
[null,null,null,null,0,0,0,0,0,null,null,null,0,null,null,null,null,0,null,null,null,null,0,null,null,null,null,0,null,null,null,null,0,null,null,null,null,0,null,null,null,null,0,null,null,null,null,0,null,null,null,null,0,null,null,null,null,0,null,null,null,null,0,null,null,null,null,0,null,null,null,null,0,null,null,null,null,0,null,null,null,null,0,null,null,null,null,0,null,null,null,null,0,null,null,null,null,0,null,null,null,null,0,null,null,null,null,0,null,null,null,null,0,null,null,null,null,0,null,null,null,null,0,null,null,null,null,0,null,null,null,null,0]
[null,null,null,null,0,0,0,0,0,null,null,null,0,null,null,null,null,0,null,null,null,null,0,null,null,null,null,0,null,null,null,null,0,null,null,null,null,0,null,null,null,null,0,null,null,null,null,0,null,null,null,null,0,null,null,null,null,0,null,null,null,null,0,null,null,null,null,0,null,null,null,null,0,null,null,null,null,0,null,null,null,null,0,null,null,null,null,0,null,null,null,null,0,null,null,null,null,0,null,null,null,null,0,null,null,null,null,0,null,null,null,null,0,null,null,null,null,0,null,null,null,null,0,null,null,null,null,0,null,null,null,null,0]
[null,null,null,null,0,0,0,0,0,null,null,null,0,null,null,null,null,0,null,null,null,null,0,null,null,null,null,0,null,null,null,null,0,null,null,null,null,0,null,null,null,null,0,null,null,null,null,0,null,null,null,null,0,null,null,null,null,0,null,null,null,null,0,null,null,null,null,0,null,null,null,null,0,null,null,null,null,0,null,null,null,null,0,null,null,null,null,0,null,null,null,null,0,null,null,null,null,0,null,null,null,null,0,null,null,null,null,0,null,null,null,null,0,null,null,null,null,0,null,null,null,null,0,null,null,null,null,0,null,null,null,null,0]
[null,null,"女　子　合　計 (名)",null,{"$f":"J59+O59+T59+Y59+AD59+AI59+AN59+AS59+AX59+BC59+BH59+BM59+BR59+BW59+CB59+CG59+CL59+CQ59+CV59+DA59+DF59+DK59+DP59+DU59+DZ59","v":0},0,0,0,0,{"$f":"SUM(J34:J58)","v":0},0,0,0,0,0,0,0,0,0,0,0,0,0,0,0,0,0,0,0,0,0,0,0,0,0,0,0,0,0,0,0,{"$f":"SUM(AP34:AP58)","v":0},0,0,0,0,0,0,0,0,0,0,0,0,0,0,0,0,0,0,0,0,0,0,0,0,0,0,0,0,0,0,0,0,0,0,0,0,0,0,0,0,0,0,0,0,0,0,0,0,0,0,0,0,0,0,0,0,0,0,0,0,0,0,0,{"$f":"SUM(DB34:DB58)","v":0},0,0,0,0,0,0,0,0,0,0,0,0,0,0,0,0,0,0,0,0,0,0,0,0,0,0,0,0]
[null,null,"女 子 在 籍 数 (名)",null,0,0,0,0,null,null,null,null,{"$f":"SUM(J60:L60)","v":0},null,null,null,null,{"$f":"SUM(O60:Q60)","v":0},null,null,null,null,{"$f":"SUM(T60:V60)","v":0},null,null,null,null,{"$f":"SUM(Y60:AA60)","v":0},null,null,null,null,{"$f":"SUM(AD60:AF60)","v":0},null,null,null,null,{"$f":"SUM(AI60:AK60)","v":0},null,null,null,null,{"$f":"SUM(AN60:AP60)","v":0},null,null,null,null,{"$f":"SUM(AS60:AU60)","v":0},null,null,null,null,{"$f":"SUM(AX60:AZ60)","v":0},null,null,null,null,{"$f":"SUM(BC60:BE60)","v":0},null,null,null,null,{"$f":"SUM(BH60:BJ60)","v":0},null,null,null,null,{"$f":"SUM(BM60:BO60)","v":0},null,null,null,null,{"$f":"SUM(BR60:BT60)","v":0},null,null,null,null,{"$f":"SUM(BW60:BY60)","v":0},null,null,null,null,{"$f":"SUM(CB60:CD60)","v":0},null,null,null,null,{"$f":"SUM(CG60:CI60)","v":0},null,null,null,null,{"$f":"SUM(CL60:CN60)","v":0},null,null,null,null,{"$f":"SUM(CQ60:CS60)","v":0},null,null,null,null,{"$f":"SUM(CV60:CX60)","v":0},null,null,null,null,{"$f":"SUM(DA60:DC60)","v":0},null,null,null,null,{"$f":"SUM(DF60:DH60)","v":0},null,null,null,null,{"$f":"SUM(DK60:DM60)","v":0},null,null,null,null,{"$f":"SUM(DP60:DR60)","v":0},null,null,null,null,{"$f":"SUM(DU60:DW60)","v":0},null,null,null,null,{"$f":"SUM(DZ60:EB60)","v":0}]
[null,null,"女 子 入 部 率 (％)",null,{"$f":"E59/E60*100","v":{"$error":"#DIV/0!"}},{"$f":"F59/F60*100","v":{"$error":"#DIV/0!"}},{"$f":"G59/G60*100","v":{"$error":"#DIV/0!"}},{"$f":"H59/H60*100","v":{"$error":"#DIV/0!"}},null,{"$f":"J59/J60*100","v":{"$error":"#DIV/0!"}},{"$error":"#DIV/0!"},{"$error":"#DIV/0!"},{"$error":"#DIV/0!"},null,{"$error":"#DIV/0!"},{"$error":"#DIV/0!"},{"$error":"#DIV/0!"},{"$f":"R59/R60*100","v":{"$error":"#DIV/0!"}},null,{"$error":"#DIV/0!"},{"$error":"#DIV/0!"},{"$error":"#DIV/0!"},{"$f":"W59/W60*100","v":{"$error":"#DIV/0!"}},null,{"$error":"#DIV/0!"},{"$error":"#DIV/0!"},{"$error":"#DIV/0!"},{"$f":"AB59/AB60*100","v":{"$error":"#DIV/0!"}},null,{"$error":"#DIV/0!"},{"$error":"#DIV/0!"},{"$error":"#DIV/0!"},{"$f":"AG59/AG60*100","v":{"$error":"#DIV/0!"}},null,{"$error":"#DIV/0!"},{"$error":"#DIV/0!"},{"$error":"#DIV/0!"},{"$f":"AL59/AL60*100","v":{"$error":"#DIV/0!"}},null,{"$error":"#DIV/0!"},{"$error":"#DIV/0!"},{"$error":"#DIV/0!"},{"$f":"AQ59/AQ60*100","v":{"$error":"#DIV/0!"}},null,{"$error":"#DIV/0!"},{"$error":"#DIV/0!"},{"$error":"#DIV/0!"},{"$f":"AV59/AV60*100","v":{"$error":"#DIV/0!"}},null,{"$error":"#DIV/0!"},{"$error":"#DIV/0!"},{"$error":"#DIV/0!"},{"$f":"BA59/BA60*100","v":{"$error":"#DIV/0!"}},null,{"$error":"#DIV/0!"},{"$error":"#DIV/0!"},{"$error":"#DIV/0!"},{"$f":"BF59/BF60*100","v":{"$error":"#DIV/0!"}},null,{"$error":"#DIV/0!"},{"$error":"#DIV/0!"},{"$error":"#DIV/0!"},{"$f":"BK59/BK60*100","v":{"$error":"#DIV/0!"}},null,{"$error":"#DIV/0!"},{"$error":"#DIV/0!"},{"$error":"#DIV/0!"},{"$f":"BP59/BP60*100","v":{"$error":"#DIV/0!"}},null,{"$error":"#DIV/0!"},{"$error":"#DIV/0!"},{"$error":"#DIV/0!"},{"$f":"BU59/BU60*100","v":{"$error":"#DIV/0!"}},null,{"$f":"BW59/BW60*100","v":{"$error":"#DIV/0!"}},{"$error":"#DIV/0!"},{"$error":"#DIV/0!"},{"$error":"#DIV/0!"},null,{"$error":"#DIV/0!"},{"$error":"#DIV/0!"},{"$error":"#DIV/0!"},{"$error":"#DIV/0!"},null,{"$error":"#DIV/0!"},{"$error":"#DIV/0!"},{"$error":"#DIV/0!"},{"$error":"#DIV/0!"},null,{"$error":"#DIV/0!"},{"$error":"#DIV/0!"},{"$error":"#DIV/0!"},{"$error":"#DIV/0!"},null,{"$error":"#DIV/0!"},{"$error":"#DIV/0!"},{"$error":"#DIV/0!"},{"$error":"#DIV/0!"},null,{"$error":"#DIV/0!"},{"$error":"#DIV/0!"},{"$error":"#DIV/0!"},{"$error":"#DIV/0!"},null,{"$error":"#DIV/0!"},{"$error":"#DIV/0!"},{"$error":"#DIV/0!"},{"$error":"#DIV/0!"},null,{"$error":"#DIV/0!"},{"$error":"#DIV/0!"},{"$error":"#DIV/0!"},{"$error":"#DIV/0!"},null,{"$error":"#DIV/0!"},{"$error":"#DIV/0!"},{"$error":"#DIV/0!"},{"$error":"#DIV/0!"},null,{"$error":"#DIV/0!"},{"$error":"#DIV/0!"},{"$error":"#DIV/0!"},{"$error":"#DIV/0!"},null,{"$error":"#DIV/0!"},{"$error":"#DIV/0!"},{"$error":"#DIV/0!"},{"$error":"#DIV/0!"},null,{"$error":"#DIV/0!"},{"$error":"#DIV/0!"},{"$error":"#DIV/0!"},{"$error":"#DIV/0!"}]
[null,null,"男　女　合　計 (名)",null,{"$f":"E31+E59","v":0},0,0,{"$f":"SUM(E62:G62)","v":0},null,{"$f":"J31+J59","v":0},{"$f":"K31+K59","v":0},0,0,0,0,0,0,{"$f":"R31+R59","v":0},0,0,0,0,{"$f":"W31+W59","v":0},0,0,0,0,{"$f":"AB31+AB59","v":0},0,0,0,0,{"$f":"AG31+AG59","v":0},0,0,0,0,{"$f":"AL31+AL59","v":0},0,0,0,0,{"$f":"AQ31+AQ59","v":0},0,0,0,0,{"$f":"AV31+AV59","v":0},0,0,0,0,{"$f":"BA31+BA59","v":0},0,0,0,0,{"$f":"BF31+BF59","v":0},0,0,0,0,{"$f":"BK31+BK59","v":0},0,0,0,0,{"$f":"BP31+BP59","v":0},0,0,0,0,{"$f":"BU31+BU59","v":0},0,{"$f":"BW31+BW59","v":0},0,0,0,0,0,0,0,0,0,0,0,0,0,0,0,0,0,0,0,0,0,0,0,0,0,0,0,0,0,0,0,0,0,0,0,0,0,0,0,0,0,0,0,0,0,0,0,0,0,0,0,0,0,0,0,0,0,0,0]
[null,null,"男 女 在 籍 数 (名)",null,0,0,0,{"$f":"SUM(E63:G63)","v":0},null,{"$f":"J60+J62","v":0},{"$f":"K60+K62","v":0},0,0,0,0,0,0,{"$f":"R60+R62","v":0},0,0,0,0,{"$f":"W60+W62","v":0},0,0,0,0,{"$f":"AB60+AB62","v":0},0,0,0,0,{"$f":"AG60+AG62","v":0},0,0,0,0,{"$f":"AL60+AL62","v":0},0,0,0,0,{"$f":"AQ60+AQ62","v":0},0,0,0,0,{"$f":"AV60+AV62","v":0},0,0,0,0,{"$f":"BA60+BA62","v":0},0,0,0,0,{"$f":"BF60+BF62","v":0},0,0,0,0,{"$f":"BK60+BK62","v":0},0,0,0,0,{"$f":"BP60+BP62","v":0},0,0,0,0,{"$f":"BU60+BU62","v":0},0,{"$f":"BW60+BW62","v":0},0,0,0,0,0,0,0,0,0,0,0,0,0,0,0,0,0,0,0,0,0,0,0,0,0,0,0,0,0,0,0,0,0,0,0,0,0,0,0,0,0,0,0,0,0,0,0,0,0,0,0,0,0,0,0,0,0,0,0]
[null,null,"男 女 入 部 率 (％)",null,{"$f":"E62/E63*100","v":{"$error":"#DIV/0!"}},{"$f":"F62/F63*100","v":{"$error":"#DIV/0!"}},{"$f":"G62/G63*100","v":{"$error":"#DIV/0!"}},{"$f":"H62/H63*100","v":{"$error":"#DIV/0!"}},null,{"$f":"J62/J63*100","v":{"$error":"#DIV/0!"}},{"$error":"#DIV/0!"},{"$error":"#DIV/0!"},{"$error":"#DIV/0!"},null,{"$error":"#DIV/0!"},{"$error":"#DIV/0!"},{"$error":"#DIV/0!"},{"$f":"R62/R63*100","v":{"$error":"#DIV/0!"}},null,{"$error":"#DIV/0!"},{"$error":"#DIV/0!"},{"$error":"#DIV/0!"},{"$f":"W62/W63*100","v":{"$error":"#DIV/0!"}},null,{"$error":"#DIV/0!"},{"$error":"#DIV/0!"},{"$error":"#DIV/0!"},{"$f":"AB62/AB63*100","v":{"$error":"#DIV/0!"}},null,{"$error":"#DIV/0!"},{"$error":"#DIV/0!"},{"$error":"#DIV/0!"},{"$f":"AG62/AG63*100","v":{"$error":"#DIV/0!"}},null,{"$error":"#DIV/0!"},{"$error":"#DIV/0!"},{"$error":"#DIV/0!"},{"$f":"AL62/AL63*100","v":{"$error":"#DIV/0!"}},null,{"$error":"#DIV/0!"},{"$error":"#DIV/0!"},{"$error":"#DIV/0!"},{"$f":"AQ62/AQ63*100","v":{"$error":"#DIV/0!"}},null,{"$error":"#DIV/0!"},{"$error":"#DIV/0!"},{"$error":"#DIV/0!"},{"$f":"AV62/AV63*100","v":{"$error":"#DIV/0!"}},null,{"$error":"#DIV/0!"},{"$error":"#DIV/0!"},{"$error":"#DIV/0!"},{"$f":"BA62/BA63*100","v":{"$error":"#DIV/0!"}},null,{"$error":"#DIV/0!"},{"$error":"#DIV/0!"},{"$error":"#DIV/0!"},{"$f":"BF62/BF63*100","v":{"$error":"#DIV/0!"}},null,{"$error":"#DIV/0!"},{"$error":"#DIV/0!"},{"$error":"#DIV/0!"},{"$f":"BK62/BK63*100","v":{"$error":"#DIV/0!"}},null,{"$error":"#DIV/0!"},{"$error":"#DIV/0!"},{"$error":"#DIV/0!"},{"$f":"BP62/BP63*100","v":{"$error":"#DIV/0!"}},null,{"$error":"#DIV/0!"},{"$error":"#DIV/0!"},{"$error":"#DIV/0!"},{"$f":"BU62/BU63*100","v":{"$error":"#DIV/0!"}},null,{"$f":"BW62/BW63*100","v":{"$error":"#DIV/0!"}},{"$error":"#DIV/0!"},{"$error":"#DIV/0!"},{"$error":"#DIV/0!"},null,{"$error":"#DIV/0!"},{"$error":"#DIV/0!"},{"$error":"#DIV/0!"},{"$error":"#DIV/0!"},null,{"$error":"#DIV/0!"},{"$error":"#DIV/0!"},{"$error":"#DIV/0!"},{"$error":"#DIV/0!"},null,{"$error":"#DIV/0!"},{"$error":"#DIV/0!"},{"$error":"#DIV/0!"},{"$error":"#DIV/0!"},null,{"$error":"#DIV/0!"},{"$error":"#DIV/0!"},{"$error":"#DIV/0!"},{"$error":"#DIV/0!"},null,{"$error":"#DIV/0!"},{"$error":"#DIV/0!"},{"$error":"#DIV/0!"},{"$error":"#DIV/0!"},null,{"$error":"#DIV/0!"},{"$error":"#DIV/0!"},{"$error":"#DIV/0!"},{"$error":"#DIV/0!"},null,{"$error":"#DIV/0!"},{"$error":"#DIV/0!"},{"$error":"#DIV/0!"},{"$error":"#DIV/0!"},null,{"$error":"#DIV/0!"},{"$error":"#DIV/0!"},{"$error":"#DIV/0!"},{"$error":"#DIV/0!"},null,{"$error":"#DIV/0!"},{"$error":"#DIV/0!"},{"$error":"#DIV/0!"},{"$error":"#DIV/0!"},null,{"$error":"#DIV/0!"},{"$error":"#DIV/0!"},{"$error":"#DIV/0!"},{"$error":"#DIV/0!"},null,{"$error":"#DIV/0!"},{"$error":"#DIV/0!"},{"$error":"#DIV/0!"},{"$error":"#DIV/0!"}]

{"sheet":"５太田","index":5,"n_rows":64,"n_cols":144,"rows_kept":64,"cut":false,"hidden":false,"merged":[]}
[]
[null,null,"令和８年度　群馬県中学校　運動部員数調査結果    （黄色部分は入力禁止）"]
[null,null,null,null,"５太田市(18校)",null,null,null,null,null,"西",null,null,null,null,"北の森",null,null,null,null,"東",null,null,null,null,"南",null,null,null,null,"休泊",null,null,null,null,"強戸",null,null,null,null,"宝泉",null,null,null,null,"毛里田",null,null,null,null,"城西",null,null,null,null,"城東",null,null,null,null,"旭",null,null,null,null,"尾島",null,null,null,null,"木崎",null,null,null,null,"生品",null,null,null,null,"綿打",null,null,null,null,"薮塚本町",null,null,null,null,"ぐんま国際ｱｶﾃﾞﾐｰ",null,null,null,null,"太田"]
[null,null,"№","  競　技　名","１年","２年","３年","合計","設置","１年","２年","３年","合計","設置","１年","２年","３年","合計","設置","１年","２年","３年","合計","設置","１年","２年","３年","合計","設置","１年","２年","３年","合計","設置","１年","２年","３年","合計","設置","１年","２年","３年","合計","設置","１年","２年","３年","合計","設置","１年","２年","３年","合計","設置","１年","２年","３年","合計","設置","１年","２年","３年","合計","設置","１年","２年","３年","合計","設置","１年","２年","３年","合計","設置","１年","２年","３年","合計","設置","１年","２年","３年","合計","設置","１年","２年","３年","合計","設置","１年","２年","３年","合計","設置","１年","２年","３年","合計","設置","１年","２年","３年","合計","設置","１年","２年","３年","合計","設置","１年","２年","３年","合計","設置","１年","２年","３年","合計","設置","１年","２年","３年","合計","設置","１年","２年","３年","合計","設置","１年","２年","３年","合計","設置"]
[null,null,1,"体　操　競　技",{"$f":"J5+O5+T5+Y5+AD5+AI5+AN5+AS5+AX5+BC5+BH5+BM5+BR5+BW5+CB5+CG5+CL5+CQ5+CV5+DA5+DF5+DK5+DP5+DU5+DZ5","v":0},{"$f":"K5+P5+U5+Z5+AE5+AJ5+AO5+AT5+AY5+BD5+BI5+BN5+BS5+BX5+CC5+CH5+CM5+CR5+CW5+DB5+DG5+DL5+DQ5+DV5+EA5","v":0},{"$f":"L5+Q5+V5+AA5+AF5+AK5+AP5+AU5+AZ5+BE5+BJ5+BO5+BT5+BY5+CD5+CI5+CN5+CS5+CX5+DC5+DH5+DM5+DR5+DW5+EB5","v":0},{"$f":"M5+R5+W5+AB5+AG5+AL5+AQ5+AV5+BA5+BF5+BK5+BP5+BU5+BZ5+CE5+CJ5+CO5+CT5+CY5+DD5+DI5+DN5+DS5+DX5+EC5","v":0},{"$f":"N5+S5+X5+AC5+AH5+AM5+AR5+AW5+BB5+BG5+BL5+BQ5+BV5+CA5+CF5+CK5+CP5+CU5+CZ5+DE5+DJ5+DO5+DT5+DY5+ED5","v":0},null,null,null,{"$f":"SUM(J5:L5)","v":0},null,null,null,null,{"$f":"SUM(O5:Q5)","v":0},null,null,null,null,{"$f":"SUM(T5:V5)","v":0},null,null,null,null,{"$f":"SUM(Y5:AA5)","v":0},null,null,null,null,{"$f":"SUM(AD5:AF5)","v":0},null,null,null,null,{"$f":"SUM(AI5:AK5)","v":0},null,null,null,null,{"$f":"SUM(AN5:AP5)","v":0},null,null,null,null,{"$f":"SUM(AS5:AU5)","v":0},null,null,null,null,{"$f":"SUM(AX5:AZ5)","v":0},null,null,null,null,{"$f":"SUM(BC5:BE5)","v":0},null,null,null,null,{"$f":"SUM(BH5:BJ5)","v":0},null,null,null,null,{"$f":"SUM(BM5:BO5)","v":0},null,null,null,null,{"$f":"SUM(BR5:BT5)","v":0},null,null,null,null,{"$f":"SUM(BW5:BY5)","v":0},null,null,null,null,{"$f":"SUM(CB5:CD5)","v":0},null,null,null,null,{"$f":"SUM(CG5:CI5)","v":0},null,null,null,null,{"$f":"SUM(CL5:CN5)","v":0},null,null,null,null,null,null,null,null,null,{"$f":"SUM(CV5:CX5)","v":0},null,null,null,null,{"$f":"SUM(DA5:DC5)","v":0},null,null,null,null,{"$f":"SUM(DF5:DH5)","v":0},null,null,null,null,{"$f":"SUM(DK5:DM5)","v":0},null,null,null,null,{"$f":"SUM(DP5:DR5)","v":0},null,null,null,null,{"$f":"SUM(DU5:DW5)","v":0},null,null,null,null,{"$f":"SUM(DZ5:EB5)","v":0},null,null,null,null,{"$f":"SUM(EE5:EG5)","v":0},null,null,null,null,{"$f":"SUM(EJ5:EL5)","v":0}]
[null,null,2,"新    体    操",{"$f":"J6+O6+T6+Y6+AD6+AI6+AN6+AS6+AX6+BC6+BH6+BM6+BR6+BW6+CB6+CG6+CL6+CQ6+CV6+DA6+DF6+DK6+DP6+DU6+DZ6","v":0},0,0,0,0,null,null,null,{"$f":"SUM(J6:L6)","v":0},null,null,null,null,{"$f":"SUM(O6:Q6)","v":0},null,null,null,null,{"$f":"SUM(T6:V6)","v":0},null,null,null,null,{"$f":"SUM(Y6:AA6)","v":0},null,null,null,null,{"$f":"SUM(AD6:AF6)","v":0},null,null,null,null,{"$f":"SUM(AI6:AK6)","v":0},null,null,null,null,{"$f":"SUM(AN6:AP6)","v":0},null,null,null,null,{"$f":"SUM(AS6:AU6)","v":0},null,null,null,null,{"$f":"SUM(AX6:AZ6)","v":0},null,null,null,null,{"$f":"SUM(BC6:BE6)","v":0},null,null,null,null,{"$f":"SUM(BH6:BJ6)","v":0},null,null,null,null,{"$f":"SUM(BM6:BO6)","v":0},null,null,null,null,{"$f":"SUM(BR6:BT6)","v":0},null,null,null,null,{"$f":"SUM(BW6:BY6)","v":0},null,null,null,null,{"$f":"SUM(CB6:CD6)","v":0},null,null,null,null,{"$f":"SUM(CG6:CI6)","v":0},null,null,null,null,{"$f":"SUM(CL6:CN6)","v":0},null,null,null,null,null,null,null,null,null,0,null,null,null,null,0,null,null,null,null,0,null,null,null,null,0,null,null,null,null,0,null,null,null,null,0,null,null,null,null,0,null,null,null,null,{"$f":"SUM(EE6:EG6)","v":0},null,null,null,null,{"$f":"SUM(EJ6:EL6)","v":0}]
[null,null,3,"軟　式　野　球",0,0,0,0,0,null,null,null,0,null,null,null,null,0,null,null,null,null,0,null,null,null,null,0,null,null,null,null,0,null,null,null,null,0,null,null,null,null,0,null,null,null,null,0,null,null,null,null,0,null,null,null,null,0,null,null,null,null,0,null,null,null,null,0,null,null,null,null,0,null,null,null,null,0,null,null,null,null,0,null,null,null,null,0,null,null,null,null,0,null,null,null,null,null,null,null,null,null,0,null,null,null,null,0,null,null,null,null,0,null,null,null,null,0,null,null,null,null,0,null,null,null,null,0,null,null,null,null,0,null,null,null,null,0,null,null,null,null,0]
[null,null,4,"ソフトボール",0,0,0,0,0,null,null,null,0,null,null,null,null,0,null,null,null,null,0,null,null,null,null,0,null,null,null,null,0,null,null,null,null,0,null,null,null,null,0,null,null,null,null,0,null,null,null,null,0,null,null,null,null,0,null,null,null,null,0,null,null,null,null,0,null,null,null,null,0,null,null,null,null,0,null,null,null,null,0,null,null,null,null,0,null,null,null,null,0,null,null,null,null,null,null,null,null,null,0,null,null,null,null,0,null,null,null,null,0,null,null,null,null,0,null,null,null,null,0,null,null,null,null,0,null,null,null,null,0,null,null,null,null,0,null,null,null,null,0]
[null,null,5,"バスケットボール",0,0,0,0,0,null,null,null,0,null,null,null,null,0,null,null,null,null,0,null,null,null,null,0,null,null,null,null,0,null,null,null,null,0,null,null,null,null,0,null,null,null,null,0,null,null,null,null,0,null,null,null,null,0,null,null,null,null,0,null,null,null,null,0,null,null,null,null,0,null,null,null,null,0,null,null,null,null,0,null,null,null,null,0,null,null,null,null,0,null,null,null,null,null,null,null,null,null,0,null,null,null,null,0,null,null,null,null,0,null,null,null,null,0,null,null,null,null,0,null,null,null,null,0,null,null,null,null,0,null,null,null,null,0,null,null,null,null,0]
[null,null,6,"ハンドボール",0,0,0,0,0,null,null,null,0,null,null,null,null,0,null,null,null,null,0,null,null,null,null,0,null,null,null,null,0,null,null,null,null,0,null,null,null,null,0,null,null,null,null,0,null,null,null,null,0,null,null,null,null,0,null,null,null,null,0,null,null,null,null,0,null,null,null,null,0,null,null,null,null,0,null,null,null,null,0,null,null,null,null,0,null,null,null,null,0,null,null,null,null,null,null,null,null,null,0,null,null,null,null,0,null,null,null,null,0,null,null,null,null,0,null,null,null,null,0,null,null,null,null,0,null,null,null,null,0,null,null,null,null,0,null,null,null,null,0]
[null,"男",7,"バレーボール",0,0,0,0,0,null,null,null,0,null,null,null,null,0,null,null,null,null,0,null,null,null,null,0,null,null,null,null,0,null,null,null,null,0,null,null,null,null,0,null,null,null,null,0,null,null,null,null,0,null,null,null,null,0,null,null,null,null,0,null,null,null,null,0,null,null,null,null,0,null,null,null,null,0,null,null,null,null,0,null,null,null,null,0,null,null,null,null,0,null,null,null,null,null,null,null,null,null,0,null,null,null,null,0,null,null,null,null,0,null,null,null,null,0,null,null,null,null,0,null,null,null,null,0,null,null,null,null,0,null,null,null,null,0,null,null,null,null,0]
[null,null,8,"ソフトテニス",0,0,0,0,0,null,null,null,0,null,null,null,null,0,null,null,null,null,0,null,null,null,null,0,null,null,null,null,0,null,null,null,null,0,null,null,null,null,0,null,null,null,null,0,null,null,null,null,0,null,null,null,null,0,null,null,null,null,0,null,null,null,null,0,null,null,null,null,0,null,null,null,null,0,null,null,null,null,0,null,null,null,null,0,null,null,null,null,0,null,null,null,null,null,null,null,null,null,0,null,null,null,null,0,null,null,null,null,0,null,null,null,null,0,null,null,null,null,0,null,null,null,null,0,null,null,null,null,0,null,null,null,null,0,null,null,null,null,0]
[null,null,9,"卓    球",0,0,0,0,0,null,null,null,0,null,null,null,null,0,null,null,null,null,0,null,null,null,null,0,null,null,null,null,0,null,null,null,null,0,null,null,null,null,0,null,null,null,null,0,null,null,null,null,0,null,null,null,null,0,null,null,null,null,0,null,null,null,null,0,null,null,null,null,0,null,null,null,null,0,null,null,null,null,0,null,null,null,null,0,null,null,null,null,0,null,null,null,null,null,null,null,null,null,0,null,null,null,null,0,null,null,null,null,0,null,null,null,null,0,null,null,null,null,0,null,null,null,null,0,null,null,null,null,0,null,null,null,null,0,null,null,null,null,0]
[null,null,10,"バドミントン",0,0,0,0,0,null,null,null,0,null,null,null,null,0,null,null,null,null,0,null,null,null,null,0,null,null,null,null,0,null,null,null,null,0,null,null,null,null,0,null,null,null,null,0,null,null,null,null,0,null,null,null,null,0,null,null,null,null,0,null,null,null,null,0,null,null,null,null,0,null,null,null,null,0,null,null,null,null,0,null,null,null,null,0,null,null,null,null,0,null,null,null,null,null,null,null,null,null,0,null,null,null,null,0,null,null,null,null,0,null,null,null,null,0,null,null,null,null,0,null,null,null,null,0,null,null,null,null,0,null,null,null,null,0,null,null,null,null,0]
[null,null,11,"サッカー",0,0,0,0,0,null,null,null,0,null,null,null,null,0,null,null,null,null,0,null,null,null,null,0,null,null,null,null,0,null,null,null,null,0,null,null,null,null,0,null,null,null,null,0,null,null,null,null,0,null,null,null,null,0,null,null,null,null,0,null,null,null,null,0,null,null,null,null,0,null,null,null,null,0,null,null,null,null,0,null,null,null,null,0,null,null,null,null,0,null,null,null,null,null,null,null,null,null,0,null,null,null,null,0,null,null,null,null,0,null,null,null,null,0,null,null,null,null,0,null,null,null,null,0,null,null,null,null,0,null,null,null,null,0,null,null,null,null,0]
[null,null,12,"陸　上　競　技",0,0,0,0,0,null,null,null,0,null,null,null,null,0,null,null,null,null,0,null,null,null,null,0,null,null,null,null,0,null,null,null,null,0,null,null,null,null,0,null,null,null,null,0,null,null,null,null,0,null,null,null,null,0,null,null,null,null,0,null,null,null,null,0,null,null,null,null,0,null,null,null,null,0,null,null,null,null,0,null,null,null,null,0,null,null,null,null,0,null,null,null,null,null,null,null,null,null,0,null,null,null,null,0,null,null,null,null,0,null,null,null,null,0,null,null,null,null,0,null,null,null,null,0,null,null,null,null,0,null,null,null,null,0,null,null,null,null,0]
[null,null,13,"水　　泳",0,0,0,0,0,null,null,null,0,null,null,null,null,0,null,null,null,null,0,null,null,null,null,0,null,null,null,null,0,null,null,null,null,0,null,null,null,null,0,null,null,null,null,0,null,null,null,null,0,null,null,null,null,0,null,null,null,null,0,null,null,null,null,0,null,null,null,null,0,null,null,null,null,0,null,null,null,null,0,null,null,null,null,0,null,null,null,null,0,null,null,null,null,null,null,null,null,null,0,null,null,null,null,0,null,null,null,null,0,null,null,null,null,0,null,null,null,null,0,null,null,null,null,0,null,null,null,null,0,null,null,null,null,0,null,null,null,null,0]
[null,"子",14,"柔　　道",0,0,0,0,0,null,null,null,0,null,null,null,null,0,null,null,null,null,0,null,null,null,null,0,null,null,null,null,0,null,null,null,null,0,null,null,null,null,0,null,null,null,null,0,null,null,null,null,0,null,null,null,null,0,null,null,null,null,0,null,null,null,null,0,null,null,null,null,0,null,null,null,null,0,null,null,null,null,0,null,null,null,null,0,null,null,null,null,0,null,null,null,null,null,null,null,null,null,0,null,null,null,null,0,null,null,null,null,0,null,null,null,null,0,null,null,null,null,0,null,null,null,null,0,null,null,null,null,0,null,null,null,null,0,null,null,null,null,0]
[null,null,15,"剣　　道",0,0,0,0,0,null,null,null,0,null,null,null,null,0,null,null,null,null,0,null,null,null,null,0,null,null,null,null,0,null,null,null,null,0,null,null,null,null,0,null,null,null,null,0,null,null,null,null,0,null,null,null,null,0,null,null,null,null,0,null,null,null,null,0,null,null,null,null,0,null,null,null,null,0,null,null,null,null,0,null,null,null,null,0,null,null,null,null,0,null,null,null,null,null,null,null,null,null,0,null,null,null,null,0,null,null,null,null,0,null,null,null,null,0,null,null,null,null,0,null,null,null,null,0,null,null,null,null,0,null,null,null,null,0,null,null,null,null,0]
[null,null,16,"相　　撲",0,0,0,0,0,null,null,null,0,null,null,null,null,0,null,null,null,null,0,null,null,null,null,0,null,null,null,null,0,null,null,null,null,0,null,null,null,null,0,null,null,null,null,0,null,null,null,null,0,null,null,null,null,0,null,null,null,null,0,null,null,null,null,0,null,null,null,null,0,null,null,null,null,0,null,null,null,null,0,null,null,null,null,0,null,null,null,null,0,null,null,null,null,null,null,null,null,null,0,null,null,null,null,0,null,null,null,null,0,null,null,null,null,0,null,null,null,null,0,null,null,null,null,0,null,null,null,null,0,null,null,null,null,0,null,null,null,null,0]
[null,null,17,"ダ    ン    ス",0,0,0,0,0,null,null,null,0,null,null,null,null,0,null,null,null,null,0,null,null,null,null,0,null,null,null,null,0,null,null,null,null,0,null,null,null,null,0,null,null,null,null,0,null,null,null,null,0,null,null,null,null,0,null,null,null,null,0,null,null,null,null,0,null,null,null,null,0,null,null,null,null,0,null,null,null,null,0,null,null,null,null,0,null,null,null,null,0,null,null,null,null,null,null,null,null,null,0,null,null,null,null,0,null,null,null,null,0,null,null,null,null,0,null,null,null,null,0,null,null,null,null,0,null,null,null,null,0,null,null,null,null,0,null,null,null,null,0]
[null,null,18,"ス    キ    ー",0,0,0,0,0,null,null,null,0,null,null,null,null,0,null,null,null,null,0,null,null,null,null,0,null,null,null,null,0,null,null,null,null,0,null,null,null,null,0,null,null,null,null,0,null,null,null,null,0,null,null,null,null,0,null,null,null,null,0,null,null,null,null,0,null,null,null,null,0,null,null,null,null,0,null,null,null,null,0,null,null,null,null,0,null,null,null,null,0,null,null,null,null,null,null,null,null,null,0,null,null,null,null,0,null,null,null,null,0,null,null,null,null,0,null,null,null,null,0,null,null,null,null,0,null,null,null,null,0,null,null,null,null,0,null,null,null,null,0]
[null,null,19,"ス  ケ  ー  ト",0,0,0,0,0,null,null,null,0,null,null,null,null,0,null,null,null,null,0,null,null,null,null,0,null,null,null,null,0,null,null,null,null,0,null,null,null,null,0,null,null,null,null,0,null,null,null,null,0,null,null,null,null,0,null,null,null,null,0,null,null,null,null,0,null,null,null,null,0,null,null,null,null,0,null,null,null,null,0,null,null,null,null,0,null,null,null,null,0,null,null,null,null,null,null,null,null,null,0,null,null,null,null,0,null,null,null,null,0,null,null,null,null,0,null,null,null,null,0,null,null,null,null,0,null,null,null,null,0,null,null,null,null,0,null,null,null,null,0]
[null,null,20,"アイスホッケー",0,0,0,0,0,null,null,null,0,null,null,null,null,0,null,null,null,null,0,null,null,null,null,0,null,null,null,null,0,null,null,null,null,0,null,null,null,null,0,null,null,null,null,0,null,null,null,null,0,null,null,null,null,0,null,null,null,null,0,null,null,null,null,0,null,null,null,null,0,null,null,null,null,0,null,null,null,null,0,null,null,null,null,0,null,null,null,null,0,null,null,null,null,null,null,null,null,null,0,null,null,null,null,0,null,null,null,null,0,null,null,null,null,0,null,null,null,null,0,null,null,null,null,0,null,null,null,null,0,null,null,null,null,0,null,null,null,null,0]
[null,null,21,"テ　　ニ　　ス",0,0,0,0,0,null,null,null,0,null,null,null,null,0,null,null,null,null,0,null,null,null,null,0,null,null,null,null,0,null,null,null,null,0,null,null,null,null,0,null,null,null,null,0,null,null,null,null,0,null,null,null,null,0,null,null,null,null,0,null,null,null,null,0,null,null,null,null,0,null,null,null,null,0,null,null,null,null,0,null,null,null,null,0,null,null,null,null,0,null,null,null,null,null,null,null,null,null,0,null,null,null,null,0,null,null,null,null,0,null,null,null,null,0,null,null,null,null,0,null,null,null,null,0,null,null,null,null,0,null,null,null,null,0,null,null,null,null,0]
[null,null,22,"空　　　手",0,0,0,0,0,null,null,null,0,null,null,null,null,0,null,null,null,null,0,null,null,null,null,0,null,null,null,null,0,null,null,null,null,0,null,null,null,null,0,null,null,null,null,0,null,null,null,null,0,null,null,null,null,0,null,null,null,null,0,null,null,null,null,0,null,null,null,null,0,null,null,null,null,0,null,null,null,null,0,null,null,null,null,0,null,null,null,null,0,null,null,null,null,null,null,null,null,null,0,null,null,null,null,0,null,null,null,null,0,null,null,null,null,0,null,null,null,null,0,null,null,null,null,0,null,null,null,null,0,null,null,null,null,0,null,null,null,null,0]
[null,null,23,"ラ　グ　ビ　ー",0,0,0,0,0,null,null,null,0,null,null,null,null,0,null,null,null,null,0,null,null,null,null,0,null,null,null,null,0,null,null,null,null,0,null,null,null,null,0,null,null,null,null,0,null,null,null,null,0,null,null,null,null,0,null,null,null,null,0,null,null,null,null,0,null,null,null,null,0,null,null,null,null,0,null,null,null,null,0,null,null,null,null,0,null,null,null,null,0,null,null,null,null,null,null,null,null,null,0,null,null,null,null,0,null,null,null,null,0,null,null,null,null,0,null,null,null,null,0,null,null,null,null,0,null,null,null,null,0,null,null,null,null,{"$f":"SUM(EE27:EG27)","v":0},null,null,null,null,{"$f":"SUM(EJ27:EL27)","v":0}]
[null,null,null,null,0,0,0,0,0,null,null,null,0,null,null,null,null,0,null,null,null,null,0,null,null,null,null,0,null,null,null,null,0,null,null,null,null,0,null,null,null,null,0,null,null,null,null,0,null,null,null,null,0,null,null,null,null,0,null,null,null,null,0,null,null,null,null,0,null,null,null,null,0,null,null,null,null,0,null,null,null,null,0,null,null,null,null,0,null,null,null,null,0,null,null,null,null,null,null,null,null,null,0,null,null,null,null,0,null,null,null,null,0,null,null,null,null,0,null,null,null,null,0,null,null,null,null,0,null,null,null,null,0]
[null,null,null,null,0,0,0,0,0,null,null,null,0,null,null,null,null,0,null,null,null,null,0,null,null,null,null,0,null,null,null,null,0,null,null,null,null,0,null,null,null,null,0,null,null,null,null,0,null,null,null,null,0,null,null,null,null,0,null,null,null,null,0,null,null,null,null,0,null,null,null,null,0,null,null,null,null,0,null,null,null,null,0,null,null,null,null,0,null,null,null,null,0,null,null,null,null,null,null,null,null,null,0,null,null,null,null,0,null,null,null,null,0,null,null,null,null,0,null,null,null,null,0,null,null,null,null,0,null,null,null,null,0]
[null,null,null,null,0,0,0,0,0,null,null,null,0,null,null,null,null,0,null,null,null,null,0,null,null,null,null,0,null,null,null,null,0,null,null,null,null,0,null,null,null,null,0,null,null,null,null,0,null,null,null,null,0,null,null,null,null,0,null,null,null,null,0,null,null,null,null,0,null,null,null,null,0,null,null,null,null,0,null,null,null,null,0,null,null,null,null,0,null,null,null,null,0,null,null,null,null,null,null,null,null,null,0,null,null,null,null,0,null,null,null,null,0,null,null,null,null,0,null,null,null,null,0,null,null,null,null,0,null,null,null,null,0]
[null,null,"男　子　合　計 (名)",null,{"$f":"J31+O31+T31+Y31+AD31+AI31+AN31+AS31+AX31+BC31+BH31+BM31+BR31+BW31+CB31+CG31+CL31+CQ31+CV31+DA31+DF31+DK31+DP31+DU31+DZ31","v":0},0,0,0,0,{"$f":"SUM(J5:J30)","v":0},{"$f":"SUM(K5:K30)","v":0},0,0,0,{"$f":"SUM(O5:O30)","v":0},{"$f":"SUM(P5:P30)","v":0},0,0,0,{"$f":"SUM(T5:T30)","v":0},{"$f":"SUM(U5:U30)","v":0},0,0,0,{"$f":"SUM(Y5:Y30)","v":0},{"$f":"SUM(Z5:Z30)","v":0},0,0,0,{"$f":"SUM(AD5:AD30)","v":0},{"$f":"SUM(AE5:AE30)","v":0},0,0,0,{"$f":"SUM(AI5:AI30)","v":0},{"$f":"SUM(AJ5:AJ30)","v":0},0,0,0,{"$f":"SUM(AN5:AN30)","v":0},{"$f":"SUM(AO5:AO30)","v":0},0,0,0,{"$f":"SUM(AS5:AS30)","v":0},{"$f":"SUM(AT5:AT30)","v":0},0,0,0,{"$f":"SUM(AX5:AX30)","v":0},{"$f":"SUM(AY5:AY30)","v":0},0,0,0,{"$f":"SUM(BC5:BC30)","v":0},{"$f":"SUM(BD5:BD30)","v":0},0,0,0,{"$f":"SUM(BH5:BH30)","v":0},{"$f":"SUM(BI5:BI30)","v":0},0,0,0,{"$f":"SUM(BM5:BM30)","v":0},{"$f":"SUM(BN5:BN30)","v":0},0,0,0,{"$f":"SUM(BR5:BR30)","v":0},{"$f":"SUM(BS5:BS30)","v":0},0,0,0,{"$f":"SUM(BW5:BW30)","v":0},{"$f":"SUM(BX5:BX30)","v":0},0,0,0,{"$f":"SUM(CB5:CB30)","v":0},{"$f":"SUM(CC5:CC30)","v":0},0,0,0,{"$f":"SUM(CG5:CG30)","v":0},{"$f":"SUM(CH5:CH30)","v":0},0,0,0,{"$f":"SUM(CL5:CL30)","v":0},{"$f":"SUM(CM5:CM30)","v":0},0,0,0,null,null,null,null,null,{"$f":"SUM(CV5:CV30)","v":0},{"$f":"SUM(CW5:CW30)","v":0},{"$f":"SUM(CX5:CX30)","v":0},0,{"$f":"SUM(CZ5:CZ30)","v":0},{"$f":"SUM(DA5:DA30)","v":0},{"$f":"SUM(DB5:DB30)","v":0},{"$f":"SUM(DC5:DC30)","v":0},0,{"$f":"SUM(DE5:DE30)","v":0},{"$f":"SUM(DF5:DF30)","v":0},{"$f":"SUM(DG5:DG30)","v":0},{"$f":"SUM(DH5:DH30)","v":0},0,{"$f":"SUM(DJ5:DJ30)","v":0},{"$f":"SUM(DK5:DK30)","v":0},{"$f":"SUM(DL5:DL30)","v":0},{"$f":"SUM(DM5:DM30)","v":0},0,{"$f":"SUM(DO5:DO30)","v":0},{"$f":"SUM(DP5:DP30)","v":0},{"$f":"SUM(DQ5:DQ30)","v":0},{"$f":"SUM(DR5:DR30)","v":0},0,{"$f":"SUM(DT5:DT30)","v":0},{"$f":"SUM(DU5:DU30)","v":0},{"$f":"SUM(DV5:DV30)","v":0},{"$f":"SUM(DW5:DW30)","v":0},0,{"$f":"SUM(DY5:DY30)","v":0},{"$f":"SUM(DZ5:DZ30)","v":0},{"$f":"SUM(EA5:EA30)","v":0},{"$f":"SUM(EB5:EB30)","v":0},0,{"$f":"SUM(ED5:ED30)","v":0},0,0,0,0,{"$f":"SUM(EI5:EI30)","v":0},0,0,0,0,0]
[null,null,"男 子 在 籍 数 (名)",null,0,0,0,0,null,null,null,null,{"$f":"SUM(J32:L32)","v":0},null,null,null,null,{"$f":"SUM(O32:Q32)","v":0},null,null,null,null,{"$f":"SUM(T32:V32)","v":0},null,null,null,null,{"$f":"SUM(Y32:AA32)","v":0},null,null,null,null,{"$f":"SUM(AD32:AF32)","v":0},null,null,null,null,{"$f":"SUM(AI32:AK32)","v":0},null,null,null,null,{"$f":"SUM(AN32:AP32)","v":0},null,null,null,null,{"$f":"SUM(AS32:AU32)","v":0},null,null,null,null,{"$f":"SUM(AX32:AZ32)","v":0},null,null,null,null,{"$f":"SUM(BC32:BE32)","v":0},null,null,null,null,{"$f":"SUM(BH32:BJ32)","v":0},null,null,null,null,{"$f":"SUM(BM32:BO32)","v":0},null,null,null,null,{"$f":"SUM(BR32:BT32)","v":0},null,null,null,null,{"$f":"SUM(BW32:BY32)","v":0},null,null,null,null,{"$f":"SUM(CB32:CD32)","v":0},null,null,null,null,{"$f":"SUM(CG32:CI32)","v":0},null,null,null,null,{"$f":"SUM(CL32:CN32)","v":0},null,null,null,null,null,null,null,null,null,0,null,null,null,null,0,null,null,null,null,0,null,null,null,null,0,null,null,null,null,0,null,null,null,null,0,null,null,null,null,0,null,null,null,null,{"$f":"SUM(EE32:EG32)","v":0},null,null,null,null,{"$f":"SUM(EJ32:EL32)","v":0}]
[null,null,"男 子 入 部 率 (％)",null,{"$f":"E31/E32*100","v":{"$error":"#DIV/0!"}},{"$f":"F31/F32*100","v":{"$error":"#DIV/0!"}},{"$f":"G31/G32*100","v":{"$error":"#DIV/0!"}},{"$f":"H31/H32*100","v":{"$error":"#DIV/0!"}},null,{"$f":"J31/J32*100","v":{"$error":"#DIV/0!"}},{"$f":"K31/K32*100","v":{"$error":"#DIV/0!"}},{"$f":"L31/L32*100","v":{"$error":"#DIV/0!"}},{"$f":"M31/M32*100","v":{"$error":"#DIV/0!"}},null,{"$f":"O31/O32*100","v":{"$error":"#DIV/0!"}},{"$f":"P31/P32*100","v":{"$error":"#DIV/0!"}},{"$f":"Q31/Q32*100","v":{"$error":"#DIV/0!"}},{"$f":"R31/R32*100","v":{"$error":"#DIV/0!"}},null,{"$f":"T31/T32*100","v":{"$error":"#DIV/0!"}},{"$f":"U31/U32*100","v":{"$error":"#DIV/0!"}},{"$f":"V31/V32*100","v":{"$error":"#DIV/0!"}},{"$f":"W31/W32*100","v":{"$error":"#DIV/0!"}},null,{"$f":"Y31/Y32*100","v":{"$error":"#DIV/0!"}},{"$f":"Z31/Z32*100","v":{"$error":"#DIV/0!"}},{"$f":"AA31/AA32*100","v":{"$error":"#DIV/0!"}},{"$f":"AB31/AB32*100","v":{"$error":"#DIV/0!"}},null,{"$f":"AD31/AD32*100","v":{"$error":"#DIV/0!"}},{"$f":"AE31/AE32*100","v":{"$error":"#DIV/0!"}},{"$f":"AF31/AF32*100","v":{"$error":"#DIV/0!"}},{"$f":"AG31/AG32*100","v":{"$error":"#DIV/0!"}},null,{"$f":"AI31/AI32*100","v":{"$error":"#DIV/0!"}},{"$f":"AJ31/AJ32*100","v":{"$error":"#DIV/0!"}},{"$f":"AK31/AK32*100","v":{"$error":"#DIV/0!"}},{"$f":"AL31/AL32*100","v":{"$error":"#DIV/0!"}},null,{"$f":"AN31/AN32*100","v":{"$error":"#DIV/0!"}},{"$f":"AO31/AO32*100","v":{"$error":"#DIV/0!"}},{"$f":"AP31/AP32*100","v":{"$error":"#DIV/0!"}},{"$f":"AQ31/AQ32*100","v":{"$error":"#DIV/0!"}},null,{"$f":"AS31/AS32*100","v":{"$error":"#DIV/0!"}},{"$f":"AT31/AT32*100","v":{"$error":"#DIV/0!"}},{"$f":"AU31/AU32*100","v":{"$error":"#DIV/0!"}},{"$f":"AV31/AV32*100","v":{"$error":"#DIV/0!"}},null,{"$f":"AX31/AX32*100","v":{"$error":"#DIV/0!"}},{"$f":"AY31/AY32*100","v":{"$error":"#DIV/0!"}},{"$f":"AZ31/AZ32*100","v":{"$error":"#DIV/0!"}},{"$f":"BA31/BA32*100","v":{"$error":"#DIV/0!"}},null,{"$f":"BC31/BC32*100","v":{"$error":"#DIV/0!"}},{"$f":"BD31/BD32*100","v":{"$error":"#DIV/0!"}},{"$f":"BE31/BE32*100","v":{"$error":"#DIV/0!"}},{"$f":"BF31/BF32*100","v":{"$error":"#DIV/0!"}},null,{"$f":"BH31/BH32*100","v":{"$error":"#DIV/0!"}},{"$f":"BI31/BI32*100","v":{"$error":"#DIV/0!"}},{"$f":"BJ31/BJ32*100","v":{"$error":"#DIV/0!"}},{"$f":"BK31/BK32*100","v":{"$error":"#DIV/0!"}},null,{"$f":"BM31/BM32*100","v":{"$error":"#DIV/0!"}},{"$f":"BN31/BN32*100","v":{"$error":"#DIV/0!"}},{"$f":"BO31/BO32*100","v":{"$error":"#DIV/0!"}},{"$f":"BP31/BP32*100","v":{"$error":"#DIV/0!"}},null,{"$f":"BR31/BR32*100","v":{"$error":"#DIV/0!"}},{"$f":"BS31/BS32*100","v":{"$error":"#DIV/0!"}},{"$f":"BT31/BT32*100","v":{"$error":"#DIV/0!"}},{"$f":"BU31/BU32*100","v":{"$error":"#DIV/0!"}},null,{"$f":"BW31/BW32*100","v":{"$error":"#DIV/0!"}},{"$f":"BX31/BX32*100","v":{"$error":"#DIV/0!"}},{"$f":"BY31/BY32*100","v":{"$error":"#DIV/0!"}},{"$f":"BZ31/BZ32*100","v":{"$error":"#DIV/0!"}},null,{"$f":"CB31/CB32*100","v":{"$error":"#DIV/0!"}},{"$f":"CC31/CC32*100","v":{"$error":"#DIV/0!"}},{"$f":"CD31/CD32*100","v":{"$error":"#DIV/0!"}},{"$f":"CE31/CE32*100","v":{"$error":"#DIV/0!"}},null,{"$f":"CG31/CG32*100","v":{"$error":"#DIV/0!"}},{"$f":"CH31/CH32*100","v":{"$error":"#DIV/0!"}},{"$f":"CI31/CI32*100","v":{"$error":"#DIV/0!"}},{"$f":"CJ31/CJ32*100","v":{"$error":"#DIV/0!"}},null,{"$f":"CL31/CL32*100","v":{"$error":"#DIV/0!"}},{"$f":"CM31/CM32*100","v":{"$error":"#DIV/0!"}},{"$f":"CN31/CN32*100","v":{"$error":"#DIV/0!"}},{"$f":"CO31/CO32*100","v":{"$error":"#DIV/0!"}},null,{"$f":"CQ31/CQ32*100","v":{"$error":"#DIV/0!"}},{"$error":"#DIV/0!"},{"$error":"#DIV/0!"},{"$error":"#DIV/0!"},null,{"$f":"CV31/CV32*100","v":{"$error":"#DIV/0!"}},{"$f":"CW31/CW32*100","v":{"$error":"#DIV/0!"}},{"$f":"CX31/CX32*100","v":{"$error":"#DIV/0!"}},{"$f":"CY31/CY32*100","v":{"$error":"#DIV/0!"}},null,{"$f":"DA31/DA32*100","v":{"$error":"#DIV/0!"}},{"$f":"DB31/DB32*100","v":{"$error":"#DIV/0!"}},{"$f":"DC31/DC32*100","v":{"$error":"#DIV/0!"}},{"$f":"DD31/DD32*100","v":{"$error":"#DIV/0!"}},null,{"$f":"DF31/DF32*100","v":{"$error":"#DIV/0!"}},{"$f":"DG31/DG32*100","v":{"$error":"#DIV/0!"}},{"$f":"DH31/DH32*100","v":{"$error":"#DIV/0!"}},{"$f":"DI31/DI32*100","v":{"$error":"#DIV/0!"}},null,{"$f":"DK31/DK32*100","v":{"$error":"#DIV/0!"}},{"$f":"DL31/DL32*100","v":{"$error":"#DIV/0!"}},{"$f":"DM31/DM32*100","v":{"$error":"#DIV/0!"}},{"$f":"DN31/DN32*100","v":{"$error":"#DIV/0!"}},null,{"$f":"DP31/DP32*100","v":{"$error":"#DIV/0!"}},{"$f":"DQ31/DQ32*100","v":{"$error":"#DIV/0!"}},{"$f":"DR31/DR32*100","v":{"$error":"#DIV/0!"}},{"$f":"DS31/DS32*100","v":{"$error":"#DIV/0!"}},null,{"$f":"DU31/DU32*100","v":{"$error":"#DIV/0!"}},{"$f":"DV31/DV32*100","v":{"$error":"#DIV/0!"}},{"$f":"DW31/DW32*100","v":{"$error":"#DIV/0!"}},{"$f":"DX31/DX32*100","v":{"$error":"#DIV/0!"}},null,{"$f":"DZ31/DZ32*100","v":{"$error":"#DIV/0!"}},{"$f":"EA31/EA32*100","v":{"$error":"#DIV/0!"}},{"$f":"EB31/EB32*100","v":{"$error":"#DIV/0!"}},{"$f":"EC31/EC32*100","v":{"$error":"#DIV/0!"}},null,{"$f":"EE31/EE32*100","v":{"$error":"#DIV/0!"}},{"$error":"#DIV/0!"},{"$error":"#DIV/0!"},{"$error":"#DIV/0!"},null,{"$error":"#DIV/0!"},{"$error":"#DIV/0!"},{"$f":"EL31/EL32*100","v":{"$error":"#DIV/0!"}},{"$f":"EM31/EM32*100","v":{"$error":"#DIV/0!"}}]
[null,null,1,"体　操　競　技",{"$f":"J34+O34+T34+Y34+AD34+AI34+AN34+AS34+AX34+BC34+BH34+BM34+BR34+BW34+CB34+CG34+CL34+CQ34+CV34+DA34+DF34+DK34+DP34+DU34+DZ34","v":0},0,0,0,0,null,null,null,{"$f":"SUM(J34:L34)","v":0},null,null,null,null,{"$f":"SUM(O34:Q34)","v":0},null,null,null,null,{"$f":"SUM(T34:V34)","v":0},null,null,null,null,{"$f":"SUM(Y34:AA34)","v":0},null,null,null,null,{"$f":"SUM(AD34:AF34)","v":0},null,null,null,null,{"$f":"SUM(AI34:AK34)","v":0},null,null,null,null,{"$f":"SUM(AN34:AP34)","v":0},null,null,null,null,{"$f":"SUM(AS34:AU34)","v":0},null,null,null,null,{"$f":"SUM(AX34:AZ34)","v":0},null,null,null,null,{"$f":"SUM(BC34:BE34)","v":0},null,null,null,null,{"$f":"SUM(BH34:BJ34)","v":0},null,null,null,null,{"$f":"SUM(BM34:BO34)","v":0},null,null,null,null,{"$f":"SUM(BR34:BT34)","v":0},null,null,null,null,{"$f":"SUM(BW34:BY34)","v":0},null,null,null,null,{"$f":"SUM(CB34:CD34)","v":0},null,null,null,null,{"$f":"SUM(CG34:CI34)","v":0},null,null,null,null,{"$f":"SUM(CL34:CN34)","v":0},null,null,null,null,{"$f":"SUM(CQ34:CS34)","v":0},null,null,null,null,{"$f":"SUM(CV34:CX34)","v":0},null,null,null,null,{"$f":"SUM(DA34:DC34)","v":0},null,null,null,null,{"$f":"SUM(DF34:DH34)","v":0},null,null,null,null,{"$f":"SUM(DK34:DM34)","v":0},null,null,null,null,{"$f":"SUM(DP34:DR34)","v":0},null,null,null,null,{"$f":"SUM(DU34:DW34)","v":0},null,null,null,null,{"$f":"SUM(DZ34:EB34)","v":0},null,null,null,null,{"$f":"EE34+EF34+EG34","v":0},null,null,null,null,{"$f":"EJ34+EK34+EL34","v":0}]
[null,null,2,"新    体    操",0,0,0,0,0,null,null,null,{"$f":"SUM(J35:L35)","v":0},null,null,null,null,0,null,null,null,null,0,null,null,null,null,0,null,null,null,null,0,null,null,null,null,0,null,null,null,null,0,null,null,null,null,0,null,null,null,null,0,null,null,null,null,0,null,null,null,null,0,null,null,null,null,0,null,null,null,null,0,null,null,null,null,0,null,null,null,null,0,null,null,null,null,0,null,null,null,null,0,null,null,null,null,0,null,null,null,null,0,null,null,null,null,0,null,null,null,null,0,null,null,null,null,0,null,null,null,null,0,null,null,null,null,0,null,null,null,null,0,null,null,null,null,0,null,null,null,null,0]
[null,null,3,"軟　式　野　球",0,0,0,0,0,null,null,null,0,null,null,null,null,0,null,null,null,null,0,null,null,null,null,0,null,null,null,null,0,null,null,null,null,0,null,null,null,null,0,null,null,null,null,0,null,null,null,null,0,null,null,null,null,0,null,null,null,null,0,null,null,null,null,0,null,null,null,null,0,null,null,null,null,0,null,null,null,null,0,null,null,null,null,0,null,null,null,null,0,null,null,null,null,0,null,null,null,null,0,null,null,null,null,0,null,null,null,null,0,null,null,null,null,0,null,null,null,null,0,null,null,null,null,0,null,null,null,null,0,null,null,null,null,0,null,null,null,null,0]
[null,null,4,"ソフトボール",0,0,0,0,0,null,null,null,0,null,null,null,null,0,null,null,null,null,0,null,null,null,null,0,null,null,null,null,0,null,null,null,null,0,null,null,null,null,0,null,null,null,null,0,null,null,null,null,0,null,null,null,null,0,null,null,null,null,0,null,null,null,null,0,null,null,null,null,0,null,null,null,null,0,null,null,null,null,0,null,null,null,null,0,null,null,null,null,0,null,null,null,null,0,null,null,null,null,0,null,null,null,null,0,null,null,null,null,0,null,null,null,null,0,null,null,null,null,0,null,null,null,null,0,null,null,null,null,0,null,null,null,null,0,null,null,null,null,0]
[null,null,5,"バスケットボール",0,0,0,0,0,null,null,null,0,null,null,null,null,0,null,null,null,null,0,null,null,null,null,0,null,null,null,null,0,null,null,null,null,0,null,null,null,null,0,null,null,null,null,0,null,null,null,null,0,null,null,null,null,0,null,null,null,null,0,null,null,null,null,0,null,null,null,null,0,null,null,null,null,0,null,null,null,null,0,null,null,null,null,0,null,null,null,null,0,null,null,null,null,0,null,null,null,null,0,null,null,null,null,0,null,null,null,null,0,null,null,null,null,0,null,null,null,null,0,null,null,null,null,0,null,null,null,null,0,null,null,null,null,0,null,null,null,null,0]
[null,null,6,"ハンドボール",0,0,0,0,0,null,null,null,0,null,null,null,null,0,null,null,null,null,0,null,null,null,null,0,null,null,null,null,0,null,null,null,null,0,null,null,null,null,0,null,null,null,null,0,null,null,null,null,0,null,null,null,null,0,null,null,null,null,0,null,null,null,null,0,null,null,null,null,0,null,null,null,null,0,null,null,null,null,0,null,null,null,null,0,null,null,null,null,0,null,null,null,null,0,null,null,null,null,0,null,null,null,null,0,null,null,null,null,0,null,null,null,null,0,null,null,null,null,0,null,null,null,null,0,null,null,null,null,0,null,null,null,null,0,null,null,null,null,0]
[null,"女",7,"バレーボール",0,0,0,0,0,null,null,null,0,null,null,null,null,0,null,null,null,null,0,null,null,null,null,0,null,null,null,null,0,null,null,null,null,0,null,null,null,null,0,null,null,null,null,0,null,null,null,null,0,null,null,null,null,0,null,null,null,null,0,null,null,null,null,0,null,null,null,null,0,null,null,null,null,0,null,null,null,null,0,null,null,null,null,0,null,null,null,null,0,null,null,null,null,0,null,null,null,null,0,null,null,null,null,0,null,null,null,null,0,null,null,null,null,0,null,null,null,null,0,null,null,null,null,0,null,null,null,null,0,null,null,null,null,0,null,null,null,null,0]
[null,null,8,"ソフトテニス",0,0,0,0,0,null,null,null,0,null,null,null,null,0,null,null,null,null,0,null,null,null,null,0,null,null,null,null,0,null,null,null,null,0,null,null,null,null,0,null,null,null,null,0,null,null,null,null,0,null,null,null,null,0,null,null,null,null,0,null,null,null,null,0,null,null,null,null,0,null,null,null,null,0,null,null,null,null,0,null,null,null,null,0,null,null,null,null,0,null,null,null,null,0,null,null,null,null,0,null,null,null,null,0,null,null,null,null,0,null,null,null,null,0,null,null,null,null,0,null,null,null,null,0,null,null,null,null,0,null,null,null,null,0,null,null,null,null,0]
[null,null,9,"卓    球",0,0,0,0,0,null,null,null,0,null,null,null,null,0,null,null,null,null,0,null,null,null,null,0,null,null,null,null,0,null,null,null,null,0,null,null,null,null,0,null,null,null,null,0,null,null,null,null,0,null,null,null,null,0,null,null,null,null,0,null,null,null,null,0,null,null,null,null,0,null,null,null,null,0,null,null,null,null,0,null,null,null,null,0,null,null,null,null,0,null,null,null,null,0,null,null,null,null,0,null,null,null,null,0,null,null,null,null,0,null,null,null,null,0,null,null,null,null,0,null,null,null,null,0,null,null,null,null,0,null,null,null,null,0,null,null,null,null,0]
[null,null,10,"バドミントン",0,0,0,0,0,null,null,null,0,null,null,null,null,0,null,null,null,null,0,null,null,null,null,0,null,null,null,null,0,null,null,null,null,0,null,null,null,null,0,null,null,null,null,0,null,null,null,null,0,null,null,null,null,0,null,null,null,null,0,null,null,null,null,0,null,null,null,null,0,null,null,null,null,0,null,null,null,null,0,null,null,null,null,0,null,null,null,null,0,null,null,null,null,0,null,null,null,null,0,null,null,null,null,0,null,null,null,null,0,null,null,null,null,0,null,null,null,null,0,null,null,null,null,0,null,null,null,null,0,null,null,null,null,0,null,null,null,null,0]
[null,null,11,"サッカー",0,0,0,0,0,null,null,null,0,null,null,null,null,0,null,null,null,null,0,null,null,null,null,0,null,null,null,null,0,null,null,null,null,0,null,null,null,null,0,null,null,null,null,0,null,null,null,null,0,null,null,null,null,0,null,null,null,null,0,null,null,null,null,0,null,null,null,null,0,null,null,null,null,0,null,null,null,null,0,null,null,null,null,0,null,null,null,null,0,null,null,null,null,0,null,null,null,null,0,null,null,null,null,0,null,null,null,null,0,null,null,null,null,0,null,null,null,null,0,null,null,null,null,0,null,null,null,null,0,null,null,null,null,0,null,null,null,null,0]
[null,null,12,"陸　上　競　技",0,0,0,0,0,null,null,null,0,null,null,null,null,0,null,null,null,null,0,null,null,null,null,0,null,null,null,null,0,null,null,null,null,0,null,null,null,null,0,null,null,null,null,0,null,null,null,null,0,null,null,null,null,0,null,null,null,null,0,null,null,null,null,0,null,null,null,null,0,null,null,null,null,0,null,null,null,null,0,null,null,null,null,0,null,null,null,null,0,null,null,null,null,0,null,null,null,null,0,null,null,null,null,0,null,null,null,null,0,null,null,null,null,0,null,null,null,null,0,null,null,null,null,0,null,null,null,null,0,null,null,null,null,0,null,null,null,null,0]
[null,null,13,"水　　泳",0,0,0,0,0,null,null,null,0,null,null,null,null,0,null,null,null,null,0,null,null,null,null,0,null,null,null,null,0,null,null,null,null,0,null,null,null,null,0,null,null,null,null,0,null,null,null,null,0,null,null,null,null,0,null,null,null,null,0,null,null,null,null,0,null,null,null,null,0,null,null,null,null,0,null,null,null,null,0,null,null,null,null,0,null,null,null,null,0,null,null,null,null,0,null,null,null,null,0,null,null,null,null,0,null,null,null,null,0,null,null,null,null,0,null,null,null,null,0,null,null,null,null,0,null,null,null,null,0,null,null,null,null,0,null,null,null,null,0]
[null,"子",14,"柔　　道",0,0,0,0,0,null,null,null,0,null,null,null,null,0,null,null,null,null,0,null,null,null,null,0,null,null,null,null,0,null,null,null,null,0,null,null,null,null,0,null,null,null,null,0,null,null,null,null,0,null,null,null,null,0,null,null,null,null,0,null,null,null,null,0,null,null,null,null,0,null,null,null,null,0,null,null,null,null,0,null,null,null,null,0,null,null,null,null,0,null,null,null,null,0,null,null,null,null,0,null,null,null,null,0,null,null,null,null,0,null,null,null,null,0,null,null,null,null,0,null,null,null,null,0,null,null,null,null,0,null,null,null,null,0,null,null,null,null,0]
[null,null,15,"剣　　道",0,0,0,0,0,null,null,null,0,null,null,null,null,0,null,null,null,null,0,null,null,null,null,0,null,null,null,null,0,null,null,null,null,0,null,null,null,null,0,null,null,null,null,0,null,null,null,null,0,null,null,null,null,0,null,null,null,null,0,null,null,null,null,0,null,null,null,null,0,null,null,null,null,0,null,null,null,null,0,null,null,null,null,0,null,null,null,null,0,null,null,null,null,0,null,null,null,null,0,null,null,null,null,0,null,null,null,null,0,null,null,null,null,0,null,null,null,null,0,null,null,null,null,0,null,null,null,null,0,null,null,null,null,0,null,null,null,null,0]
[null,null,16,"ダ    ン    ス",0,0,0,0,0,null,null,null,0,null,null,null,null,0,null,null,null,null,0,null,null,null,null,0,null,null,null,null,0,null,null,null,null,0,null,null,null,null,0,null,null,null,null,0,null,null,null,null,0,null,null,null,null,0,null,null,null,null,0,null,null,null,null,0,null,null,null,null,0,null,null,null,null,0,null,null,null,null,0,null,null,null,null,0,null,null,null,null,0,null,null,null,null,0,null,null,null,null,0,null,null,null,null,0,null,null,null,null,0,null,null,null,null,0,null,null,null,null,0,null,null,null,null,0,null,null,null,null,0,null,null,null,null,0,null,null,null,null,0]
[null,null,17,"ス    キ    ー",0,0,0,0,0,null,null,null,0,null,null,null,null,0,null,null,null,null,0,null,null,null,null,0,null,null,null,null,0,null,null,null,null,0,null,null,null,null,0,null,null,null,null,0,null,null,null,null,0,null,null,null,null,0,null,null,null,null,0,null,null,null,null,0,null,null,null,null,0,null,null,null,null,0,null,null,null,null,0,null,null,null,null,0,null,null,null,null,0,null,null,null,null,0,null,null,null,null,0,null,null,null,null,0,null,null,null,null,0,null,null,null,null,0,null,null,null,null,0,null,null,null,null,0,null,null,null,null,0,null,null,null,null,0,null,null,null,null,0]
[null,null,18,"ス  ケ  ー  ト",0,0,0,0,0,null,null,null,0,null,null,null,null,0,null,null,null,null,0,null,null,null,null,0,null,null,null,null,0,null,null,null,null,0,null,null,null,null,0,null,null,null,null,0,null,null,null,null,0,null,null,null,null,0,null,null,null,null,0,null,null,null,null,0,null,null,null,null,0,null,null,null,null,0,null,null,null,null,0,null,null,null,null,0,null,null,null,null,0,null,null,null,null,0,null,null,null,null,0,null,null,null,null,0,null,null,null,null,0,null,null,null,null,0,null,null,null,null,0,null,null,null,null,0,null,null,null,null,0,null,null,null,null,0,null,null,null,null,0]
[null,null,19,"アイスホッケー",0,0,0,0,0,null,null,null,0,null,null,null,null,0,null,null,null,null,0,null,null,null,null,0,null,null,null,null,0,null,null,null,null,0,null,null,null,null,0,null,null,null,null,0,null,null,null,null,0,null,null,null,null,0,null,null,null,null,0,null,null,null,null,0,null,null,null,null,0,null,null,null,null,0,null,null,null,null,0,null,null,null,null,0,null,null,null,null,0,null,null,null,null,0,null,null,null,null,0,null,null,null,null,0,null,null,null,null,0,null,null,null,null,0,null,null,null,null,0,null,null,null,null,0,null,null,null,null,0,null,null,null,null,0,null,null,null,null,0]
[null,null,20,"テ　　ニ　　ス",0,0,0,0,0,null,null,null,0,null,null,null,null,0,null,null,null,null,0,null,null,null,null,0,null,null,null,null,0,null,null,null,null,0,null,null,null,null,0,null,null,null,null,0,null,null,null,null,0,null,null,null,null,0,null,null,null,null,0,null,null,null,null,0,null,null,null,null,0,null,null,null,null,0,null,null,null,null,0,null,null,null,null,0,null,null,null,null,0,null,null,null,null,0,null,null,null,null,0,null,null,null,null,0,null,null,null,null,0,null,null,null,null,0,null,null,null,null,0,null,null,null,null,0,null,null,null,null,0,null,null,null,null,0,null,null,null,null,0]
[null,null,21,"弓　　道　",0,0,0,0,0,null,null,null,0,null,null,null,null,0,null,null,null,null,0,null,null,null,null,0,null,null,null,null,0,null,null,null,null,0,null,null,null,null,0,null,null,null,null,0,null,null,null,null,0,null,null,null,null,0,null,null,null,null,0,null,null,null,null,0,null,null,null,null,0,null,null,null,null,0,null,null,null,null,0,null,null,null,null,0,null,null,null,null,0,null,null,null,null,0,null,null,null,null,0,null,null,null,null,0,null,null,null,null,0,null,null,null,null,0,null,null,null,null,0,null,null,null,null,0,null,null,null,null,0,null,null,null,null,0,null,null,null,null,0]
[null,null,22,"空　　手",0,0,0,0,0,null,null,null,0,null,null,null,null,0,null,null,null,null,0,null,null,null,null,0,null,null,null,null,0,null,null,null,null,0,null,null,null,null,0,null,null,null,null,0,null,null,null,null,0,null,null,null,null,0,null,null,null,null,0,null,null,null,null,0,null,null,null,null,0,null,null,null,null,0,null,null,null,null,0,null,null,null,null,0,null,null,null,null,0,null,null,null,null,0,null,null,null,null,0,null,null,null,null,0,null,null,null,null,0,null,null,null,null,0,null,null,null,null,0,null,null,null,null,0,null,null,null,null,0,null,null,null,null,0,null,null,null,null,0]
[null,null,null,null,0,0,0,0,0,null,null,null,0,null,null,null,null,0,null,null,null,null,0,null,null,null,null,0,null,null,null,null,0,null,null,null,null,0,null,null,null,null,0,null,null,null,null,0,null,null,null,null,0,null,null,null,null,0,null,null,null,null,0,null,null,null,null,0,null,null,null,null,0,null,null,null,null,0,null,null,null,null,0,null,null,null,null,0,null,null,null,null,0,null,null,null,null,0,null,null,null,null,0,null,null,null,null,0,null,null,null,null,0,null,null,null,null,0,null,null,null,null,0,null,null,null,null,0,null,null,null,null,0,null,null,null,null,0,null,null,null,null,0]
[null,null,null,null,0,0,0,0,0,null,null,null,0,null,null,null,null,0,null,null,null,null,0,null,null,null,null,0,null,null,null,null,0,null,null,null,null,0,null,null,null,null,0,null,null,null,null,0,null,null,null,null,0,null,null,null,null,0,null,null,null,null,0,null,null,null,null,0,null,null,null,null,0,null,null,null,null,0,null,null,null,null,0,null,null,null,null,0,null,null,null,null,0,null,null,null,null,0,null,null,null,null,0,null,null,null,null,0,null,null,null,null,0,null,null,null,null,0,null,null,null,null,0,null,null,null,null,0,null,null,null,null,0,null,null,null,null,0,null,null,null,null,0]
[null,null,null,null,0,0,0,0,0,null,null,null,0,null,null,null,null,0,null,null,null,null,0,null,null,null,null,0,null,null,null,null,0,null,null,null,null,0,null,null,null,null,0,null,null,null,null,0,null,null,null,null,0,null,null,null,null,0,null,null,null,null,0,null,null,null,null,0,null,null,null,null,0,null,null,null,null,0,null,null,null,null,0,null,null,null,null,0,null,null,null,null,0,null,null,null,null,0,null,null,null,null,0,null,null,null,null,0,null,null,null,null,0,null,null,null,null,0,null,null,null,null,0,null,null,null,null,0,null,null,null,null,0,null,null,null,null,0,null,null,null,null,0]
[null,null,"女　子　合　計 (名)",null,0,0,0,0,0,{"$f":"SUM(J34:J58)","v":0},{"$f":"SUM(K34:K58)","v":0},0,0,0,0,{"$f":"SUM(P34:P58)","v":0},0,0,0,0,0,0,0,0,0,0,0,0,0,0,0,0,0,0,0,0,0,0,0,0,0,0,0,0,0,0,0,0,0,0,0,0,0,0,0,0,0,0,0,0,0,0,0,0,0,0,0,0,0,0,0,0,0,0,0,0,0,0,0,{"$f":"SUM(CB34:CB58)","v":0},{"$f":"SUM(CC34:CC58)","v":0},0,0,0,0,0,0,0,0,0,0,0,0,0,0,0,0,0,0,{"$f":"SUM(CV34:CV58)","v":0},0,0,0,0,0,0,0,0,0,0,0,0,0,0,0,0,0,0,0,0,0,0,0,0,0,0,0,0,0,0,0,0,0,{"$f":"SUM(ED34:ED58)","v":0},0,0,0,{"$f":"SUM(EH34:EH58)","v":0},0,0,0,0,0,0]
[null,null,"女 子 在 籍 数 (名)",null,0,0,0,0,null,null,null,null,{"$f":"SUM(J60:L60)","v":0},null,null,null,null,{"$f":"SUM(O60:Q60)","v":0},null,null,null,null,{"$f":"SUM(T60:V60)","v":0},null,null,null,null,{"$f":"SUM(Y60:AA60)","v":0},null,null,null,null,{"$f":"SUM(AD60:AF60)","v":0},null,null,null,null,{"$f":"SUM(AI60:AK60)","v":0},null,null,null,null,{"$f":"SUM(AN60:AP60)","v":0},null,null,null,null,{"$f":"SUM(AS60:AU60)","v":0},null,null,null,null,{"$f":"SUM(AX60:AZ60)","v":0},null,null,null,null,{"$f":"SUM(BC60:BE60)","v":0},null,null,null,null,{"$f":"SUM(BH60:BJ60)","v":0},null,null,null,null,{"$f":"SUM(BM60:BO60)","v":0},null,null,null,null,{"$f":"SUM(BR60:BT60)","v":0},null,null,null,null,{"$f":"SUM(BW60:BY60)","v":0},null,null,null,null,{"$f":"SUM(CB60:CD60)","v":0},null,null,null,null,{"$f":"SUM(CG60:CI60)","v":0},null,null,null,null,{"$f":"SUM(CL60:CN60)","v":0},null,null,null,null,{"$f":"SUM(CQ60:CS60)","v":0},null,null,null,null,{"$f":"SUM(CV60:CX60)","v":0},null,null,null,null,{"$f":"SUM(DA60:DC60)","v":0},null,null,null,null,{"$f":"SUM(DF60:DH60)","v":0},null,null,null,null,{"$f":"SUM(DK60:DM60)","v":0},null,null,null,null,{"$f":"SUM(DP60:DR60)","v":0},null,null,null,null,{"$f":"SUM(DU60:DW60)","v":0},null,null,null,null,{"$f":"SUM(DZ60:EB60)","v":0},null,null,null,null,{"$f":"SUM(EE60:EG60)","v":0},null,null,null,null,{"$f":"SUM(EJ60:EL60)","v":0}]
[null,null,"女 子 入 部 率 (％)",null,{"$f":"E59/E60*100","v":{"$error":"#DIV/0!"}},{"$f":"F59/F60*100","v":{"$error":"#DIV/0!"}},{"$f":"G59/G60*100","v":{"$error":"#DIV/0!"}},{"$f":"H59/H60*100","v":{"$error":"#DIV/0!"}},null,{"$f":"J59/J60*100","v":{"$error":"#DIV/0!"}},{"$error":"#DIV/0!"},{"$error":"#DIV/0!"},{"$error":"#DIV/0!"},null,{"$f":"O59/O60*100","v":{"$error":"#DIV/0!"}},{"$error":"#DIV/0!"},{"$error":"#DIV/0!"},{"$error":"#DIV/0!"},null,{"$f":"T59/T60*100","v":{"$error":"#DIV/0!"}},{"$error":"#DIV/0!"},{"$error":"#DIV/0!"},{"$error":"#DIV/0!"},null,{"$f":"Y59/Y60*100","v":{"$error":"#DIV/0!"}},{"$error":"#DIV/0!"},{"$error":"#DIV/0!"},{"$error":"#DIV/0!"},null,{"$f":"AD59/AD60*100","v":{"$error":"#DIV/0!"}},{"$error":"#DIV/0!"},{"$error":"#DIV/0!"},{"$error":"#DIV/0!"},null,{"$f":"AI59/AI60*100","v":{"$error":"#DIV/0!"}},{"$error":"#DIV/0!"},{"$error":"#DIV/0!"},{"$error":"#DIV/0!"},null,{"$f":"AN59/AN60*100","v":{"$error":"#DIV/0!"}},{"$error":"#DIV/0!"},{"$error":"#DIV/0!"},{"$error":"#DIV/0!"},null,{"$f":"AS59/AS60*100","v":{"$error":"#DIV/0!"}},{"$error":"#DIV/0!"},{"$error":"#DIV/0!"},{"$error":"#DIV/0!"},null,{"$f":"AX59/AX60*100","v":{"$error":"#DIV/0!"}},{"$error":"#DIV/0!"},{"$error":"#DIV/0!"},{"$error":"#DIV/0!"},null,{"$f":"BC59/BC60*100","v":{"$error":"#DIV/0!"}},{"$error":"#DIV/0!"},{"$error":"#DIV/0!"},{"$error":"#DIV/0!"},null,{"$f":"BH59/BH60*100","v":{"$error":"#DIV/0!"}},{"$error":"#DIV/0!"},{"$error":"#DIV/0!"},{"$error":"#DIV/0!"},null,{"$f":"BM59/BM60*100","v":{"$error":"#DIV/0!"}},{"$error":"#DIV/0!"},{"$error":"#DIV/0!"},{"$error":"#DIV/0!"},null,{"$f":"BR59/BR60*100","v":{"$error":"#DIV/0!"}},{"$error":"#DIV/0!"},{"$error":"#DIV/0!"},{"$error":"#DIV/0!"},null,{"$f":"BW59/BW60*100","v":{"$error":"#DIV/0!"}},{"$error":"#DIV/0!"},{"$error":"#DIV/0!"},{"$error":"#DIV/0!"},null,{"$f":"CB59/CB60*100","v":{"$error":"#DIV/0!"}},{"$error":"#DIV/0!"},{"$error":"#DIV/0!"},{"$error":"#DIV/0!"},null,{"$f":"CG59/CG60*100","v":{"$error":"#DIV/0!"}},{"$error":"#DIV/0!"},{"$error":"#DIV/0!"},{"$error":"#DIV/0!"},null,{"$f":"CL59/CL60*100","v":{"$error":"#DIV/0!"}},{"$error":"#DIV/0!"},{"$error":"#DIV/0!"},{"$error":"#DIV/0!"},null,{"$f":"CQ59/CQ60*100","v":{"$error":"#DIV/0!"}},{"$error":"#DIV/0!"},{"$error":"#DIV/0!"},{"$error":"#DIV/0!"},null,{"$f":"CV59/CV60*100","v":{"$error":"#DIV/0!"}},{"$f":"CW59/CW60*100","v":{"$error":"#DIV/0!"}},{"$f":"CX59/CX60*100","v":{"$error":"#DIV/0!"}},{"$f":"CY59/CY60*100","v":{"$error":"#DIV/0!"}},null,{"$f":"DA59/DA60*100","v":{"$error":"#DIV/0!"}},{"$f":"DB59/DB60*100","v":{"$error":"#DIV/0!"}},{"$f":"DC59/DC60*100","v":{"$error":"#DIV/0!"}},{"$f":"DD59/DD60*100","v":{"$error":"#DIV/0!"}},null,{"$f":"DF59/DF60*100","v":{"$error":"#DIV/0!"}},{"$f":"DG59/DG60*100","v":{"$error":"#DIV/0!"}},{"$f":"DH59/DH60*100","v":{"$error":"#DIV/0!"}},{"$f":"DI59/DI60*100","v":{"$error":"#DIV/0!"}},null,{"$f":"DK59/DK60*100","v":{"$error":"#DIV/0!"}},{"$f":"DL59/DL60*100","v":{"$error":"#DIV/0!"}},{"$f":"DM59/DM60*100","v":{"$error":"#DIV/0!"}},{"$f":"DN59/DN60*100","v":{"$error":"#DIV/0!"}},null,{"$f":"DP59/DP60*100","v":{"$error":"#DIV/0!"}},{"$f":"DQ59/DQ60*100","v":{"$error":"#DIV/0!"}},{"$f":"DR59/DR60*100","v":{"$error":"#DIV/0!"}},{"$f":"DS59/DS60*100","v":{"$error":"#DIV/0!"}},null,{"$f":"DU59/DU60*100","v":{"$error":"#DIV/0!"}},{"$f":"DV59/DV60*100","v":{"$error":"#DIV/0!"}},{"$f":"DW59/DW60*100","v":{"$error":"#DIV/0!"}},{"$f":"DX59/DX60*100","v":{"$error":"#DIV/0!"}},null,{"$f":"DZ59/DZ60*100","v":{"$error":"#DIV/0!"}},{"$f":"EA59/EA60*100","v":{"$error":"#DIV/0!"}},{"$f":"EB59/EB60*100","v":{"$error":"#DIV/0!"}},{"$f":"EC59/EC60*100","v":{"$error":"#DIV/0!"}},null,null,null,null,{"$f":"EH59/EH60*100","v":{"$error":"#DIV/0!"}},null,{"$f":"EJ59/EJ60*100","v":{"$error":"#DIV/0!"}},{"$error":"#DIV/0!"},{"$f":"EL59/EL60*100","v":{"$error":"#DIV/0!"}},{"$f":"EM59/EM60*100","v":{"$error":"#DIV/0!"}}]
[null,null,"男　女　合　計 (名)",null,{"$f":"E31+E59","v":0},0,0,{"$f":"SUM(E62:G62)","v":0},null,{"$f":"J31+J59","v":0},{"$f":"K31+K59","v":0},0,0,0,0,{"$f":"P31+P59","v":0},0,0,0,0,0,0,0,0,0,0,0,0,0,0,0,0,0,0,0,0,0,0,0,0,0,0,0,0,0,0,0,0,0,0,0,0,0,0,0,0,0,0,0,0,0,0,0,0,0,0,0,0,0,0,0,0,0,0,0,0,0,0,0,{"$f":"CB31+CB59","v":0},0,0,0,0,0,0,0,0,0,0,0,0,0,0,0,0,0,0,0,{"$f":"CV31+CV59","v":0},0,0,{"$f":"SUM(CV62:CX62)","v":0},null,{"$f":"DA31+DA59","v":0},0,0,{"$f":"SUM(DA62:DC62)","v":0},null,{"$f":"DF31+DF59","v":0},0,0,{"$f":"SUM(DF62:DH62)","v":0},null,{"$f":"DK31+DK59","v":0},0,0,{"$f":"SUM(DK62:DM62)","v":0},null,{"$f":"DP31+DP59","v":0},0,0,{"$f":"SUM(DP62:DR62)","v":0},null,{"$f":"DU31+DU59","v":0},0,0,{"$f":"SUM(DU62:DW62)","v":0},null,{"$f":"DZ31+DZ59","v":0},0,0,{"$f":"SUM(DZ62:EB62)","v":0},{"$f":"ED31+ED59","v":0},0,0,0,0,{"$f":"EI31+EI59","v":0},0,0,0,0,0]
[null,null,"男 女 在 籍 数 (名)",null,0,0,0,{"$f":"SUM(E63:G63)","v":0},null,{"$f":"J32+J60","v":0},0,0,0,0,{"$f":"O32+O60","v":0},0,0,0,0,0,0,0,0,0,0,0,0,0,0,0,0,0,0,0,0,0,0,0,0,0,0,0,0,0,0,0,0,0,0,0,0,0,0,0,0,0,0,0,0,0,0,0,0,0,0,0,0,0,0,0,0,0,0,0,0,0,0,0,{"$f":"CA32+CA60","v":0},0,0,0,0,0,0,0,0,0,0,0,0,0,0,0,0,0,0,0,0,0,0,0,{"$f":"SUM(CV63:CX63)","v":0},null,0,0,0,{"$f":"SUM(DA63:DC63)","v":0},null,0,0,0,{"$f":"SUM(DF63:DH63)","v":0},null,0,0,0,{"$f":"SUM(DK63:DM63)","v":0},null,0,0,0,{"$f":"SUM(DP63:DR63)","v":0},null,0,0,0,{"$f":"SUM(DU63:DW63)","v":0},null,0,0,0,{"$f":"SUM(DZ63:EB63)","v":0},{"$f":"ED60+ED62","v":0},0,0,0,0,{"$f":"EI60+EI62","v":0},0,0,0,0,0]
[null,null,"男 女 入 部 率 (％)",null,{"$f":"E62/E63*100","v":{"$error":"#DIV/0!"}},{"$f":"F62/F63*100","v":{"$error":"#DIV/0!"}},{"$f":"G62/G63*100","v":{"$error":"#DIV/0!"}},{"$f":"H62/H63*100","v":{"$error":"#DIV/0!"}},null,{"$f":"J62/J63*100","v":{"$error":"#DIV/0!"}},{"$error":"#DIV/0!"},{"$error":"#DIV/0!"},{"$error":"#DIV/0!"},null,{"$f":"O62/O63*100","v":{"$error":"#DIV/0!"}},{"$error":"#DIV/0!"},{"$error":"#DIV/0!"},{"$error":"#DIV/0!"},null,{"$f":"T62/T63*100","v":{"$error":"#DIV/0!"}},{"$error":"#DIV/0!"},{"$error":"#DIV/0!"},{"$error":"#DIV/0!"},null,{"$f":"Y62/Y63*100","v":{"$error":"#DIV/0!"}},{"$error":"#DIV/0!"},{"$error":"#DIV/0!"},{"$error":"#DIV/0!"},null,{"$f":"AD62/AD63*100","v":{"$error":"#DIV/0!"}},{"$error":"#DIV/0!"},{"$error":"#DIV/0!"},{"$error":"#DIV/0!"},null,{"$f":"AI62/AI63*100","v":{"$error":"#DIV/0!"}},{"$error":"#DIV/0!"},{"$error":"#DIV/0!"},{"$error":"#DIV/0!"},null,{"$f":"AN62/AN63*100","v":{"$error":"#DIV/0!"}},{"$error":"#DIV/0!"},{"$error":"#DIV/0!"},{"$error":"#DIV/0!"},null,{"$f":"AS62/AS63*100","v":{"$error":"#DIV/0!"}},{"$error":"#DIV/0!"},{"$error":"#DIV/0!"},{"$error":"#DIV/0!"},null,{"$f":"AX62/AX63*100","v":{"$error":"#DIV/0!"}},{"$error":"#DIV/0!"},{"$error":"#DIV/0!"},{"$error":"#DIV/0!"},null,{"$f":"BC62/BC63*100","v":{"$error":"#DIV/0!"}},{"$error":"#DIV/0!"},{"$error":"#DIV/0!"},{"$error":"#DIV/0!"},null,{"$f":"BH62/BH63*100","v":{"$error":"#DIV/0!"}},{"$error":"#DIV/0!"},{"$error":"#DIV/0!"},{"$error":"#DIV/0!"},null,{"$f":"BM62/BM63*100","v":{"$error":"#DIV/0!"}},{"$error":"#DIV/0!"},{"$error":"#DIV/0!"},{"$error":"#DIV/0!"},null,{"$f":"BR62/BR63*100","v":{"$error":"#DIV/0!"}},{"$error":"#DIV/0!"},{"$error":"#DIV/0!"},{"$error":"#DIV/0!"},null,{"$f":"BW62/BW63*100","v":{"$error":"#DIV/0!"}},{"$error":"#DIV/0!"},{"$error":"#DIV/0!"},{"$error":"#DIV/0!"},null,{"$f":"CB62/CB63*100","v":{"$error":"#DIV/0!"}},{"$error":"#DIV/0!"},{"$error":"#DIV/0!"},{"$error":"#DIV/0!"},null,{"$f":"CG62/CG63*100","v":{"$error":"#DIV/0!"}},{"$error":"#DIV/0!"},{"$error":"#DIV/0!"},{"$error":"#DIV/0!"},null,{"$f":"CL62/CL63*100","v":{"$error":"#DIV/0!"}},{"$error":"#DIV/0!"},{"$error":"#DIV/0!"},{"$error":"#DIV/0!"},null,{"$f":"CQ62/CQ63*100","v":{"$error":"#DIV/0!"}},{"$error":"#DIV/0!"},{"$error":"#DIV/0!"},{"$error":"#DIV/0!"},null,{"$f":"CV62/CV63*100","v":{"$error":"#DIV/0!"}},{"$f":"CW62/CW63*100","v":{"$error":"#DIV/0!"}},{"$f":"CX62/CX63*100","v":{"$error":"#DIV/0!"}},{"$f":"CY62/CY63*100","v":{"$error":"#DIV/0!"}},null,{"$f":"DA62/DA63*100","v":{"$error":"#DIV/0!"}},{"$f":"DB62/DB63*100","v":{"$error":"#DIV/0!"}},{"$f":"DC62/DC63*100","v":{"$error":"#DIV/0!"}},{"$f":"DD62/DD63*100","v":{"$error":"#DIV/0!"}},null,{"$f":"DF62/DF63*100","v":{"$error":"#DIV/0!"}},{"$f":"DG62/DG63*100","v":{"$error":"#DIV/0!"}},{"$f":"DH62/DH63*100","v":{"$error":"#DIV/0!"}},{"$f":"DI62/DI63*100","v":{"$error":"#DIV/0!"}},null,{"$f":"DK62/DK63*100","v":{"$error":"#DIV/0!"}},{"$f":"DL62/DL63*100","v":{"$error":"#DIV/0!"}},{"$f":"DM62/DM63*100","v":{"$error":"#DIV/0!"}},{"$f":"DN62/DN63*100","v":{"$error":"#DIV/0!"}},null,{"$f":"DP62/DP63*100","v":{"$error":"#DIV/0!"}},{"$f":"DQ62/DQ63*100","v":{"$error":"#DIV/0!"}},{"$f":"DR62/DR63*100","v":{"$error":"#DIV/0!"}},{"$f":"DS62/DS63*100","v":{"$error":"#DIV/0!"}},null,{"$f":"DU62/DU63*100","v":{"$error":"#DIV/0!"}},{"$f":"DV62/DV63*100","v":{"$error":"#DIV/0!"}},{"$f":"DW62/DW63*100","v":{"$error":"#DIV/0!"}},{"$f":"DX62/DX63*100","v":{"$error":"#DIV/0!"}},null,{"$f":"DZ62/DZ63*100","v":{"$error":"#DIV/0!"}},{"$f":"EA62/EA63*100","v":{"$error":"#DIV/0!"}},{"$f":"EB62/EB63*100","v":{"$error":"#DIV/0!"}},{"$f":"EC62/EC63*100","v":{"$error":"#DIV/0!"}},null,{"$f":"EE62/EE63*100","v":{"$error":"#DIV/0!"}},{"$error":"#DIV/0!"},{"$error":"#DIV/0!"},{"$error":"#DIV/0!"},null,{"$error":"#DIV/0!"},{"$error":"#DIV/0!"},{"$f":"EL62/EL63*100","v":{"$error":"#DIV/0!"}},{"$f":"EM62/EM63*100","v":{"$error":"#DIV/0!"}}]

{"sheet":"６沼田","index":6,"n_rows":64,"n_cols":144,"rows_kept":64,"cut":false,"hidden":false,"merged":[]}
[]
[null,null,"令和８年度　群馬県中学校　運動部員数調査結果    （黄色部分は入力禁止）"]
[null,null,null,null,"６沼田市(9校)",null,null,null,null,null,"沼田",null,null,null,null,"沼田西",null,null,null,null,"池田",null,null,null,null,"薄根",null,null,null,null,"沼田東",null,null,null,null,"沼田南",null,null,null,null,"白沢",null,null,null,null,"利根",null,null,null,null,"多那"]
[null,null,"№","  競　技　名","１年","２年","３年","合計","設置","１年","２年","３年","合計","設置","１年","２年","３年","合計","設置","１年","２年","３年","合計","設置","１年","２年","３年","合計","設置","１年","２年","３年","合計","設置","１年","２年","３年","合計","設置","１年","２年","３年","合計","設置","１年","２年","３年","合計","設置","１年","２年","３年","合計","設置","１年","２年","３年","合計","設置","１年","２年","３年","合計","設置","１年","２年","３年","合計","設置","１年","２年","３年","合計","設置","１年","２年","３年","合計","設置","１年","２年","３年","合計","設置","１年","２年","３年","合計","設置","１年","２年","３年","合計","設置","１年","２年","３年","合計","設置","１年","２年","３年","合計","設置","１年","２年","３年","合計","設置","１年","２年","３年","合計","設置","１年","２年","３年","合計","設置","１年","２年","３年","合計","設置","１年","２年","３年","合計","設置","１年","２年","３年","合計","設置"]
[null,null,1,"体　操　競　技",{"$f":"J5+O5+T5+Y5+AD5+AI5+AN5+AS5+AX5+BC5+BH5+BM5+BR5+BW5+CB5+CG5+CL5+CQ5+CV5+DA5+DF5+DK5+DP5+DU5+DZ5","v":0},{"$f":"K5+P5+U5+Z5+AE5+AJ5+AO5+AT5+AY5+BD5+BI5+BN5+BS5+BX5+CC5+CH5+CM5+CR5+CW5+DB5+DG5+DL5+DQ5+DV5+EA5","v":0},{"$f":"L5+Q5+V5+AA5+AF5+AK5+AP5+AU5+AZ5+BE5+BJ5+BO5+BT5+BY5+CD5+CI5+CN5+CS5+CX5+DC5+DH5+DM5+DR5+DW5+EB5","v":0},{"$f":"M5+R5+W5+AB5+AG5+AL5+AQ5+AV5+BA5+BF5+BK5+BP5+BU5+BZ5+CE5+CJ5+CO5+CT5+CY5+DD5+DI5+DN5+DS5+DX5+EC5","v":0},{"$f":"N5+S5+X5+AC5+AH5+AM5+AR5+AW5+BB5+BG5+BL5+BQ5+BV5+CA5+CF5+CK5+CP5+CU5+CZ5+DE5+DJ5+DO5+DT5+DY5+ED5","v":0},null,null,null,{"$f":"SUM(J5:L5)","v":0},null,null,null,null,{"$f":"SUM(O5:Q5)","v":0},null,null,null,null,{"$f":"SUM(T5:V5)","v":0},null,null,null,null,{"$f":"SUM(Y5:AA5)","v":0},null,null,null,null,{"$f":"SUM(AD5:AF5)","v":0},null,null,null,null,{"$f":"SUM(AI5:AK5)","v":0},null,null,null,null,{"$f":"SUM(AN5:AP5)","v":0},null,null,null,null,{"$f":"SUM(AS5:AU5)","v":0},null,null,null,null,{"$f":"SUM(AX5:AZ5)","v":0},null,null,null,null,{"$f":"SUM(BC5:BE5)","v":0},null,null,null,null,{"$f":"SUM(BH5:BJ5)","v":0},null,null,null,null,{"$f":"SUM(BM5:BO5)","v":0},null,null,null,null,{"$f":"SUM(BR5:BT5)","v":0},null,null,null,null,{"$f":"SUM(BW5:BY5)","v":0},null,null,null,null,{"$f":"SUM(CB5:CD5)","v":0},null,null,null,null,{"$f":"SUM(CG5:CI5)","v":0},null,null,null,null,{"$f":"SUM(CL5:CN5)","v":0},null,null,null,null,{"$f":"SUM(CQ5:CS5)","v":0},null,null,null,null,{"$f":"SUM(CV5:CX5)","v":0},null,null,null,null,{"$f":"SUM(DA5:DC5)","v":0},null,null,null,null,{"$f":"SUM(DF5:DH5)","v":0},null,null,null,null,{"$f":"SUM(DK5:DM5)","v":0},null,null,null,null,{"$f":"SUM(DP5:DR5)","v":0},null,null,null,null,{"$f":"SUM(DU5:DW5)","v":0},null,null,null,null,{"$f":"SUM(DZ5:EB5)","v":0},null,null,null,null,{"$f":"SUM(EE5:EG5)","v":0},null,null,null,null,{"$f":"SUM(EJ5:EL5)","v":0}]
[null,null,2,"新    体    操",{"$f":"J6+O6+T6+Y6+AD6+AI6+AN6+AS6+AX6+BC6+BH6+BM6+BR6+BW6+CB6+CG6+CL6+CQ6+CV6+DA6+DF6+DK6+DP6+DU6+DZ6","v":0},0,0,0,0,null,null,null,{"$f":"SUM(J6:L6)","v":0},null,null,null,null,{"$f":"SUM(O6:Q6)","v":0},null,null,null,null,{"$f":"SUM(T6:V6)","v":0},null,null,null,null,{"$f":"SUM(Y6:AA6)","v":0},null,null,null,null,{"$f":"SUM(AD6:AF6)","v":0},null,null,null,null,{"$f":"SUM(AI6:AK6)","v":0},null,null,null,null,{"$f":"SUM(AN6:AP6)","v":0},null,null,null,null,{"$f":"SUM(AS6:AU6)","v":0},null,null,null,null,{"$f":"SUM(AX6:AZ6)","v":0},null,null,null,null,{"$f":"SUM(BC6:BE6)","v":0},null,null,null,null,{"$f":"SUM(BH6:BJ6)","v":0},null,null,null,null,{"$f":"SUM(BM6:BO6)","v":0},null,null,null,null,{"$f":"SUM(BR6:BT6)","v":0},null,null,null,null,{"$f":"SUM(BW6:BY6)","v":0},null,null,null,null,{"$f":"SUM(CB6:CD6)","v":0},null,null,null,null,{"$f":"SUM(CG6:CI6)","v":0},null,null,null,null,{"$f":"SUM(CL6:CN6)","v":0},null,null,null,null,{"$f":"SUM(CQ6:CS6)","v":0},null,null,null,null,{"$f":"SUM(CV6:CX6)","v":0},null,null,null,null,{"$f":"SUM(DA6:DC6)","v":0},null,null,null,null,{"$f":"SUM(DF6:DH6)","v":0},null,null,null,null,0,null,null,null,null,0,null,null,null,null,0,null,null,null,null,0,null,null,null,null,{"$f":"SUM(EE6:EG6)","v":0},null,null,null,null,{"$f":"SUM(EJ6:EL6)","v":0}]
[null,null,3,"軟　式　野　球",0,0,0,0,0,null,null,null,0,null,null,null,null,0,null,null,null,null,0,null,null,null,null,0,null,null,null,null,0,null,null,null,null,0,null,null,null,null,0,null,null,null,null,0,null,null,null,null,0,null,null,null,null,0,null,null,null,null,0,null,null,null,null,0,null,null,null,null,0,null,null,null,null,0,null,null,null,null,0,null,null,null,null,0,null,null,null,null,0,null,null,null,null,0,null,null,null,null,0,null,null,null,null,0,null,null,null,null,0,null,null,null,null,0,null,null,null,null,0,null,null,null,null,0,null,null,null,null,0,null,null,null,null,0,null,null,null,null,0]
[null,null,4,"ソフトボール",0,0,0,0,{"$f":"N8+S8+X8+AC8+AH8+AM8+AR8+AW8+BB8+BG8+BL8+BQ8+BV8+CA8+CF8+CK8+CP8+CU8+CZ8+DE8+DJ8+DO8+DT8+DY8+ED8","v":0},null,null,null,0,null,null,null,null,0,null,null,null,null,0,null,null,null,null,0,null,null,null,null,0,null,null,null,null,0,null,null,null,null,0,null,null,null,null,0,null,null,null,null,0,null,null,null,null,0,null,null,null,null,0,null,null,null,null,0,null,null,null,null,0,null,null,null,null,0,null,null,null,null,0,null,null,null,null,0,null,null,null,null,0,null,null,null,null,0,null,null,null,null,0,null,null,null,null,0,null,null,null,null,0,null,null,null,null,0,null,null,null,null,0,null,null,null,null,0,null,null,null,null,0,null,null,null,null,0,null,null,null,null,0]
[null,null,5,"バスケットボール",0,0,0,0,{"$f":"N9+S9+X9+AC9+AH9+AM9+AR9+AW9+BB9+BG9+BL9+BQ9+BV9+CA9+CF9+CK9+CP9+CU9+CZ9+DE9+DJ9+DO9+DT9+DY9+ED9","v":0},null,null,null,0,null,null,null,null,0,null,null,null,null,0,null,null,null,null,0,null,null,null,null,0,null,null,null,null,0,null,null,null,null,0,null,null,null,null,0,null,null,null,null,0,null,null,null,null,0,null,null,null,null,0,null,null,null,null,0,null,null,null,null,0,null,null,null,null,0,null,null,null,null,0,null,null,null,null,0,null,null,null,null,0,null,null,null,null,0,null,null,null,null,0,null,null,null,null,0,null,null,null,null,0,null,null,null,null,0,null,null,null,null,0,null,null,null,null,0,null,null,null,null,0,null,null,null,null,0,null,null,null,null,0]
[null,null,6,"ハンドボール",0,0,0,0,0,null,null,null,0,null,null,null,null,0,null,null,null,null,0,null,null,null,null,0,null,null,null,null,0,null,null,null,null,0,null,null,null,null,0,null,null,null,null,0,null,null,null,null,0,null,null,null,null,0,null,null,null,null,0,null,null,null,null,0,null,null,null,null,0,null,null,null,null,0,null,null,null,null,0,null,null,null,null,0,null,null,null,null,0,null,null,null,null,0,null,null,null,null,0,null,null,null,null,0,null,null,null,null,0,null,null,null,null,0,null,null,null,null,0,null,null,null,null,0,null,null,null,null,0,null,null,null,null,0,null,null,null,null,0]
[null,"男",7,"バレーボール",0,0,0,0,0,null,null,null,0,null,null,null,null,0,null,null,null,null,0,null,null,null,null,0,null,null,null,null,0,null,null,null,null,0,null,null,null,null,0,null,null,null,null,0,null,null,null,null,0,null,null,null,null,0,null,null,null,null,0,null,null,null,null,0,null,null,null,null,0,null,null,null,null,0,null,null,null,null,0,null,null,null,null,0,null,null,null,null,0,null,null,null,null,0,null,null,null,null,0,null,null,null,null,0,null,null,null,null,0,null,null,null,null,0,null,null,null,null,0,null,null,null,null,0,null,null,null,null,0,null,null,null,null,0,null,null,null,null,0]
[null,null,8,"ソフトテニス",0,0,0,0,0,null,null,null,0,null,null,null,null,0,null,null,null,null,0,null,null,null,null,0,null,null,null,null,0,null,null,null,null,0,null,null,null,null,0,null,null,null,null,0,null,null,null,null,0,null,null,null,null,0,null,null,null,null,0,null,null,null,null,0,null,null,null,null,0,null,null,null,null,0,null,null,null,null,0,null,null,null,null,0,null,null,null,null,0,null,null,null,null,0,null,null,null,null,0,null,null,null,null,0,null,null,null,null,0,null,null,null,null,0,null,null,null,null,0,null,null,null,null,0,null,null,null,null,0,null,null,null,null,0,null,null,null,null,0]
[null,null,9,"卓    球",0,0,0,0,0,null,null,null,0,null,null,null,null,0,null,null,null,null,0,null,null,null,null,0,null,null,null,null,0,null,null,null,null,0,null,null,null,null,0,null,null,null,null,0,null,null,null,null,0,null,null,null,null,0,null,null,null,null,0,null,null,null,null,0,null,null,null,null,0,null,null,null,null,0,null,null,null,null,0,null,null,null,null,0,null,null,null,null,0,null,null,null,null,0,null,null,null,null,0,null,null,null,null,0,null,null,null,null,0,null,null,null,null,0,null,null,null,null,0,null,null,null,null,0,null,null,null,null,0,null,null,null,null,0,null,null,null,null,0]
[null,null,10,"バドミントン",0,0,0,0,0,null,null,null,0,null,null,null,null,0,null,null,null,null,0,null,null,null,null,0,null,null,null,null,0,null,null,null,null,0,null,null,null,null,0,null,null,null,null,0,null,null,null,null,0,null,null,null,null,0,null,null,null,null,0,null,null,null,null,0,null,null,null,null,0,null,null,null,null,0,null,null,null,null,0,null,null,null,null,0,null,null,null,null,0,null,null,null,null,0,null,null,null,null,0,null,null,null,null,0,null,null,null,null,0,null,null,null,null,0,null,null,null,null,0,null,null,null,null,0,null,null,null,null,0,null,null,null,null,0,null,null,null,null,0]
[null,null,11,"サッカー",0,0,0,0,0,null,null,null,0,null,null,null,null,0,null,null,null,null,0,null,null,null,null,0,null,null,null,null,0,null,null,null,null,0,null,null,null,null,0,null,null,null,null,0,null,null,null,null,0,null,null,null,null,0,null,null,null,null,0,null,null,null,null,0,null,null,null,null,0,null,null,null,null,0,null,null,null,null,0,null,null,null,null,0,null,null,null,null,0,null,null,null,null,0,null,null,null,null,0,null,null,null,null,0,null,null,null,null,0,null,null,null,null,0,null,null,null,null,0,null,null,null,null,0,null,null,null,null,0,null,null,null,null,0,null,null,null,null,0]
[null,null,12,"陸　上　競　技",0,0,0,0,0,null,null,null,0,null,null,null,null,0,null,null,null,null,0,null,null,null,null,0,null,null,null,null,0,null,null,null,null,0,null,null,null,null,0,null,null,null,null,0,null,null,null,null,0,null,null,null,null,0,null,null,null,null,0,null,null,null,null,0,null,null,null,null,0,null,null,null,null,0,null,null,null,null,0,null,null,null,null,0,null,null,null,null,0,null,null,null,null,0,null,null,null,null,0,null,null,null,null,0,null,null,null,null,0,null,null,null,null,0,null,null,null,null,0,null,null,null,null,0,null,null,null,null,0,null,null,null,null,0,null,null,null,null,0]
[null,null,13,"水　　泳",0,0,0,0,0,null,null,null,0,null,null,null,null,0,null,null,null,null,0,null,null,null,null,0,null,null,null,null,0,null,null,null,null,0,null,null,null,null,0,null,null,null,null,0,null,null,null,null,0,null,null,null,null,0,null,null,null,null,0,null,null,null,null,0,null,null,null,null,0,null,null,null,null,0,null,null,null,null,0,null,null,null,null,0,null,null,null,null,0,null,null,null,null,0,null,null,null,null,0,null,null,null,null,0,null,null,null,null,0,null,null,null,null,0,null,null,null,null,0,null,null,null,null,0,null,null,null,null,0,null,null,null,null,0,null,null,null,null,0]
[null,"子",14,"柔　　道",0,0,0,0,0,null,null,null,0,null,null,null,null,0,null,null,null,null,0,null,null,null,null,0,null,null,null,null,0,null,null,null,null,0,null,null,null,null,0,null,null,null,null,0,null,null,null,null,0,null,null,null,null,0,null,null,null,null,0,null,null,null,null,0,null,null,null,null,0,null,null,null,null,0,null,null,null,null,0,null,null,null,null,0,null,null,null,null,0,null,null,null,null,0,null,null,null,null,0,null,null,null,null,0,null,null,null,null,0,null,null,null,null,0,null,null,null,null,0,null,null,null,null,0,null,null,null,null,0,null,null,null,null,0,null,null,null,null,0]
[null,null,15,"剣　　道",0,0,0,0,0,null,null,null,0,null,null,null,null,0,null,null,null,null,0,null,null,null,null,0,null,null,null,null,0,null,null,null,null,0,null,null,null,null,0,null,null,null,null,0,null,null,null,null,0,null,null,null,null,0,null,null,null,null,0,null,null,null,null,0,null,null,null,null,0,null,null,null,null,0,null,null,null,null,0,null,null,null,null,0,null,null,null,null,0,null,null,null,null,0,null,null,null,null,0,null,null,null,null,0,null,null,null,null,0,null,null,null,null,0,null,null,null,null,0,null,null,null,null,0,null,null,null,null,0,null,null,null,null,0,null,null,null,null,0]
[null,null,16,"相　　撲",0,0,0,0,0,null,null,null,0,null,null,null,null,0,null,null,null,null,0,null,null,null,null,0,null,null,null,null,0,null,null,null,null,0,null,null,null,null,0,null,null,null,null,0,null,null,null,null,0,null,null,null,null,0,null,null,null,null,0,null,null,null,null,0,null,null,null,null,0,null,null,null,null,0,null,null,null,null,0,null,null,null,null,0,null,null,null,null,0,null,null,null,null,0,null,null,null,null,0,null,null,null,null,0,null,null,null,null,0,null,null,null,null,0,null,null,null,null,0,null,null,null,null,0,null,null,null,null,0,null,null,null,null,0,null,null,null,null,0]
[null,null,17,"ダ    ン    ス",0,0,0,0,0,null,null,null,0,null,null,null,null,0,null,null,null,null,0,null,null,null,null,0,null,null,null,null,0,null,null,null,null,0,null,null,null,null,0,null,null,null,null,0,null,null,null,null,0,null,null,null,null,0,null,null,null,null,0,null,null,null,null,0,null,null,null,null,0,null,null,null,null,0,null,null,null,null,0,null,null,null,null,0,null,null,null,null,0,null,null,null,null,0,null,null,null,null,0,null,null,null,null,0,null,null,null,null,0,null,null,null,null,0,null,null,null,null,0,null,null,null,null,0,null,null,null,null,0,null,null,null,null,0,null,null,null,null,0]
[null,null,18,"ス    キ    ー",0,0,0,0,0,null,null,null,0,null,null,null,null,0,null,null,null,null,0,null,null,null,null,0,null,null,null,null,0,null,null,null,null,0,null,null,null,null,0,null,null,null,null,0,null,null,null,null,0,null,null,null,null,0,null,null,null,null,0,null,null,null,null,0,null,null,null,null,0,null,null,null,null,0,null,null,null,null,0,null,null,null,null,0,null,null,null,null,0,null,null,null,null,0,null,null,null,null,0,null,null,null,null,0,null,null,null,null,0,null,null,null,null,0,null,null,null,null,0,null,null,null,null,0,null,null,null,null,0,null,null,null,null,0,null,null,null,null,0]
[null,null,19,"ス  ケ  ー  ト",0,0,0,0,0,null,null,null,0,null,null,null,null,0,null,null,null,null,0,null,null,null,null,0,null,null,null,null,0,null,null,null,null,0,null,null,null,null,0,null,null,null,null,0,null,null,null,null,0,null,null,null,null,0,null,null,null,null,0,null,null,null,null,0,null,null,null,null,0,null,null,null,null,0,null,null,null,null,0,null,null,null,null,0,null,null,null,null,0,null,null,null,null,0,null,null,null,null,0,null,null,null,null,0,null,null,null,null,0,null,null,null,null,0,null,null,null,null,0,null,null,null,null,0,null,null,null,null,0,null,null,null,null,0,null,null,null,null,0]
[null,null,20,"アイスホッケー",0,0,0,0,0,null,null,null,0,null,null,null,null,0,null,null,null,null,0,null,null,null,null,0,null,null,null,null,0,null,null,null,null,0,null,null,null,null,0,null,null,null,null,0,null,null,null,null,0,null,null,null,null,0,null,null,null,null,0,null,null,null,null,0,null,null,null,null,0,null,null,null,null,0,null,null,null,null,0,null,null,null,null,0,null,null,null,null,0,null,null,null,null,0,null,null,null,null,0,null,null,null,null,0,null,null,null,null,0,null,null,null,null,0,null,null,null,null,0,null,null,null,null,0,null,null,null,null,0,null,null,null,null,0,null,null,null,null,0]
[null,null,21,"テ　　ニ　　ス",0,0,0,0,0,null,null,null,0,null,null,null,null,0,null,null,null,null,0,null,null,null,null,0,null,null,null,null,0,null,null,null,null,0,null,null,null,null,0,null,null,null,null,0,null,null,null,null,0,null,null,null,null,0,null,null,null,null,0,null,null,null,null,0,null,null,null,null,0,null,null,null,null,0,null,null,null,null,0,null,null,null,null,0,null,null,null,null,0,null,null,null,null,0,null,null,null,null,0,null,null,null,null,0,null,null,null,null,0,null,null,null,null,0,null,null,null,null,0,null,null,null,null,0,null,null,null,null,0,null,null,null,null,0,null,null,null,null,0]
[null,null,22,"空　　　手",0,0,0,0,0,null,null,null,0,null,null,null,null,0,null,null,null,null,0,null,null,null,null,0,null,null,null,null,0,null,null,null,null,0,null,null,null,null,0,null,null,null,null,0,null,null,null,null,0,null,null,null,null,0,null,null,null,null,0,null,null,null,null,0,null,null,null,null,0,null,null,null,null,0,null,null,null,null,0,null,null,null,null,0,null,null,null,null,0,null,null,null,null,0,null,null,null,null,0,null,null,null,null,0,null,null,null,null,0,null,null,null,null,0,null,null,null,null,0,null,null,null,null,0,null,null,null,null,0,null,null,null,null,0,null,null,null,null,0]
[null,null,23,"ラ　グ　ビ　ー",0,0,0,0,0,null,null,null,{"$f":"SUM(J27:L27)","v":0},null,null,null,null,{"$f":"SUM(O27:Q27)","v":0},null,null,null,null,{"$f":"SUM(T27:V27)","v":0},null,null,null,null,{"$f":"SUM(Y27:AA27)","v":0},null,null,null,null,{"$f":"SUM(AD27:AF27)","v":0},null,null,null,null,{"$f":"SUM(AI27:AK27)","v":0},null,null,null,null,{"$f":"SUM(AN27:AP27)","v":0},null,null,null,null,{"$f":"SUM(AS27:AU27)","v":0},null,null,null,null,{"$f":"SUM(AX27:AZ27)","v":0},null,null,null,null,{"$f":"SUM(BC27:BE27)","v":0},null,null,null,null,{"$f":"SUM(BH27:BJ27)","v":0},null,null,null,null,{"$f":"SUM(BM27:BO27)","v":0},null,null,null,null,{"$f":"SUM(BR27:BT27)","v":0},null,null,null,null,{"$f":"SUM(BW27:BY27)","v":0},null,null,null,null,{"$f":"SUM(CB27:CD27)","v":0},null,null,null,null,{"$f":"SUM(CG27:CI27)","v":0},null,null,null,null,{"$f":"SUM(CL27:CN27)","v":0},null,null,null,null,{"$f":"SUM(CQ27:CS27)","v":0},null,null,null,null,{"$f":"SUM(CV27:CX27)","v":0},null,null,null,null,{"$f":"SUM(DA27:DC27)","v":0},null,null,null,null,{"$f":"SUM(DF27:DH27)","v":0},null,null,null,null,0,null,null,null,null,0,null,null,null,null,0,null,null,null,null,0,null,null,null,null,{"$f":"SUM(EE27:EG27)","v":0},null,null,null,null,{"$f":"SUM(EJ27:EL27)","v":0}]
[null,null,null,null,0,0,0,0,0,null,null,null,null,null,null,null,null,null,null,null,null,null,null,null,null,null,null,null,null,null,null,null,null,null,null,null,null,null,null,null,null,null,null,null,null,null,null,null,null,null,null,null,null,null,null,null,null,null,null,null,null,null,null,null,null,null,null,null,null,null,null,null,null,null,null,null,null,null,null,null,null,null,null,null,null,null,null,null,null,null,null,null,null,null,null,null,null,null,null,null,null,null,null,null,null,null,null,null,null,null,null,null,null,null,null,null,null,0,null,null,null,null,0,null,null,null,null,0,null,null,null,null,0]
[null,null,null,null,0,0,0,0,0,null,null,null,null,null,null,null,null,null,null,null,null,null,null,null,null,null,null,null,null,null,null,null,null,null,null,null,null,null,null,null,null,null,null,null,null,null,null,null,null,null,null,null,null,null,null,null,null,null,null,null,null,null,null,null,null,null,null,null,null,null,null,null,null,null,null,null,null,null,null,null,null,null,null,null,null,null,null,null,null,null,null,null,null,null,null,null,null,null,null,null,null,null,null,null,null,null,null,null,null,null,null,null,null,null,null,null,null,0,null,null,null,null,0,null,null,null,null,0,null,null,null,null,0]
[null,null,null,null,0,0,0,0,0,null,null,null,null,null,null,null,null,null,null,null,null,null,null,null,null,null,null,null,null,null,null,null,null,null,null,null,null,null,null,null,null,null,null,null,null,null,null,null,null,null,null,null,null,null,null,null,null,null,null,null,null,null,null,null,null,null,null,null,null,null,null,null,null,null,null,null,null,null,null,null,null,null,null,null,null,null,null,null,null,null,null,null,null,null,null,null,null,null,null,null,null,null,null,null,null,null,null,null,null,null,null,null,null,null,null,null,null,0,null,null,null,null,0,null,null,null,null,0,null,null,null,null,0]
[null,null,"男　子　合　計 (名)",null,{"$f":"J31+O31+T31+Y31+AD31+AI31+AN31+AS31+AX31+BC31+BH31+BM31+BR31+BW31+CB31+CG31+CL31+CQ31+CV31+DA31+DF31+DK31+DP31+DU31+DZ31","v":0},0,0,0,0,{"$f":"SUM(J5:J30)","v":0},0,0,{"$f":"SUM(M5:M30)","v":0},0,0,0,0,0,0,0,0,0,0,0,0,0,0,0,0,0,0,0,0,0,0,0,0,0,0,0,0,0,0,0,0,0,0,0,0,0,0,0,0,0,0,0,0,0,0,0,0,0,0,0,0,0,0,0,0,0,0,0,0,{"$f":"SUM(BV5:BV30)","v":0},{"$f":"SUM(BW5:BW30)","v":0},0,0,0,0,0,0,0,0,0,0,0,0,0,0,0,0,0,0,0,0,0,0,0,0,0,0,0,0,0,0,0,0,0,0,0,0,0,0,0,{"$f":"SUM(DK5:DK30)","v":0},{"$f":"SUM(DL5:DL30)","v":0},{"$f":"SUM(DM5:DM30)","v":0},0,{"$f":"SUM(DO5:DO30)","v":0},{"$f":"SUM(DP5:DP30)","v":0},{"$f":"SUM(DQ5:DQ30)","v":0},{"$f":"SUM(DR5:DR30)","v":0},0,{"$f":"SUM(DT5:DT30)","v":0},{"$f":"SUM(DU5:DU30)","v":0},{"$f":"SUM(DV5:DV30)","v":0},{"$f":"SUM(DW5:DW30)","v":0},0,{"$f":"SUM(DY5:DY30)","v":0},{"$f":"SUM(DZ5:DZ30)","v":0},{"$f":"SUM(EA5:EA30)","v":0},{"$f":"SUM(EB5:EB30)","v":0},0,{"$f":"SUM(ED5:ED30)","v":0},0,0,0,0,{"$f":"SUM(EI5:EI30)","v":0},0,0,0,0,0]
[null,null,"男 子 在 籍 数 (名)",null,0,0,0,0,null,null,null,null,{"$f":"SUM(J32:L32)","v":0},null,null,null,null,{"$f":"SUM(O32:Q32)","v":0},null,null,null,null,{"$f":"SUM(T32:V32)","v":0},null,null,null,null,{"$f":"SUM(Y32:AA32)","v":0},null,null,null,null,{"$f":"SUM(AD32:AF32)","v":0},null,null,null,null,{"$f":"SUM(AI32:AK32)","v":0},null,null,null,null,{"$f":"SUM(AN32:AP32)","v":0},null,null,null,null,{"$f":"SUM(AS32:AU32)","v":0},null,null,null,null,{"$f":"SUM(AX32:AZ32)","v":0},null,null,null,null,{"$f":"SUM(BC32:BE32)","v":0},null,null,null,null,{"$f":"SUM(BH32:BJ32)","v":0},null,null,null,null,{"$f":"SUM(BM32:BO32)","v":0},null,null,null,null,{"$f":"SUM(BR32:BT32)","v":0},null,null,null,null,{"$f":"SUM(BW32:BY32)","v":0},null,null,null,null,{"$f":"SUM(CB32:CD32)","v":0},null,null,null,null,{"$f":"SUM(CG32:CI32)","v":0},null,null,null,null,{"$f":"SUM(CL32:CN32)","v":0},null,null,null,null,{"$f":"SUM(CQ32:CS32)","v":0},null,null,null,null,{"$f":"SUM(CV32:CX32)","v":0},null,null,null,null,{"$f":"SUM(DA32:DC32)","v":0},null,null,null,null,{"$f":"SUM(DF32:DH32)","v":0},null,null,null,null,0,null,null,null,null,0,null,null,null,null,0,null,null,null,null,0,null,null,null,null,{"$f":"SUM(EE32:EG32)","v":0},null,null,null,null,{"$f":"SUM(EJ32:EL32)","v":0}]
[null,null,"男 子 入 部 率 (％)",null,{"$f":"E31/E32*100","v":{"$error":"#DIV/0!"}},{"$f":"F31/F32*100","v":{"$error":"#DIV/0!"}},{"$f":"G31/G32*100","v":{"$error":"#DIV/0!"}},{"$f":"H31/H32*100","v":{"$error":"#DIV/0!"}},null,{"$f":"J31/J32*100","v":{"$error":"#DIV/0!"}},{"$error":"#DIV/0!"},{"$error":"#DIV/0!"},{"$error":"#DIV/0!"},null,{"$error":"#DIV/0!"},{"$error":"#DIV/0!"},{"$error":"#DIV/0!"},{"$f":"R31/R32*100","v":{"$error":"#DIV/0!"}},null,{"$error":"#DIV/0!"},{"$error":"#DIV/0!"},{"$error":"#DIV/0!"},{"$f":"W31/W32*100","v":{"$error":"#DIV/0!"}},null,{"$error":"#DIV/0!"},{"$error":"#DIV/0!"},{"$error":"#DIV/0!"},{"$f":"AB31/AB32*100","v":{"$error":"#DIV/0!"}},null,{"$error":"#DIV/0!"},{"$error":"#DIV/0!"},{"$error":"#DIV/0!"},{"$f":"AG31/AG32*100","v":{"$error":"#DIV/0!"}},null,{"$error":"#DIV/0!"},{"$error":"#DIV/0!"},{"$error":"#DIV/0!"},{"$f":"AL31/AL32*100","v":{"$error":"#DIV/0!"}},null,{"$error":"#DIV/0!"},{"$error":"#DIV/0!"},{"$error":"#DIV/0!"},{"$f":"AQ31/AQ32*100","v":{"$error":"#DIV/0!"}},null,{"$error":"#DIV/0!"},{"$error":"#DIV/0!"},{"$error":"#DIV/0!"},{"$f":"AV31/AV32*100","v":{"$error":"#DIV/0!"}},null,{"$error":"#DIV/0!"},{"$error":"#DIV/0!"},{"$error":"#DIV/0!"},{"$f":"BA31/BA32*100","v":{"$error":"#DIV/0!"}},null,{"$error":"#DIV/0!"},{"$error":"#DIV/0!"},{"$error":"#DIV/0!"},{"$f":"BF31/BF32*100","v":{"$error":"#DIV/0!"}},null,{"$error":"#DIV/0!"},{"$error":"#DIV/0!"},{"$error":"#DIV/0!"},{"$f":"BK31/BK32*100","v":{"$error":"#DIV/0!"}},null,{"$error":"#DIV/0!"},{"$error":"#DIV/0!"},{"$error":"#DIV/0!"},{"$f":"BP31/BP32*100","v":{"$error":"#DIV/0!"}},null,{"$error":"#DIV/0!"},{"$error":"#DIV/0!"},{"$error":"#DIV/0!"},{"$f":"BU31/BU32*100","v":{"$error":"#DIV/0!"}},null,{"$f":"BW31/BW32*100","v":{"$error":"#DIV/0!"}},{"$error":"#DIV/0!"},{"$error":"#DIV/0!"},{"$error":"#DIV/0!"},null,{"$error":"#DIV/0!"},{"$error":"#DIV/0!"},{"$error":"#DIV/0!"},{"$error":"#DIV/0!"},null,{"$error":"#DIV/0!"},{"$error":"#DIV/0!"},{"$error":"#DIV/0!"},{"$error":"#DIV/0!"},null,{"$error":"#DIV/0!"},{"$error":"#DIV/0!"},{"$error":"#DIV/0!"},{"$error":"#DIV/0!"},null,{"$error":"#DIV/0!"},{"$error":"#DIV/0!"},{"$error":"#DIV/0!"},{"$error":"#DIV/0!"},null,{"$error":"#DIV/0!"},{"$error":"#DIV/0!"},{"$error":"#DIV/0!"},{"$error":"#DIV/0!"},null,{"$error":"#DIV/0!"},{"$error":"#DIV/0!"},{"$error":"#DIV/0!"},{"$error":"#DIV/0!"},null,{"$error":"#DIV/0!"},{"$error":"#DIV/0!"},{"$error":"#DIV/0!"},{"$error":"#DIV/0!"},null,{"$f":"DK31/DK32*100","v":{"$error":"#DIV/0!"}},{"$f":"DL31/DL32*100","v":{"$error":"#DIV/0!"}},{"$f":"DM31/DM32*100","v":{"$error":"#DIV/0!"}},{"$f":"DN31/DN32*100","v":{"$error":"#DIV/0!"}},null,{"$f":"DP31/DP32*100","v":{"$error":"#DIV/0!"}},{"$f":"DQ31/DQ32*100","v":{"$error":"#DIV/0!"}},{"$f":"DR31/DR32*100","v":{"$error":"#DIV/0!"}},{"$f":"DS31/DS32*100","v":{"$error":"#DIV/0!"}},null,{"$f":"DU31/DU32*100","v":{"$error":"#DIV/0!"}},{"$f":"DV31/DV32*100","v":{"$error":"#DIV/0!"}},{"$f":"DW31/DW32*100","v":{"$error":"#DIV/0!"}},{"$f":"DX31/DX32*100","v":{"$error":"#DIV/0!"}},null,{"$f":"DZ31/DZ32*100","v":{"$error":"#DIV/0!"}},{"$f":"EA31/EA32*100","v":{"$error":"#DIV/0!"}},{"$f":"EB31/EB32*100","v":{"$error":"#DIV/0!"}},{"$f":"EC31/EC32*100","v":{"$error":"#DIV/0!"}},null,{"$f":"EE31/EE32*100","v":{"$error":"#DIV/0!"}},{"$error":"#DIV/0!"},{"$error":"#DIV/0!"},{"$error":"#DIV/0!"},null,{"$error":"#DIV/0!"},{"$error":"#DIV/0!"},{"$f":"EL31/EL32*100","v":{"$error":"#DIV/0!"}},{"$f":"EM31/EM32*100","v":{"$error":"#DIV/0!"}}]
[null,null,1,"体　操　競　技",{"$f":"J34+O34+T34+Y34+AD34+AI34+AN34+AS34+AX34+BC34+BH34+BM34+BR34+BW34+CB34+CG34+CL34+CQ34+CV34+DA34+DF34+DK34+DP34+DU34+DZ34","v":0},0,0,0,0,null,null,null,{"$f":"J34+K34+L34","v":0},null,null,null,null,{"$f":"O34+P34+Q34","v":0},null,null,null,null,{"$f":"T34+U34+V34","v":0},null,null,null,null,{"$f":"Y34+Z34+AA34","v":0},null,null,null,null,{"$f":"AD34+AE34+AF34","v":0},null,null,null,null,{"$f":"AI34+AJ34+AK34","v":0},null,null,null,null,{"$f":"AN34+AO34+AP34","v":0},null,null,null,null,{"$f":"AS34+AT34+AU34","v":0},null,null,null,null,{"$f":"AX34+AY34+AZ34","v":0},null,null,null,null,{"$f":"BC34+BD34+BE34","v":0},null,null,null,null,{"$f":"BH34+BI34+BJ34","v":0},null,null,null,null,{"$f":"BM34+BN34+BO34","v":0},null,null,null,null,{"$f":"BR34+BS34+BT34","v":0},null,null,null,null,{"$f":"BW34+BX34+BY34","v":0},null,null,null,null,{"$f":"CB34+CC34+CD34","v":0},null,null,null,null,{"$f":"CG34+CH34+CI34","v":0},null,null,null,null,{"$f":"CL34+CM34+CN34","v":0},null,null,null,null,{"$f":"CQ34+CR34+CS34","v":0},null,null,null,null,{"$f":"CV34+CW34+CX34","v":0},null,null,null,null,{"$f":"DA34+DB34+DC34","v":0},null,null,null,null,{"$f":"DF34+DG34+DH34","v":0},null,null,null,null,{"$f":"SUM(DK34:DM34)","v":0},null,null,null,null,{"$f":"SUM(DP34:DR34)","v":0},null,null,null,null,{"$f":"SUM(DU34:DW34)","v":0},null,null,null,null,{"$f":"SUM(DZ34:EB34)","v":0},null,null,null,null,{"$f":"EE34+EF34+EG34","v":0},null,null,null,null,{"$f":"EJ34+EK34+EL34","v":0}]
[null,null,2,"新    体    操",0,0,0,0,0,null,null,null,0,null,null,null,null,0,null,null,null,null,0,null,null,null,null,0,null,null,null,null,0,null,null,null,null,0,null,null,null,null,0,null,null,null,null,0,null,null,null,null,0,null,null,null,null,0,null,null,null,null,0,null,null,null,null,0,null,null,null,null,0,null,null,null,null,0,null,null,null,null,0,null,null,null,null,0,null,null,null,null,0,null,null,null,null,0,null,null,null,null,0,null,null,null,null,0,null,null,null,null,0,null,null,null,null,0,null,null,null,null,0,null,null,null,null,0,null,null,null,null,0,null,null,null,null,0,null,null,null,null,0]
[null,null,3,"軟　式　野　球",0,0,0,0,0,null,null,null,0,null,null,null,null,0,null,null,null,null,0,null,null,null,null,0,null,null,null,null,0,null,null,null,null,0,null,null,null,null,0,null,null,null,null,0,null,null,null,null,0,null,null,null,null,0,null,null,null,null,0,null,null,null,null,0,null,null,null,null,0,null,null,null,null,0,null,null,null,null,0,null,null,null,null,0,null,null,null,null,0,null,null,null,null,0,null,null,null,null,0,null,null,null,null,0,null,null,null,null,0,null,null,null,null,0,null,null,null,null,0,null,null,null,null,0,null,null,null,null,0,null,null,null,null,0,null,null,null,null,0]
[null,null,4,"ソフトボール",0,0,0,0,0,null,null,null,0,null,null,null,null,0,null,null,null,null,0,null,null,null,null,0,null,null,null,null,0,null,null,null,null,0,null,null,null,null,0,null,null,null,null,0,null,null,null,null,0,null,null,null,null,0,null,null,null,null,0,null,null,null,null,0,null,null,null,null,0,null,null,null,null,0,null,null,null,null,0,null,null,null,null,0,null,null,null,null,0,null,null,null,null,0,null,null,null,null,0,null,null,null,null,0,null,null,null,null,0,null,null,null,null,0,null,null,null,null,0,null,null,null,null,0,null,null,null,null,0,null,null,null,null,0,null,null,null,null,0]
[null,null,5,"バスケットボール",0,0,0,0,0,null,null,null,0,null,null,null,null,0,null,null,null,null,0,null,null,null,null,0,null,null,null,null,0,null,null,null,null,0,null,null,null,null,0,null,null,null,null,0,null,null,null,null,0,null,null,null,null,0,null,null,null,null,0,null,null,null,null,0,null,null,null,null,0,null,null,null,null,0,null,null,null,null,0,null,null,null,null,0,null,null,null,null,0,null,null,null,null,0,null,null,null,null,0,null,null,null,null,0,null,null,null,null,0,null,null,null,null,0,null,null,null,null,0,null,null,null,null,0,null,null,null,null,0,null,null,null,null,0,null,null,null,null,0]
[null,null,6,"ハンドボール",0,0,0,0,0,null,null,null,0,null,null,null,null,0,null,null,null,null,0,null,null,null,null,0,null,null,null,null,0,null,null,null,null,0,null,null,null,null,0,null,null,null,null,0,null,null,null,null,0,null,null,null,null,0,null,null,null,null,0,null,null,null,null,0,null,null,null,null,0,null,null,null,null,0,null,null,null,null,0,null,null,null,null,0,null,null,null,null,0,null,null,null,null,0,null,null,null,null,0,null,null,null,null,0,null,null,null,null,0,null,null,null,null,0,null,null,null,null,0,null,null,null,null,0,null,null,null,null,0,null,null,null,null,0,null,null,null,null,0]
[null,"女",7,"バレーボール",0,0,0,0,0,null,null,null,0,null,null,null,null,0,null,null,null,null,0,null,null,null,null,0,null,null,null,null,0,null,null,null,null,0,null,null,null,null,0,null,null,null,null,0,null,null,null,null,0,null,null,null,null,0,null,null,null,null,0,null,null,null,null,0,null,null,null,null,0,null,null,null,null,0,null,null,null,null,0,null,null,null,null,0,null,null,null,null,0,null,null,null,null,0,null,null,null,null,0,null,null,null,null,0,null,null,null,null,0,null,null,null,null,0,null,null,null,null,0,null,null,null,null,0,null,null,null,null,0,null,null,null,null,0,null,null,null,null,0]
[null,null,8,"ソフトテニス",0,0,0,0,0,null,null,null,0,null,null,null,null,0,null,null,null,null,0,null,null,null,null,0,null,null,null,null,0,null,null,null,null,0,null,null,null,null,0,null,null,null,null,0,null,null,null,null,0,null,null,null,null,0,null,null,null,null,0,null,null,null,null,0,null,null,null,null,0,null,null,null,null,0,null,null,null,null,0,null,null,null,null,0,null,null,null,null,0,null,null,null,null,0,null,null,null,null,0,null,null,null,null,0,null,null,null,null,0,null,null,null,null,0,null,null,null,null,0,null,null,null,null,0,null,null,null,null,0,null,null,null,null,0,null,null,null,null,0]
[null,null,9,"卓    球",0,0,0,0,0,null,null,null,0,null,null,null,null,0,null,null,null,null,0,null,null,null,null,0,null,null,null,null,0,null,null,null,null,0,null,null,null,null,0,null,null,null,null,0,null,null,null,null,0,null,null,null,null,0,null,null,null,null,0,null,null,null,null,0,null,null,null,null,0,null,null,null,null,0,null,null,null,null,0,null,null,null,null,0,null,null,null,null,0,null,null,null,null,0,null,null,null,null,0,null,null,null,null,0,null,null,null,null,0,null,null,null,null,0,null,null,null,null,0,null,null,null,null,0,null,null,null,null,0,null,null,null,null,0,null,null,null,null,0]
[null,null,10,"バドミントン",0,0,0,0,0,null,null,null,0,null,null,null,null,0,null,null,null,null,0,null,null,null,null,0,null,null,null,null,0,null,null,null,null,0,null,null,null,null,0,null,null,null,null,0,null,null,null,null,0,null,null,null,null,0,null,null,null,null,0,null,null,null,null,0,null,null,null,null,0,null,null,null,null,0,null,null,null,null,0,null,null,null,null,0,null,null,null,null,0,null,null,null,null,0,null,null,null,null,0,null,null,null,null,0,null,null,null,null,0,null,null,null,null,0,null,null,null,null,0,null,null,null,null,0,null,null,null,null,0,null,null,null,null,0,null,null,null,null,0]
[null,null,11,"サッカー",0,0,0,0,0,null,null,null,0,null,null,null,null,0,null,null,null,null,0,null,null,null,null,0,null,null,null,null,0,null,null,null,null,0,null,null,null,null,0,null,null,null,null,0,null,null,null,null,0,null,null,null,null,0,null,null,null,null,0,null,null,null,null,0,null,null,null,null,0,null,null,null,null,0,null,null,null,null,0,null,null,null,null,0,null,null,null,null,0,null,null,null,null,0,null,null,null,null,0,null,null,null,null,0,null,null,null,null,0,null,null,null,null,0,null,null,null,null,0,null,null,null,null,0,null,null,null,null,0,null,null,null,null,0,null,null,null,null,0]
[null,null,12,"陸　上　競　技",0,0,0,0,0,null,null,null,0,null,null,null,null,0,null,null,null,null,0,null,null,null,null,0,null,null,null,null,0,null,null,null,null,0,null,null,null,null,0,null,null,null,null,0,null,null,null,null,0,null,null,null,null,0,null,null,null,null,0,null,null,null,null,0,null,null,null,null,0,null,null,null,null,0,null,null,null,null,0,null,null,null,null,0,null,null,null,null,0,null,null,null,null,0,null,null,null,null,0,null,null,null,null,0,null,null,null,null,0,null,null,null,null,0,null,null,null,null,0,null,null,null,null,0,null,null,null,null,0,null,null,null,null,0,null,null,null,null,0]
[null,null,13,"水　　泳",0,0,0,0,0,null,null,null,0,null,null,null,null,0,null,null,null,null,0,null,null,null,null,0,null,null,null,null,0,null,null,null,null,0,null,null,null,null,0,null,null,null,null,0,null,null,null,null,0,null,null,null,null,0,null,null,null,null,0,null,null,null,null,0,null,null,null,null,0,null,null,null,null,0,null,null,null,null,0,null,null,null,null,0,null,null,null,null,0,null,null,null,null,0,null,null,null,null,0,null,null,null,null,0,null,null,null,null,0,null,null,null,null,0,null,null,null,null,0,null,null,null,null,0,null,null,null,null,0,null,null,null,null,0,null,null,null,null,0]
[null,"子",14,"柔　　道",0,0,0,0,0,null,null,null,0,null,null,null,null,0,null,null,null,null,0,null,null,null,null,0,null,null,null,null,0,null,null,null,null,0,null,null,null,null,0,null,null,null,null,0,null,null,null,null,0,null,null,null,null,0,null,null,null,null,0,null,null,null,null,0,null,null,null,null,0,null,null,null,null,0,null,null,null,null,0,null,null,null,null,0,null,null,null,null,0,null,null,null,null,0,null,null,null,null,0,null,null,null,null,0,null,null,null,null,0,null,null,null,null,0,null,null,null,null,0,null,null,null,null,0,null,null,null,null,0,null,null,null,null,0,null,null,null,null,0]
[null,null,15,"剣　　道",0,0,0,0,0,null,null,null,0,null,null,null,null,0,null,null,null,null,0,null,null,null,null,0,null,null,null,null,0,null,null,null,null,0,null,null,null,null,0,null,null,null,null,0,null,null,null,null,0,null,null,null,null,0,null,null,null,null,0,null,null,null,null,0,null,null,null,null,0,null,null,null,null,0,null,null,null,null,0,null,null,null,null,0,null,null,null,null,0,null,null,null,null,0,null,null,null,null,0,null,null,null,null,0,null,null,null,null,0,null,null,null,null,0,null,null,null,null,0,null,null,null,null,0,null,null,null,null,0,null,null,null,null,0,null,null,null,null,0]
[null,null,16,"ダ    ン    ス",0,0,0,0,0,null,null,null,0,null,null,null,null,0,null,null,null,null,0,null,null,null,null,0,null,null,null,null,0,null,null,null,null,0,null,null,null,null,0,null,null,null,null,0,null,null,null,null,0,null,null,null,null,0,null,null,null,null,0,null,null,null,null,0,null,null,null,null,0,null,null,null,null,0,null,null,null,null,0,null,null,null,null,0,null,null,null,null,0,null,null,null,null,0,null,null,null,null,0,null,null,null,null,0,null,null,null,null,0,null,null,null,null,0,null,null,null,null,0,null,null,null,null,0,null,null,null,null,0,null,null,null,null,0,null,null,null,null,0]
[null,null,17,"ス    キ    ー",0,0,0,0,0,null,null,null,0,null,null,null,null,0,null,null,null,null,0,null,null,null,null,0,null,null,null,null,0,null,null,null,null,0,null,null,null,null,0,null,null,null,null,0,null,null,null,null,0,null,null,null,null,0,null,null,null,null,0,null,null,null,null,0,null,null,null,null,0,null,null,null,null,0,null,null,null,null,0,null,null,null,null,0,null,null,null,null,0,null,null,null,null,0,null,null,null,null,0,null,null,null,null,0,null,null,null,null,0,null,null,null,null,0,null,null,null,null,0,null,null,null,null,0,null,null,null,null,0,null,null,null,null,0,null,null,null,null,0]
[null,null,18,"ス  ケ  ー  ト",0,0,0,0,0,null,null,null,0,null,null,null,null,0,null,null,null,null,0,null,null,null,null,0,null,null,null,null,0,null,null,null,null,0,null,null,null,null,0,null,null,null,null,0,null,null,null,null,0,null,null,null,null,0,null,null,null,null,0,null,null,null,null,0,null,null,null,null,0,null,null,null,null,0,null,null,null,null,0,null,null,null,null,0,null,null,null,null,0,null,null,null,null,0,null,null,null,null,0,null,null,null,null,0,null,null,null,null,0,null,null,null,null,0,null,null,null,null,0,null,null,null,null,0,null,null,null,null,0,null,null,null,null,0,null,null,null,null,0]
[null,null,19,"アイスホッケー",0,0,0,0,0,null,null,null,0,null,null,null,null,0,null,null,null,null,0,null,null,null,null,0,null,null,null,null,0,null,null,null,null,0,null,null,null,null,0,null,null,null,null,0,null,null,null,null,0,null,null,null,null,0,null,null,null,null,0,null,null,null,null,0,null,null,null,null,0,null,null,null,null,0,null,null,null,null,0,null,null,null,null,0,null,null,null,null,0,null,null,null,null,0,null,null,null,null,0,null,null,null,null,0,null,null,null,null,0,null,null,null,null,0,null,null,null,null,0,null,null,null,null,0,null,null,null,null,0,null,null,null,null,0,null,null,null,null,0]
[null,null,20,"テ　　ニ　　ス",0,0,0,0,0,null,null,null,0,null,null,null,null,0,null,null,null,null,0,null,null,null,null,0,null,null,null,null,0,null,null,null,null,0,null,null,null,null,0,null,null,null,null,0,null,null,null,null,0,null,null,null,null,0,null,null,null,null,0,null,null,null,null,0,null,null,null,null,0,null,null,null,null,0,null,null,null,null,0,null,null,null,null,0,null,null,null,null,0,null,null,null,null,0,null,null,null,null,0,null,null,null,null,0,null,null,null,null,0,null,null,null,null,0,null,null,null,null,0,null,null,null,null,0,null,null,null,null,0,null,null,null,null,0,null,null,null,null,0]
[null,null,21,"弓　　道　",0,0,0,0,0,null,null,null,0,null,null,null,null,0,null,null,null,null,0,null,null,null,null,0,null,null,null,null,0,null,null,null,null,0,null,null,null,null,0,null,null,null,null,0,null,null,null,null,0,null,null,null,null,0,null,null,null,null,0,null,null,null,null,0,null,null,null,null,0,null,null,null,null,0,null,null,null,null,0,null,null,null,null,0,null,null,null,null,0,null,null,null,null,0,null,null,null,null,0,null,null,null,null,0,null,null,null,null,0,null,null,null,null,0,null,null,null,null,0,null,null,null,null,0,null,null,null,null,0,null,null,null,null,0,null,null,null,null,0]
[null,null,22,"空　　手",0,0,0,0,0,null,null,null,0,null,null,null,null,0,null,null,null,null,0,null,null,null,null,0,null,null,null,null,0,null,null,null,null,0,null,null,null,null,0,null,null,null,null,0,null,null,null,null,0,null,null,null,null,0,null,null,null,null,0,null,null,null,null,{"$f":"BM55+BN55+BO55","v":0},null,null,null,null,0,null,null,null,null,0,null,null,null,null,0,null,null,null,null,0,null,null,null,null,0,null,null,null,null,0,null,null,null,null,0,null,null,null,null,0,null,null,null,null,0,null,null,null,null,0,null,null,null,null,0,null,null,null,null,0,null,null,null,null,0,null,null,null,null,0,null,null,null,null,0]
[null,null,null,null,0,0,0,0,0,null,null,null,0,null,null,null,null,0,null,null,null,null,0,null,null,null,null,0,null,null,null,null,0,null,null,null,null,0,null,null,null,null,0,null,null,null,null,0,null,null,null,null,0,null,null,null,null,0,null,null,null,null,0,null,null,null,null,0,null,null,null,null,0,null,null,null,null,0,null,null,null,null,0,null,null,null,null,0,null,null,null,null,0,null,null,null,null,0,null,null,null,null,0,null,null,null,null,0,null,null,null,null,0,null,null,null,null,0,null,null,null,null,0,null,null,null,null,0,null,null,null,null,0,null,null,null,null,0,null,null,null,null,0]
[null,null,null,null,0,0,0,0,0,null,null,null,0,null,null,null,null,0,null,null,null,null,0,null,null,null,null,0,null,null,null,null,0,null,null,null,null,0,null,null,null,null,0,null,null,null,null,0,null,null,null,null,0,null,null,null,null,0,null,null,null,null,0,null,null,null,null,0,null,null,null,null,0,null,null,null,null,0,null,null,null,null,0,null,null,null,null,0,null,null,null,null,0,null,null,null,null,0,null,null,null,null,0,null,null,null,null,0,null,null,null,null,0,null,null,null,null,0,null,null,null,null,0,null,null,null,null,0,null,null,null,null,0,null,null,null,null,0,null,null,null,null,0]
[null,null,null,null,0,0,0,0,0,null,null,null,0,null,null,null,null,0,null,null,null,null,0,null,null,null,null,0,null,null,null,null,0,null,null,null,null,0,null,null,null,null,0,null,null,null,null,0,null,null,null,null,0,null,null,null,null,0,null,null,null,null,0,null,null,null,null,0,null,null,null,null,0,null,null,null,null,0,null,null,null,null,0,null,null,null,null,0,null,null,null,null,0,null,null,null,null,0,null,null,null,null,0,null,null,null,null,0,null,null,null,null,0,null,null,null,null,0,null,null,null,null,0,null,null,null,null,0,null,null,null,null,0,null,null,null,null,0,null,null,null,null,0]
[null,null,"女　子　合　計 (名)",null,0,0,0,0,0,{"$f":"SUM(J34:J58)","v":0},0,0,0,0,0,0,0,0,0,0,0,0,0,0,0,0,0,0,0,0,0,0,0,0,0,0,0,0,0,0,0,{"$f":"SUM(AP34:AP58)","v":0},0,0,0,0,0,0,0,0,0,0,0,0,0,0,0,0,0,0,0,0,0,0,0,0,0,0,0,0,0,0,0,0,0,0,0,0,0,0,0,0,0,0,0,0,0,0,0,0,0,0,0,0,0,0,0,0,0,0,0,0,0,0,0,{"$f":"SUM(DB34:DB58)","v":0},0,0,0,0,0,0,0,0,{"$f":"SUM(DK34:DK58)","v":0},0,0,0,0,{"$f":"SUM(DP34:DP58)","v":0},0,0,0,0,0,0,0,0,0,0,0,0,0,{"$f":"SUM(ED34:ED58)","v":0},0,0,0,{"$f":"SUM(EH34:EH58)","v":0},0,0,0,0,0,0]
[null,null,"女 子 在 籍 数 (名)",null,0,0,0,0,null,null,null,null,{"$f":"SUM(J60:L60)","v":0},null,null,null,null,{"$f":"SUM(O60:Q60)","v":0},null,null,null,null,{"$f":"SUM(T60:V60)","v":0},null,null,null,null,{"$f":"SUM(Y60:AA60)","v":0},null,null,null,null,{"$f":"SUM(AD60:AF60)","v":0},null,null,null,null,{"$f":"SUM(AI60:AK60)","v":0},null,null,null,null,{"$f":"SUM(AN60:AP60)","v":0},null,null,null,null,{"$f":"SUM(AS60:AU60)","v":0},null,null,null,null,{"$f":"SUM(AX60:AZ60)","v":0},null,null,null,null,{"$f":"SUM(BC60:BE60)","v":0},null,null,null,null,{"$f":"SUM(BH60:BJ60)","v":0},null,null,null,null,{"$f":"SUM(BM60:BO60)","v":0},null,null,null,null,{"$f":"SUM(BR60:BT60)","v":0},null,null,null,null,{"$f":"SUM(BW60:BY60)","v":0},null,null,null,null,{"$f":"SUM(CB60:CD60)","v":0},null,null,null,null,{"$f":"SUM(CG60:CI60)","v":0},null,null,null,null,{"$f":"SUM(CL60:CN60)","v":0},null,null,null,null,{"$f":"SUM(CQ60:CS60)","v":0},null,null,null,null,{"$f":"SUM(CV60:CX60)","v":0},null,null,null,null,{"$f":"SUM(DA60:DC60)","v":0},null,null,null,null,{"$f":"SUM(DF60:DH60)","v":0},null,null,null,null,{"$f":"SUM(DK60:DM60)","v":0},null,null,null,null,{"$f":"SUM(DP60:DR60)","v":0},null,null,null,null,{"$f":"SUM(DU60:DW60)","v":0},null,null,null,null,{"$f":"SUM(DZ60:EB60)","v":0},null,null,null,null,{"$f":"SUM(EE60:EG60)","v":0},null,null,null,null,{"$f":"SUM(EJ60:EL60)","v":0}]
[null,null,"女 子 入 部 率 (％)",null,{"$f":"E59/E60*100","v":{"$error":"#DIV/0!"}},{"$f":"F59/F60*100","v":{"$error":"#DIV/0!"}},{"$f":"G59/G60*100","v":{"$error":"#DIV/0!"}},{"$f":"H59/H60*100","v":{"$error":"#DIV/0!"}},null,{"$f":"J59/J60*100","v":{"$error":"#DIV/0!"}},{"$error":"#DIV/0!"},{"$error":"#DIV/0!"},{"$error":"#DIV/0!"},null,{"$error":"#DIV/0!"},{"$error":"#DIV/0!"},{"$error":"#DIV/0!"},{"$f":"R59/R60*100","v":{"$error":"#DIV/0!"}},null,{"$error":"#DIV/0!"},{"$error":"#DIV/0!"},{"$error":"#DIV/0!"},{"$f":"W59/W60*100","v":{"$error":"#DIV/0!"}},null,{"$error":"#DIV/0!"},{"$error":"#DIV/0!"},{"$error":"#DIV/0!"},{"$f":"AB59/AB60*100","v":{"$error":"#DIV/0!"}},null,{"$error":"#DIV/0!"},{"$error":"#DIV/0!"},{"$error":"#DIV/0!"},{"$f":"AG59/AG60*100","v":{"$error":"#DIV/0!"}},null,{"$error":"#DIV/0!"},{"$error":"#DIV/0!"},{"$error":"#DIV/0!"},{"$f":"AL59/AL60*100","v":{"$error":"#DIV/0!"}},null,{"$error":"#DIV/0!"},{"$error":"#DIV/0!"},{"$error":"#DIV/0!"},{"$f":"AQ59/AQ60*100","v":{"$error":"#DIV/0!"}},null,{"$error":"#DIV/0!"},{"$error":"#DIV/0!"},{"$error":"#DIV/0!"},{"$f":"AV59/AV60*100","v":{"$error":"#DIV/0!"}},null,{"$error":"#DIV/0!"},{"$error":"#DIV/0!"},{"$error":"#DIV/0!"},{"$f":"BA59/BA60*100","v":{"$error":"#DIV/0!"}},null,{"$error":"#DIV/0!"},{"$error":"#DIV/0!"},{"$error":"#DIV/0!"},{"$f":"BF59/BF60*100","v":{"$error":"#DIV/0!"}},null,{"$error":"#DIV/0!"},{"$error":"#DIV/0!"},{"$error":"#DIV/0!"},{"$f":"BK59/BK60*100","v":{"$error":"#DIV/0!"}},null,{"$error":"#DIV/0!"},{"$error":"#DIV/0!"},{"$error":"#DIV/0!"},{"$f":"BP59/BP60*100","v":{"$error":"#DIV/0!"}},null,{"$error":"#DIV/0!"},{"$error":"#DIV/0!"},{"$error":"#DIV/0!"},{"$f":"BU59/BU60*100","v":{"$error":"#DIV/0!"}},null,{"$f":"BW59/BW60*100","v":{"$error":"#DIV/0!"}},{"$error":"#DIV/0!"},{"$error":"#DIV/0!"},{"$error":"#DIV/0!"},null,{"$error":"#DIV/0!"},{"$error":"#DIV/0!"},{"$error":"#DIV/0!"},{"$error":"#DIV/0!"},null,{"$error":"#DIV/0!"},{"$error":"#DIV/0!"},{"$error":"#DIV/0!"},{"$error":"#DIV/0!"},null,{"$error":"#DIV/0!"},{"$error":"#DIV/0!"},{"$error":"#DIV/0!"},{"$error":"#DIV/0!"},null,{"$error":"#DIV/0!"},{"$error":"#DIV/0!"},{"$error":"#DIV/0!"},{"$error":"#DIV/0!"},null,{"$error":"#DIV/0!"},{"$error":"#DIV/0!"},{"$error":"#DIV/0!"},{"$error":"#DIV/0!"},null,{"$error":"#DIV/0!"},{"$error":"#DIV/0!"},{"$error":"#DIV/0!"},{"$error":"#DIV/0!"},null,{"$error":"#DIV/0!"},{"$error":"#DIV/0!"},{"$error":"#DIV/0!"},{"$error":"#DIV/0!"},null,{"$f":"DK59/DK60*100","v":{"$error":"#DIV/0!"}},{"$f":"DL59/DL60*100","v":{"$error":"#DIV/0!"}},{"$f":"DM59/DM60*100","v":{"$error":"#DIV/0!"}},{"$f":"DN59/DN60*100","v":{"$error":"#DIV/0!"}},null,{"$f":"DP59/DP60*100","v":{"$error":"#DIV/0!"}},{"$f":"DQ59/DQ60*100","v":{"$error":"#DIV/0!"}},{"$f":"DR59/DR60*100","v":{"$error":"#DIV/0!"}},{"$f":"DS59/DS60*100","v":{"$error":"#DIV/0!"}},null,{"$f":"DU59/DU60*100","v":{"$error":"#DIV/0!"}},{"$f":"DV59/DV60*100","v":{"$error":"#DIV/0!"}},{"$f":"DW59/DW60*100","v":{"$error":"#DIV/0!"}},{"$f":"DX59/DX60*100","v":{"$error":"#DIV/0!"}},null,{"$f":"DZ59/DZ60*100","v":{"$error":"#DIV/0!"}},{"$f":"EA59/EA60*100","v":{"$error":"#DIV/0!"}},{"$f":"EB59/EB60*100","v":{"$error":"#DIV/0!"}},{"$f":"EC59/EC60*100","v":{"$error":"#DIV/0!"}},null,null,null,null,{"$f":"EH59/EH60*100","v":{"$error":"#DIV/0!"}},null,{"$f":"EJ59/EJ60*100","v":{"$error":"#DIV/0!"}},{"$error":"#DIV/0!"},{"$f":"EL59/EL60*100","v":{"$error":"#DIV/0!"}},{"$f":"EM59/EM60*100","v":{"$error":"#DIV/0!"}}]
[null,null,"男　女　合　計 (名)",null,{"$f":"E31+E59","v":0},0,0,{"$f":"SUM(E62:G62)","v":0},null,null,null,null,null,null,null,null,null,null,null,null,null,null,null,null,{"$f":"SUM(Y31,Y59)","v":0},{"$f":"SUM(Z59,Z31)","v":0},{"$f":"SUM(AA59,AA31)","v":0},{"$f":"SUM(Y62:AA62)","v":0},null,null,null,null,null,null,null,null,null,null,null,null,null,null,null,null,null,null,null,null,null,null,null,null,null,null,{"$f":"BC31+BC59","v":0},0,0,{"$f":"SUM(BC62:BE62)","v":0},null,{"$f":"BH31+BH59","v":0},0,0,{"$f":"SUM(BH62:BJ62)","v":0},null,{"$f":"BM31+BM59","v":0},0,0,{"$f":"SUM(BM62:BO62)","v":0},null,{"$f":"BR31+BR59","v":0},0,0,{"$f":"SUM(BR62:BT62)","v":0},null,{"$f":"BW31+BW59","v":0},0,0,{"$f":"SUM(BW62:BY62)","v":0},null,{"$f":"CB31+CB59","v":0},0,0,{"$f":"SUM(CB62:CD62)","v":0},null,{"$f":"CG31+CG59","v":0},0,0,{"$f":"SUM(CG62:CI62)","v":0},null,{"$f":"CL31+CL59","v":0},0,0,{"$f":"SUM(CL62:CN62)","v":0},null,{"$f":"CQ31+CQ59","v":0},0,0,{"$f":"SUM(CQ62:CS62)","v":0},null,{"$f":"CV31+CV59","v":0},0,0,{"$f":"SUM(CV62:CX62)","v":0},null,{"$f":"DA31+DA59","v":0},0,0,{"$f":"SUM(DA62:DC62)","v":0},null,{"$f":"DF31+DF59","v":0},0,0,{"$f":"SUM(DF62:DH62)","v":0},null,{"$f":"DK31+DK59","v":0},0,0,{"$f":"SUM(DK62:DM62)","v":0},null,{"$f":"DP31+DP59","v":0},0,0,{"$f":"SUM(DP62:DR62)","v":0},null,{"$f":"DU31+DU59","v":0},0,0,{"$f":"SUM(DU62:DW62)","v":0},null,{"$f":"DZ31+DZ59","v":0},0,0,{"$f":"SUM(DZ62:EB62)","v":0},{"$f":"ED31+ED59","v":0},0,0,0,0,{"$f":"EI31+EI59","v":0},0,0,0,0,0]
[null,null,"男 女 在 籍 数 (名)",null,0,0,0,{"$f":"SUM(E63:G63)","v":0},null,null,null,null,null,null,null,null,null,null,null,null,null,null,null,null,51,54,58,{"$f":"SUM(Y63:AA63)","v":163},null,null,null,null,null,null,null,null,null,null,null,null,null,null,null,null,null,null,null,null,null,null,null,null,null,null,0,0,0,{"$f":"SUM(BC63:BE63)","v":0},null,0,0,0,{"$f":"SUM(BH63:BJ63)","v":0},null,0,0,0,{"$f":"SUM(BM63:BO63)","v":0},null,0,0,0,{"$f":"SUM(BR63:BT63)","v":0},null,0,0,0,{"$f":"SUM(BW63:BY63)","v":0},null,0,0,0,{"$f":"SUM(CB63:CD63)","v":0},null,0,0,0,{"$f":"SUM(CG63:CI63)","v":0},null,0,0,0,{"$f":"SUM(CL63:CN63)","v":0},null,0,0,0,{"$f":"SUM(CQ63:CS63)","v":0},null,0,0,0,{"$f":"SUM(CV63:CX63)","v":0},null,0,0,0,{"$f":"SUM(DA63:DC63)","v":0},null,0,0,0,{"$f":"SUM(DF63:DH63)","v":0},null,0,0,0,{"$f":"SUM(DK63:DM63)","v":0},null,0,0,0,{"$f":"SUM(DP63:DR63)","v":0},null,0,0,0,{"$f":"SUM(DU63:DW63)","v":0},null,0,0,0,{"$f":"SUM(DZ63:EB63)","v":0},{"$f":"ED60+ED62","v":0},0,0,0,0,{"$f":"EI60+EI62","v":0},0,0,0,0,0]
[null,null,"男 女 入 部 率 (％)",null,{"$f":"E62/E63*100","v":{"$error":"#DIV/0!"}},{"$f":"F62/F63*100","v":{"$error":"#DIV/0!"}},{"$f":"G62/G63*100","v":{"$error":"#DIV/0!"}},{"$f":"H62/H63*100","v":{"$error":"#DIV/0!"}},null,{"$f":"J62/J63*100","v":{"$error":"#DIV/0!"}},{"$f":"K62/K63*100","v":{"$error":"#DIV/0!"}},{"$f":"L62/L63*100","v":{"$error":"#DIV/0!"}},{"$f":"M62/M63*100","v":{"$error":"#DIV/0!"}},null,{"$f":"O62/O63*100","v":{"$error":"#DIV/0!"}},{"$f":"P62/P63*100","v":{"$error":"#DIV/0!"}},{"$f":"Q62/Q63*100","v":{"$error":"#DIV/0!"}},{"$f":"R62/R63*100","v":{"$error":"#DIV/0!"}},null,{"$f":"T62/T63*100","v":{"$error":"#DIV/0!"}},{"$error":"#DIV/0!"},{"$error":"#DIV/0!"},{"$error":"#DIV/0!"},null,0,0,0,0,null,{"$error":"#DIV/0!"},{"$error":"#DIV/0!"},{"$error":"#DIV/0!"},{"$error":"#DIV/0!"},null,{"$error":"#DIV/0!"},{"$error":"#DIV/0!"},{"$error":"#DIV/0!"},{"$error":"#DIV/0!"},null,{"$error":"#DIV/0!"},{"$error":"#DIV/0!"},{"$error":"#DIV/0!"},{"$error":"#DIV/0!"},null,{"$error":"#DIV/0!"},{"$error":"#DIV/0!"},{"$error":"#DIV/0!"},{"$error":"#DIV/0!"},null,{"$error":"#DIV/0!"},{"$error":"#DIV/0!"},{"$error":"#DIV/0!"},{"$error":"#DIV/0!"},null,{"$error":"#DIV/0!"},{"$error":"#DIV/0!"},{"$error":"#DIV/0!"},{"$error":"#DIV/0!"},{"$error":"#DIV/0!"},{"$error":"#DIV/0!"},{"$error":"#DIV/0!"},{"$error":"#DIV/0!"},{"$error":"#DIV/0!"},{"$error":"#DIV/0!"},{"$error":"#DIV/0!"},{"$error":"#DIV/0!"},{"$error":"#DIV/0!"},{"$error":"#DIV/0!"},{"$error":"#DIV/0!"},{"$error":"#DIV/0!"},{"$error":"#DIV/0!"},{"$error":"#DIV/0!"},{"$error":"#DIV/0!"},{"$error":"#DIV/0!"},{"$error":"#DIV/0!"},{"$error":"#DIV/0!"},{"$error":"#DIV/0!"},{"$error":"#DIV/0!"},{"$error":"#DIV/0!"},{"$error":"#DIV/0!"},{"$error":"#DIV/0!"},{"$error":"#DIV/0!"},{"$error":"#DIV/0!"},{"$f":"CF62/CF63*100","v":{"$error":"#DIV/0!"}},{"$error":"#DIV/0!"},{"$error":"#DIV/0!"},{"$error":"#DIV/0!"},{"$error":"#DIV/0!"},{"$error":"#DIV/0!"},{"$error":"#DIV/0!"},{"$error":"#DIV/0!"},{"$error":"#DIV/0!"},{"$error":"#DIV/0!"},{"$error":"#DIV/0!"},{"$error":"#DIV/0!"},{"$error":"#DIV/0!"},{"$error":"#DIV/0!"},{"$error":"#DIV/0!"},{"$error":"#DIV/0!"},{"$error":"#DIV/0!"},{"$error":"#DIV/0!"},{"$error":"#DIV/0!"},{"$error":"#DIV/0!"},{"$error":"#DIV/0!"},{"$error":"#DIV/0!"},{"$error":"#DIV/0!"},{"$error":"#DIV/0!"},{"$error":"#DIV/0!"},{"$error":"#DIV/0!"},{"$error":"#DIV/0!"},{"$error":"#DIV/0!"},{"$error":"#DIV/0!"},{"$error":"#DIV/0!"},{"$error":"#DIV/0!"},{"$error":"#DIV/0!"},{"$error":"#DIV/0!"},{"$error":"#DIV/0!"},{"$error":"#DIV/0!"},{"$error":"#DIV/0!"},{"$error":"#DIV/0!"},{"$error":"#DIV/0!"},{"$error":"#DIV/0!"},{"$error":"#DIV/0!"},{"$error":"#DIV/0!"},{"$error":"#DIV/0!"},{"$error":"#DIV/0!"},{"$error":"#DIV/0!"},{"$error":"#DIV/0!"},{"$error":"#DIV/0!"},{"$error":"#DIV/0!"},{"$error":"#DIV/0!"},{"$error":"#DIV/0!"},{"$error":"#DIV/0!"},null,{"$f":"EE62/EE63*100","v":{"$error":"#DIV/0!"}},{"$error":"#DIV/0!"},{"$error":"#DIV/0!"},{"$error":"#DIV/0!"},null,{"$error":"#DIV/0!"},{"$error":"#DIV/0!"},{"$f":"EL62/EL63*100","v":{"$error":"#DIV/0!"}},{"$f":"EM62/EM63*100","v":{"$error":"#DIV/0!"}}]

{"sheet":"７館林","index":7,"n_rows":64,"n_cols":144,"rows_kept":64,"cut":false,"hidden":false,"merged":[]}
[]
[null,null,"令和８年度　群馬県中学校　運動部員数調査結果    （黄色部分は入力禁止）"]
[null,null,null,null,"７館林市(5校)",null,null,null,null,null,"第一",null,null,null,null,"第二",null,null,null,null,"第三",null,null,null,null,"第四",null,null,null,null,"多々良"]
[null,null,"№","  競　技　名","１年","２年","３年","合計","設置","１年","２年","３年","合計","設置","１年","２年","３年","合計","設置","１年","２年","３年","合計","設置","１年","２年","３年","合計","設置","１年","２年","３年","合計","設置","１年","２年","３年","合計","設置","１年","２年","３年","合計","設置","１年","２年","３年","合計","設置","１年","２年","３年","合計","設置","１年","２年","３年","合計","設置","１年","２年","３年","合計","設置","１年","２年","３年","合計","設置","１年","２年","３年","合計","設置","１年","２年","３年","合計","設置","１年","２年","３年","合計","設置","１年","２年","３年","合計","設置","１年","２年","３年","合計","設置","１年","２年","３年","合計","設置","１年","２年","３年","合計","設置","１年","２年","３年","合計","設置","１年","２年","３年","合計","設置","１年","２年","３年","合計","設置","１年","２年","３年","合計","設置","１年","２年","３年","合計","設置","１年","２年","３年","合計","設置"]
[null,null,1,"体　操　競　技",{"$f":"J5+O5+T5+Y5+AD5+AI5+AN5+AS5+AX5+BC5+BH5+BM5+BR5+BW5+CB5+CG5+CL5+CQ5+CV5+DA5+DF5+DK5+DP5+DU5+DZ5","v":0},{"$f":"K5+P5+U5+Z5+AE5+AJ5+AO5+AT5+AY5+BD5+BI5+BN5+BS5+BX5+CC5+CH5+CM5+CR5+CW5+DB5+DG5+DL5+DQ5+DV5+EA5","v":0},{"$f":"L5+Q5+V5+AA5+AF5+AK5+AP5+AU5+AZ5+BE5+BJ5+BO5+BT5+BY5+CD5+CI5+CN5+CS5+CX5+DC5+DH5+DM5+DR5+DW5+EB5","v":0},{"$f":"M5+R5+W5+AB5+AG5+AL5+AQ5+AV5+BA5+BF5+BK5+BP5+BU5+BZ5+CE5+CJ5+CO5+CT5+CY5+DD5+DI5+DN5+DS5+DX5+EC5","v":0},{"$f":"N5+S5+X5+AC5+AH5+AM5+AR5+AW5+BB5+BG5+BL5+BQ5+BV5+CA5+CF5+CK5+CP5+CU5+CZ5+DE5+DJ5+DO5+DT5+DY5+ED5","v":0},null,null,null,{"$f":"SUM(J5:L5)","v":0},null,null,null,null,{"$f":"SUM(O5:Q5)","v":0},null,null,null,null,{"$f":"SUM(T5:V5)","v":0},null,null,null,null,{"$f":"SUM(Y5:AA5)","v":0},null,null,null,null,{"$f":"SUM(AD5:AF5)","v":0},null,null,null,null,{"$f":"SUM(AI5:AK5)","v":0},null,null,null,null,{"$f":"SUM(AN5:AP5)","v":0},null,null,null,null,{"$f":"SUM(AS5:AU5)","v":0},null,null,null,null,{"$f":"SUM(AX5:AZ5)","v":0},null,null,null,null,{"$f":"SUM(BC5:BE5)","v":0},null,null,null,null,{"$f":"SUM(BH5:BJ5)","v":0},null,null,null,null,{"$f":"SUM(BM5:BO5)","v":0},null,null,null,null,{"$f":"SUM(BR5:BT5)","v":0},null,null,null,null,{"$f":"SUM(BW5:BY5)","v":0},null,null,null,null,{"$f":"SUM(CB5:CD5)","v":0},null,null,null,null,{"$f":"SUM(CG5:CI5)","v":0},null,null,null,null,{"$f":"SUM(CL5:CN5)","v":0},null,null,null,null,{"$f":"SUM(CQ5:CS5)","v":0},null,null,null,null,{"$f":"SUM(CV5:CX5)","v":0},null,null,null,null,{"$f":"SUM(DA5:DC5)","v":0},null,null,null,null,{"$f":"SUM(DF5:DH5)","v":0},null,null,null,null,{"$f":"SUM(DK5:DM5)","v":0},null,null,null,null,{"$f":"SUM(DP5:DR5)","v":0},null,null,null,null,{"$f":"SUM(DU5:DW5)","v":0},null,null,null,null,{"$f":"SUM(DZ5:EB5)","v":0},null,null,null,null,{"$f":"SUM(EE5:EG5)","v":0},null,null,null,null,{"$f":"SUM(EJ5:EL5)","v":0}]
[null,null,2,"新    体    操",{"$f":"J6+O6+T6+Y6+AD6+AI6+AN6+AS6+AX6+BC6+BH6+BM6+BR6+BW6+CB6+CG6+CL6+CQ6+CV6+DA6+DF6+DK6+DP6+DU6+DZ6","v":0},0,{"$f":"L6+Q6+V6+AA6+AF6+AK6+AP6+AU6+AZ6+BE6+BJ6+BO6+BT6+BY6+CD6+CI6+CN6+CS6+CX6+DC6+DH6+DM6+DR6+DW6+EB6","v":0},0,0,null,null,null,{"$f":"SUM(J6:L6)","v":0},null,null,null,null,{"$f":"SUM(O6:Q6)","v":0},null,null,null,null,{"$f":"SUM(T6:V6)","v":0},null,null,null,null,{"$f":"SUM(Y6:AA6)","v":0},null,null,null,null,{"$f":"SUM(AD6:AF6)","v":0},null,null,null,null,{"$f":"SUM(AI6:AK6)","v":0},null,null,null,null,{"$f":"SUM(AN6:AP6)","v":0},null,null,null,null,{"$f":"SUM(AS6:AU6)","v":0},null,null,null,null,{"$f":"SUM(AX6:AZ6)","v":0},null,null,null,null,{"$f":"SUM(BC6:BE6)","v":0},null,null,null,null,{"$f":"SUM(BH6:BJ6)","v":0},null,null,null,null,{"$f":"SUM(BM6:BO6)","v":0},null,null,null,null,{"$f":"SUM(BR6:BT6)","v":0},null,null,null,null,{"$f":"SUM(BW6:BY6)","v":0},null,null,null,null,{"$f":"SUM(CB6:CD6)","v":0},null,null,null,null,{"$f":"SUM(CG6:CI6)","v":0},null,null,null,null,{"$f":"SUM(CL6:CN6)","v":0},null,null,null,null,{"$f":"SUM(CQ6:CS6)","v":0},null,null,null,null,{"$f":"SUM(CV6:CX6)","v":0},null,null,null,null,{"$f":"SUM(DA6:DC6)","v":0},null,null,null,null,{"$f":"SUM(DF6:DH6)","v":0},null,null,null,null,{"$f":"SUM(DK6:DM6)","v":0},null,null,null,null,{"$f":"SUM(DP6:DR6)","v":0},null,null,null,null,{"$f":"SUM(DU6:DW6)","v":0},null,null,null,null,{"$f":"SUM(DZ6:EB6)","v":0},null,null,null,null,{"$f":"SUM(EE6:EG6)","v":0},null,null,null,null,{"$f":"SUM(EJ6:EL6)","v":0}]
[null,null,3,"軟　式　野　球",0,0,{"$f":"L7+Q7+V7+AA7+AF7+AK7+AP7+AU7+AZ7+BE7+BJ7+BO7+BT7+BY7+CD7+CI7+CN7+CS7+CX7+DC7+DH7+DM7+DR7+DW7+EB7","v":0},0,0,null,null,null,0,null,null,null,null,0,null,null,null,null,0,null,null,null,null,0,null,null,null,null,0,null,null,null,null,0,null,null,null,null,0,null,null,null,null,0,null,null,null,null,0,null,null,null,null,0,null,null,null,null,0,null,null,null,null,0,null,null,null,null,0,null,null,null,null,0,null,null,null,null,0,null,null,null,null,0,null,null,null,null,0,null,null,null,null,0,null,null,null,null,0,null,null,null,null,0,null,null,null,null,0,null,null,null,null,0,null,null,null,null,0,null,null,null,null,0,null,null,null,null,0,null,null,null,null,0,null,null,null,null,0]
[null,null,4,"ソフトボール",0,0,0,0,0,null,null,null,0,null,null,null,null,0,null,null,null,null,0,null,null,null,null,0,null,null,null,null,0,null,null,null,null,0,null,null,null,null,0,null,null,null,null,0,null,null,null,null,0,null,null,null,null,0,null,null,null,null,0,null,null,null,null,0,null,null,null,null,0,null,null,null,null,0,null,null,null,null,0,null,null,null,null,0,null,null,null,null,0,null,null,null,null,0,null,null,null,null,0,null,null,null,null,0,null,null,null,null,0,null,null,null,null,0,null,null,null,null,0,null,null,null,null,0,null,null,null,null,0,null,null,null,null,0,null,null,null,null,0]
[null,null,5,"バスケットボール",0,0,0,0,0,null,null,null,0,null,null,null,null,0,null,null,null,null,0,null,null,null,null,0,null,null,null,null,0,null,null,null,null,0,null,null,null,null,0,null,null,null,null,0,null,null,null,null,0,null,null,null,null,0,null,null,null,null,0,null,null,null,null,0,null,null,null,null,0,null,null,null,null,0,null,null,null,null,0,null,null,null,null,0,null,null,null,null,0,null,null,null,null,0,null,null,null,null,0,null,null,null,null,0,null,null,null,null,0,null,null,null,null,0,null,null,null,null,0,null,null,null,null,0,null,null,null,null,0,null,null,null,null,0,null,null,null,null,0]
[null,null,6,"ハンドボール",0,0,0,0,0,null,null,null,0,null,null,null,null,0,null,null,null,null,0,null,null,null,null,0,null,null,null,null,0,null,null,null,null,0,null,null,null,null,0,null,null,null,null,0,null,null,null,null,0,null,null,null,null,0,null,null,null,null,0,null,null,null,null,0,null,null,null,null,0,null,null,null,null,0,null,null,null,null,0,null,null,null,null,0,null,null,null,null,0,null,null,null,null,0,null,null,null,null,0,null,null,null,null,0,null,null,null,null,0,null,null,null,null,0,null,null,null,null,0,null,null,null,null,0,null,null,null,null,0,null,null,null,null,0,null,null,null,null,0]
[null,"男",7,"バレーボール",0,0,0,0,0,null,null,null,0,null,null,null,null,0,null,null,null,null,0,null,null,null,null,0,null,null,null,null,0,null,null,null,null,0,null,null,null,null,0,null,null,null,null,0,null,null,null,null,0,null,null,null,null,0,null,null,null,null,0,null,null,null,null,0,null,null,null,null,0,null,null,null,null,0,null,null,null,null,0,null,null,null,null,0,null,null,null,null,0,null,null,null,null,0,null,null,null,null,0,null,null,null,null,0,null,null,null,null,0,null,null,null,null,0,null,null,null,null,0,null,null,null,null,0,null,null,null,null,0,null,null,null,null,0,null,null,null,null,0]
[null,null,8,"ソフトテニス",0,0,0,0,0,null,null,null,0,null,null,null,null,0,null,null,null,null,0,null,null,null,null,0,null,null,null,null,0,null,null,null,null,0,null,null,null,null,0,null,null,null,null,0,null,null,null,null,0,null,null,null,null,0,null,null,null,null,0,null,null,null,null,0,null,null,null,null,0,null,null,null,null,0,null,null,null,null,0,null,null,null,null,0,null,null,null,null,0,null,null,null,null,0,null,null,null,null,0,null,null,null,null,0,null,null,null,null,0,null,null,null,null,0,null,null,null,null,0,null,null,null,null,0,null,null,null,null,0,null,null,null,null,0,null,null,null,null,0]
[null,null,9,"卓    球",0,0,0,0,0,null,null,null,0,null,null,null,null,0,null,null,null,null,0,null,null,null,null,0,null,null,null,null,0,null,null,null,null,0,null,null,null,null,0,null,null,null,null,0,null,null,null,null,0,null,null,null,null,0,null,null,null,null,0,null,null,null,null,0,null,null,null,null,0,null,null,null,null,0,null,null,null,null,0,null,null,null,null,0,null,null,null,null,0,null,null,null,null,0,null,null,null,null,0,null,null,null,null,0,null,null,null,null,0,null,null,null,null,0,null,null,null,null,0,null,null,null,null,0,null,null,null,null,0,null,null,null,null,0,null,null,null,null,0]
[null,null,10,"バドミントン",0,0,0,0,0,null,null,null,0,null,null,null,null,0,null,null,null,null,0,null,null,null,null,0,null,null,null,null,0,null,null,null,null,0,null,null,null,null,0,null,null,null,null,0,null,null,null,null,0,null,null,null,null,0,null,null,null,null,0,null,null,null,null,0,null,null,null,null,0,null,null,null,null,0,null,null,null,null,0,null,null,null,null,0,null,null,null,null,0,null,null,null,null,0,null,null,null,null,0,null,null,null,null,0,null,null,null,null,0,null,null,null,null,0,null,null,null,null,0,null,null,null,null,0,null,null,null,null,0,null,null,null,null,0,null,null,null,null,0]
[null,null,11,"サッカー",0,0,0,0,0,null,null,null,0,null,null,null,null,0,null,null,null,null,0,null,null,null,null,0,null,null,null,null,0,null,null,null,null,0,null,null,null,null,0,null,null,null,null,0,null,null,null,null,0,null,null,null,null,0,null,null,null,null,0,null,null,null,null,0,null,null,null,null,0,null,null,null,null,0,null,null,null,null,0,null,null,null,null,0,null,null,null,null,0,null,null,null,null,0,null,null,null,null,0,null,null,null,null,0,null,null,null,null,0,null,null,null,null,0,null,null,null,null,0,null,null,null,null,0,null,null,null,null,0,null,null,null,null,0,null,null,null,null,0]
[null,null,12,"陸　上　競　技",0,0,0,0,0,null,null,null,0,null,null,null,null,0,null,null,null,null,0,null,null,null,null,0,null,null,null,null,0,null,null,null,null,0,null,null,null,null,0,null,null,null,null,0,null,null,null,null,0,null,null,null,null,0,null,null,null,null,0,null,null,null,null,0,null,null,null,null,0,null,null,null,null,0,null,null,null,null,0,null,null,null,null,0,null,null,null,null,0,null,null,null,null,0,null,null,null,null,0,null,null,null,null,0,null,null,null,null,0,null,null,null,null,0,null,null,null,null,0,null,null,null,null,0,null,null,null,null,0,null,null,null,null,0,null,null,null,null,0]
[null,null,13,"水　　泳",0,0,0,0,0,null,null,null,0,null,null,null,null,0,null,null,null,null,0,null,null,null,null,0,null,null,null,null,0,null,null,null,null,0,null,null,null,null,0,null,null,null,null,0,null,null,null,null,0,null,null,null,null,0,null,null,null,null,0,null,null,null,null,0,null,null,null,null,0,null,null,null,null,0,null,null,null,null,0,null,null,null,null,0,null,null,null,null,0,null,null,null,null,0,null,null,null,null,0,null,null,null,null,0,null,null,null,null,0,null,null,null,null,0,null,null,null,null,0,null,null,null,null,0,null,null,null,null,0,null,null,null,null,0,null,null,null,null,0]
[null,"子",14,"柔　　道",0,0,0,0,0,null,null,null,0,null,null,null,null,0,null,null,null,null,0,null,null,null,null,0,null,null,null,null,0,null,null,null,null,0,null,null,null,null,0,null,null,null,null,0,null,null,null,null,0,null,null,null,null,0,null,null,null,null,0,null,null,null,null,0,null,null,null,null,0,null,null,null,null,0,null,null,null,null,0,null,null,null,null,0,null,null,null,null,0,null,null,null,null,0,null,null,null,null,0,null,null,null,null,0,null,null,null,null,0,null,null,null,null,0,null,null,null,null,0,null,null,null,null,0,null,null,null,null,0,null,null,null,null,0,null,null,null,null,0]
[null,null,15,"剣　　道",0,0,0,0,0,null,null,null,0,null,null,null,null,0,null,null,null,null,0,null,null,null,null,0,null,null,null,null,0,null,null,null,null,0,null,null,null,null,0,null,null,null,null,0,null,null,null,null,0,null,null,null,null,0,null,null,null,null,0,null,null,null,null,0,null,null,null,null,0,null,null,null,null,0,null,null,null,null,0,null,null,null,null,0,null,null,null,null,0,null,null,null,null,0,null,null,null,null,0,null,null,null,null,0,null,null,null,null,0,null,null,null,null,0,null,null,null,null,0,null,null,null,null,0,null,null,null,null,0,null,null,null,null,0,null,null,null,null,0]
[null,null,16,"相　　撲",0,0,0,0,0,null,null,null,0,null,null,null,null,0,null,null,null,null,0,null,null,null,null,0,null,null,null,null,0,null,null,null,null,0,null,null,null,null,0,null,null,null,null,0,null,null,null,null,0,null,null,null,null,0,null,null,null,null,0,null,null,null,null,0,null,null,null,null,0,null,null,null,null,0,null,null,null,null,0,null,null,null,null,0,null,null,null,null,0,null,null,null,null,0,null,null,null,null,0,null,null,null,null,0,null,null,null,null,0,null,null,null,null,0,null,null,null,null,0,null,null,null,null,0,null,null,null,null,0,null,null,null,null,0,null,null,null,null,0]
[null,null,17,"ダ    ン    ス",0,0,0,0,0,null,null,null,0,null,null,null,null,0,null,null,null,null,0,null,null,null,null,0,null,null,null,null,0,null,null,null,null,0,null,null,null,null,0,null,null,null,null,0,null,null,null,null,0,null,null,null,null,0,null,null,null,null,0,null,null,null,null,0,null,null,null,null,0,null,null,null,null,0,null,null,null,null,0,null,null,null,null,0,null,null,null,null,0,null,null,null,null,0,null,null,null,null,0,null,null,null,null,0,null,null,null,null,0,null,null,null,null,0,null,null,null,null,0,null,null,null,null,0,null,null,null,null,0,null,null,null,null,0,null,null,null,null,0]
[null,null,18,"ス    キ    ー",0,0,0,0,0,null,null,null,0,null,null,null,null,0,null,null,null,null,0,null,null,null,null,0,null,null,null,null,0,null,null,null,null,0,null,null,null,null,0,null,null,null,null,0,null,null,null,null,0,null,null,null,null,0,null,null,null,null,0,null,null,null,null,0,null,null,null,null,0,null,null,null,null,0,null,null,null,null,0,null,null,null,null,0,null,null,null,null,0,null,null,null,null,0,null,null,null,null,0,null,null,null,null,0,null,null,null,null,0,null,null,null,null,0,null,null,null,null,0,null,null,null,null,0,null,null,null,null,0,null,null,null,null,0,null,null,null,null,0]
[null,null,19,"ス  ケ  ー  ト",0,0,0,0,0,null,null,null,0,null,null,null,null,0,null,null,null,null,0,null,null,null,null,0,null,null,null,null,0,null,null,null,null,0,null,null,null,null,0,null,null,null,null,0,null,null,null,null,0,null,null,null,null,0,null,null,null,null,0,null,null,null,null,0,null,null,null,null,0,null,null,null,null,0,null,null,null,null,0,null,null,null,null,0,null,null,null,null,0,null,null,null,null,0,null,null,null,null,0,null,null,null,null,0,null,null,null,null,0,null,null,null,null,0,null,null,null,null,0,null,null,null,null,0,null,null,null,null,0,null,null,null,null,0,null,null,null,null,0]
[null,null,20,"アイスホッケー",0,0,0,0,0,null,null,null,0,null,null,null,null,0,null,null,null,null,0,null,null,null,null,0,null,null,null,null,0,null,null,null,null,0,null,null,null,null,0,null,null,null,null,0,null,null,null,null,0,null,null,null,null,0,null,null,null,null,0,null,null,null,null,0,null,null,null,null,0,null,null,null,null,0,null,null,null,null,0,null,null,null,null,0,null,null,null,null,0,null,null,null,null,0,null,null,null,null,0,null,null,null,null,0,null,null,null,null,0,null,null,null,null,0,null,null,null,null,0,null,null,null,null,0,null,null,null,null,0,null,null,null,null,0,null,null,null,null,0]
[null,null,21,"テ　　ニ　　ス",0,0,0,0,0,null,null,null,0,null,null,null,null,0,null,null,null,null,0,null,null,null,null,0,null,null,null,null,0,null,null,null,null,0,null,null,null,null,0,null,null,null,null,0,null,null,null,null,0,null,null,null,null,0,null,null,null,null,0,null,null,null,null,0,null,null,null,null,0,null,null,null,null,0,null,null,null,null,0,null,null,null,null,0,null,null,null,null,0,null,null,null,null,0,null,null,null,null,0,null,null,null,null,0,null,null,null,null,0,null,null,null,null,0,null,null,null,null,0,null,null,null,null,0,null,null,null,null,0,null,null,null,null,0,null,null,null,null,0]
[null,null,22,"空　　　手",0,0,0,0,0,null,null,null,0,null,null,null,null,0,null,null,null,null,0,null,null,null,null,0,null,null,null,null,0,null,null,null,null,0,null,null,null,null,0,null,null,null,null,0,null,null,null,null,0,null,null,null,null,0,null,null,null,null,0,null,null,null,null,0,null,null,null,null,0,null,null,null,null,0,null,null,null,null,0,null,null,null,null,0,null,null,null,null,0,null,null,null,null,0,null,null,null,null,0,null,null,null,null,0,null,null,null,null,0,null,null,null,null,0,null,null,null,null,0,null,null,null,null,0,null,null,null,null,0,null,null,null,null,0,null,null,null,null,0]
[null,null,23,"ラ　グ　ビ　ー",0,0,0,0,0,null,null,null,{"$f":"SUM(J27:L27)","v":0},null,null,null,null,{"$f":"SUM(O27:Q27)","v":0},null,null,null,null,{"$f":"SUM(T27:V27)","v":0},null,null,null,null,{"$f":"SUM(Y27:AA27)","v":0},null,null,null,null,{"$f":"SUM(AD27:AF27)","v":0},null,null,null,null,{"$f":"SUM(AI27:AK27)","v":0},null,null,null,null,{"$f":"SUM(AN27:AP27)","v":0},null,null,null,null,{"$f":"SUM(AS27:AU27)","v":0},null,null,null,null,{"$f":"SUM(AX27:AZ27)","v":0},null,null,null,null,{"$f":"SUM(BC27:BE27)","v":0},null,null,null,null,{"$f":"SUM(BH27:BJ27)","v":0},null,null,null,null,{"$f":"SUM(BM27:BO27)","v":0},null,null,null,null,{"$f":"SUM(BR27:BT27)","v":0},null,null,null,null,{"$f":"SUM(BW27:BY27)","v":0},null,null,null,null,{"$f":"SUM(CB27:CD27)","v":0},null,null,null,null,{"$f":"SUM(CG27:CI27)","v":0},null,null,null,null,{"$f":"SUM(CL27:CN27)","v":0},null,null,null,null,{"$f":"SUM(CQ27:CS27)","v":0},null,null,null,null,{"$f":"SUM(CV27:CX27)","v":0},null,null,null,null,{"$f":"SUM(DA27:DC27)","v":0},null,null,null,null,{"$f":"SUM(DF27:DH27)","v":0},null,null,null,null,{"$f":"SUM(DK27:DM27)","v":0},null,null,null,null,{"$f":"SUM(DP27:DR27)","v":0},null,null,null,null,{"$f":"SUM(DU27:DW27)","v":0},null,null,null,null,{"$f":"SUM(DZ27:EB27)","v":0},null,null,null,null,{"$f":"SUM(EE27:EG27)","v":0},null,null,null,null,{"$f":"SUM(EJ27:EL27)","v":0}]
[null,null,null,null,0,0,0,0,0]
[null,null,null,null,0,0,0,0,0]
[null,null,null,null,0,0,0,0,0]
[null,null,"男　子　合　計 (名)",null,{"$f":"J31+O31+T31+Y31+AD31+AI31+AN31+AS31+AX31+BC31+BH31+BM31+BR31+BW31+CB31+CG31+CL31+CQ31+CV31+DA31+DF31+DK31+DP31+DU31+DZ31","v":0},{"$f":"K31+P31+U31+Z31+AE31+AJ31+AO31+AT31+AY31+BD31+BI31+BN31+BS31+BX31+CC31+CH31+CM31+CR31+CW31+DB31+DG31+DL31+DQ31+DV31+EA31","v":0},{"$f":"L31+Q31+V31+AA31+AF31+AK31+AP31+AU31+AZ31+BE31+BJ31+BO31+BT31+BY31+CD31+CI31+CN31+CS31+CX31+DC31+DH31+DM31+DR31+DW31+EB31","v":0},{"$f":"M31+R31+W31+AB31+AG31+AL31+AQ31+AV31+BA31+BF31+BK31+BP31+BU31+BZ31+CE31+CJ31+CO31+CT31+CY31+DD31+DI31+DN31+DS31+DX31+EC31","v":0},{"$f":"N31+S31+X31+AC31+AH31+AM31+AR31+AW31+BB31+BG31+BL31+BQ31+BV31+CA31+CF31+CK31+CP31+CU31+CZ31+DE31+DJ31+DO31+DT31+DY31+ED31","v":0},{"$f":"SUM(J5:J30)","v":0},0,0,{"$f":"SUM(M5:M30)","v":0},0,0,0,0,0,0,0,0,0,0,0,0,0,0,0,0,0,0,0,0,0,0,0,0,0,0,0,0,0,0,0,0,0,0,0,0,0,0,0,0,0,0,0,0,0,0,0,0,0,0,0,0,0,0,0,0,0,0,0,0,{"$f":"SUM(BV5:BV30)","v":0},{"$f":"SUM(BW5:BW30)","v":0},0,0,0,0,0,0,0,0,0,0,0,0,0,0,0,0,0,0,0,0,0,0,0,0,0,0,0,0,0,0,0,0,0,0,0,0,0,0,0,0,0,0,0,0,0,0,0,0,0,0,0,0,0,0,0,0,0,0,0,0,0,0,0,{"$f":"SUM(EI5:EI30)","v":0},0,0,0,0,0]
[null,null,"男 子 在 籍 数 (名)",null,0,0,0,0,null,null,null,null,{"$f":"SUM(J32:L32)","v":0},null,null,null,null,{"$f":"SUM(O32:Q32)","v":0},null,null,null,null,{"$f":"SUM(T32:V32)","v":0},null,null,null,null,{"$f":"SUM(Y32:AA32)","v":0},null,null,null,null,{"$f":"SUM(AD32:AF32)","v":0},null,null,null,null,{"$f":"SUM(AI32:AK32)","v":0},null,null,null,null,{"$f":"SUM(AN32:AP32)","v":0},null,null,null,null,{"$f":"SUM(AS32:AU32)","v":0},null,null,null,null,{"$f":"SUM(AX32:AZ32)","v":0},null,null,null,null,{"$f":"SUM(BC32:BE32)","v":0},null,null,null,null,{"$f":"SUM(BH32:BJ32)","v":0},null,null,null,null,{"$f":"SUM(BM32:BO32)","v":0},null,null,null,null,{"$f":"SUM(BR32:BT32)","v":0},null,null,null,null,{"$f":"SUM(BW32:BY32)","v":0},null,null,null,null,{"$f":"SUM(CB32:CD32)","v":0},null,null,null,null,{"$f":"SUM(CG32:CI32)","v":0},null,null,null,null,{"$f":"SUM(CL32:CN32)","v":0},null,null,null,null,{"$f":"SUM(CQ32:CS32)","v":0},null,null,null,null,{"$f":"SUM(CV32:CX32)","v":0},null,null,null,null,{"$f":"SUM(DA32:DC32)","v":0},null,null,null,null,{"$f":"SUM(DF32:DH32)","v":0},null,null,null,null,{"$f":"SUM(DK32:DM32)","v":0},null,null,null,null,{"$f":"SUM(DP32:DR32)","v":0},null,null,null,null,{"$f":"SUM(DU32:DW32)","v":0},null,null,null,null,{"$f":"SUM(DZ32:EB32)","v":0},null,null,null,null,{"$f":"SUM(EE32:EG32)","v":0},null,null,null,null,{"$f":"SUM(EJ32:EL32)","v":0}]
[null,null,"男 子 入 部 率 (％)",null,{"$f":"E31/E32*100","v":{"$error":"#DIV/0!"}},{"$f":"F31/F32*100","v":{"$error":"#DIV/0!"}},{"$f":"G31/G32*100","v":{"$error":"#DIV/0!"}},{"$f":"H31/H32*100","v":{"$error":"#DIV/0!"}},null,{"$f":"J31/J32*100","v":{"$error":"#DIV/0!"}},{"$error":"#DIV/0!"},{"$error":"#DIV/0!"},{"$error":"#DIV/0!"},null,{"$error":"#DIV/0!"},{"$error":"#DIV/0!"},{"$error":"#DIV/0!"},{"$f":"R31/R32*100","v":{"$error":"#DIV/0!"}},null,{"$error":"#DIV/0!"},{"$error":"#DIV/0!"},{"$error":"#DIV/0!"},{"$f":"W31/W32*100","v":{"$error":"#DIV/0!"}},null,{"$error":"#DIV/0!"},{"$error":"#DIV/0!"},{"$error":"#DIV/0!"},{"$f":"AB31/AB32*100","v":{"$error":"#DIV/0!"}},null,{"$error":"#DIV/0!"},{"$error":"#DIV/0!"},{"$error":"#DIV/0!"},{"$f":"AG31/AG32*100","v":{"$error":"#DIV/0!"}},null,{"$error":"#DIV/0!"},{"$error":"#DIV/0!"},{"$error":"#DIV/0!"},{"$f":"AL31/AL32*100","v":{"$error":"#DIV/0!"}},null,{"$error":"#DIV/0!"},{"$error":"#DIV/0!"},{"$error":"#DIV/0!"},{"$f":"AQ31/AQ32*100","v":{"$error":"#DIV/0!"}},null,{"$error":"#DIV/0!"},{"$error":"#DIV/0!"},{"$error":"#DIV/0!"},{"$f":"AV31/AV32*100","v":{"$error":"#DIV/0!"}},null,{"$error":"#DIV/0!"},{"$error":"#DIV/0!"},{"$error":"#DIV/0!"},{"$f":"BA31/BA32*100","v":{"$error":"#DIV/0!"}},null,{"$error":"#DIV/0!"},{"$error":"#DIV/0!"},{"$error":"#DIV/0!"},{"$f":"BF31/BF32*100","v":{"$error":"#DIV/0!"}},null,{"$error":"#DIV/0!"},{"$error":"#DIV/0!"},{"$error":"#DIV/0!"},{"$f":"BK31/BK32*100","v":{"$error":"#DIV/0!"}},null,{"$error":"#DIV/0!"},{"$error":"#DIV/0!"},{"$error":"#DIV/0!"},{"$f":"BP31/BP32*100","v":{"$error":"#DIV/0!"}},null,{"$error":"#DIV/0!"},{"$error":"#DIV/0!"},{"$error":"#DIV/0!"},{"$f":"BU31/BU32*100","v":{"$error":"#DIV/0!"}},null,{"$f":"BW31/BW32*100","v":{"$error":"#DIV/0!"}},{"$error":"#DIV/0!"},{"$error":"#DIV/0!"},{"$error":"#DIV/0!"},null,{"$error":"#DIV/0!"},{"$error":"#DIV/0!"},{"$error":"#DIV/0!"},{"$error":"#DIV/0!"},null,{"$error":"#DIV/0!"},{"$error":"#DIV/0!"},{"$error":"#DIV/0!"},{"$error":"#DIV/0!"},null,{"$error":"#DIV/0!"},{"$error":"#DIV/0!"},{"$error":"#DIV/0!"},{"$error":"#DIV/0!"},null,{"$error":"#DIV/0!"},{"$error":"#DIV/0!"},{"$error":"#DIV/0!"},{"$error":"#DIV/0!"},null,{"$error":"#DIV/0!"},{"$error":"#DIV/0!"},{"$error":"#DIV/0!"},{"$error":"#DIV/0!"},null,{"$error":"#DIV/0!"},{"$error":"#DIV/0!"},{"$error":"#DIV/0!"},{"$error":"#DIV/0!"},null,{"$error":"#DIV/0!"},{"$error":"#DIV/0!"},{"$error":"#DIV/0!"},{"$error":"#DIV/0!"},null,{"$error":"#DIV/0!"},{"$error":"#DIV/0!"},{"$error":"#DIV/0!"},{"$error":"#DIV/0!"},null,{"$error":"#DIV/0!"},{"$error":"#DIV/0!"},{"$error":"#DIV/0!"},{"$error":"#DIV/0!"},null,{"$error":"#DIV/0!"},{"$error":"#DIV/0!"},{"$error":"#DIV/0!"},{"$error":"#DIV/0!"},null,{"$error":"#DIV/0!"},{"$error":"#DIV/0!"},{"$error":"#DIV/0!"},{"$error":"#DIV/0!"},null,{"$error":"#DIV/0!"},{"$error":"#DIV/0!"},{"$error":"#DIV/0!"},{"$error":"#DIV/0!"},null,{"$error":"#DIV/0!"},{"$error":"#DIV/0!"},{"$f":"EL31/EL32*100","v":{"$error":"#DIV/0!"}},{"$f":"EM31/EM32*100","v":{"$error":"#DIV/0!"}}]
[null,null,1,"体　操　競　技",{"$f":"J34+O34+T34+Y34+AD34+AI34+AN34+AS34+AX34+BC34+BH34+BM34+BR34+BW34+CB34+CG34+CL34+CQ34+CV34+DA34+DF34+DK34+DP34+DU34+DZ34","v":0},0,0,0,0,null,null,null,{"$f":"J34+K34+L34","v":0},null,null,null,null,{"$f":"O34+P34+Q34","v":0},null,null,null,null,{"$f":"T34+U34+V34","v":0},null,null,null,null,{"$f":"Y34+Z34+AA34","v":0},null,null,null,null,{"$f":"AD34+AE34+AF34","v":0},null,null,null,null,{"$f":"AI34+AJ34+AK34","v":0},null,null,null,null,{"$f":"AN34+AO34+AP34","v":0},null,null,null,null,{"$f":"AS34+AT34+AU34","v":0},null,null,null,null,{"$f":"AX34+AY34+AZ34","v":0},null,null,null,null,{"$f":"BC34+BD34+BE34","v":0},null,null,null,null,{"$f":"BH34+BI34+BJ34","v":0},null,null,null,null,{"$f":"BM34+BN34+BO34","v":0},null,null,null,null,{"$f":"BR34+BS34+BT34","v":0},null,null,null,null,{"$f":"BW34+BX34+BY34","v":0},null,null,null,null,{"$f":"CB34+CC34+CD34","v":0},null,null,null,null,{"$f":"CG34+CH34+CI34","v":0},null,null,null,null,{"$f":"CL34+CM34+CN34","v":0},null,null,null,null,{"$f":"CQ34+CR34+CS34","v":0},null,null,null,null,{"$f":"CV34+CW34+CX34","v":0},null,null,null,null,{"$f":"DA34+DB34+DC34","v":0},null,null,null,null,{"$f":"DF34+DG34+DH34","v":0},null,null,null,null,{"$f":"DK34+DL34+DM34","v":0},null,null,null,null,{"$f":"DP34+DQ34+DR34","v":0},null,null,null,null,{"$f":"DU34+DV34+DW34","v":0},null,null,null,null,{"$f":"DZ34+EA34+EB34","v":0},null,null,null,null,{"$f":"EE34+EF34+EG34","v":0},null,null,null,null,{"$f":"EJ34+EK34+EL34","v":0}]
[null,null,2,"新    体    操",0,0,0,0,0,null,null,null,0,null,null,null,null,0,null,null,null,null,0,null,null,null,null,0,null,null,null,null,0,null,null,null,null,0,null,null,null,null,0,null,null,null,null,0,null,null,null,null,0,null,null,null,null,0,null,null,null,null,0,null,null,null,null,0,null,null,null,null,0,null,null,null,null,0,null,null,null,null,0,null,null,null,null,0,null,null,null,null,0,null,null,null,null,0,null,null,null,null,0,null,null,null,null,0,null,null,null,null,0,null,null,null,null,0,null,null,null,null,0,null,null,null,null,0,null,null,null,null,0,null,null,null,null,0,null,null,null,null,0]
[null,null,3,"軟　式　野　球",0,0,0,0,0,null,null,null,0,null,null,null,null,0,null,null,null,null,0,null,null,null,null,0,null,null,null,null,0,null,null,null,null,0,null,null,null,null,0,null,null,null,null,0,null,null,null,null,0,null,null,null,null,0,null,null,null,null,0,null,null,null,null,0,null,null,null,null,0,null,null,null,null,0,null,null,null,null,0,null,null,null,null,0,null,null,null,null,0,null,null,null,null,0,null,null,null,null,0,null,null,null,null,0,null,null,null,null,0,null,null,null,null,0,null,null,null,null,0,null,null,null,null,0,null,null,null,null,0,null,null,null,null,0,null,null,null,null,0]
[null,null,4,"ソフトボール",0,0,0,0,0,null,null,null,0,null,null,null,null,0,null,null,null,null,0,null,null,null,null,0,null,null,null,null,0,null,null,null,null,0,null,null,null,null,0,null,null,null,null,0,null,null,null,null,0,null,null,null,null,0,null,null,null,null,0,null,null,null,null,0,null,null,null,null,0,null,null,null,null,0,null,null,null,null,0,null,null,null,null,0,null,null,null,null,0,null,null,null,null,0,null,null,null,null,0,null,null,null,null,0,null,null,null,null,0,null,null,null,null,0,null,null,null,null,0,null,null,null,null,0,null,null,null,null,0,null,null,null,null,0,null,null,null,null,0]
[null,null,5,"バスケットボール",0,0,0,0,0,null,null,null,0,null,null,null,null,0,null,null,null,null,0,null,null,null,null,0,null,null,null,null,0,null,null,null,null,0,null,null,null,null,0,null,null,null,null,0,null,null,null,null,0,null,null,null,null,0,null,null,null,null,0,null,null,null,null,0,null,null,null,null,0,null,null,null,null,0,null,null,null,null,0,null,null,null,null,0,null,null,null,null,0,null,null,null,null,0,null,null,null,null,0,null,null,null,null,0,null,null,null,null,0,null,null,null,null,0,null,null,null,null,0,null,null,null,null,0,null,null,null,null,0,null,null,null,null,0,null,null,null,null,0]
[null,null,6,"ハンドボール",0,0,0,0,0,null,null,null,0,null,null,null,null,0,null,null,null,null,0,null,null,null,null,0,null,null,null,null,0,null,null,null,null,0,null,null,null,null,0,null,null,null,null,0,null,null,null,null,0,null,null,null,null,0,null,null,null,null,0,null,null,null,null,0,null,null,null,null,0,null,null,null,null,0,null,null,null,null,0,null,null,null,null,0,null,null,null,null,0,null,null,null,null,0,null,null,null,null,0,null,null,null,null,0,null,null,null,null,0,null,null,null,null,0,null,null,null,null,0,null,null,null,null,0,null,null,null,null,0,null,null,null,null,0,null,null,null,null,0]
[null,"女",7,"バレーボール",0,0,0,0,0,null,null,null,0,null,null,null,null,0,null,null,null,null,0,null,null,null,null,0,null,null,null,null,0,null,null,null,null,0,null,null,null,null,0,null,null,null,null,0,null,null,null,null,0,null,null,null,null,0,null,null,null,null,0,null,null,null,null,0,null,null,null,null,0,null,null,null,null,0,null,null,null,null,0,null,null,null,null,0,null,null,null,null,0,null,null,null,null,0,null,null,null,null,0,null,null,null,null,0,null,null,null,null,0,null,null,null,null,0,null,null,null,null,0,null,null,null,null,0,null,null,null,null,0,null,null,null,null,0,null,null,null,null,0]
[null,null,8,"ソフトテニス",0,0,0,0,0,null,null,null,0,null,null,null,null,0,null,null,null,null,0,null,null,null,null,0,null,null,null,null,0,null,null,null,null,0,null,null,null,null,0,null,null,null,null,0,null,null,null,null,0,null,null,null,null,0,null,null,null,null,0,null,null,null,null,0,null,null,null,null,0,null,null,null,null,0,null,null,null,null,0,null,null,null,null,0,null,null,null,null,0,null,null,null,null,0,null,null,null,null,0,null,null,null,null,0,null,null,null,null,0,null,null,null,null,0,null,null,null,null,0,null,null,null,null,0,null,null,null,null,0,null,null,null,null,0,null,null,null,null,0]
[null,null,9,"卓    球",0,0,0,0,0,null,null,null,0,null,null,null,null,0,null,null,null,null,0,null,null,null,null,0,null,null,null,null,0,null,null,null,null,0,null,null,null,null,0,null,null,null,null,0,null,null,null,null,0,null,null,null,null,0,null,null,null,null,0,null,null,null,null,0,null,null,null,null,0,null,null,null,null,0,null,null,null,null,0,null,null,null,null,0,null,null,null,null,0,null,null,null,null,0,null,null,null,null,0,null,null,null,null,0,null,null,null,null,0,null,null,null,null,0,null,null,null,null,0,null,null,null,null,0,null,null,null,null,0,null,null,null,null,0,null,null,null,null,0]
[null,null,10,"バドミントン",0,0,0,0,0,null,null,null,0,null,null,null,null,0,null,null,null,null,0,null,null,null,null,0,null,null,null,null,0,null,null,null,null,0,null,null,null,null,0,null,null,null,null,0,null,null,null,null,0,null,null,null,null,0,null,null,null,null,0,null,null,null,null,0,null,null,null,null,0,null,null,null,null,0,null,null,null,null,0,null,null,null,null,0,null,null,null,null,0,null,null,null,null,0,null,null,null,null,0,null,null,null,null,0,null,null,null,null,0,null,null,null,null,0,null,null,null,null,0,null,null,null,null,0,null,null,null,null,0,null,null,null,null,0,null,null,null,null,0]
[null,null,11,"サッカー",0,0,0,0,0,null,null,null,0,null,null,null,null,0,null,null,null,null,0,null,null,null,null,0,null,null,null,null,0,null,null,null,null,0,null,null,null,null,0,null,null,null,null,0,null,null,null,null,0,null,null,null,null,0,null,null,null,null,0,null,null,null,null,0,null,null,null,null,0,null,null,null,null,0,null,null,null,null,0,null,null,null,null,0,null,null,null,null,0,null,null,null,null,0,null,null,null,null,0,null,null,null,null,0,null,null,null,null,0,null,null,null,null,0,null,null,null,null,0,null,null,null,null,0,null,null,null,null,0,null,null,null,null,0,null,null,null,null,0]
[null,null,12,"陸　上　競　技",0,0,0,0,0,null,null,null,0,null,null,null,null,0,null,null,null,null,0,null,null,null,null,0,null,null,null,null,0,null,null,null,null,0,null,null,null,null,0,null,null,null,null,0,null,null,null,null,0,null,null,null,null,0,null,null,null,null,0,null,null,null,null,0,null,null,null,null,0,null,null,null,null,0,null,null,null,null,0,null,null,null,null,0,null,null,null,null,0,null,null,null,null,0,null,null,null,null,0,null,null,null,null,0,null,null,null,null,0,null,null,null,null,0,null,null,null,null,0,null,null,null,null,0,null,null,null,null,0,null,null,null,null,0,null,null,null,null,0]
[null,null,13,"水　　泳",0,0,0,0,0,null,null,null,0,null,null,null,null,0,null,null,null,null,0,null,null,null,null,0,null,null,null,null,0,null,null,null,null,0,null,null,null,null,0,null,null,null,null,0,null,null,null,null,0,null,null,null,null,0,null,null,null,null,0,null,null,null,null,0,null,null,null,null,0,null,null,null,null,0,null,null,null,null,0,null,null,null,null,0,null,null,null,null,0,null,null,null,null,0,null,null,null,null,0,null,null,null,null,0,null,null,null,null,0,null,null,null,null,0,null,null,null,null,0,null,null,null,null,0,null,null,null,null,0,null,null,null,null,0,null,null,null,null,0]
[null,"子",14,"柔　　道",0,0,0,0,0,null,null,null,0,null,null,null,null,0,null,null,null,null,0,null,null,null,null,0,null,null,null,null,0,null,null,null,null,0,null,null,null,null,0,null,null,null,null,0,null,null,null,null,0,null,null,null,null,0,null,null,null,null,0,null,null,null,null,0,null,null,null,null,0,null,null,null,null,0,null,null,null,null,0,null,null,null,null,0,null,null,null,null,0,null,null,null,null,0,null,null,null,null,0,null,null,null,null,0,null,null,null,null,0,null,null,null,null,0,null,null,null,null,0,null,null,null,null,0,null,null,null,null,0,null,null,null,null,0,null,null,null,null,0]
[null,null,15,"剣　　道",0,0,0,0,0,null,null,null,0,null,null,null,null,0,null,null,null,null,0,null,null,null,null,0,null,null,null,null,0,null,null,null,null,0,null,null,null,null,0,null,null,null,null,0,null,null,null,null,0,null,null,null,null,0,null,null,null,null,0,null,null,null,null,0,null,null,null,null,0,null,null,null,null,0,null,null,null,null,0,null,null,null,null,0,null,null,null,null,0,null,null,null,null,0,null,null,null,null,0,null,null,null,null,0,null,null,null,null,0,null,null,null,null,0,null,null,null,null,0,null,null,null,null,0,null,null,null,null,0,null,null,null,null,0,null,null,null,null,0]
[null,null,16,"ダ    ン    ス",0,0,0,0,0,null,null,null,0,null,null,null,null,0,null,null,null,null,0,null,null,null,null,0,null,null,null,null,0,null,null,null,null,0,null,null,null,null,0,null,null,null,null,0,null,null,null,null,0,null,null,null,null,0,null,null,null,null,0,null,null,null,null,0,null,null,null,null,0,null,null,null,null,0,null,null,null,null,0,null,null,null,null,0,null,null,null,null,0,null,null,null,null,0,null,null,null,null,0,null,null,null,null,0,null,null,null,null,0,null,null,null,null,0,null,null,null,null,0,null,null,null,null,0,null,null,null,null,0,null,null,null,null,0,null,null,null,null,0]
[null,null,17,"ス    キ    ー",{"$f":"J50+O50+T50+Y50+AD50+AI50+AN50+AS50+AX50+BC50+BH50+BM50+BR50+BW50+CB50+CG50+CL50+CQ50+CV50+DA50+DF50+DK50+DP50+DU50+DZ50","v":0},0,0,0,0,null,null,null,0,null,null,null,null,0,null,null,null,null,0,null,null,null,null,0,null,null,null,null,0,null,null,null,null,0,null,null,null,null,0,null,null,null,null,0,null,null,null,null,0,null,null,null,null,0,null,null,null,null,0,null,null,null,null,0,null,null,null,null,0,null,null,null,null,0,null,null,null,null,0,null,null,null,null,0,null,null,null,null,0,null,null,null,null,0,null,null,null,null,0,null,null,null,null,0,null,null,null,null,0,null,null,null,null,0,null,null,null,null,0,null,null,null,null,0,null,null,null,null,0,null,null,null,null,0,null,null,null,null,0]
[null,null,18,"ス  ケ  ー  ト",0,0,0,0,0,null,null,null,0,null,null,null,null,0,null,null,null,null,0,null,null,null,null,0,null,null,null,null,0,null,null,null,null,0,null,null,null,null,0,null,null,null,null,0,null,null,null,null,0,null,null,null,null,0,null,null,null,null,0,null,null,null,null,0,null,null,null,null,0,null,null,null,null,0,null,null,null,null,0,null,null,null,null,0,null,null,null,null,0,null,null,null,null,0,null,null,null,null,0,null,null,null,null,0,null,null,null,null,0,null,null,null,null,0,null,null,null,null,0,null,null,null,null,0,null,null,null,null,0,null,null,null,null,0,null,null,null,null,0]
[null,null,19,"アイスホッケー",0,0,0,0,0,null,null,null,0,null,null,null,null,0,null,null,null,null,0,null,null,null,null,0,null,null,null,null,0,null,null,null,null,0,null,null,null,null,0,null,null,null,null,0,null,null,null,null,0,null,null,null,null,0,null,null,null,null,0,null,null,null,null,0,null,null,null,null,0,null,null,null,null,0,null,null,null,null,0,null,null,null,null,0,null,null,null,null,0,null,null,null,null,0,null,null,null,null,0,null,null,null,null,0,null,null,null,null,0,null,null,null,null,0,null,null,null,null,0,null,null,null,null,0,null,null,null,null,0,null,null,null,null,0,null,null,null,null,0]
[null,null,20,"テ　　ニ　　ス",0,0,0,0,0,null,null,null,0,null,null,null,null,0,null,null,null,null,0,null,null,null,null,0,null,null,null,null,0,null,null,null,null,0,null,null,null,null,0,null,null,null,null,0,null,null,null,null,0,null,null,null,null,0,null,null,null,null,0,null,null,null,null,0,null,null,null,null,0,null,null,null,null,0,null,null,null,null,0,null,null,null,null,0,null,null,null,null,0,null,null,null,null,0,null,null,null,null,0,null,null,null,null,0,null,null,null,null,0,null,null,null,null,0,null,null,null,null,0,null,null,null,null,0,null,null,null,null,0,null,null,null,null,0,null,null,null,null,0]
[null,null,21,"弓　　道　",0,0,0,0,0,null,null,null,0,null,null,null,null,0,null,null,null,null,0,null,null,null,null,0,null,null,null,null,0,null,null,null,null,0,null,null,null,null,0,null,null,null,null,0,null,null,null,null,0,null,null,null,null,0,null,null,null,null,0,null,null,null,null,0,null,null,null,null,0,null,null,null,null,0,null,null,null,null,0,null,null,null,null,0,null,null,null,null,0,null,null,null,null,0,null,null,null,null,0,null,null,null,null,0,null,null,null,null,0,null,null,null,null,0,null,null,null,null,0,null,null,null,null,0,null,null,null,null,0,null,null,null,null,0,null,null,null,null,0]
[null,null,22,"空　　手",0,0,0,0,0,null,null,null,0,null,null,null,null,0,null,null,null,null,0,null,null,null,null,0,null,null,null,null,0,null,null,null,null,0,null,null,null,null,0,null,null,null,null,0,null,null,null,null,0,null,null,null,null,0,null,null,null,null,0,null,null,null,null,{"$f":"BM55+BN55+BO55","v":0},null,null,null,null,0,null,null,null,null,0,null,null,null,null,0,null,null,null,null,0,null,null,null,null,0,null,null,null,null,0,null,null,null,null,0,null,null,null,null,0,null,null,null,null,0,null,null,null,null,0,null,null,null,null,0,null,null,null,null,0,null,null,null,null,0,null,null,null,null,0,null,null,null,null,0]
[null,null,null,null,0,0,0,0,0,null,null,null,0,null,null,null,null,0,null,null,null,null,0,null,null,null,null,0,null,null,null,null,0,null,null,null,null,0,null,null,null,null,0,null,null,null,null,0,null,null,null,null,0,null,null,null,null,0,null,null,null,null,0,null,null,null,null,0,null,null,null,null,0,null,null,null,null,0,null,null,null,null,0,null,null,null,null,0,null,null,null,null,0,null,null,null,null,0,null,null,null,null,0,null,null,null,null,0,null,null,null,null,0,null,null,null,null,0,null,null,null,null,0,null,null,null,null,0,null,null,null,null,0,null,null,null,null,0,null,null,null,null,0]
[null,null,null,null,0,0,0,0,0,null,null,null,0,null,null,null,null,0,null,null,null,null,0,null,null,null,null,0,null,null,null,null,0,null,null,null,null,0,null,null,null,null,0,null,null,null,null,0,null,null,null,null,0,null,null,null,null,0,null,null,null,null,0,null,null,null,null,0,null,null,null,null,0,null,null,null,null,0,null,null,null,null,0,null,null,null,null,0,null,null,null,null,0,null,null,null,null,0,null,null,null,null,0,null,null,null,null,0,null,null,null,null,0,null,null,null,null,0,null,null,null,null,0,null,null,null,null,0,null,null,null,null,0,null,null,null,null,0,null,null,null,null,0]
[null,null,null,null,0,0,0,0,0,null,null,null,0,null,null,null,null,0,null,null,null,null,0,null,null,null,null,0,null,null,null,null,0,null,null,null,null,0,null,null,null,null,0,null,null,null,null,0,null,null,null,null,0,null,null,null,null,0,null,null,null,null,0,null,null,null,null,0,null,null,null,null,0,null,null,null,null,0,null,null,null,null,0,null,null,null,null,0,null,null,null,null,0,null,null,null,null,0,null,null,null,null,0,null,null,null,null,0,null,null,null,null,0,null,null,null,null,0,null,null,null,null,0,null,null,null,null,0,null,null,null,null,0,null,null,null,null,0,null,null,null,null,0]
[null,null,"女　子　合　計 (名)",null,{"$f":"J59+O59+T59+Y59+AD59+AI59+AN59+AS59+AX59+BC59+BH59+BM59+BR59+BW59+CB59+CG59+CL59+CQ59+CV59+DA59+DF59+DK59+DP59+DU59+DZ59","v":0},{"$f":"K59+P59+U59+Z59+AE59+AJ59+AO59+AT59+AY59+BD59+BI59+BN59+BS59+BX59+CC59+CH59+CM59+CR59+CW59+DB59+DG59+DL59+DQ59+DV59+EA59","v":0},{"$f":"L59+Q59+V59+AA59+AF59+AK59+AP59+AU59+AZ59+BE59+BJ59+BO59+BT59+BY59+CD59+CI59+CN59+CS59+CX59+DC59+DH59+DM59+DR59+DW59+EB59","v":0},{"$f":"M59+R59+W59+AB59+AG59+AL59+AQ59+AV59+BA59+BF59+BK59+BP59+BU59+BZ59+CE59+CJ59+CO59+CT59+CY59+DD59+DI59+DN59+DS59+DX59+EC59","v":0},0,{"$f":"SUM(J34:J58)","v":0},0,0,0,0,0,0,0,0,0,0,0,0,0,0,0,0,0,0,0,0,0,0,0,0,0,0,0,0,0,0,0,{"$f":"SUM(AP34:AP58)","v":0},0,0,0,0,0,0,0,0,0,0,0,0,0,0,0,0,0,0,0,0,0,0,0,0,0,0,0,0,0,0,0,{"$f":"SUM(BV34:BV58)","v":0},0,0,0,0,0,0,0,0,0,0,0,0,0,0,0,0,0,0,0,0,0,0,0,0,0,0,0,0,0,0,0,{"$f":"SUM(DB34:DB58)","v":0},0,0,0,0,0,0,0,0,0,0,0,0,0,0,0,0,0,0,0,0,0,0,0,0,0,0,0,0,0,0,0,{"$f":"SUM(EH34:EH58)","v":0},0,0,0,0,0,0]
[null,null,"女 子 在 籍 数 (名)",null,0,0,0,0,null,null,null,null,{"$f":"SUM(J60:L60)","v":0},null,null,null,null,{"$f":"SUM(O60:Q60)","v":0},null,null,null,null,{"$f":"SUM(T60:V60)","v":0},null,null,null,null,{"$f":"SUM(Y60:AA60)","v":0},null,null,null,null,{"$f":"SUM(AD60:AF60)","v":0},null,null,null,null,{"$f":"SUM(AI60:AK60)","v":0},null,null,null,null,{"$f":"SUM(AN60:AP60)","v":0},null,null,null,null,{"$f":"SUM(AS60:AU60)","v":0},null,null,null,null,{"$f":"SUM(AX60:AZ60)","v":0},null,null,null,null,{"$f":"SUM(BC60:BE60)","v":0},null,null,null,null,{"$f":"SUM(BH60:BJ60)","v":0},null,null,null,null,{"$f":"SUM(BM60:BO60)","v":0},null,null,null,null,{"$f":"SUM(BR60:BT60)","v":0},null,null,null,null,{"$f":"SUM(BW60:BY60)","v":0},null,null,null,null,{"$f":"SUM(CB60:CD60)","v":0},null,null,null,null,{"$f":"SUM(CG60:CI60)","v":0},null,null,null,null,{"$f":"SUM(CL60:CN60)","v":0},null,null,null,null,{"$f":"SUM(CQ60:CS60)","v":0},null,null,null,null,{"$f":"SUM(CV60:CX60)","v":0},null,null,null,null,{"$f":"SUM(DA60:DC60)","v":0},null,null,null,null,{"$f":"SUM(DF60:DH60)","v":0},null,null,null,null,{"$f":"SUM(DK60:DM60)","v":0},null,null,null,null,{"$f":"SUM(DP60:DR60)","v":0},null,null,null,null,{"$f":"SUM(DU60:DW60)","v":0},null,null,null,null,{"$f":"SUM(DZ60:EB60)","v":0},null,null,null,null,{"$f":"SUM(EE60:EG60)","v":0},null,null,null,null,{"$f":"SUM(EJ60:EL60)","v":0}]
[null,null,"女 子 入 部 率 (％)",null,{"$f":"E59/E60*100","v":{"$error":"#DIV/0!"}},{"$f":"F59/F60*100","v":{"$error":"#DIV/0!"}},{"$f":"G59/G60*100","v":{"$error":"#DIV/0!"}},{"$f":"H59/H60*100","v":{"$error":"#DIV/0!"}},null,{"$f":"J59/J60*100","v":{"$error":"#DIV/0!"}},{"$error":"#DIV/0!"},{"$error":"#DIV/0!"},{"$error":"#DIV/0!"},null,{"$error":"#DIV/0!"},{"$error":"#DIV/0!"},{"$error":"#DIV/0!"},{"$f":"R59/R60*100","v":{"$error":"#DIV/0!"}},null,{"$error":"#DIV/0!"},{"$error":"#DIV/0!"},{"$error":"#DIV/0!"},{"$f":"W59/W60*100","v":{"$error":"#DIV/0!"}},null,{"$error":"#DIV/0!"},{"$error":"#DIV/0!"},{"$error":"#DIV/0!"},{"$f":"AB59/AB60*100","v":{"$error":"#DIV/0!"}},null,{"$error":"#DIV/0!"},{"$error":"#DIV/0!"},{"$error":"#DIV/0!"},{"$f":"AG59/AG60*100","v":{"$error":"#DIV/0!"}},null,{"$error":"#DIV/0!"},{"$error":"#DIV/0!"},{"$error":"#DIV/0!"},{"$f":"AL59/AL60*100","v":{"$error":"#DIV/0!"}},null,{"$error":"#DIV/0!"},{"$error":"#DIV/0!"},{"$error":"#DIV/0!"},{"$f":"AQ59/AQ60*100","v":{"$error":"#DIV/0!"}},null,{"$error":"#DIV/0!"},{"$error":"#DIV/0!"},{"$error":"#DIV/0!"},{"$f":"AV59/AV60*100","v":{"$error":"#DIV/0!"}},null,{"$error":"#DIV/0!"},{"$error":"#DIV/0!"},{"$error":"#DIV/0!"},{"$f":"BA59/BA60*100","v":{"$error":"#DIV/0!"}},null,{"$error":"#DIV/0!"},{"$error":"#DIV/0!"},{"$error":"#DIV/0!"},{"$f":"BF59/BF60*100","v":{"$error":"#DIV/0!"}},null,{"$error":"#DIV/0!"},{"$error":"#DIV/0!"},{"$error":"#DIV/0!"},{"$f":"BK59/BK60*100","v":{"$error":"#DIV/0!"}},null,{"$error":"#DIV/0!"},{"$error":"#DIV/0!"},{"$error":"#DIV/0!"},{"$f":"BP59/BP60*100","v":{"$error":"#DIV/0!"}},null,{"$error":"#DIV/0!"},{"$error":"#DIV/0!"},{"$error":"#DIV/0!"},{"$f":"BU59/BU60*100","v":{"$error":"#DIV/0!"}},null,{"$f":"BW59/BW60*100","v":{"$error":"#DIV/0!"}},{"$error":"#DIV/0!"},{"$error":"#DIV/0!"},{"$error":"#DIV/0!"},null,{"$error":"#DIV/0!"},{"$error":"#DIV/0!"},{"$error":"#DIV/0!"},{"$error":"#DIV/0!"},null,{"$error":"#DIV/0!"},{"$error":"#DIV/0!"},{"$error":"#DIV/0!"},{"$error":"#DIV/0!"},null,{"$error":"#DIV/0!"},{"$error":"#DIV/0!"},{"$error":"#DIV/0!"},{"$error":"#DIV/0!"},null,{"$error":"#DIV/0!"},{"$error":"#DIV/0!"},{"$error":"#DIV/0!"},{"$error":"#DIV/0!"},null,{"$error":"#DIV/0!"},{"$error":"#DIV/0!"},{"$error":"#DIV/0!"},{"$error":"#DIV/0!"},null,{"$error":"#DIV/0!"},{"$error":"#DIV/0!"},{"$error":"#DIV/0!"},{"$error":"#DIV/0!"},null,{"$error":"#DIV/0!"},{"$error":"#DIV/0!"},{"$error":"#DIV/0!"},{"$error":"#DIV/0!"},null,{"$error":"#DIV/0!"},{"$error":"#DIV/0!"},{"$error":"#DIV/0!"},{"$error":"#DIV/0!"},null,{"$error":"#DIV/0!"},{"$error":"#DIV/0!"},{"$error":"#DIV/0!"},{"$error":"#DIV/0!"},null,{"$error":"#DIV/0!"},{"$error":"#DIV/0!"},{"$error":"#DIV/0!"},{"$error":"#DIV/0!"},null,{"$error":"#DIV/0!"},{"$error":"#DIV/0!"},{"$error":"#DIV/0!"},{"$error":"#DIV/0!"},null,null,null,null,{"$f":"EH59/EH60*100","v":{"$error":"#DIV/0!"}},null,{"$error":"#DIV/0!"},{"$error":"#DIV/0!"},{"$f":"EL59/EL60*100","v":{"$error":"#DIV/0!"}},{"$f":"EM59/EM60*100","v":{"$error":"#DIV/0!"}}]
[null,null,"男　女　合　計 (名)",null,{"$f":"E31+E59","v":0},0,0,{"$f":"SUM(E62:G62)","v":0},null,{"$f":"J31+J59","v":0},{"$f":"K31+K59","v":0},0,0,0,0,0,0,{"$f":"R31+R59","v":0},0,0,0,0,{"$f":"W31+W59","v":0},0,0,0,0,{"$f":"AB31+AB59","v":0},0,0,0,0,{"$f":"AG31+AG59","v":0},0,0,0,0,{"$f":"AL31+AL59","v":0},0,0,0,0,{"$f":"AQ31+AQ59","v":0},0,0,0,0,{"$f":"AV31+AV59","v":0},0,0,0,0,{"$f":"BA31+BA59","v":0},0,0,0,0,{"$f":"BF31+BF59","v":0},0,0,0,0,{"$f":"BK31+BK59","v":0},0,0,0,0,{"$f":"BP31+BP59","v":0},0,0,0,0,{"$f":"BU31+BU59","v":0},0,{"$f":"BW31+BW59","v":0},0,0,0,0,0,0,0,0,0,0,0,0,0,0,0,0,0,0,0,0,0,0,0,0,0,0,0,0,0,0,0,0,0,0,0,0,0,0,0,0,0,0,0,0,0,0,0,0,0,0,0,0,0,0,0,0,0,0,0,0,0,0,0,{"$f":"EI31+EI59","v":0},0,0,0,0,0]
[null,null,"男 女 在 籍 数 (名)",null,0,0,0,{"$f":"SUM(E63:G63)","v":0},null,{"$f":"J60+J62","v":0},{"$f":"K60+K62","v":0},0,0,0,0,0,0,{"$f":"R60+R62","v":0},0,0,0,0,{"$f":"W60+W62","v":0},0,0,0,0,{"$f":"AB60+AB62","v":0},0,0,0,0,{"$f":"AG60+AG62","v":0},0,0,0,0,{"$f":"AL60+AL62","v":0},0,0,0,0,{"$f":"AQ60+AQ62","v":0},0,0,0,0,{"$f":"AV60+AV62","v":0},0,0,0,0,{"$f":"BA60+BA62","v":0},0,0,0,0,{"$f":"BF60+BF62","v":0},0,0,0,0,{"$f":"BK60+BK62","v":0},0,0,0,0,{"$f":"BP60+BP62","v":0},0,0,0,0,{"$f":"BU60+BU62","v":0},0,{"$f":"BW60+BW62","v":0},0,0,0,0,0,0,0,0,0,0,0,0,0,0,0,0,0,0,0,0,0,0,0,0,0,0,0,0,0,0,0,0,0,0,0,0,0,0,0,0,0,0,0,0,0,0,0,0,0,0,0,0,0,0,0,0,0,0,0,0,0,0,0,{"$f":"EI60+EI62","v":0},0,0,0,0,0]
[null,null,"男 女 入 部 率 (％)",null,{"$f":"E62/E63*100","v":{"$error":"#DIV/0!"}},{"$f":"F62/F63*100","v":{"$error":"#DIV/0!"}},{"$f":"G62/G63*100","v":{"$error":"#DIV/0!"}},{"$f":"H62/H63*100","v":{"$error":"#DIV/0!"}},null,{"$f":"J62/J63*100","v":{"$error":"#DIV/0!"}},{"$error":"#DIV/0!"},{"$error":"#DIV/0!"},{"$error":"#DIV/0!"},null,{"$error":"#DIV/0!"},{"$error":"#DIV/0!"},{"$error":"#DIV/0!"},{"$f":"R62/R63*100","v":{"$error":"#DIV/0!"}},null,{"$error":"#DIV/0!"},{"$error":"#DIV/0!"},{"$error":"#DIV/0!"},{"$f":"W62/W63*100","v":{"$error":"#DIV/0!"}},null,{"$error":"#DIV/0!"},{"$error":"#DIV/0!"},{"$error":"#DIV/0!"},{"$f":"AB62/AB63*100","v":{"$error":"#DIV/0!"}},null,{"$error":"#DIV/0!"},{"$error":"#DIV/0!"},{"$error":"#DIV/0!"},{"$f":"AG62/AG63*100","v":{"$error":"#DIV/0!"}},null,{"$error":"#DIV/0!"},{"$error":"#DIV/0!"},{"$error":"#DIV/0!"},{"$f":"AL62/AL63*100","v":{"$error":"#DIV/0!"}},null,{"$error":"#DIV/0!"},{"$error":"#DIV/0!"},{"$error":"#DIV/0!"},{"$f":"AQ62/AQ63*100","v":{"$error":"#DIV/0!"}},null,{"$error":"#DIV/0!"},{"$error":"#DIV/0!"},{"$error":"#DIV/0!"},{"$f":"AV62/AV63*100","v":{"$error":"#DIV/0!"}},null,{"$error":"#DIV/0!"},{"$error":"#DIV/0!"},{"$error":"#DIV/0!"},{"$f":"BA62/BA63*100","v":{"$error":"#DIV/0!"}},null,{"$error":"#DIV/0!"},{"$error":"#DIV/0!"},{"$error":"#DIV/0!"},{"$f":"BF62/BF63*100","v":{"$error":"#DIV/0!"}},null,{"$error":"#DIV/0!"},{"$error":"#DIV/0!"},{"$error":"#DIV/0!"},{"$f":"BK62/BK63*100","v":{"$error":"#DIV/0!"}},null,{"$error":"#DIV/0!"},{"$error":"#DIV/0!"},{"$error":"#DIV/0!"},{"$f":"BP62/BP63*100","v":{"$error":"#DIV/0!"}},null,{"$error":"#DIV/0!"},{"$error":"#DIV/0!"},{"$error":"#DIV/0!"},{"$f":"BU62/BU63*100","v":{"$error":"#DIV/0!"}},null,{"$f":"BW62/BW63*100","v":{"$error":"#DIV/0!"}},{"$error":"#DIV/0!"},{"$error":"#DIV/0!"},{"$error":"#DIV/0!"},null,{"$error":"#DIV/0!"},{"$error":"#DIV/0!"},{"$error":"#DIV/0!"},{"$error":"#DIV/0!"},null,{"$error":"#DIV/0!"},{"$error":"#DIV/0!"},{"$error":"#DIV/0!"},{"$error":"#DIV/0!"},null,{"$error":"#DIV/0!"},{"$error":"#DIV/0!"},{"$error":"#DIV/0!"},{"$error":"#DIV/0!"},null,{"$error":"#DIV/0!"},{"$error":"#DIV/0!"},{"$error":"#DIV/0!"},{"$error":"#DIV/0!"},null,{"$error":"#DIV/0!"},{"$error":"#DIV/0!"},{"$error":"#DIV/0!"},{"$error":"#DIV/0!"},null,{"$error":"#DIV/0!"},{"$error":"#DIV/0!"},{"$error":"#DIV/0!"},{"$error":"#DIV/0!"},null,{"$error":"#DIV/0!"},{"$error":"#DIV/0!"},{"$error":"#DIV/0!"},{"$error":"#DIV/0!"},null,{"$error":"#DIV/0!"},{"$error":"#DIV/0!"},{"$error":"#DIV/0!"},{"$error":"#DIV/0!"},null,{"$error":"#DIV/0!"},{"$error":"#DIV/0!"},{"$error":"#DIV/0!"},{"$error":"#DIV/0!"},null,{"$error":"#DIV/0!"},{"$error":"#DIV/0!"},{"$error":"#DIV/0!"},{"$error":"#DIV/0!"},null,{"$error":"#DIV/0!"},{"$error":"#DIV/0!"},{"$error":"#DIV/0!"},{"$error":"#DIV/0!"},null,{"$error":"#DIV/0!"},{"$error":"#DIV/0!"},{"$error":"#DIV/0!"},{"$error":"#DIV/0!"},null,{"$error":"#DIV/0!"},{"$error":"#DIV/0!"},{"$f":"EL62/EL63*100","v":{"$error":"#DIV/0!"}},{"$f":"EM62/EM63*100","v":{"$error":"#DIV/0!"}}]

{"sheet":"８渋川北群馬","index":8,"n_rows":64,"n_cols":144,"rows_kept":64,"cut":false,"hidden":false,"merged":[[2,4,2,8]]}
[]
[null,null,"令和８年度　群馬県中学校　運動部員数調査結果    （黄色部分は入力禁止）"]
[null,null,null,null,"８渋川北群馬(11校)",null,null,null,null,null,"渋川",null,null,null,null,"金島",null,null,null,null,"古巻",null,null,null,null,"渋川北",null,null,null,null,"北橘",null,null,null,null,"赤城南",null,null,null,null,"赤城北",null,null,null,null,"子持",null,null,null,null,null,null,null,null,null,"伊香保",null,null,null,null,"榛東",null,null,null,null,"吉岡"]
[null,null,"№","  競　技　名","１年","２年","３年","合計","設置","１年","２年","３年","合計","設置","１年","２年","３年","合計","設置","１年","２年","３年","合計","設置","１年","２年","３年","合計","設置","１年","２年","３年","合計","設置","１年","２年","３年","合計","設置","１年","２年","３年","合計","設置","１年","２年","３年","合計","設置","１年","２年","３年","合計","設置","１年","２年","３年","合計","設置","１年","２年","３年","合計","設置","１年","２年","３年","合計","設置","１年","２年","３年","合計","設置","１年","２年","３年","合計","設置","１年","２年","３年","合計","設置","１年","２年","３年","合計","設置","１年","２年","３年","合計","設置","１年","２年","３年","合計","設置","１年","２年","３年","合計","設置","１年","２年","３年","合計","設置","１年","２年","３年","合計","設置","１年","２年","３年","合計","設置","１年","２年","３年","合計","設置","１年","２年","３年","合計","設置","１年","２年","３年","合計","設置"]
[null,null,1,"体　操　競　技",{"$f":"J5+O5+T5+Y5+AD5+AI5+AN5+AS5+AX5+BC5+BH5+BM5+BR5+BW5+CB5+CG5+CL5+CQ5+CV5+DA5+DF5+DK5+DP5+DU5+DZ5","v":0},0,0,0,0,null,null,null,{"$f":"SUM(J5:L5)","v":0},null,null,null,null,{"$f":"SUM(O5:Q5)","v":0},null,null,null,null,{"$f":"SUM(T5:V5)","v":0},null,null,null,null,{"$f":"SUM(Y5:AA5)","v":0},null,null,null,null,{"$f":"SUM(AD5:AF5)","v":0},null,null,null,null,{"$f":"SUM(AI5:AK5)","v":0},null,null,null,null,{"$f":"SUM(AN5:AP5)","v":0},null,null,null,null,{"$f":"SUM(AS5:AU5)","v":0},null,null,null,null,{"$f":"SUM(AX5:AZ5)","v":0},null,null,null,null,{"$f":"SUM(BC5:BE5)","v":0},null,null,null,null,{"$f":"SUM(BH5:BJ5)","v":0},null,null,null,null,{"$f":"SUM(BM5:BO5)","v":0},null,null,null,null,{"$f":"SUM(BR5:BT5)","v":0},null,null,null,null,{"$f":"SUM(BW5:BY5)","v":0},null,null,null,null,{"$f":"SUM(CB5:CD5)","v":0},null,null,null,null,{"$f":"SUM(CG5:CI5)","v":0},null,null,null,null,{"$f":"SUM(CL5:CN5)","v":0},null,null,null,null,{"$f":"SUM(CQ5:CS5)","v":0},null,null,null,null,{"$f":"SUM(CV5:CX5)","v":0},null,null,null,null,{"$f":"SUM(DA5:DC5)","v":0},null,null,null,null,{"$f":"SUM(DF5:DH5)","v":0},null,null,null,null,{"$f":"SUM(DK5:DM5)","v":0},null,null,null,null,{"$f":"SUM(DP5:DR5)","v":0},null,null,null,null,{"$f":"SUM(DU5:DW5)","v":0},null,null,null,null,{"$f":"SUM(DZ5:EB5)","v":0},null,null,null,null,{"$f":"SUM(EE5:EG5)","v":0},null,null,null,null,{"$f":"SUM(EJ5:EL5)","v":0}]
[null,null,2,"新    体    操",0,0,0,0,0,null,null,null,{"$f":"SUM(J6:L6)","v":0},null,null,null,null,{"$f":"SUM(O6:Q6)","v":0},null,null,null,null,{"$f":"SUM(T6:V6)","v":0},null,null,null,null,{"$f":"SUM(Y6:AA6)","v":0},null,null,null,null,{"$f":"SUM(AD6:AF6)","v":0},null,null,null,null,{"$f":"SUM(AI6:AK6)","v":0},null,null,null,null,{"$f":"SUM(AN6:AP6)","v":0},null,null,null,null,{"$f":"SUM(AS6:AU6)","v":0},null,null,null,null,{"$f":"SUM(AX6:AZ6)","v":0},null,null,null,null,{"$f":"SUM(BC6:BE6)","v":0},null,null,null,null,{"$f":"SUM(BH6:BJ6)","v":0},null,null,null,null,{"$f":"SUM(BM6:BO6)","v":0},null,null,null,null,{"$f":"SUM(BR6:BT6)","v":0},null,null,null,null,{"$f":"SUM(BW6:BY6)","v":0},null,null,null,null,{"$f":"SUM(CB6:CD6)","v":0},null,null,null,null,{"$f":"SUM(CG6:CI6)","v":0},null,null,null,null,{"$f":"SUM(CL6:CN6)","v":0},null,null,null,null,{"$f":"SUM(CQ6:CS6)","v":0},null,null,null,null,{"$f":"SUM(CV6:CX6)","v":0},null,null,null,null,{"$f":"SUM(DA6:DC6)","v":0},null,null,null,null,{"$f":"SUM(DF6:DH6)","v":0},null,null,null,null,{"$f":"SUM(DK6:DM6)","v":0},null,null,null,null,{"$f":"SUM(DP6:DR6)","v":0},null,null,null,null,{"$f":"SUM(DU6:DW6)","v":0},null,null,null,null,{"$f":"SUM(DZ6:EB6)","v":0},null,null,null,null,{"$f":"SUM(EE6:EG6)","v":0},null,null,null,null,{"$f":"SUM(EJ6:EL6)","v":0}]
[null,null,3,"軟　式　野　球",0,0,0,0,0,null,null,null,0,null,null,null,null,0,null,null,null,null,0,null,null,null,null,0,null,null,null,null,0,null,null,null,null,0,null,null,null,null,0,null,null,null,null,0,null,null,null,null,0,null,null,null,null,0,null,null,null,null,0,null,null,null,null,0,null,null,null,null,0,null,null,null,null,0,null,null,null,null,0,null,null,null,null,0,null,null,null,null,0,null,null,null,null,0,null,null,null,null,0,null,null,null,null,0,null,null,null,null,0,null,null,null,null,0,null,null,null,null,0,null,null,null,null,0,null,null,null,null,0,null,null,null,null,0,null,null,null,null,0]
[null,null,4,"ソフトボール",0,0,0,0,0,null,null,null,0,null,null,null,null,0,null,null,null,null,0,null,null,null,null,0,null,null,null,null,0,null,null,null,null,0,null,null,null,null,0,null,null,null,null,0,null,null,null,null,0,null,null,null,null,0,null,null,null,null,0,null,null,null,null,0,null,null,null,null,0,null,null,null,null,0,null,null,null,null,0,null,null,null,null,0,null,null,null,null,0,null,null,null,null,0,null,null,null,null,0,null,null,null,null,0,null,null,null,null,0,null,null,null,null,0,null,null,null,null,0,null,null,null,null,0,null,null,null,null,0,null,null,null,null,0,null,null,null,null,0]
[null,null,5,"バスケットボール",0,0,0,0,0,null,null,null,0,null,null,null,null,0,null,null,null,null,0,null,null,null,null,0,null,null,null,null,0,null,null,null,null,0,null,null,null,null,0,null,null,null,null,0,null,null,null,null,0,null,null,null,null,0,null,null,null,null,0,null,null,null,null,0,null,null,null,null,0,null,null,null,null,0,null,null,null,null,0,null,null,null,null,0,null,null,null,null,0,null,null,null,null,0,null,null,null,null,0,null,null,null,null,0,null,null,null,null,0,null,null,null,null,0,null,null,null,null,0,null,null,null,null,0,null,null,null,null,0,null,null,null,null,0,null,null,null,null,0]
[null,null,6,"ハンドボール",0,0,0,0,0,null,null,null,0,null,null,null,null,0,null,null,null,null,0,null,null,null,null,0,null,null,null,null,0,null,null,null,null,0,null,null,null,null,0,null,null,null,null,0,null,null,null,null,0,null,null,null,null,0,null,null,null,null,0,null,null,null,null,0,null,null,null,null,0,null,null,null,null,0,null,null,null,null,0,null,null,null,null,0,null,null,null,null,0,null,null,null,null,0,null,null,null,null,0,null,null,null,null,0,null,null,null,null,0,null,null,null,null,0,null,null,null,null,0,null,null,null,null,0,null,null,null,null,0,null,null,null,null,0,null,null,null,null,0]
[null,"男",7,"バレーボール",0,0,0,0,0,null,null,null,0,null,null,null,null,0,null,null,null,null,0,null,null,null,null,0,null,null,null,null,0,null,null,null,null,0,null,null,null,null,0,null,null,null,null,0,null,null,null,null,0,null,null,null,null,0,null,null,null,null,0,null,null,null,null,0,null,null,null,null,0,null,null,null,null,0,null,null,null,null,0,null,null,null,null,0,null,null,null,null,0,null,null,null,null,0,null,null,null,null,0,null,null,null,null,0,null,null,null,null,0,null,null,null,null,0,null,null,null,null,0,null,null,null,null,0,null,null,null,null,0,null,null,null,null,0,null,null,null,null,0]
[null,null,8,"ソフトテニス",0,0,0,0,0,null,null,null,0,null,null,null,null,0,null,null,null,null,0,null,null,null,null,0,null,null,null,null,0,null,null,null,null,0,null,null,null,null,0,null,null,null,null,0,null,null,null,null,0,null,null,null,null,0,null,null,null,null,0,null,null,null,null,0,null,null,null,null,0,null,null,null,null,0,null,null,null,null,0,null,null,null,null,0,null,null,null,null,0,null,null,null,null,0,null,null,null,null,0,null,null,null,null,0,null,null,null,null,0,null,null,null,null,0,null,null,null,null,0,null,null,null,null,0,null,null,null,null,0,null,null,null,null,0,null,null,null,null,0]
[null,null,9,"卓    球",0,0,0,0,0,null,null,null,0,null,null,null,null,0,null,null,null,null,0,null,null,null,null,0,null,null,null,null,0,null,null,null,null,0,null,null,null,null,0,null,null,null,null,0,null,null,null,null,0,null,null,null,null,0,null,null,null,null,0,null,null,null,null,0,null,null,null,null,0,null,null,null,null,0,null,null,null,null,0,null,null,null,null,0,null,null,null,null,0,null,null,null,null,0,null,null,null,null,0,null,null,null,null,0,null,null,null,null,0,null,null,null,null,0,null,null,null,null,0,null,null,null,null,0,null,null,null,null,0,null,null,null,null,0,null,null,null,null,0]
[null,null,10,"バドミントン",0,0,0,0,0,null,null,null,0,null,null,null,null,0,null,null,null,null,0,null,null,null,null,0,null,null,null,null,0,null,null,null,null,0,null,null,null,null,0,null,null,null,null,0,null,null,null,null,0,null,null,null,null,0,null,null,null,null,0,null,null,null,null,0,null,null,null,null,0,null,null,null,null,0,null,null,null,null,0,null,null,null,null,0,null,null,null,null,0,null,null,null,null,0,null,null,null,null,0,null,null,null,null,0,null,null,null,null,0,null,null,null,null,0,null,null,null,null,0,null,null,null,null,0,null,null,null,null,0,null,null,null,null,0,null,null,null,null,0]
[null,null,11,"サッカー",0,0,0,0,0,null,null,null,0,null,null,null,null,0,null,null,null,null,0,null,null,null,null,0,null,null,null,null,0,null,null,null,null,0,null,null,null,null,0,null,null,null,null,0,null,null,null,null,0,null,null,null,null,0,null,null,null,null,0,null,null,null,null,0,null,null,null,null,0,null,null,null,null,0,null,null,null,null,0,null,null,null,null,0,null,null,null,null,0,null,null,null,null,0,null,null,null,null,0,null,null,null,null,0,null,null,null,null,0,null,null,null,null,0,null,null,null,null,0,null,null,null,null,0,null,null,null,null,0,null,null,null,null,0,null,null,null,null,0]
[null,null,12,"陸　上　競　技",0,0,0,0,0,null,null,null,0,null,null,null,null,0,null,null,null,null,0,null,null,null,null,0,null,null,null,null,0,null,null,null,null,0,null,null,null,null,0,null,null,null,null,0,null,null,null,null,0,null,null,null,null,0,null,null,null,null,0,null,null,null,null,0,null,null,null,null,0,null,null,null,null,0,null,null,null,null,0,null,null,null,null,0,null,null,null,null,0,null,null,null,null,0,null,null,null,null,0,null,null,null,null,0,null,null,null,null,0,null,null,null,null,0,null,null,null,null,0,null,null,null,null,0,null,null,null,null,0,null,null,null,null,0,null,null,null,null,0]
[null,null,13,"水　　泳",0,0,0,0,0,null,null,null,0,null,null,null,null,0,null,null,null,null,0,null,null,null,null,0,null,null,null,null,0,null,null,null,null,0,null,null,null,null,0,null,null,null,null,0,null,null,null,null,0,null,null,null,null,0,null,null,null,null,0,null,null,null,null,0,null,null,null,null,0,null,null,null,null,0,null,null,null,null,0,null,null,null,null,0,null,null,null,null,0,null,null,null,null,0,null,null,null,null,0,null,null,null,null,0,null,null,null,null,0,null,null,null,null,0,null,null,null,null,0,null,null,null,null,0,null,null,null,null,0,null,null,null,null,0,null,null,null,null,0]
[null,"子",14,"柔　　道",0,0,0,0,0,null,null,null,0,null,null,null,null,0,null,null,null,null,0,null,null,null,null,0,null,null,null,null,0,null,null,null,null,0,null,null,null,null,0,null,null,null,null,0,null,null,null,null,0,null,null,null,null,0,null,null,null,null,0,null,null,null,null,0,null,null,null,null,0,null,null,null,null,0,null,null,null,null,0,null,null,null,null,0,null,null,null,null,0,null,null,null,null,0,null,null,null,null,0,null,null,null,null,0,null,null,null,null,0,null,null,null,null,0,null,null,null,null,0,null,null,null,null,0,null,null,null,null,0,null,null,null,null,0,null,null,null,null,0]
[null,null,15,"剣　　道",0,0,0,0,0,null,null,null,0,null,null,null,null,0,null,null,null,null,0,null,null,null,null,0,null,null,null,null,0,null,null,null,null,0,null,null,null,null,0,null,null,null,null,0,null,null,null,null,0,null,null,null,null,0,null,null,null,null,0,null,null,null,null,0,null,null,null,null,0,null,null,null,null,0,null,null,null,null,0,null,null,null,null,0,null,null,null,null,0,null,null,null,null,0,null,null,null,null,0,null,null,null,null,0,null,null,null,null,0,null,null,null,null,0,null,null,null,null,0,null,null,null,null,0,null,null,null,null,0,null,null,null,null,0,null,null,null,null,0]
[null,null,16,"相　　撲",0,0,0,0,0,null,null,null,0,null,null,null,null,0,null,null,null,null,0,null,null,null,null,0,null,null,null,null,0,null,null,null,null,0,null,null,null,null,0,null,null,null,null,0,null,null,null,null,0,null,null,null,null,0,null,null,null,null,0,null,null,null,null,0,null,null,null,null,0,null,null,null,null,0,null,null,null,null,0,null,null,null,null,0,null,null,null,null,0,null,null,null,null,0,null,null,null,null,0,null,null,null,null,0,null,null,null,null,0,null,null,null,null,0,null,null,null,null,0,null,null,null,null,0,null,null,null,null,0,null,null,null,null,0,null,null,null,null,0]
[null,null,17,"ダ    ン    ス",0,0,0,0,0,null,null,null,0,null,null,null,null,0,null,null,null,null,0,null,null,null,null,0,null,null,null,null,0,null,null,null,null,0,null,null,null,null,0,null,null,null,null,0,null,null,null,null,0,null,null,null,null,0,null,null,null,null,0,null,null,null,null,0,null,null,null,null,0,null,null,null,null,0,null,null,null,null,0,null,null,null,null,0,null,null,null,null,0,null,null,null,null,0,null,null,null,null,0,null,null,null,null,0,null,null,null,null,0,null,null,null,null,0,null,null,null,null,0,null,null,null,null,0,null,null,null,null,0,null,null,null,null,0,null,null,null,null,0]
[null,null,18,"ス    キ    ー",0,0,0,0,0,null,null,null,0,null,null,null,null,0,null,null,null,null,0,null,null,null,null,0,null,null,null,null,0,null,null,null,null,0,null,null,null,null,0,null,null,null,null,0,null,null,null,null,0,null,null,null,null,0,null,null,null,null,0,null,null,null,null,0,null,null,null,null,0,null,null,null,null,0,null,null,null,null,0,null,null,null,null,0,null,null,null,null,0,null,null,null,null,0,null,null,null,null,0,null,null,null,null,0,null,null,null,null,0,null,null,null,null,0,null,null,null,null,0,null,null,null,null,0,null,null,null,null,0,null,null,null,null,0,null,null,null,null,0]
[null,null,19,"ス  ケ  ー  ト",0,0,0,0,0,null,null,null,0,null,null,null,null,0,null,null,null,null,0,null,null,null,null,0,null,null,null,null,0,null,null,null,null,0,null,null,null,null,0,null,null,null,null,0,null,null,null,null,0,null,null,null,null,0,null,null,null,null,0,null,null,null,null,0,null,null,null,null,0,null,null,null,null,0,null,null,null,null,0,null,null,null,null,0,null,null,null,null,0,null,null,null,null,0,null,null,null,null,0,null,null,null,null,0,null,null,null,null,0,null,null,null,null,0,null,null,null,null,0,null,null,null,null,0,null,null,null,null,0,null,null,null,null,0,null,null,null,null,0]
[null,null,20,"アイスホッケー",0,0,0,0,0,null,null,null,0,null,null,null,null,0,null,null,null,null,0,null,null,null,null,0,null,null,null,null,0,null,null,null,null,0,null,null,null,null,0,null,null,null,null,0,null,null,null,null,0,null,null,null,null,0,null,null,null,null,0,null,null,null,null,0,null,null,null,null,0,null,null,null,null,0,null,null,null,null,0,null,null,null,null,0,null,null,null,null,0,null,null,null,null,0,null,null,null,null,0,null,null,null,null,0,null,null,null,null,0,null,null,null,null,0,null,null,null,null,0,null,null,null,null,0,null,null,null,null,0,null,null,null,null,0,null,null,null,null,0]
[null,null,21,"テ　　ニ　　ス",0,0,0,0,0,null,null,null,0,null,null,null,null,0,null,null,null,null,0,null,null,null,null,0,null,null,null,null,0,null,null,null,null,0,null,null,null,null,0,null,null,null,null,0,null,null,null,null,0,null,null,null,null,0,null,null,null,null,0,null,null,null,null,0,null,null,null,null,0,null,null,null,null,0,null,null,null,null,0,null,null,null,null,0,null,null,null,null,0,null,null,null,null,0,null,null,null,null,0,null,null,null,null,0,null,null,null,null,0,null,null,null,null,0,null,null,null,null,0,null,null,null,null,0,null,null,null,null,0,null,null,null,null,0,null,null,null,null,0]
[null,null,22,"空　　　手",0,0,0,0,0,null,null,null,0,null,null,null,null,0,null,null,null,null,0,null,null,null,null,0,null,null,null,null,0,null,null,null,null,0,null,null,null,null,0,null,null,null,null,0,null,null,null,null,0,null,null,null,null,0,null,null,null,null,0,null,null,null,null,0,null,null,null,null,0,null,null,null,null,0,null,null,null,null,0,null,null,null,null,0,null,null,null,null,0,null,null,null,null,0,null,null,null,null,0,null,null,null,null,0,null,null,null,null,0,null,null,null,null,0,null,null,null,null,0,null,null,null,null,0,null,null,null,null,0,null,null,null,null,0,null,null,null,null,0]
[null,null,23,"ラ　グ　ビ　ー",0,0,0,0,0,null,null,null,{"$f":"SUM(J27:L27)","v":0},null,null,null,null,{"$f":"SUM(O27:Q27)","v":0},null,null,null,null,{"$f":"SUM(T27:V27)","v":0},null,null,null,null,{"$f":"SUM(Y27:AA27)","v":0},null,null,null,null,{"$f":"SUM(AD27:AF27)","v":0},null,null,null,null,{"$f":"SUM(AI27:AK27)","v":0},null,null,null,null,{"$f":"SUM(AN27:AP27)","v":0},null,null,null,null,{"$f":"SUM(AS27:AU27)","v":0},null,null,null,null,{"$f":"SUM(AX27:AZ27)","v":0},null,null,null,null,{"$f":"SUM(BC27:BE27)","v":0},null,null,null,null,{"$f":"SUM(BH27:BJ27)","v":0},null,null,null,null,{"$f":"SUM(BM27:BO27)","v":0},null,null,null,null,{"$f":"SUM(BR27:BT27)","v":0},null,null,null,null,{"$f":"SUM(BW27:BY27)","v":0},null,null,null,null,{"$f":"SUM(CB27:CD27)","v":0},null,null,null,null,{"$f":"SUM(CG27:CI27)","v":0},null,null,null,null,{"$f":"SUM(CL27:CN27)","v":0},null,null,null,null,{"$f":"SUM(CQ27:CS27)","v":0},null,null,null,null,{"$f":"SUM(CV27:CX27)","v":0},null,null,null,null,{"$f":"SUM(DA27:DC27)","v":0},null,null,null,null,{"$f":"SUM(DF27:DH27)","v":0},null,null,null,null,{"$f":"SUM(DK27:DM27)","v":0},null,null,null,null,{"$f":"SUM(DP27:DR27)","v":0},null,null,null,null,{"$f":"SUM(DU27:DW27)","v":0},null,null,null,null,{"$f":"SUM(DZ27:EB27)","v":0},null,null,null,null,{"$f":"SUM(EE27:EG27)","v":0},null,null,null,null,{"$f":"SUM(EJ27:EL27)","v":0}]
[null,null,null,null,0,0,0,0,0]
[null,null,null,null,0,0,0,0,0]
[null,null,null,null,0,0,0,0,0]
[null,null,"男　子　合　計 (名)",null,0,0,0,{"$f":"M31+R31+W31+AB31+AG31+AL31+AQ31+AV31+BA31+BF31+BK31+BP31+BU31+BZ31+CE31+CJ31+CO31+CT31+CY31+DD31+DI31+DN31+DS31+DX31+EC31","v":0},0,{"$f":"SUM(J5:J30)","v":0},0,0,{"$f":"SUM(M5:M30)","v":0},0,0,0,0,0,0,0,0,0,0,0,0,0,0,0,0,0,0,0,0,0,0,0,0,0,0,0,0,0,0,0,0,0,0,0,0,0,0,0,0,0,0,0,0,0,0,0,0,0,0,0,0,0,0,0,0,0,0,0,0,{"$f":"SUM(BV5:BV30)","v":0},{"$f":"SUM(BW5:BW30)","v":0},0,0,0,0,0,0,0,0,0,0,0,0,0,0,0,0,0,0,0,0,0,0,0,0,0,0,0,0,0,0,0,0,0,0,0,0,0,0,0,0,0,0,0,0,0,0,0,0,0,0,0,0,0,0,0,0,0,0,0,0,0,0,0,{"$f":"SUM(EI5:EI30)","v":0},0,0,0,0,0]
[null,null,"男 子 在 籍 数 (名)",null,{"$f":"J32+O32+T32+Y32+AD32+AI32+AN32+AS32+AX32+BC32+BH32+BM32+BR32+BW32+CB32+CG32+CL32+CQ32+CV32+DA32+DF32+DK32+DP32+DU32+DZ32","v":0},{"$f":"K32+P32+U32+Z32+AE32+AJ32+AO32+AT32+AY32+BD32+BI32+BN32+BS32+BX32+CC32+CH32+CM32+CR32+CW32+DB32+DG32+DL32+DQ32+DV32+EA32","v":0},{"$f":"L32+Q32+V32+AA32+AF32+AK32+AP32+AU32+AZ32+BE32+BJ32+BO32+BT32+BY32+CD32+CI32+CN32+CS32+CX32+DC32+DH32+DM32+DR32+DW32+EB32","v":0},{"$f":"M32+R32+W32+AB32+AG32+AL32+AQ32+AV32+BA32+BF32+BK32+BP32+BU32+BZ32+CE32+CJ32+CO32+CT32+CY32+DD32+DI32+DN32+DS32+DX32+EC32","v":0},null,null,null,null,{"$f":"SUM(J32:L32)","v":0},null,null,null,null,{"$f":"SUM(O32:Q32)","v":0},null,null,null,null,{"$f":"SUM(T32:V32)","v":0},null,null,null,null,{"$f":"SUM(Y32:AA32)","v":0},null,null,null,null,{"$f":"SUM(AD32:AF32)","v":0},null,null,null,null,{"$f":"SUM(AI32:AK32)","v":0},null,null,null,null,{"$f":"SUM(AN32:AP32)","v":0},null,null,null,null,{"$f":"SUM(AS32:AU32)","v":0},null,null,null,null,{"$f":"SUM(AX32:AZ32)","v":0},null,null,null,null,{"$f":"SUM(BC32:BE32)","v":0},null,null,null,null,{"$f":"SUM(BH32:BJ32)","v":0},null,null,null,null,{"$f":"SUM(BM32:BO32)","v":0},null,null,null,null,{"$f":"SUM(BR32:BT32)","v":0},null,null,null,null,{"$f":"SUM(BW32:BY32)","v":0},null,null,null,null,{"$f":"SUM(CB32:CD32)","v":0},null,null,null,null,{"$f":"SUM(CG32:CI32)","v":0},null,null,null,null,{"$f":"SUM(CL32:CN32)","v":0},null,null,null,null,{"$f":"SUM(CQ32:CS32)","v":0},null,null,null,null,{"$f":"SUM(CV32:CX32)","v":0},null,null,null,null,{"$f":"SUM(DA32:DC32)","v":0},null,null,null,null,{"$f":"SUM(DF32:DH32)","v":0},null,null,null,null,{"$f":"SUM(DK32:DM32)","v":0},null,null,null,null,{"$f":"SUM(DP32:DR32)","v":0},null,null,null,null,{"$f":"SUM(DU32:DW32)","v":0},null,null,null,null,{"$f":"SUM(DZ32:EB32)","v":0},null,null,null,null,{"$f":"SUM(EE32:EG32)","v":0},null,null,null,null,{"$f":"SUM(EJ32:EL32)","v":0}]
[null,null,"男 子 入 部 率 (％)",null,{"$f":"E31/E32*100","v":{"$error":"#DIV/0!"}},{"$f":"F31/F32*100","v":{"$error":"#DIV/0!"}},{"$f":"G31/G32*100","v":{"$error":"#DIV/0!"}},{"$f":"H31/H32*100","v":{"$error":"#DIV/0!"}},null,{"$f":"J31/J32*100","v":{"$error":"#DIV/0!"}},{"$error":"#DIV/0!"},{"$error":"#DIV/0!"},{"$error":"#DIV/0!"},null,{"$error":"#DIV/0!"},{"$error":"#DIV/0!"},{"$error":"#DIV/0!"},{"$f":"R31/R32*100","v":{"$error":"#DIV/0!"}},null,{"$error":"#DIV/0!"},{"$error":"#DIV/0!"},{"$error":"#DIV/0!"},{"$f":"W31/W32*100","v":{"$error":"#DIV/0!"}},null,{"$error":"#DIV/0!"},{"$error":"#DIV/0!"},{"$error":"#DIV/0!"},{"$f":"AB31/AB32*100","v":{"$error":"#DIV/0!"}},null,{"$error":"#DIV/0!"},{"$error":"#DIV/0!"},{"$error":"#DIV/0!"},{"$f":"AG31/AG32*100","v":{"$error":"#DIV/0!"}},null,{"$error":"#DIV/0!"},{"$error":"#DIV/0!"},{"$error":"#DIV/0!"},{"$f":"AL31/AL32*100","v":{"$error":"#DIV/0!"}},null,{"$error":"#DIV/0!"},{"$error":"#DIV/0!"},{"$error":"#DIV/0!"},{"$f":"AQ31/AQ32*100","v":{"$error":"#DIV/0!"}},null,{"$error":"#DIV/0!"},{"$error":"#DIV/0!"},{"$error":"#DIV/0!"},{"$f":"AV31/AV32*100","v":{"$error":"#DIV/0!"}},null,{"$error":"#DIV/0!"},{"$error":"#DIV/0!"},{"$error":"#DIV/0!"},{"$f":"BA31/BA32*100","v":{"$error":"#DIV/0!"}},null,{"$error":"#DIV/0!"},{"$error":"#DIV/0!"},{"$error":"#DIV/0!"},{"$f":"BF31/BF32*100","v":{"$error":"#DIV/0!"}},null,{"$error":"#DIV/0!"},{"$error":"#DIV/0!"},{"$error":"#DIV/0!"},{"$f":"BK31/BK32*100","v":{"$error":"#DIV/0!"}},null,{"$error":"#DIV/0!"},{"$error":"#DIV/0!"},{"$error":"#DIV/0!"},{"$f":"BP31/BP32*100","v":{"$error":"#DIV/0!"}},null,{"$error":"#DIV/0!"},{"$error":"#DIV/0!"},{"$error":"#DIV/0!"},{"$f":"BU31/BU32*100","v":{"$error":"#DIV/0!"}},null,{"$f":"BW31/BW32*100","v":{"$error":"#DIV/0!"}},{"$error":"#DIV/0!"},{"$error":"#DIV/0!"},{"$error":"#DIV/0!"},null,{"$error":"#DIV/0!"},{"$error":"#DIV/0!"},{"$error":"#DIV/0!"},{"$error":"#DIV/0!"},null,{"$error":"#DIV/0!"},{"$error":"#DIV/0!"},{"$error":"#DIV/0!"},{"$error":"#DIV/0!"},null,{"$error":"#DIV/0!"},{"$error":"#DIV/0!"},{"$error":"#DIV/0!"},{"$error":"#DIV/0!"},null,{"$error":"#DIV/0!"},{"$error":"#DIV/0!"},{"$error":"#DIV/0!"},{"$error":"#DIV/0!"},null,{"$error":"#DIV/0!"},{"$error":"#DIV/0!"},{"$error":"#DIV/0!"},{"$error":"#DIV/0!"},null,{"$error":"#DIV/0!"},{"$error":"#DIV/0!"},{"$error":"#DIV/0!"},{"$error":"#DIV/0!"},null,{"$error":"#DIV/0!"},{"$error":"#DIV/0!"},{"$error":"#DIV/0!"},{"$error":"#DIV/0!"},null,{"$error":"#DIV/0!"},{"$error":"#DIV/0!"},{"$error":"#DIV/0!"},{"$error":"#DIV/0!"},null,{"$error":"#DIV/0!"},{"$error":"#DIV/0!"},{"$error":"#DIV/0!"},{"$error":"#DIV/0!"},null,{"$error":"#DIV/0!"},{"$error":"#DIV/0!"},{"$error":"#DIV/0!"},{"$error":"#DIV/0!"},null,{"$error":"#DIV/0!"},{"$error":"#DIV/0!"},{"$error":"#DIV/0!"},{"$error":"#DIV/0!"},null,{"$error":"#DIV/0!"},{"$error":"#DIV/0!"},{"$error":"#DIV/0!"},{"$error":"#DIV/0!"},null,{"$error":"#DIV/0!"},{"$error":"#DIV/0!"},{"$f":"EL31/EL32*100","v":{"$error":"#DIV/0!"}},{"$f":"EM31/EM32*100","v":{"$error":"#DIV/0!"}}]
[null,null,1,"体　操　競　技",{"$f":"J34+O34+T34+Y34+AD34+AI34+AN34+AS34+AX34+BC34+BH34+BM34+BR34+BW34+CB34+CG34+CL34+CQ34+CV34+DA34+DF34+DK34+DP34+DU34+DZ34","v":0},0,0,0,0,null,null,null,{"$f":"J34+K34+L34","v":0},null,null,null,null,{"$f":"O34+P34+Q34","v":0},null,null,null,null,{"$f":"T34+U34+V34","v":0},null,null,null,null,{"$f":"Y34+Z34+AA34","v":0},null,null,null,null,{"$f":"AD34+AE34+AF34","v":0},null,null,null,null,{"$f":"AI34+AJ34+AK34","v":0},null,null,null,null,{"$f":"AN34+AO34+AP34","v":0},null,null,null,null,{"$f":"AS34+AT34+AU34","v":0},null,null,null,null,{"$f":"AX34+AY34+AZ34","v":0},null,null,null,null,{"$f":"BC34+BD34+BE34","v":0},null,null,null,null,{"$f":"BH34+BI34+BJ34","v":0},null,null,null,null,{"$f":"BM34+BN34+BO34","v":0},null,null,null,null,{"$f":"BR34+BS34+BT34","v":0},null,null,null,null,{"$f":"BW34+BX34+BY34","v":0},null,null,null,null,{"$f":"CB34+CC34+CD34","v":0},null,null,null,null,{"$f":"CG34+CH34+CI34","v":0},null,null,null,null,{"$f":"CL34+CM34+CN34","v":0},null,null,null,null,{"$f":"CQ34+CR34+CS34","v":0},null,null,null,null,{"$f":"CV34+CW34+CX34","v":0},null,null,null,null,{"$f":"DA34+DB34+DC34","v":0},null,null,null,null,{"$f":"DF34+DG34+DH34","v":0},null,null,null,null,{"$f":"DK34+DL34+DM34","v":0},null,null,null,null,{"$f":"DP34+DQ34+DR34","v":0},null,null,null,null,{"$f":"DU34+DV34+DW34","v":0},null,null,null,null,{"$f":"DZ34+EA34+EB34","v":0},null,null,null,null,{"$f":"EE34+EF34+EG34","v":0},null,null,null,null,{"$f":"EJ34+EK34+EL34","v":0}]
[null,null,2,"新    体    操",0,0,0,0,0,null,null,null,0,null,null,null,null,0,null,null,null,null,0,null,null,null,null,0,null,null,null,null,0,null,null,null,null,0,null,null,null,null,0,null,null,null,null,0,null,null,null,null,0,null,null,null,null,0,null,null,null,null,0,null,null,null,null,0,null,null,null,null,0,null,null,null,null,0,null,null,null,null,0,null,null,null,null,0,null,null,null,null,0,null,null,null,null,0,null,null,null,null,0,null,null,null,null,0,null,null,null,null,0,null,null,null,null,0,null,null,null,null,0,null,null,null,null,0,null,null,null,null,0,null,null,null,null,0,null,null,null,null,0]
[null,null,3,"軟　式　野　球",0,0,0,0,0,null,null,null,0,null,null,null,null,0,null,null,null,null,0,null,null,null,null,0,null,null,null,null,0,null,null,null,null,0,null,null,null,null,0,null,null,null,null,0,null,null,null,null,0,null,null,null,null,0,null,null,null,null,0,null,null,null,null,0,null,null,null,null,0,null,null,null,null,0,null,null,null,null,0,null,null,null,null,0,null,null,null,null,0,null,null,null,null,0,null,null,null,null,0,null,null,null,null,0,null,null,null,null,0,null,null,null,null,0,null,null,null,null,0,null,null,null,null,0,null,null,null,null,0,null,null,null,null,0,null,null,null,null,0]
[null,null,4,"ソフトボール",0,0,0,0,0,null,null,null,0,null,null,null,null,0,null,null,null,null,0,null,null,null,null,0,null,null,null,null,0,null,null,null,null,0,null,null,null,null,0,null,null,null,null,0,null,null,null,null,0,null,null,null,null,0,null,null,null,null,0,null,null,null,null,0,null,null,null,null,0,null,null,null,null,0,null,null,null,null,0,null,null,null,null,0,null,null,null,null,0,null,null,null,null,0,null,null,null,null,0,null,null,null,null,0,null,null,null,null,0,null,null,null,null,0,null,null,null,null,0,null,null,null,null,0,null,null,null,null,0,null,null,null,null,0,null,null,null,null,0]
[null,null,5,"バスケットボール",0,0,0,0,0,null,null,null,0,null,null,null,null,0,null,null,null,null,0,null,null,null,null,0,null,null,null,null,0,null,null,null,null,0,null,null,null,null,0,null,null,null,null,0,null,null,null,null,0,null,null,null,null,0,null,null,null,null,0,null,null,null,null,0,null,null,null,null,0,null,null,null,null,0,null,null,null,null,0,null,null,null,null,0,null,null,null,null,0,null,null,null,null,0,null,null,null,null,0,null,null,null,null,0,null,null,null,null,0,null,null,null,null,0,null,null,null,null,0,null,null,null,null,0,null,null,null,null,0,null,null,null,null,0,null,null,null,null,0]
[null,null,6,"ハンドボール",0,0,0,0,0,null,null,null,0,null,null,null,null,0,null,null,null,null,0,null,null,null,null,0,null,null,null,null,0,null,null,null,null,0,null,null,null,null,0,null,null,null,null,0,null,null,null,null,0,null,null,null,null,0,null,null,null,null,0,null,null,null,null,0,null,null,null,null,0,null,null,null,null,0,null,null,null,null,0,null,null,null,null,0,null,null,null,null,0,null,null,null,null,0,null,null,null,null,0,null,null,null,null,0,null,null,null,null,0,null,null,null,null,0,null,null,null,null,0,null,null,null,null,0,null,null,null,null,0,null,null,null,null,0,null,null,null,null,0]
[null,"女",7,"バレーボール",0,0,0,0,0,null,null,null,0,null,null,null,null,0,null,null,null,null,0,null,null,null,null,0,null,null,null,null,0,null,null,null,null,0,null,null,null,null,0,null,null,null,null,0,null,null,null,null,0,null,null,null,null,0,null,null,null,null,0,null,null,null,null,0,null,null,null,null,0,null,null,null,null,0,null,null,null,null,0,null,null,null,null,0,null,null,null,null,0,null,null,null,null,0,null,null,null,null,0,null,null,null,null,0,null,null,null,null,0,null,null,null,null,0,null,null,null,null,0,null,null,null,null,0,null,null,null,null,0,null,null,null,null,0,null,null,null,null,0]
[null,null,8,"ソフトテニス",0,0,0,0,0,null,null,null,0,null,null,null,null,0,null,null,null,null,0,null,null,null,null,0,null,null,null,null,0,null,null,null,null,0,null,null,null,null,0,null,null,null,null,0,null,null,null,null,0,null,null,null,null,0,null,null,null,null,0,null,null,null,null,0,null,null,null,null,0,null,null,null,null,0,null,null,null,null,0,null,null,null,null,0,null,null,null,null,0,null,null,null,null,0,null,null,null,null,0,null,null,null,null,0,null,null,null,null,0,null,null,null,null,0,null,null,null,null,0,null,null,null,null,0,null,null,null,null,0,null,null,null,null,0,null,null,null,null,0]
[null,null,9,"卓    球",0,0,0,0,0,null,null,null,0,null,null,null,null,0,null,null,null,null,0,null,null,null,null,0,null,null,null,null,0,null,null,null,null,0,null,null,null,null,0,null,null,null,null,0,null,null,null,null,0,null,null,null,null,0,null,null,null,null,0,null,null,null,null,0,null,null,null,null,0,null,null,null,null,0,null,null,null,null,0,null,null,null,null,0,null,null,null,null,0,null,null,null,null,0,null,null,null,null,0,null,null,null,null,0,null,null,null,null,0,null,null,null,null,0,null,null,null,null,0,null,null,null,null,0,null,null,null,null,0,null,null,null,null,0,null,null,null,null,0]
[null,null,10,"バドミントン",0,0,0,0,0,null,null,null,0,null,null,null,null,0,null,null,null,null,0,null,null,null,null,0,null,null,null,null,0,null,null,null,null,0,null,null,null,null,0,null,null,null,null,0,null,null,null,null,0,null,null,null,null,0,null,null,null,null,0,null,null,null,null,0,null,null,null,null,0,null,null,null,null,0,null,null,null,null,0,null,null,null,null,0,null,null,null,null,0,null,null,null,null,0,null,null,null,null,0,null,null,null,null,0,null,null,null,null,0,null,null,null,null,0,null,null,null,null,0,null,null,null,null,0,null,null,null,null,0,null,null,null,null,0,null,null,null,null,0]
[null,null,11,"サッカー",0,0,0,0,0,null,null,null,0,null,null,null,null,0,null,null,null,null,0,null,null,null,null,0,null,null,null,null,0,null,null,null,null,0,null,null,null,null,0,null,null,null,null,0,null,null,null,null,0,null,null,null,null,0,null,null,null,null,0,null,null,null,null,0,null,null,null,null,0,null,null,null,null,0,null,null,null,null,0,null,null,null,null,0,null,null,null,null,0,null,null,null,null,0,null,null,null,null,0,null,null,null,null,0,null,null,null,null,0,null,null,null,null,0,null,null,null,null,0,null,null,null,null,0,null,null,null,null,0,null,null,null,null,0,null,null,null,null,0]
[null,null,12,"陸　上　競　技",0,0,0,0,0,null,null,null,0,null,null,null,null,0,null,null,null,null,0,null,null,null,null,0,null,null,null,null,0,null,null,null,null,0,null,null,null,null,0,null,null,null,null,0,null,null,null,null,0,null,null,null,null,0,null,null,null,null,0,null,null,null,null,0,null,null,null,null,0,null,null,null,null,0,null,null,null,null,0,null,null,null,null,0,null,null,null,null,0,null,null,null,null,0,null,null,null,null,0,null,null,null,null,0,null,null,null,null,0,null,null,null,null,0,null,null,null,null,0,null,null,null,null,0,null,null,null,null,0,null,null,null,null,0,null,null,null,null,0]
[null,null,13,"水　　泳",0,0,0,0,0,null,null,null,0,null,null,null,null,0,null,null,null,null,0,null,null,null,null,0,null,null,null,null,0,null,null,null,null,0,null,null,null,null,0,null,null,null,null,0,null,null,null,null,0,null,null,null,null,0,null,null,null,null,0,null,null,null,null,0,null,null,null,null,0,null,null,null,null,0,null,null,null,null,0,null,null,null,null,0,null,null,null,null,0,null,null,null,null,0,null,null,null,null,0,null,null,null,null,0,null,null,null,null,0,null,null,null,null,0,null,null,null,null,0,null,null,null,null,0,null,null,null,null,0,null,null,null,null,0,null,null,null,null,0]
[null,"子",14,"柔　　道",0,0,0,0,0,null,null,null,0,null,null,null,null,0,null,null,null,null,0,null,null,null,null,0,null,null,null,null,0,null,null,null,null,0,null,null,null,null,0,null,null,null,null,0,null,null,null,null,0,null,null,null,null,0,null,null,null,null,0,null,null,null,null,0,null,null,null,null,0,null,null,null,null,0,null,null,null,null,0,null,null,null,null,0,null,null,null,null,0,null,null,null,null,0,null,null,null,null,0,null,null,null,null,0,null,null,null,null,0,null,null,null,null,0,null,null,null,null,0,null,null,null,null,0,null,null,null,null,0,null,null,null,null,0,null,null,null,null,0]
[null,null,15,"剣　　道",0,0,0,0,0,null,null,null,0,null,null,null,null,0,null,null,null,null,0,null,null,null,null,0,null,null,null,null,0,null,null,null,null,0,null,null,null,null,0,null,null,null,null,0,null,null,null,null,0,null,null,null,null,0,null,null,null,null,0,null,null,null,null,0,null,null,null,null,0,null,null,null,null,0,null,null,null,null,0,null,null,null,null,0,null,null,null,null,0,null,null,null,null,0,null,null,null,null,0,null,null,null,null,0,null,null,null,null,0,null,null,null,null,0,null,null,null,null,0,null,null,null,null,0,null,null,null,null,0,null,null,null,null,0,null,null,null,null,0]
[null,null,16,"ダ    ン    ス",0,0,0,0,0,null,null,null,0,null,null,null,null,0,null,null,null,null,0,null,null,null,null,0,null,null,null,null,0,null,null,null,null,0,null,null,null,null,0,null,null,null,null,0,null,null,null,null,0,null,null,null,null,0,null,null,null,null,0,null,null,null,null,0,null,null,null,null,0,null,null,null,null,0,null,null,null,null,0,null,null,null,null,0,null,null,null,null,0,null,null,null,null,0,null,null,null,null,0,null,null,null,null,0,null,null,null,null,0,null,null,null,null,0,null,null,null,null,0,null,null,null,null,0,null,null,null,null,0,null,null,null,null,0,null,null,null,null,0]
[null,null,17,"ス    キ    ー",0,0,0,0,0,null,null,null,0,null,null,null,null,0,null,null,null,null,0,null,null,null,null,0,null,null,null,null,0,null,null,null,null,0,null,null,null,null,0,null,null,null,null,0,null,null,null,null,0,null,null,null,null,0,null,null,null,null,0,null,null,null,null,0,null,null,null,null,0,null,null,null,null,0,null,null,null,null,0,null,null,null,null,0,null,null,null,null,0,null,null,null,null,0,null,null,null,null,0,null,null,null,null,0,null,null,null,null,0,null,null,null,null,0,null,null,null,null,0,null,null,null,null,0,null,null,null,null,0,null,null,null,null,0,null,null,null,null,0]
[null,null,18,"ス  ケ  ー  ト",0,0,0,0,0,null,null,null,0,null,null,null,null,0,null,null,null,null,0,null,null,null,null,0,null,null,null,null,0,null,null,null,null,0,null,null,null,null,0,null,null,null,null,0,null,null,null,null,0,null,null,null,null,0,null,null,null,null,0,null,null,null,null,0,null,null,null,null,0,null,null,null,null,0,null,null,null,null,0,null,null,null,null,0,null,null,null,null,0,null,null,null,null,0,null,null,null,null,0,null,null,null,null,0,null,null,null,null,0,null,null,null,null,0,null,null,null,null,0,null,null,null,null,0,null,null,null,null,0,null,null,null,null,0,null,null,null,null,0]
[null,null,19,"アイスホッケー",0,0,0,0,0,null,null,null,0,null,null,null,null,0,null,null,null,null,0,null,null,null,null,0,null,null,null,null,0,null,null,null,null,0,null,null,null,null,0,null,null,null,null,0,null,null,null,null,0,null,null,null,null,0,null,null,null,null,0,null,null,null,null,0,null,null,null,null,0,null,null,null,null,0,null,null,null,null,0,null,null,null,null,0,null,null,null,null,0,null,null,null,null,0,null,null,null,null,0,null,null,null,null,0,null,null,null,null,0,null,null,null,null,0,null,null,null,null,0,null,null,null,null,0,null,null,null,null,0,null,null,null,null,0,null,null,null,null,0]
[null,null,20,"テ　　ニ　　ス",0,0,0,0,0,null,null,null,0,null,null,null,null,0,null,null,null,null,0,null,null,null,null,0,null,null,null,null,0,null,null,null,null,0,null,null,null,null,0,null,null,null,null,0,null,null,null,null,0,null,null,null,null,0,null,null,null,null,0,null,null,null,null,0,null,null,null,null,0,null,null,null,null,0,null,null,null,null,0,null,null,null,null,0,null,null,null,null,0,null,null,null,null,0,null,null,null,null,0,null,null,null,null,0,null,null,null,null,0,null,null,null,null,0,null,null,null,null,0,null,null,null,null,0,null,null,null,null,0,null,null,null,null,0,null,null,null,null,0]
[null,null,21,"弓　　道　",0,0,0,0,0,null,null,null,0,null,null,null,null,0,null,null,null,null,0,null,null,null,null,0,null,null,null,null,0,null,null,null,null,0,null,null,null,null,0,null,null,null,null,0,null,null,null,null,0,null,null,null,null,0,null,null,null,null,0,null,null,null,null,0,null,null,null,null,0,null,null,null,null,0,null,null,null,null,0,null,null,null,null,0,null,null,null,null,0,null,null,null,null,0,null,null,null,null,0,null,null,null,null,0,null,null,null,null,0,null,null,null,null,0,null,null,null,null,0,null,null,null,null,0,null,null,null,null,0,null,null,null,null,0,null,null,null,null,0]
[null,null,22,"空　　手",0,0,0,0,0,null,null,null,0,null,null,null,null,0,null,null,null,null,0,null,null,null,null,0,null,null,null,null,0,null,null,null,null,0,null,null,null,null,0,null,null,null,null,0,null,null,null,null,0,null,null,null,null,0,null,null,null,null,0,null,null,null,null,{"$f":"BM55+BN55+BO55","v":0},null,null,null,null,0,null,null,null,null,0,null,null,null,null,0,null,null,null,null,0,null,null,null,null,0,null,null,null,null,0,null,null,null,null,0,null,null,null,null,0,null,null,null,null,0,null,null,null,null,0,null,null,null,null,0,null,null,null,null,0,null,null,null,null,0,null,null,null,null,0,null,null,null,null,0]
[null,null,null,null,0,0,0,0,0,null,null,null,0,null,null,null,null,0,null,null,null,null,0,null,null,null,null,0,null,null,null,null,0,null,null,null,null,0,null,null,null,null,0,null,null,null,null,0,null,null,null,null,0,null,null,null,null,0,null,null,null,null,0,null,null,null,null,0,null,null,null,null,0,null,null,null,null,0,null,null,null,null,0,null,null,null,null,0,null,null,null,null,0,null,null,null,null,0,null,null,null,null,0,null,null,null,null,0,null,null,null,null,0,null,null,null,null,0,null,null,null,null,0,null,null,null,null,0,null,null,null,null,0,null,null,null,null,0,null,null,null,null,0]
[null,null,null,null,0,0,0,0,0,null,null,null,0,null,null,null,null,0,null,null,null,null,0,null,null,null,null,0,null,null,null,null,0,null,null,null,null,0,null,null,null,null,0,null,null,null,null,0,null,null,null,null,0,null,null,null,null,0,null,null,null,null,0,null,null,null,null,0,null,null,null,null,0,null,null,null,null,0,null,null,null,null,0,null,null,null,null,0,null,null,null,null,0,null,null,null,null,0,null,null,null,null,0,null,null,null,null,0,null,null,null,null,0,null,null,null,null,0,null,null,null,null,0,null,null,null,null,0,null,null,null,null,0,null,null,null,null,0,null,null,null,null,0]
[null,null,null,null,0,0,0,0,0,null,null,null,0,null,null,null,null,0,null,null,null,null,0,null,null,null,null,0,null,null,null,null,0,null,null,null,null,0,null,null,null,null,0,null,null,null,null,0,null,null,null,null,0,null,null,null,null,0,null,null,null,null,0,null,null,null,null,0,null,null,null,null,0,null,null,null,null,0,null,null,null,null,0,null,null,null,null,0,null,null,null,null,0,null,null,null,null,0,null,null,null,null,0,null,null,null,null,0,null,null,null,null,0,null,null,null,null,0,null,null,null,null,0,null,null,null,null,0,null,null,null,null,0,null,null,null,null,0,null,null,null,null,0]
[null,null,"女　子　合　計 (名)",null,0,0,0,0,0,{"$f":"SUM(J34:J58)","v":0},0,0,0,0,0,0,0,0,0,0,0,0,0,0,0,0,0,0,0,0,0,0,0,0,0,0,0,0,0,0,0,{"$f":"SUM(AP34:AP58)","v":0},0,0,0,0,0,0,0,0,0,0,0,0,0,0,0,0,0,0,0,0,0,0,0,0,0,0,0,0,0,0,0,{"$f":"SUM(BV34:BV58)","v":0},0,0,0,0,0,0,0,0,0,0,0,0,0,0,0,0,0,0,0,0,0,0,0,0,0,0,0,0,0,0,0,{"$f":"SUM(DB34:DB58)","v":0},0,0,0,0,0,0,0,0,0,0,0,0,0,0,0,0,0,0,0,0,0,0,0,0,0,0,0,0,0,0,0,{"$f":"SUM(EH34:EH58)","v":0},0,0,0,0,0,0]
[null,null,"女 子 在 籍 数 (名)",null,{"$f":"J60+O60+T60+Y60+AD60+AI60+AN60+AS60+AX60+BC60+BH60+BM60+BR60+BW60+CB60+CG60+CL60+CQ60+CV60+DA60+DF60+DK60+DP60+DU60+DZ60","v":0},{"$f":"K60+P60+U60+Z60+AE60+AJ60+AO60+AT60+AY60+BD60+BI60+BN60+BS60+BX60+CC60+CH60+CM60+CR60+CW60+DB60+DG60+DL60+DQ60+DV60+EA60","v":0},{"$f":"L60+Q60+V60+AA60+AF60+AK60+AP60+AU60+AZ60+BE60+BJ60+BO60+BT60+BY60+CD60+CI60+CN60+CS60+CX60+DC60+DH60+DM60+DR60+DW60+EB60","v":0},{"$f":"M60+R60+W60+AB60+AG60+AL60+AQ60+AV60+BA60+BF60+BK60+BP60+BU60+BZ60+CE60+CJ60+CO60+CT60+CY60+DD60+DI60+DN60+DS60+DX60+EC60","v":0},null,null,null,null,{"$f":"SUM(J60:L60)","v":0},null,null,null,null,{"$f":"SUM(O60:Q60)","v":0},null,null,null,null,{"$f":"SUM(T60:V60)","v":0},null,null,null,null,{"$f":"SUM(Y60:AA60)","v":0},null,null,null,null,{"$f":"SUM(AD60:AF60)","v":0},null,null,null,null,{"$f":"SUM(AI60:AK60)","v":0},null,null,null,null,{"$f":"SUM(AN60:AP60)","v":0},null,null,null,null,{"$f":"SUM(AS60:AU60)","v":0},null,null,null,null,{"$f":"SUM(AX60:AZ60)","v":0},null,null,null,null,{"$f":"SUM(BC60:BE60)","v":0},null,null,null,null,{"$f":"SUM(BH60:BJ60)","v":0},null,null,null,null,{"$f":"SUM(BM60:BO60)","v":0},null,null,null,null,{"$f":"SUM(BR60:BT60)","v":0},null,null,null,null,{"$f":"SUM(BW60:BY60)","v":0},null,null,null,null,{"$f":"SUM(CB60:CD60)","v":0},null,null,null,null,{"$f":"SUM(CG60:CI60)","v":0},null,null,null,null,{"$f":"SUM(CL60:CN60)","v":0},null,null,null,null,{"$f":"SUM(CQ60:CS60)","v":0},null,null,null,null,{"$f":"SUM(CV60:CX60)","v":0},null,null,null,null,{"$f":"SUM(DA60:DC60)","v":0},null,null,null,null,{"$f":"SUM(DF60:DH60)","v":0},null,null,null,null,{"$f":"SUM(DK60:DM60)","v":0},null,null,null,null,{"$f":"SUM(DP60:DR60)","v":0},null,null,null,null,{"$f":"SUM(DU60:DW60)","v":0},null,null,null,null,{"$f":"SUM(DZ60:EB60)","v":0},null,null,null,null,{"$f":"SUM(EE60:EG60)","v":0},null,null,null,null,{"$f":"SUM(EJ60:EL60)","v":0}]
[null,null,"女 子 入 部 率 (％)",null,{"$f":"E59/E60*100","v":{"$error":"#DIV/0!"}},{"$f":"F59/F60*100","v":{"$error":"#DIV/0!"}},{"$f":"G59/G60*100","v":{"$error":"#DIV/0!"}},{"$f":"H59/H60*100","v":{"$error":"#DIV/0!"}},null,{"$f":"J59/J60*100","v":{"$error":"#DIV/0!"}},{"$error":"#DIV/0!"},{"$error":"#DIV/0!"},{"$error":"#DIV/0!"},null,{"$error":"#DIV/0!"},{"$error":"#DIV/0!"},{"$error":"#DIV/0!"},{"$f":"R59/R60*100","v":{"$error":"#DIV/0!"}},null,{"$error":"#DIV/0!"},{"$error":"#DIV/0!"},{"$error":"#DIV/0!"},{"$f":"W59/W60*100","v":{"$error":"#DIV/0!"}},null,{"$error":"#DIV/0!"},{"$error":"#DIV/0!"},{"$error":"#DIV/0!"},{"$f":"AB59/AB60*100","v":{"$error":"#DIV/0!"}},null,{"$error":"#DIV/0!"},{"$error":"#DIV/0!"},{"$error":"#DIV/0!"},{"$f":"AG59/AG60*100","v":{"$error":"#DIV/0!"}},null,{"$error":"#DIV/0!"},{"$error":"#DIV/0!"},{"$error":"#DIV/0!"},{"$f":"AL59/AL60*100","v":{"$error":"#DIV/0!"}},null,{"$error":"#DIV/0!"},{"$error":"#DIV/0!"},{"$error":"#DIV/0!"},{"$f":"AQ59/AQ60*100","v":{"$error":"#DIV/0!"}},null,{"$error":"#DIV/0!"},{"$error":"#DIV/0!"},{"$error":"#DIV/0!"},{"$f":"AV59/AV60*100","v":{"$error":"#DIV/0!"}},null,{"$error":"#DIV/0!"},{"$error":"#DIV/0!"},{"$error":"#DIV/0!"},{"$f":"BA59/BA60*100","v":{"$error":"#DIV/0!"}},null,{"$error":"#DIV/0!"},{"$error":"#DIV/0!"},{"$error":"#DIV/0!"},{"$f":"BF59/BF60*100","v":{"$error":"#DIV/0!"}},null,{"$error":"#DIV/0!"},{"$error":"#DIV/0!"},{"$error":"#DIV/0!"},{"$f":"BK59/BK60*100","v":{"$error":"#DIV/0!"}},null,{"$error":"#DIV/0!"},{"$error":"#DIV/0!"},{"$error":"#DIV/0!"},{"$f":"BP59/BP60*100","v":{"$error":"#DIV/0!"}},null,{"$error":"#DIV/0!"},{"$error":"#DIV/0!"},{"$error":"#DIV/0!"},{"$f":"BU59/BU60*100","v":{"$error":"#DIV/0!"}},null,{"$f":"BW59/BW60*100","v":{"$error":"#DIV/0!"}},{"$error":"#DIV/0!"},{"$error":"#DIV/0!"},{"$error":"#DIV/0!"},null,{"$error":"#DIV/0!"},{"$error":"#DIV/0!"},{"$error":"#DIV/0!"},{"$error":"#DIV/0!"},null,{"$error":"#DIV/0!"},{"$error":"#DIV/0!"},{"$error":"#DIV/0!"},{"$error":"#DIV/0!"},null,{"$error":"#DIV/0!"},{"$error":"#DIV/0!"},{"$error":"#DIV/0!"},{"$error":"#DIV/0!"},null,{"$error":"#DIV/0!"},{"$error":"#DIV/0!"},{"$error":"#DIV/0!"},{"$error":"#DIV/0!"},null,{"$error":"#DIV/0!"},{"$error":"#DIV/0!"},{"$error":"#DIV/0!"},{"$error":"#DIV/0!"},null,{"$error":"#DIV/0!"},{"$error":"#DIV/0!"},{"$error":"#DIV/0!"},{"$error":"#DIV/0!"},null,{"$error":"#DIV/0!"},{"$error":"#DIV/0!"},{"$error":"#DIV/0!"},{"$error":"#DIV/0!"},null,{"$error":"#DIV/0!"},{"$error":"#DIV/0!"},{"$error":"#DIV/0!"},{"$error":"#DIV/0!"},null,{"$error":"#DIV/0!"},{"$error":"#DIV/0!"},{"$error":"#DIV/0!"},{"$error":"#DIV/0!"},null,{"$error":"#DIV/0!"},{"$error":"#DIV/0!"},{"$error":"#DIV/0!"},{"$error":"#DIV/0!"},null,{"$error":"#DIV/0!"},{"$error":"#DIV/0!"},{"$error":"#DIV/0!"},{"$error":"#DIV/0!"},null,null,null,null,{"$f":"EH59/EH60*100","v":{"$error":"#DIV/0!"}},null,{"$error":"#DIV/0!"},{"$error":"#DIV/0!"},{"$f":"EL59/EL60*100","v":{"$error":"#DIV/0!"}},{"$f":"EM59/EM60*100","v":{"$error":"#DIV/0!"}}]
[null,null,"男　女　合　計 (名)",null,{"$f":"E31+E59","v":0},0,0,{"$f":"SUM(E62:G62)","v":0},null,{"$f":"J31+J59","v":0},{"$f":"K31+K59","v":0},0,0,0,0,0,0,{"$f":"R31+R59","v":0},0,0,0,0,{"$f":"W31+W59","v":0},0,0,0,0,{"$f":"AB31+AB59","v":0},0,0,0,0,{"$f":"AG31+AG59","v":0},0,0,0,0,{"$f":"AL31+AL59","v":0},0,0,0,0,{"$f":"AQ31+AQ59","v":0},0,0,0,0,{"$f":"AV31+AV59","v":0},0,0,0,0,{"$f":"BA31+BA59","v":0},0,0,0,0,{"$f":"BF31+BF59","v":0},0,0,0,0,{"$f":"BK31+BK59","v":0},0,0,0,0,{"$f":"BP31+BP59","v":0},0,0,0,0,{"$f":"BU31+BU59","v":0},0,{"$f":"BW31+BW59","v":0},0,0,0,0,0,0,0,0,0,0,0,0,0,0,0,0,0,0,0,0,0,0,0,0,0,0,0,0,0,0,0,0,0,0,0,0,0,0,0,0,0,0,0,0,0,0,0,0,0,0,0,0,0,0,0,0,0,0,0,0,0,0,0,{"$f":"EI31+EI59","v":0},0,0,0,0,0]
[null,null,"男 女 在 籍 数 (名)",null,0,0,0,{"$f":"SUM(E63:G63)","v":0},null,{"$f":"J60+J62","v":0},{"$f":"K60+K62","v":0},0,0,0,0,0,0,{"$f":"R60+R62","v":0},0,0,0,0,{"$f":"W60+W62","v":0},0,0,0,0,{"$f":"AB60+AB62","v":0},0,0,0,0,{"$f":"AG60+AG62","v":0},0,0,0,0,{"$f":"AL60+AL62","v":0},0,0,0,0,{"$f":"AQ60+AQ62","v":0},0,0,0,0,{"$f":"AV60+AV62","v":0},0,0,0,0,{"$f":"BA60+BA62","v":0},0,0,0,0,{"$f":"BF60+BF62","v":0},0,0,0,0,{"$f":"BK60+BK62","v":0},0,0,0,0,{"$f":"BP60+BP62","v":0},0,0,0,0,{"$f":"BU60+BU62","v":0},0,{"$f":"BW60+BW62","v":0},0,0,0,0,0,0,0,0,0,0,0,0,0,0,0,0,0,0,0,0,0,0,0,0,0,0,0,0,0,0,0,0,0,0,0,0,0,0,0,0,0,0,0,0,0,0,0,0,0,0,0,0,0,0,0,0,0,0,0,0,0,0,0,{"$f":"EI60+EI62","v":0},0,0,0,0,0]
[null,null,"男 女 入 部 率 (％)",null,{"$f":"E62/E63*100","v":{"$error":"#DIV/0!"}},{"$f":"F62/F63*100","v":{"$error":"#DIV/0!"}},{"$f":"G62/G63*100","v":{"$error":"#DIV/0!"}},{"$f":"H62/H63*100","v":{"$error":"#DIV/0!"}},null,{"$f":"J62/J63*100","v":{"$error":"#DIV/0!"}},{"$error":"#DIV/0!"},{"$error":"#DIV/0!"},{"$error":"#DIV/0!"},null,{"$error":"#DIV/0!"},{"$error":"#DIV/0!"},{"$error":"#DIV/0!"},{"$f":"R62/R63*100","v":{"$error":"#DIV/0!"}},null,{"$error":"#DIV/0!"},{"$error":"#DIV/0!"},{"$error":"#DIV/0!"},{"$f":"W62/W63*100","v":{"$error":"#DIV/0!"}},null,{"$error":"#DIV/0!"},{"$error":"#DIV/0!"},{"$error":"#DIV/0!"},{"$f":"AB62/AB63*100","v":{"$error":"#DIV/0!"}},null,{"$error":"#DIV/0!"},{"$error":"#DIV/0!"},{"$error":"#DIV/0!"},{"$f":"AG62/AG63*100","v":{"$error":"#DIV/0!"}},null,{"$error":"#DIV/0!"},{"$error":"#DIV/0!"},{"$error":"#DIV/0!"},{"$f":"AL62/AL63*100","v":{"$error":"#DIV/0!"}},null,{"$error":"#DIV/0!"},{"$error":"#DIV/0!"},{"$error":"#DIV/0!"},{"$f":"AQ62/AQ63*100","v":{"$error":"#DIV/0!"}},null,{"$error":"#DIV/0!"},{"$error":"#DIV/0!"},{"$error":"#DIV/0!"},{"$f":"AV62/AV63*100","v":{"$error":"#DIV/0!"}},null,{"$error":"#DIV/0!"},{"$error":"#DIV/0!"},{"$error":"#DIV/0!"},{"$f":"BA62/BA63*100","v":{"$error":"#DIV/0!"}},null,{"$error":"#DIV/0!"},{"$error":"#DIV/0!"},{"$error":"#DIV/0!"},{"$f":"BF62/BF63*100","v":{"$error":"#DIV/0!"}},null,{"$error":"#DIV/0!"},{"$error":"#DIV/0!"},{"$error":"#DIV/0!"},{"$f":"BK62/BK63*100","v":{"$error":"#DIV/0!"}},null,{"$error":"#DIV/0!"},{"$error":"#DIV/0!"},{"$error":"#DIV/0!"},{"$f":"BP62/BP63*100","v":{"$error":"#DIV/0!"}},null,{"$error":"#DIV/0!"},{"$error":"#DIV/0!"},{"$error":"#DIV/0!"},{"$f":"BU62/BU63*100","v":{"$error":"#DIV/0!"}},null,{"$f":"BW62/BW63*100","v":{"$error":"#DIV/0!"}},{"$error":"#DIV/0!"},{"$error":"#DIV/0!"},{"$error":"#DIV/0!"},null,{"$error":"#DIV/0!"},{"$error":"#DIV/0!"},{"$error":"#DIV/0!"},{"$error":"#DIV/0!"},null,{"$error":"#DIV/0!"},{"$error":"#DIV/0!"},{"$error":"#DIV/0!"},{"$error":"#DIV/0!"},null,{"$error":"#DIV/0!"},{"$error":"#DIV/0!"},{"$error":"#DIV/0!"},{"$error":"#DIV/0!"},null,{"$error":"#DIV/0!"},{"$error":"#DIV/0!"},{"$error":"#DIV/0!"},{"$error":"#DIV/0!"},null,{"$error":"#DIV/0!"},{"$error":"#DIV/0!"},{"$error":"#DIV/0!"},{"$error":"#DIV/0!"},null,{"$error":"#DIV/0!"},{"$error":"#DIV/0!"},{"$error":"#DIV/0!"},{"$error":"#DIV/0!"},null,{"$error":"#DIV/0!"},{"$error":"#DIV/0!"},{"$error":"#DIV/0!"},{"$error":"#DIV/0!"},null,{"$error":"#DIV/0!"},{"$error":"#DIV/0!"},{"$error":"#DIV/0!"},{"$error":"#DIV/0!"},null,{"$error":"#DIV/0!"},{"$error":"#DIV/0!"},{"$error":"#DIV/0!"},{"$error":"#DIV/0!"},null,{"$error":"#DIV/0!"},{"$error":"#DIV/0!"},{"$error":"#DIV/0!"},{"$error":"#DIV/0!"},null,{"$error":"#DIV/0!"},{"$error":"#DIV/0!"},{"$error":"#DIV/0!"},{"$error":"#DIV/0!"},null,{"$error":"#DIV/0!"},{"$error":"#DIV/0!"},{"$error":"#DIV/0!"},{"$error":"#DIV/0!"},null,{"$error":"#DIV/0!"},{"$error":"#DIV/0!"},{"$f":"EL62/EL63*100","v":{"$error":"#DIV/0!"}},{"$f":"EM62/EM63*100","v":{"$error":"#DIV/0!"}}]

{"sheet":"９藤岡多野","index":9,"n_rows":64,"n_cols":144,"rows_kept":64,"cut":false,"hidden":false,"merged":[]}
[]
[null,null,"令和８年度　群馬県中学校　運動部員数調査結果    （黄色部分は入力禁止）"]
[null,null,null,null,"９藤岡多野(７校)",null,null,null,null,null,"北",null,null,null,null,"東",null,null,null,null,"西",null,null,null,null,"小野",null,null,null,null,"鬼石",null,null,null,null,"中里",null,null,null,null,"上野"]
[null,null,"№","  競　技　名","１年","２年","３年","合計","設置","１年","２年","３年","合計","設置","１年","２年","３年","合計","設置","１年","２年","３年","合計","設置","１年","２年","３年","合計","設置","１年","２年","３年","合計","設置","１年","２年","３年","合計","設置","１年","２年","３年","合計","設置","１年","２年","３年","合計","設置","１年","２年","３年","合計","設置","１年","２年","３年","合計","設置","１年","２年","３年","合計","設置","１年","２年","３年","合計","設置","１年","２年","３年","合計","設置","１年","２年","３年","合計","設置","１年","２年","３年","合計","設置","１年","２年","３年","合計","設置","１年","２年","３年","合計","設置","１年","２年","３年","合計","設置","１年","２年","３年","合計","設置","１年","２年","３年","合計","設置","１年","２年","３年","合計","設置","１年","２年","３年","合計","設置","１年","２年","３年","合計","設置","１年","２年","３年","合計","設置","１年","２年","３年","合計","設置"]
[null,null,1,"体　操　競　技",{"$f":"J5+O5+T5+Y5+AD5+AI5+AN5+AS5+AX5+BC5+BH5+BM5+BR5+BW5+CB5+CG5+CL5+CQ5+CV5+DA5+DF5+DK5+DP5+DU5+DZ5","v":0},0,0,0,0,null,null,null,{"$f":"SUM(J5:L5)","v":0},null,null,null,null,{"$f":"SUM(O5:Q5)","v":0},null,null,null,null,{"$f":"SUM(T5:V5)","v":0},null,null,null,null,{"$f":"SUM(Y5:AA5)","v":0},null,null,null,null,{"$f":"SUM(AD5:AF5)","v":0},null,null,null,null,{"$f":"SUM(AI5:AK5)","v":0},null,null,null,null,{"$f":"SUM(AN5:AP5)","v":0},null,null,null,null,{"$f":"SUM(AS5:AU5)","v":0},null,null,null,null,{"$f":"SUM(AX5:AZ5)","v":0},null,null,null,null,{"$f":"SUM(BC5:BE5)","v":0},null,null,null,null,{"$f":"SUM(BH5:BJ5)","v":0},null,null,null,null,{"$f":"SUM(BM5:BO5)","v":0},null,null,null,null,{"$f":"SUM(BR5:BT5)","v":0},null,null,null,null,{"$f":"SUM(BW5:BY5)","v":0},null,null,null,null,{"$f":"SUM(CB5:CD5)","v":0},null,null,null,null,{"$f":"SUM(CG5:CI5)","v":0},null,null,null,null,{"$f":"SUM(CL5:CN5)","v":0},null,null,null,null,{"$f":"SUM(CQ5:CS5)","v":0},null,null,null,null,{"$f":"SUM(CV5:CX5)","v":0},null,null,null,null,{"$f":"SUM(DA5:DC5)","v":0},null,null,null,null,{"$f":"SUM(DF5:DH5)","v":0},null,null,null,null,{"$f":"SUM(DK5:DM5)","v":0},null,null,null,null,{"$f":"SUM(DP5:DR5)","v":0},null,null,null,null,{"$f":"SUM(DU5:DW5)","v":0},null,null,null,null,{"$f":"SUM(DZ5:EB5)","v":0},null,null,null,null,{"$f":"SUM(EE5:EG5)","v":0},null,null,null,null,{"$f":"SUM(EJ5:EL5)","v":0}]
[null,null,2,"新    体    操",0,0,0,0,0,null,null,null,{"$f":"SUM(J6:L6)","v":0},null,null,null,null,{"$f":"SUM(O6:Q6)","v":0},null,null,null,null,{"$f":"SUM(T6:V6)","v":0},null,null,null,null,{"$f":"SUM(Y6:AA6)","v":0},null,null,null,null,{"$f":"SUM(AD6:AF6)","v":0},null,null,null,null,{"$f":"SUM(AI6:AK6)","v":0},null,null,null,null,{"$f":"SUM(AN6:AP6)","v":0},null,null,null,null,{"$f":"SUM(AS6:AU6)","v":0},null,null,null,null,{"$f":"SUM(AX6:AZ6)","v":0},null,null,null,null,{"$f":"SUM(BC6:BE6)","v":0},null,null,null,null,{"$f":"SUM(BH6:BJ6)","v":0},null,null,null,null,{"$f":"SUM(BM6:BO6)","v":0},null,null,null,null,{"$f":"SUM(BR6:BT6)","v":0},null,null,null,null,{"$f":"SUM(BW6:BY6)","v":0},null,null,null,null,{"$f":"SUM(CB6:CD6)","v":0},null,null,null,null,{"$f":"SUM(CG6:CI6)","v":0},null,null,null,null,{"$f":"SUM(CL6:CN6)","v":0},null,null,null,null,{"$f":"SUM(CQ6:CS6)","v":0},null,null,null,null,{"$f":"SUM(CV6:CX6)","v":0},null,null,null,null,{"$f":"SUM(DA6:DC6)","v":0},null,null,null,null,{"$f":"SUM(DF6:DH6)","v":0},null,null,null,null,{"$f":"SUM(DK6:DM6)","v":0},null,null,null,null,{"$f":"SUM(DP6:DR6)","v":0},null,null,null,null,{"$f":"SUM(DU6:DW6)","v":0},null,null,null,null,{"$f":"SUM(DZ6:EB6)","v":0},null,null,null,null,{"$f":"SUM(EE6:EG6)","v":0},null,null,null,null,{"$f":"SUM(EJ6:EL6)","v":0}]
[null,null,3,"軟　式　野　球",0,0,0,0,0,null,null,null,0,null,null,null,null,0,null,null,null,null,0,null,null,null,null,0,null,null,null,null,0,null,null,null,null,0,null,null,null,null,0,null,null,null,null,0,null,null,null,null,0,null,null,null,null,0,null,null,null,null,0,null,null,null,null,0,null,null,null,null,0,null,null,null,null,0,null,null,null,null,0,null,null,null,null,0,null,null,null,null,0,null,null,null,null,0,null,null,null,null,0,null,null,null,null,0,null,null,null,null,0,null,null,null,null,0,null,null,null,null,0,null,null,null,null,0,null,null,null,null,0,null,null,null,null,0,null,null,null,null,0]
[null,null,4,"ソフトボール",0,0,0,0,0,null,null,null,0,null,null,null,null,0,null,null,null,null,0,null,null,null,null,0,null,null,null,null,0,null,null,null,null,0,null,null,null,null,0,null,null,null,null,0,null,null,null,null,0,null,null,null,null,0,null,null,null,null,0,null,null,null,null,0,null,null,null,null,0,null,null,null,null,0,null,null,null,null,0,null,null,null,null,0,null,null,null,null,0,null,null,null,null,0,null,null,null,null,0,null,null,null,null,0,null,null,null,null,0,null,null,null,null,0,null,null,null,null,0,null,null,null,null,0,null,null,null,null,0,null,null,null,null,0,null,null,null,null,0]
[null,null,5,"バスケットボール",0,0,0,0,0,null,null,null,0,null,null,null,null,0,null,null,null,null,0,null,null,null,null,0,null,null,null,null,0,null,null,null,null,0,null,null,null,null,0,null,null,null,null,0,null,null,null,null,0,null,null,null,null,0,null,null,null,null,0,null,null,null,null,0,null,null,null,null,0,null,null,null,null,0,null,null,null,null,0,null,null,null,null,0,null,null,null,null,0,null,null,null,null,0,null,null,null,null,0,null,null,null,null,0,null,null,null,null,0,null,null,null,null,0,null,null,null,null,0,null,null,null,null,0,null,null,null,null,0,null,null,null,null,0,null,null,null,null,0]
[null,null,6,"ハンドボール",0,0,0,0,0,null,null,null,0,null,null,null,null,0,null,null,null,null,0,null,null,null,null,0,null,null,null,null,0,null,null,null,null,0,null,null,null,null,0,null,null,null,null,0,null,null,null,null,0,null,null,null,null,0,null,null,null,null,0,null,null,null,null,0,null,null,null,null,0,null,null,null,null,0,null,null,null,null,0,null,null,null,null,0,null,null,null,null,0,null,null,null,null,0,null,null,null,null,0,null,null,null,null,0,null,null,null,null,0,null,null,null,null,0,null,null,null,null,0,null,null,null,null,0,null,null,null,null,0,null,null,null,null,0,null,null,null,null,0]
[null,"男",7,"バレーボール",0,0,0,0,0,null,null,null,0,null,null,null,null,0,null,null,null,null,0,null,null,null,null,0,null,null,null,null,0,null,null,null,null,0,null,null,null,null,0,null,null,null,null,0,null,null,null,null,0,null,null,null,null,0,null,null,null,null,0,null,null,null,null,0,null,null,null,null,0,null,null,null,null,0,null,null,null,null,0,null,null,null,null,0,null,null,null,null,0,null,null,null,null,0,null,null,null,null,0,null,null,null,null,0,null,null,null,null,0,null,null,null,null,0,null,null,null,null,0,null,null,null,null,0,null,null,null,null,0,null,null,null,null,0,null,null,null,null,0]
[null,null,8,"ソフトテニス",0,0,0,0,0,null,null,null,0,null,null,null,null,0,null,null,null,null,0,null,null,null,null,0,null,null,null,null,0,null,null,null,null,0,null,null,null,null,0,null,null,null,null,0,null,null,null,null,0,null,null,null,null,0,null,null,null,null,0,null,null,null,null,0,null,null,null,null,0,null,null,null,null,0,null,null,null,null,0,null,null,null,null,0,null,null,null,null,0,null,null,null,null,0,null,null,null,null,0,null,null,null,null,0,null,null,null,null,0,null,null,null,null,0,null,null,null,null,0,null,null,null,null,0,null,null,null,null,0,null,null,null,null,0,null,null,null,null,0]
[null,null,9,"卓    球",0,0,0,0,0,null,null,null,0,null,null,null,null,0,null,null,null,null,0,null,null,null,null,0,null,null,null,null,0,null,null,null,null,0,null,null,null,null,0,null,null,null,null,0,null,null,null,null,0,null,null,null,null,0,null,null,null,null,0,null,null,null,null,0,null,null,null,null,0,null,null,null,null,0,null,null,null,null,0,null,null,null,null,0,null,null,null,null,0,null,null,null,null,0,null,null,null,null,0,null,null,null,null,0,null,null,null,null,0,null,null,null,null,0,null,null,null,null,0,null,null,null,null,0,null,null,null,null,0,null,null,null,null,0,null,null,null,null,0]
[null,null,10,"バドミントン",0,0,0,0,0,null,null,null,0,null,null,null,null,0,null,null,null,null,0,null,null,null,null,0,null,null,null,null,0,null,null,null,null,0,null,null,null,null,0,null,null,null,null,0,null,null,null,null,0,null,null,null,null,0,null,null,null,null,0,null,null,null,null,0,null,null,null,null,0,null,null,null,null,0,null,null,null,null,0,null,null,null,null,0,null,null,null,null,0,null,null,null,null,0,null,null,null,null,0,null,null,null,null,0,null,null,null,null,0,null,null,null,null,0,null,null,null,null,0,null,null,null,null,0,null,null,null,null,0,null,null,null,null,0,null,null,null,null,0]
[null,null,11,"サッカー",0,0,0,0,0,null,null,null,0,null,null,null,null,0,null,null,null,null,0,null,null,null,null,0,null,null,null,null,0,null,null,null,null,0,null,null,null,null,0,null,null,null,null,0,null,null,null,null,0,null,null,null,null,0,null,null,null,null,0,null,null,null,null,0,null,null,null,null,0,null,null,null,null,0,null,null,null,null,0,null,null,null,null,0,null,null,null,null,0,null,null,null,null,0,null,null,null,null,0,null,null,null,null,0,null,null,null,null,0,null,null,null,null,0,null,null,null,null,0,null,null,null,null,0,null,null,null,null,0,null,null,null,null,0,null,null,null,null,0]
[null,null,12,"陸　上　競　技",0,0,0,0,0,null,null,null,0,null,null,null,null,0,null,null,null,null,0,null,null,null,null,0,null,null,null,null,0,null,null,null,null,0,null,null,null,null,0,null,null,null,null,0,null,null,null,null,0,null,null,null,null,0,null,null,null,null,0,null,null,null,null,0,null,null,null,null,0,null,null,null,null,0,null,null,null,null,0,null,null,null,null,0,null,null,null,null,0,null,null,null,null,0,null,null,null,null,0,null,null,null,null,0,null,null,null,null,0,null,null,null,null,0,null,null,null,null,0,null,null,null,null,0,null,null,null,null,0,null,null,null,null,0,null,null,null,null,0]
[null,null,13,"水　　泳",0,0,0,0,0,null,null,null,0,null,null,null,null,0,null,null,null,null,0,null,null,null,null,0,null,null,null,null,0,null,null,null,null,0,null,null,null,null,0,null,null,null,null,0,null,null,null,null,0,null,null,null,null,0,null,null,null,null,0,null,null,null,null,0,null,null,null,null,0,null,null,null,null,0,null,null,null,null,0,null,null,null,null,0,null,null,null,null,0,null,null,null,null,0,null,null,null,null,0,null,null,null,null,0,null,null,null,null,0,null,null,null,null,0,null,null,null,null,0,null,null,null,null,0,null,null,null,null,0,null,null,null,null,0,null,null,null,null,0]
[null,"子",14,"柔　　道",0,0,0,0,0,null,null,null,0,null,null,null,null,0,null,null,null,null,0,null,null,null,null,0,null,null,null,null,0,null,null,null,null,0,null,null,null,null,0,null,null,null,null,0,null,null,null,null,0,null,null,null,null,0,null,null,null,null,0,null,null,null,null,0,null,null,null,null,0,null,null,null,null,0,null,null,null,null,0,null,null,null,null,0,null,null,null,null,0,null,null,null,null,0,null,null,null,null,0,null,null,null,null,0,null,null,null,null,0,null,null,null,null,0,null,null,null,null,0,null,null,null,null,0,null,null,null,null,0,null,null,null,null,0,null,null,null,null,0]
[null,null,15,"剣　　道",0,0,0,0,0,null,null,null,0,null,null,null,null,0,null,null,null,null,0,null,null,null,null,0,null,null,null,null,0,null,null,null,null,0,null,null,null,null,0,null,null,null,null,0,null,null,null,null,0,null,null,null,null,0,null,null,null,null,0,null,null,null,null,0,null,null,null,null,0,null,null,null,null,0,null,null,null,null,0,null,null,null,null,0,null,null,null,null,0,null,null,null,null,0,null,null,null,null,0,null,null,null,null,0,null,null,null,null,0,null,null,null,null,0,null,null,null,null,0,null,null,null,null,0,null,null,null,null,0,null,null,null,null,0,null,null,null,null,0]
[null,null,16,"相　　撲",0,0,0,0,0,null,null,null,0,null,null,null,null,0,null,null,null,null,0,null,null,null,null,0,null,null,null,null,0,null,null,null,null,0,null,null,null,null,0,null,null,null,null,0,null,null,null,null,0,null,null,null,null,0,null,null,null,null,0,null,null,null,null,0,null,null,null,null,0,null,null,null,null,0,null,null,null,null,0,null,null,null,null,0,null,null,null,null,0,null,null,null,null,0,null,null,null,null,0,null,null,null,null,0,null,null,null,null,0,null,null,null,null,0,null,null,null,null,0,null,null,null,null,0,null,null,null,null,0,null,null,null,null,0,null,null,null,null,0]
[null,null,17,"ダ    ン    ス",0,0,0,0,0,null,null,null,0,null,null,null,null,0,null,null,null,null,0,null,null,null,null,0,null,null,null,null,0,null,null,null,null,0,null,null,null,null,0,null,null,null,null,0,null,null,null,null,0,null,null,null,null,0,null,null,null,null,0,null,null,null,null,0,null,null,null,null,0,null,null,null,null,0,null,null,null,null,0,null,null,null,null,0,null,null,null,null,0,null,null,null,null,0,null,null,null,null,0,null,null,null,null,0,null,null,null,null,0,null,null,null,null,0,null,null,null,null,0,null,null,null,null,0,null,null,null,null,0,null,null,null,null,0,null,null,null,null,0]
[null,null,18,"ス    キ    ー",0,0,0,0,0,null,null,null,0,null,null,null,null,0,null,null,null,null,0,null,null,null,null,0,null,null,null,null,0,null,null,null,null,0,null,null,null,null,0,null,null,null,null,0,null,null,null,null,0,null,null,null,null,0,null,null,null,null,0,null,null,null,null,0,null,null,null,null,0,null,null,null,null,0,null,null,null,null,0,null,null,null,null,0,null,null,null,null,0,null,null,null,null,0,null,null,null,null,0,null,null,null,null,0,null,null,null,null,0,null,null,null,null,0,null,null,null,null,0,null,null,null,null,0,null,null,null,null,0,null,null,null,null,0,null,null,null,null,0]
[null,null,19,"ス  ケ  ー  ト",0,0,0,0,0,null,null,null,0,null,null,null,null,0,null,null,null,null,0,null,null,null,null,0,null,null,null,null,0,null,null,null,null,0,null,null,null,null,0,null,null,null,null,0,null,null,null,null,0,null,null,null,null,0,null,null,null,null,0,null,null,null,null,0,null,null,null,null,0,null,null,null,null,0,null,null,null,null,0,null,null,null,null,0,null,null,null,null,0,null,null,null,null,0,null,null,null,null,0,null,null,null,null,0,null,null,null,null,0,null,null,null,null,0,null,null,null,null,0,null,null,null,null,0,null,null,null,null,0,null,null,null,null,0,null,null,null,null,0]
[null,null,20,"アイスホッケー",0,0,0,0,0,null,null,null,0,null,null,null,null,0,null,null,null,null,0,null,null,null,null,0,null,null,null,null,0,null,null,null,null,0,null,null,null,null,0,null,null,null,null,0,null,null,null,null,0,null,null,null,null,0,null,null,null,null,0,null,null,null,null,0,null,null,null,null,0,null,null,null,null,0,null,null,null,null,0,null,null,null,null,0,null,null,null,null,0,null,null,null,null,0,null,null,null,null,0,null,null,null,null,0,null,null,null,null,0,null,null,null,null,0,null,null,null,null,0,null,null,null,null,0,null,null,null,null,0,null,null,null,null,0,null,null,null,null,0]
[null,null,21,"テ　　ニ　　ス",0,0,0,0,0,null,null,null,0,null,null,null,null,0,null,null,null,null,0,null,null,null,null,0,null,null,null,null,0,null,null,null,null,0,null,null,null,null,0,null,null,null,null,0,null,null,null,null,0,null,null,null,null,0,null,null,null,null,0,null,null,null,null,0,null,null,null,null,0,null,null,null,null,0,null,null,null,null,0,null,null,null,null,0,null,null,null,null,0,null,null,null,null,0,null,null,null,null,0,null,null,null,null,0,null,null,null,null,0,null,null,null,null,0,null,null,null,null,0,null,null,null,null,0,null,null,null,null,0,null,null,null,null,0,null,null,null,null,0]
[null,null,22,"空　　　手",0,0,0,0,0,null,null,null,0,null,null,null,null,0,null,null,null,null,0,null,null,null,null,0,null,null,null,null,0,null,null,null,null,0,null,null,null,null,0,null,null,null,null,0,null,null,null,null,0,null,null,null,null,0,null,null,null,null,0,null,null,null,null,0,null,null,null,null,0,null,null,null,null,0,null,null,null,null,0,null,null,null,null,0,null,null,null,null,0,null,null,null,null,0,null,null,null,null,0,null,null,null,null,0,null,null,null,null,0,null,null,null,null,0,null,null,null,null,0,null,null,null,null,0,null,null,null,null,0,null,null,null,null,0,null,null,null,null,0]
[null,null,23,"ラ　グ　ビ　ー",0,0,0,0,0,null,null,null,{"$f":"SUM(J27:L27)","v":0},null,null,null,null,{"$f":"SUM(O27:Q27)","v":0},null,null,null,null,{"$f":"SUM(T27:V27)","v":0},null,null,null,null,{"$f":"SUM(Y27:AA27)","v":0},null,null,null,null,{"$f":"SUM(AD27:AF27)","v":0},null,null,null,null,{"$f":"SUM(AI27:AK27)","v":0},null,null,null,null,{"$f":"SUM(AN27:AP27)","v":0},null,null,null,null,{"$f":"SUM(AS27:AU27)","v":0},null,null,null,null,{"$f":"SUM(AX27:AZ27)","v":0},null,null,null,null,{"$f":"SUM(BC27:BE27)","v":0},null,null,null,null,{"$f":"SUM(BH27:BJ27)","v":0},null,null,null,null,{"$f":"SUM(BM27:BO27)","v":0},null,null,null,null,{"$f":"SUM(BR27:BT27)","v":0},null,null,null,null,{"$f":"SUM(BW27:BY27)","v":0},null,null,null,null,{"$f":"SUM(CB27:CD27)","v":0},null,null,null,null,{"$f":"SUM(CG27:CI27)","v":0},null,null,null,null,{"$f":"SUM(CL27:CN27)","v":0},null,null,null,null,{"$f":"SUM(CQ27:CS27)","v":0},null,null,null,null,{"$f":"SUM(CV27:CX27)","v":0},null,null,null,null,{"$f":"SUM(DA27:DC27)","v":0},null,null,null,null,{"$f":"SUM(DF27:DH27)","v":0},null,null,null,null,{"$f":"SUM(DK27:DM27)","v":0},null,null,null,null,{"$f":"SUM(DP27:DR27)","v":0},null,null,null,null,{"$f":"SUM(DU27:DW27)","v":0},null,null,null,null,{"$f":"SUM(DZ27:EB27)","v":0},null,null,null,null,{"$f":"SUM(EE27:EG27)","v":0},null,null,null,null,{"$f":"SUM(EJ27:EL27)","v":0}]
[null,null,null,null,0,0,0,0,0]
[null,null,null,null,0,0,0,0,0]
[null,null,null,null,0,0,0,0,0]
[null,null,"男　子　合　計 (名)",null,0,0,0,0,0,{"$f":"SUM(J5:J30)","v":0},0,0,{"$f":"SUM(M5:M30)","v":0},0,0,0,0,0,0,0,0,0,0,0,0,0,0,0,0,0,0,0,0,0,0,0,0,0,0,0,0,0,0,0,0,0,0,0,0,0,0,0,0,0,0,0,0,0,0,0,0,0,0,0,0,0,0,0,0,0,0,0,0,{"$f":"SUM(BV5:BV30)","v":0},{"$f":"SUM(BW5:BW30)","v":0},0,0,0,0,0,0,0,0,0,0,0,0,0,0,0,0,0,0,0,0,0,0,0,0,0,0,0,0,0,0,0,0,0,0,0,0,0,0,0,0,0,0,0,0,0,0,0,0,0,0,0,0,0,0,0,0,0,0,0,0,0,0,0,{"$f":"SUM(EI5:EI30)","v":0},0,0,0,0,0]
[null,null,"男 子 在 籍 数 (名)",null,{"$f":"J32+O32+T32+Y32+AD32+AI32+AN32+AS32+AX32+BC32+BH32+BM32+BR32+BW32+CB32+CG32+CL32+CQ32+CV32+DA32+DF32+DK32+DP32+DU32+DZ32","v":0},{"$f":"K32+P32+U32+Z32+AE32+AJ32+AO32+AT32+AY32+BD32+BI32+BN32+BS32+BX32+CC32+CH32+CM32+CR32+CW32+DB32+DG32+DL32+DQ32+DV32+EA32","v":0},{"$f":"L32+Q32+V32+AA32+AF32+AK32+AP32+AU32+AZ32+BE32+BJ32+BO32+BT32+BY32+CD32+CI32+CN32+CS32+CX32+DC32+DH32+DM32+DR32+DW32+EB32","v":0},{"$f":"M32+R32+W32+AB32+AG32+AL32+AQ32+AV32+BA32+BF32+BK32+BP32+BU32+BZ32+CE32+CJ32+CO32+CT32+CY32+DD32+DI32+DN32+DS32+DX32+EC32","v":0},null,null,null,null,{"$f":"SUM(J32:L32)","v":0},null,null,null,null,{"$f":"SUM(O32:Q32)","v":0},null,null,null,null,{"$f":"SUM(T32:V32)","v":0},null,null,null,null,{"$f":"SUM(Y32:AA32)","v":0},null,null,null,null,{"$f":"SUM(AD32:AF32)","v":0},null,null,null,null,{"$f":"SUM(AI32:AK32)","v":0},null,null,null,null,{"$f":"SUM(AN32:AP32)","v":0},null,null,null,null,{"$f":"SUM(AS32:AU32)","v":0},null,null,null,null,{"$f":"SUM(AX32:AZ32)","v":0},null,null,null,null,{"$f":"SUM(BC32:BE32)","v":0},null,null,null,null,{"$f":"SUM(BH32:BJ32)","v":0},null,null,null,null,{"$f":"SUM(BM32:BO32)","v":0},null,null,null,null,{"$f":"SUM(BR32:BT32)","v":0},null,null,null,null,{"$f":"SUM(BW32:BY32)","v":0},null,null,null,null,{"$f":"SUM(CB32:CD32)","v":0},null,null,null,null,{"$f":"SUM(CG32:CI32)","v":0},null,null,null,null,{"$f":"SUM(CL32:CN32)","v":0},null,null,null,null,{"$f":"SUM(CQ32:CS32)","v":0},null,null,null,null,{"$f":"SUM(CV32:CX32)","v":0},null,null,null,null,{"$f":"SUM(DA32:DC32)","v":0},null,null,null,null,{"$f":"SUM(DF32:DH32)","v":0},null,null,null,null,{"$f":"SUM(DK32:DM32)","v":0},null,null,null,null,{"$f":"SUM(DP32:DR32)","v":0},null,null,null,null,{"$f":"SUM(DU32:DW32)","v":0},null,null,null,null,{"$f":"SUM(DZ32:EB32)","v":0},null,null,null,null,{"$f":"SUM(EE32:EG32)","v":0},null,null,null,null,{"$f":"SUM(EJ32:EL32)","v":0}]
[null,null,"男 子 入 部 率 (％)",null,{"$f":"E31/E32*100","v":{"$error":"#DIV/0!"}},{"$f":"F31/F32*100","v":{"$error":"#DIV/0!"}},{"$f":"G31/G32*100","v":{"$error":"#DIV/0!"}},{"$f":"H31/H32*100","v":{"$error":"#DIV/0!"}},null,{"$f":"J31/J32*100","v":{"$error":"#DIV/0!"}},{"$error":"#DIV/0!"},{"$error":"#DIV/0!"},{"$error":"#DIV/0!"},null,{"$error":"#DIV/0!"},{"$error":"#DIV/0!"},{"$error":"#DIV/0!"},{"$f":"R31/R32*100","v":{"$error":"#DIV/0!"}},null,{"$error":"#DIV/0!"},{"$error":"#DIV/0!"},{"$error":"#DIV/0!"},{"$f":"W31/W32*100","v":{"$error":"#DIV/0!"}},null,{"$error":"#DIV/0!"},{"$error":"#DIV/0!"},{"$error":"#DIV/0!"},{"$f":"AB31/AB32*100","v":{"$error":"#DIV/0!"}},null,{"$error":"#DIV/0!"},{"$error":"#DIV/0!"},{"$error":"#DIV/0!"},{"$f":"AG31/AG32*100","v":{"$error":"#DIV/0!"}},null,{"$error":"#DIV/0!"},{"$error":"#DIV/0!"},{"$error":"#DIV/0!"},{"$f":"AL31/AL32*100","v":{"$error":"#DIV/0!"}},null,{"$error":"#DIV/0!"},{"$error":"#DIV/0!"},{"$error":"#DIV/0!"},{"$f":"AQ31/AQ32*100","v":{"$error":"#DIV/0!"}},null,{"$error":"#DIV/0!"},{"$error":"#DIV/0!"},{"$error":"#DIV/0!"},{"$f":"AV31/AV32*100","v":{"$error":"#DIV/0!"}},null,{"$error":"#DIV/0!"},{"$error":"#DIV/0!"},{"$error":"#DIV/0!"},{"$f":"BA31/BA32*100","v":{"$error":"#DIV/0!"}},null,{"$error":"#DIV/0!"},{"$error":"#DIV/0!"},{"$error":"#DIV/0!"},{"$f":"BF31/BF32*100","v":{"$error":"#DIV/0!"}},null,{"$error":"#DIV/0!"},{"$error":"#DIV/0!"},{"$error":"#DIV/0!"},{"$f":"BK31/BK32*100","v":{"$error":"#DIV/0!"}},null,{"$error":"#DIV/0!"},{"$error":"#DIV/0!"},{"$error":"#DIV/0!"},{"$f":"BP31/BP32*100","v":{"$error":"#DIV/0!"}},null,{"$error":"#DIV/0!"},{"$error":"#DIV/0!"},{"$error":"#DIV/0!"},{"$f":"BU31/BU32*100","v":{"$error":"#DIV/0!"}},null,{"$f":"BW31/BW32*100","v":{"$error":"#DIV/0!"}},{"$error":"#DIV/0!"},{"$error":"#DIV/0!"},{"$error":"#DIV/0!"},null,{"$error":"#DIV/0!"},{"$error":"#DIV/0!"},{"$error":"#DIV/0!"},{"$error":"#DIV/0!"},null,{"$error":"#DIV/0!"},{"$error":"#DIV/0!"},{"$error":"#DIV/0!"},{"$error":"#DIV/0!"},null,{"$error":"#DIV/0!"},{"$error":"#DIV/0!"},{"$error":"#DIV/0!"},{"$error":"#DIV/0!"},null,{"$error":"#DIV/0!"},{"$error":"#DIV/0!"},{"$error":"#DIV/0!"},{"$error":"#DIV/0!"},null,{"$error":"#DIV/0!"},{"$error":"#DIV/0!"},{"$error":"#DIV/0!"},{"$error":"#DIV/0!"},null,{"$error":"#DIV/0!"},{"$error":"#DIV/0!"},{"$error":"#DIV/0!"},{"$error":"#DIV/0!"},null,{"$error":"#DIV/0!"},{"$error":"#DIV/0!"},{"$error":"#DIV/0!"},{"$error":"#DIV/0!"},null,{"$error":"#DIV/0!"},{"$error":"#DIV/0!"},{"$error":"#DIV/0!"},{"$error":"#DIV/0!"},null,{"$error":"#DIV/0!"},{"$error":"#DIV/0!"},{"$error":"#DIV/0!"},{"$error":"#DIV/0!"},null,{"$error":"#DIV/0!"},{"$error":"#DIV/0!"},{"$error":"#DIV/0!"},{"$error":"#DIV/0!"},null,{"$error":"#DIV/0!"},{"$error":"#DIV/0!"},{"$error":"#DIV/0!"},{"$error":"#DIV/0!"},null,{"$error":"#DIV/0!"},{"$error":"#DIV/0!"},{"$error":"#DIV/0!"},{"$error":"#DIV/0!"},null,{"$error":"#DIV/0!"},{"$error":"#DIV/0!"},{"$f":"EL31/EL32*100","v":{"$error":"#DIV/0!"}},{"$f":"EM31/EM32*100","v":{"$error":"#DIV/0!"}}]
[null,null,1,"体　操　競　技",{"$f":"J34+O34+T34+Y34+AD34+AI34+AN34+AS34+AX34+BC34+BH34+BM34+BR34+BW34+CB34+CG34+CL34+CQ34+CV34+DA34+DF34+DK34+DP34+DU34+DZ34","v":0},0,0,0,0,null,null,null,{"$f":"J34+K34+L34","v":0},null,null,null,null,{"$f":"O34+P34+Q34","v":0},null,null,null,null,{"$f":"T34+U34+V34","v":0},null,null,null,null,{"$f":"Y34+Z34+AA34","v":0},null,null,null,null,{"$f":"AD34+AE34+AF34","v":0},null,null,null,null,{"$f":"AI34+AJ34+AK34","v":0},null,null,null,null,{"$f":"AN34+AO34+AP34","v":0},null,null,null,null,{"$f":"AS34+AT34+AU34","v":0},null,null,null,null,{"$f":"AX34+AY34+AZ34","v":0},null,null,null,null,{"$f":"BC34+BD34+BE34","v":0},null,null,null,null,{"$f":"BH34+BI34+BJ34","v":0},null,null,null,null,{"$f":"BM34+BN34+BO34","v":0},null,null,null,null,{"$f":"BR34+BS34+BT34","v":0},null,null,null,null,{"$f":"BW34+BX34+BY34","v":0},null,null,null,null,{"$f":"CB34+CC34+CD34","v":0},null,null,null,null,{"$f":"CG34+CH34+CI34","v":0},null,null,null,null,{"$f":"CL34+CM34+CN34","v":0},null,null,null,null,{"$f":"CQ34+CR34+CS34","v":0},null,null,null,null,{"$f":"CV34+CW34+CX34","v":0},null,null,null,null,{"$f":"DA34+DB34+DC34","v":0},null,null,null,null,{"$f":"DF34+DG34+DH34","v":0},null,null,null,null,{"$f":"DK34+DL34+DM34","v":0},null,null,null,null,{"$f":"DP34+DQ34+DR34","v":0},null,null,null,null,{"$f":"DU34+DV34+DW34","v":0},null,null,null,null,{"$f":"DZ34+EA34+EB34","v":0},null,null,null,null,{"$f":"EE34+EF34+EG34","v":0},null,null,null,null,{"$f":"EJ34+EK34+EL34","v":0}]
[null,null,2,"新    体    操",0,0,0,0,0,null,null,null,0,null,null,null,null,0,null,null,null,null,0,null,null,null,null,0,null,null,null,null,0,null,null,null,null,0,null,null,null,null,0,null,null,null,null,0,null,null,null,null,0,null,null,null,null,0,null,null,null,null,0,null,null,null,null,0,null,null,null,null,0,null,null,null,null,0,null,null,null,null,0,null,null,null,null,0,null,null,null,null,0,null,null,null,null,0,null,null,null,null,0,null,null,null,null,0,null,null,null,null,0,null,null,null,null,0,null,null,null,null,0,null,null,null,null,0,null,null,null,null,0,null,null,null,null,0,null,null,null,null,0]
[null,null,3,"軟　式　野　球",0,0,0,0,0,null,null,null,0,null,null,null,null,0,null,null,null,null,0,null,null,null,null,0,null,null,null,null,0,null,null,null,null,0,null,null,null,null,0,null,null,null,null,0,null,null,null,null,0,null,null,null,null,0,null,null,null,null,0,null,null,null,null,0,null,null,null,null,0,null,null,null,null,0,null,null,null,null,0,null,null,null,null,0,null,null,null,null,0,null,null,null,null,0,null,null,null,null,0,null,null,null,null,0,null,null,null,null,0,null,null,null,null,0,null,null,null,null,0,null,null,null,null,0,null,null,null,null,0,null,null,null,null,0,null,null,null,null,0]
[null,null,4,"ソフトボール",0,0,0,0,0,null,null,null,0,null,null,null,null,0,null,null,null,null,0,null,null,null,null,0,null,null,null,null,0,null,null,null,null,0,null,null,null,null,0,null,null,null,null,0,null,null,null,null,0,null,null,null,null,0,null,null,null,null,0,null,null,null,null,0,null,null,null,null,0,null,null,null,null,0,null,null,null,null,0,null,null,null,null,0,null,null,null,null,0,null,null,null,null,0,null,null,null,null,0,null,null,null,null,0,null,null,null,null,0,null,null,null,null,0,null,null,null,null,0,null,null,null,null,0,null,null,null,null,0,null,null,null,null,0,null,null,null,null,0]
[null,null,5,"バスケットボール",0,0,0,0,0,null,null,null,0,null,null,null,null,0,null,null,null,null,0,null,null,null,null,0,null,null,null,null,0,null,null,null,null,0,null,null,null,null,0,null,null,null,null,0,null,null,null,null,0,null,null,null,null,0,null,null,null,null,0,null,null,null,null,0,null,null,null,null,0,null,null,null,null,0,null,null,null,null,0,null,null,null,null,0,null,null,null,null,0,null,null,null,null,0,null,null,null,null,0,null,null,null,null,0,null,null,null,null,0,null,null,null,null,0,null,null,null,null,0,null,null,null,null,0,null,null,null,null,0,null,null,null,null,0,null,null,null,null,0]
[null,null,6,"ハンドボール",0,0,0,0,0,null,null,null,0,null,null,null,null,0,null,null,null,null,0,null,null,null,null,0,null,null,null,null,0,null,null,null,null,0,null,null,null,null,0,null,null,null,null,0,null,null,null,null,0,null,null,null,null,0,null,null,null,null,0,null,null,null,null,0,null,null,null,null,0,null,null,null,null,0,null,null,null,null,0,null,null,null,null,0,null,null,null,null,0,null,null,null,null,0,null,null,null,null,0,null,null,null,null,0,null,null,null,null,0,null,null,null,null,0,null,null,null,null,0,null,null,null,null,0,null,null,null,null,0,null,null,null,null,0,null,null,null,null,0]
[null,"女",7,"バレーボール",0,0,0,0,0,null,null,null,0,null,null,null,null,0,null,null,null,null,0,null,null,null,null,0,null,null,null,null,0,null,null,null,null,0,null,null,null,null,0,null,null,null,null,0,null,null,null,null,0,null,null,null,null,0,null,null,null,null,0,null,null,null,null,0,null,null,null,null,0,null,null,null,null,0,null,null,null,null,0,null,null,null,null,0,null,null,null,null,0,null,null,null,null,0,null,null,null,null,0,null,null,null,null,0,null,null,null,null,0,null,null,null,null,0,null,null,null,null,0,null,null,null,null,0,null,null,null,null,0,null,null,null,null,0,null,null,null,null,0]
[null,null,8,"ソフトテニス",0,0,0,0,0,null,null,null,0,null,null,null,null,0,null,null,null,null,0,null,null,null,null,0,null,null,null,null,0,null,null,null,null,0,null,null,null,null,0,null,null,null,null,0,null,null,null,null,0,null,null,null,null,0,null,null,null,null,0,null,null,null,null,0,null,null,null,null,0,null,null,null,null,0,null,null,null,null,0,null,null,null,null,0,null,null,null,null,0,null,null,null,null,0,null,null,null,null,0,null,null,null,null,0,null,null,null,null,0,null,null,null,null,0,null,null,null,null,0,null,null,null,null,0,null,null,null,null,0,null,null,null,null,0,null,null,null,null,0]
[null,null,9,"卓    球",0,0,0,0,0,null,null,null,0,null,null,null,null,0,null,null,null,null,0,null,null,null,null,0,null,null,null,null,0,null,null,null,null,0,null,null,null,null,0,null,null,null,null,0,null,null,null,null,0,null,null,null,null,0,null,null,null,null,0,null,null,null,null,0,null,null,null,null,0,null,null,null,null,0,null,null,null,null,0,null,null,null,null,0,null,null,null,null,0,null,null,null,null,0,null,null,null,null,0,null,null,null,null,0,null,null,null,null,0,null,null,null,null,0,null,null,null,null,0,null,null,null,null,0,null,null,null,null,0,null,null,null,null,0,null,null,null,null,0]
[null,null,10,"バドミントン",0,0,0,0,0,null,null,null,0,null,null,null,null,0,null,null,null,null,0,null,null,null,null,0,null,null,null,null,0,null,null,null,null,0,null,null,null,null,0,null,null,null,null,0,null,null,null,null,0,null,null,null,null,0,null,null,null,null,0,null,null,null,null,0,null,null,null,null,0,null,null,null,null,0,null,null,null,null,0,null,null,null,null,0,null,null,null,null,0,null,null,null,null,0,null,null,null,null,0,null,null,null,null,0,null,null,null,null,0,null,null,null,null,0,null,null,null,null,0,null,null,null,null,0,null,null,null,null,0,null,null,null,null,0,null,null,null,null,0]
[null,null,11,"サッカー",0,0,0,0,0,null,null,null,0,null,null,null,null,0,null,null,null,null,0,null,null,null,null,0,null,null,null,null,0,null,null,null,null,0,null,null,null,null,0,null,null,null,null,0,null,null,null,null,0,null,null,null,null,0,null,null,null,null,0,null,null,null,null,0,null,null,null,null,0,null,null,null,null,0,null,null,null,null,0,null,null,null,null,0,null,null,null,null,0,null,null,null,null,0,null,null,null,null,0,null,null,null,null,0,null,null,null,null,0,null,null,null,null,0,null,null,null,null,0,null,null,null,null,0,null,null,null,null,0,null,null,null,null,0,null,null,null,null,0]
[null,null,12,"陸　上　競　技",0,0,0,0,0,null,null,null,0,null,null,null,null,0,null,null,null,null,0,null,null,null,null,0,null,null,null,null,0,null,null,null,null,0,null,null,null,null,0,null,null,null,null,0,null,null,null,null,0,null,null,null,null,0,null,null,null,null,0,null,null,null,null,0,null,null,null,null,0,null,null,null,null,0,null,null,null,null,0,null,null,null,null,0,null,null,null,null,0,null,null,null,null,0,null,null,null,null,0,null,null,null,null,0,null,null,null,null,0,null,null,null,null,0,null,null,null,null,0,null,null,null,null,0,null,null,null,null,0,null,null,null,null,0,null,null,null,null,0]
[null,null,13,"水　　泳",0,0,0,0,0,null,null,null,0,null,null,null,null,0,null,null,null,null,0,null,null,null,null,0,null,null,null,null,0,null,null,null,null,0,null,null,null,null,0,null,null,null,null,0,null,null,null,null,0,null,null,null,null,0,null,null,null,null,0,null,null,null,null,0,null,null,null,null,0,null,null,null,null,0,null,null,null,null,0,null,null,null,null,0,null,null,null,null,0,null,null,null,null,0,null,null,null,null,0,null,null,null,null,0,null,null,null,null,0,null,null,null,null,0,null,null,null,null,0,null,null,null,null,0,null,null,null,null,0,null,null,null,null,0,null,null,null,null,0]
[null,"子",14,"柔　　道",0,0,0,0,0,null,null,null,0,null,null,null,null,0,null,null,null,null,0,null,null,null,null,0,null,null,null,null,0,null,null,null,null,0,null,null,null,null,0,null,null,null,null,0,null,null,null,null,0,null,null,null,null,0,null,null,null,null,0,null,null,null,null,0,null,null,null,null,0,null,null,null,null,0,null,null,null,null,0,null,null,null,null,0,null,null,null,null,0,null,null,null,null,0,null,null,null,null,0,null,null,null,null,0,null,null,null,null,0,null,null,null,null,0,null,null,null,null,0,null,null,null,null,0,null,null,null,null,0,null,null,null,null,0,null,null,null,null,0]
[null,null,15,"剣　　道",0,0,0,0,0,null,null,null,0,null,null,null,null,0,null,null,null,null,0,null,null,null,null,0,null,null,null,null,0,null,null,null,null,0,null,null,null,null,0,null,null,null,null,0,null,null,null,null,0,null,null,null,null,0,null,null,null,null,0,null,null,null,null,0,null,null,null,null,0,null,null,null,null,0,null,null,null,null,0,null,null,null,null,0,null,null,null,null,0,null,null,null,null,0,null,null,null,null,0,null,null,null,null,0,null,null,null,null,0,null,null,null,null,0,null,null,null,null,0,null,null,null,null,0,null,null,null,null,0,null,null,null,null,0,null,null,null,null,0]
[null,null,16,"ダ    ン    ス",0,0,0,0,0,null,null,null,0,null,null,null,null,0,null,null,null,null,0,null,null,null,null,0,null,null,null,null,0,null,null,null,null,0,null,null,null,null,0,null,null,null,null,0,null,null,null,null,0,null,null,null,null,0,null,null,null,null,0,null,null,null,null,0,null,null,null,null,0,null,null,null,null,0,null,null,null,null,0,null,null,null,null,0,null,null,null,null,0,null,null,null,null,0,null,null,null,null,0,null,null,null,null,0,null,null,null,null,0,null,null,null,null,0,null,null,null,null,0,null,null,null,null,0,null,null,null,null,0,null,null,null,null,0,null,null,null,null,0]
[null,null,17,"ス    キ    ー",0,0,0,0,0,null,null,null,0,null,null,null,null,0,null,null,null,null,0,null,null,null,null,0,null,null,null,null,0,null,null,null,null,0,null,null,null,null,0,null,null,null,null,0,null,null,null,null,0,null,null,null,null,0,null,null,null,null,0,null,null,null,null,0,null,null,null,null,0,null,null,null,null,0,null,null,null,null,0,null,null,null,null,0,null,null,null,null,0,null,null,null,null,0,null,null,null,null,0,null,null,null,null,0,null,null,null,null,0,null,null,null,null,0,null,null,null,null,0,null,null,null,null,0,null,null,null,null,0,null,null,null,null,0,null,null,null,null,0]
[null,null,18,"ス  ケ  ー  ト",0,0,0,0,0,null,null,null,0,null,null,null,null,0,null,null,null,null,0,null,null,null,null,0,null,null,null,null,0,null,null,null,null,0,null,null,null,null,0,null,null,null,null,0,null,null,null,null,0,null,null,null,null,0,null,null,null,null,0,null,null,null,null,0,null,null,null,null,0,null,null,null,null,0,null,null,null,null,0,null,null,null,null,0,null,null,null,null,0,null,null,null,null,0,null,null,null,null,0,null,null,null,null,0,null,null,null,null,0,null,null,null,null,0,null,null,null,null,0,null,null,null,null,0,null,null,null,null,0,null,null,null,null,0,null,null,null,null,0]
[null,null,19,"アイスホッケー",0,0,0,0,0,null,null,null,0,null,null,null,null,0,null,null,null,null,0,null,null,null,null,0,null,null,null,null,0,null,null,null,null,0,null,null,null,null,0,null,null,null,null,0,null,null,null,null,0,null,null,null,null,0,null,null,null,null,0,null,null,null,null,0,null,null,null,null,0,null,null,null,null,0,null,null,null,null,0,null,null,null,null,0,null,null,null,null,0,null,null,null,null,0,null,null,null,null,0,null,null,null,null,0,null,null,null,null,0,null,null,null,null,0,null,null,null,null,0,null,null,null,null,0,null,null,null,null,0,null,null,null,null,0,null,null,null,null,0]
[null,null,20,"テ　　ニ　　ス",0,0,0,0,0,null,null,null,0,null,null,null,null,0,null,null,null,null,0,null,null,null,null,0,null,null,null,null,0,null,null,null,null,0,null,null,null,null,0,null,null,null,null,0,null,null,null,null,0,null,null,null,null,0,null,null,null,null,0,null,null,null,null,0,null,null,null,null,0,null,null,null,null,0,null,null,null,null,0,null,null,null,null,0,null,null,null,null,0,null,null,null,null,0,null,null,null,null,0,null,null,null,null,0,null,null,null,null,0,null,null,null,null,0,null,null,null,null,0,null,null,null,null,0,null,null,null,null,0,null,null,null,null,0,null,null,null,null,0]
[null,null,21,"弓　　道　",0,0,0,0,0,null,null,null,0,null,null,null,null,0,null,null,null,null,0,null,null,null,null,0,null,null,null,null,0,null,null,null,null,0,null,null,null,null,0,null,null,null,null,0,null,null,null,null,0,null,null,null,null,0,null,null,null,null,0,null,null,null,null,0,null,null,null,null,0,null,null,null,null,0,null,null,null,null,0,null,null,null,null,0,null,null,null,null,0,null,null,null,null,0,null,null,null,null,0,null,null,null,null,0,null,null,null,null,0,null,null,null,null,0,null,null,null,null,0,null,null,null,null,0,null,null,null,null,0,null,null,null,null,0,null,null,null,null,0]
[null,null,22,"空　　手",0,0,0,0,0,null,null,null,0,null,null,null,null,0,null,null,null,null,0,null,null,null,null,0,null,null,null,null,0,null,null,null,null,0,null,null,null,null,0,null,null,null,null,0,null,null,null,null,0,null,null,null,null,0,null,null,null,null,0,null,null,null,null,{"$f":"BM55+BN55+BO55","v":0},null,null,null,null,0,null,null,null,null,0,null,null,null,null,0,null,null,null,null,0,null,null,null,null,0,null,null,null,null,0,null,null,null,null,0,null,null,null,null,0,null,null,null,null,0,null,null,null,null,0,null,null,null,null,0,null,null,null,null,0,null,null,null,null,0,null,null,null,null,0,null,null,null,null,0]
[null,null,null,null,0,0,0,0,0,null,null,null,0,null,null,null,null,0,null,null,null,null,0,null,null,null,null,0,null,null,null,null,0,null,null,null,null,0,null,null,null,null,0,null,null,null,null,0,null,null,null,null,0,null,null,null,null,0,null,null,null,null,0,null,null,null,null,0,null,null,null,null,0,null,null,null,null,0,null,null,null,null,0,null,null,null,null,0,null,null,null,null,0,null,null,null,null,0,null,null,null,null,0,null,null,null,null,0,null,null,null,null,0,null,null,null,null,0,null,null,null,null,0,null,null,null,null,0,null,null,null,null,0,null,null,null,null,0,null,null,null,null,0]
[null,null,null,null,0,0,0,0,0,null,null,null,0,null,null,null,null,0,null,null,null,null,0,null,null,null,null,0,null,null,null,null,0,null,null,null,null,0,null,null,null,null,0,null,null,null,null,0,null,null,null,null,0,null,null,null,null,0,null,null,null,null,0,null,null,null,null,0,null,null,null,null,0,null,null,null,null,0,null,null,null,null,0,null,null,null,null,0,null,null,null,null,0,null,null,null,null,0,null,null,null,null,0,null,null,null,null,0,null,null,null,null,0,null,null,null,null,0,null,null,null,null,0,null,null,null,null,0,null,null,null,null,0,null,null,null,null,0,null,null,null,null,0]
[null,null,null,null,0,0,0,0,0,null,null,null,0,null,null,null,null,0,null,null,null,null,0,null,null,null,null,0,null,null,null,null,0,null,null,null,null,0,null,null,null,null,0,null,null,null,null,0,null,null,null,null,0,null,null,null,null,0,null,null,null,null,0,null,null,null,null,0,null,null,null,null,0,null,null,null,null,0,null,null,null,null,0,null,null,null,null,0,null,null,null,null,0,null,null,null,null,0,null,null,null,null,0,null,null,null,null,0,null,null,null,null,0,null,null,null,null,0,null,null,null,null,0,null,null,null,null,0,null,null,null,null,0,null,null,null,null,0,null,null,null,null,0]
[null,null,"女　子　合　計 (名)",null,0,0,0,0,0,{"$f":"SUM(J34:J58)","v":0},0,0,0,0,0,0,0,0,0,0,0,0,0,0,0,0,0,0,0,0,0,0,0,0,0,0,0,0,0,0,0,{"$f":"SUM(AP34:AP58)","v":0},0,0,0,0,0,0,0,0,0,0,0,0,0,0,0,0,0,0,0,0,0,0,0,0,0,0,0,0,0,0,0,{"$f":"SUM(BV34:BV58)","v":0},0,0,0,0,0,0,0,0,0,0,0,0,0,0,0,0,0,0,0,0,0,0,0,0,0,0,0,0,0,0,0,{"$f":"SUM(DB34:DB58)","v":0},0,0,0,0,0,0,0,0,0,0,0,0,0,0,0,0,0,0,0,0,0,0,0,0,0,0,0,0,0,0,0,{"$f":"SUM(EH34:EH58)","v":0},0,0,0,0,0,0]
[null,null,"女 子 在 籍 数 (名)",null,{"$f":"J60+O60+T60+Y60+AD60+AI60+AN60+AS60+AX60+BC60+BH60+BM60+BR60+BW60+CB60+CG60+CL60+CQ60+CV60+DA60+DF60+DK60+DP60+DU60+DZ60","v":0},{"$f":"K60+P60+U60+Z60+AE60+AJ60+AO60+AT60+AY60+BD60+BI60+BN60+BS60+BX60+CC60+CH60+CM60+CR60+CW60+DB60+DG60+DL60+DQ60+DV60+EA60","v":0},{"$f":"L60+Q60+V60+AA60+AF60+AK60+AP60+AU60+AZ60+BE60+BJ60+BO60+BT60+BY60+CD60+CI60+CN60+CS60+CX60+DC60+DH60+DM60+DR60+DW60+EB60","v":0},{"$f":"M60+R60+W60+AB60+AG60+AL60+AQ60+AV60+BA60+BF60+BK60+BP60+BU60+BZ60+CE60+CJ60+CO60+CT60+CY60+DD60+DI60+DN60+DS60+DX60+EC60","v":0},null,null,null,null,{"$f":"SUM(J60:L60)","v":0},null,null,null,null,{"$f":"SUM(O60:Q60)","v":0},null,null,null,null,{"$f":"SUM(T60:V60)","v":0},null,null,null,null,{"$f":"SUM(Y60:AA60)","v":0},null,null,null,null,{"$f":"SUM(AD60:AF60)","v":0},null,null,null,null,{"$f":"SUM(AI60:AK60)","v":0},null,null,null,null,{"$f":"SUM(AN60:AP60)","v":0},null,null,null,null,{"$f":"SUM(AS60:AU60)","v":0},null,null,null,null,{"$f":"SUM(AX60:AZ60)","v":0},null,null,null,null,{"$f":"SUM(BC60:BE60)","v":0},null,null,null,null,{"$f":"SUM(BH60:BJ60)","v":0},null,null,null,null,{"$f":"SUM(BM60:BO60)","v":0},null,null,null,null,{"$f":"SUM(BR60:BT60)","v":0},null,null,null,null,{"$f":"SUM(BW60:BY60)","v":0},null,null,null,null,{"$f":"SUM(CB60:CD60)","v":0},null,null,null,null,{"$f":"SUM(CG60:CI60)","v":0},null,null,null,null,{"$f":"SUM(CL60:CN60)","v":0},null,null,null,null,{"$f":"SUM(CQ60:CS60)","v":0},null,null,null,null,{"$f":"SUM(CV60:CX60)","v":0},null,null,null,null,{"$f":"SUM(DA60:DC60)","v":0},null,null,null,null,{"$f":"SUM(DF60:DH60)","v":0},null,null,null,null,{"$f":"SUM(DK60:DM60)","v":0},null,null,null,null,{"$f":"SUM(DP60:DR60)","v":0},null,null,null,null,{"$f":"SUM(DU60:DW60)","v":0},null,null,null,null,{"$f":"SUM(DZ60:EB60)","v":0},null,null,null,null,{"$f":"SUM(EE60:EG60)","v":0},null,null,null,null,{"$f":"SUM(EJ60:EL60)","v":0}]
[null,null,"女 子 入 部 率 (％)",null,{"$f":"E59/E60*100","v":{"$error":"#DIV/0!"}},{"$f":"F59/F60*100","v":{"$error":"#DIV/0!"}},{"$f":"G59/G60*100","v":{"$error":"#DIV/0!"}},{"$f":"H59/H60*100","v":{"$error":"#DIV/0!"}},null,{"$f":"J59/J60*100","v":{"$error":"#DIV/0!"}},{"$error":"#DIV/0!"},{"$error":"#DIV/0!"},{"$error":"#DIV/0!"},null,{"$error":"#DIV/0!"},{"$error":"#DIV/0!"},{"$error":"#DIV/0!"},{"$f":"R59/R60*100","v":{"$error":"#DIV/0!"}},null,{"$error":"#DIV/0!"},{"$error":"#DIV/0!"},{"$error":"#DIV/0!"},{"$f":"W59/W60*100","v":{"$error":"#DIV/0!"}},null,{"$error":"#DIV/0!"},{"$error":"#DIV/0!"},{"$error":"#DIV/0!"},{"$f":"AB59/AB60*100","v":{"$error":"#DIV/0!"}},null,{"$error":"#DIV/0!"},{"$error":"#DIV/0!"},{"$error":"#DIV/0!"},{"$f":"AG59/AG60*100","v":{"$error":"#DIV/0!"}},null,{"$error":"#DIV/0!"},{"$error":"#DIV/0!"},{"$error":"#DIV/0!"},{"$f":"AL59/AL60*100","v":{"$error":"#DIV/0!"}},null,{"$error":"#DIV/0!"},{"$error":"#DIV/0!"},{"$error":"#DIV/0!"},{"$f":"AQ59/AQ60*100","v":{"$error":"#DIV/0!"}},null,{"$error":"#DIV/0!"},{"$error":"#DIV/0!"},{"$error":"#DIV/0!"},{"$f":"AV59/AV60*100","v":{"$error":"#DIV/0!"}},null,{"$error":"#DIV/0!"},{"$error":"#DIV/0!"},{"$error":"#DIV/0!"},{"$f":"BA59/BA60*100","v":{"$error":"#DIV/0!"}},null,{"$error":"#DIV/0!"},{"$error":"#DIV/0!"},{"$error":"#DIV/0!"},{"$f":"BF59/BF60*100","v":{"$error":"#DIV/0!"}},null,{"$error":"#DIV/0!"},{"$error":"#DIV/0!"},{"$error":"#DIV/0!"},{"$f":"BK59/BK60*100","v":{"$error":"#DIV/0!"}},null,{"$error":"#DIV/0!"},{"$error":"#DIV/0!"},{"$error":"#DIV/0!"},{"$f":"BP59/BP60*100","v":{"$error":"#DIV/0!"}},null,{"$error":"#DIV/0!"},{"$error":"#DIV/0!"},{"$error":"#DIV/0!"},{"$f":"BU59/BU60*100","v":{"$error":"#DIV/0!"}},null,{"$f":"BW59/BW60*100","v":{"$error":"#DIV/0!"}},{"$error":"#DIV/0!"},{"$error":"#DIV/0!"},{"$error":"#DIV/0!"},null,{"$error":"#DIV/0!"},{"$error":"#DIV/0!"},{"$error":"#DIV/0!"},{"$error":"#DIV/0!"},null,{"$error":"#DIV/0!"},{"$error":"#DIV/0!"},{"$error":"#DIV/0!"},{"$error":"#DIV/0!"},null,{"$error":"#DIV/0!"},{"$error":"#DIV/0!"},{"$error":"#DIV/0!"},{"$error":"#DIV/0!"},null,{"$error":"#DIV/0!"},{"$error":"#DIV/0!"},{"$error":"#DIV/0!"},{"$error":"#DIV/0!"},null,{"$error":"#DIV/0!"},{"$error":"#DIV/0!"},{"$error":"#DIV/0!"},{"$error":"#DIV/0!"},null,{"$error":"#DIV/0!"},{"$error":"#DIV/0!"},{"$error":"#DIV/0!"},{"$error":"#DIV/0!"},null,{"$error":"#DIV/0!"},{"$error":"#DIV/0!"},{"$error":"#DIV/0!"},{"$error":"#DIV/0!"},null,{"$error":"#DIV/0!"},{"$error":"#DIV/0!"},{"$error":"#DIV/0!"},{"$error":"#DIV/0!"},null,{"$error":"#DIV/0!"},{"$error":"#DIV/0!"},{"$error":"#DIV/0!"},{"$error":"#DIV/0!"},null,{"$error":"#DIV/0!"},{"$error":"#DIV/0!"},{"$error":"#DIV/0!"},{"$error":"#DIV/0!"},null,{"$error":"#DIV/0!"},{"$error":"#DIV/0!"},{"$error":"#DIV/0!"},{"$error":"#DIV/0!"},null,null,null,null,{"$f":"EH59/EH60*100","v":{"$error":"#DIV/0!"}},null,{"$error":"#DIV/0!"},{"$error":"#DIV/0!"},{"$f":"EL59/EL60*100","v":{"$error":"#DIV/0!"}},{"$f":"EM59/EM60*100","v":{"$error":"#DIV/0!"}}]
[null,null,"男　女　合　計 (名)",null,{"$f":"E31+E59","v":0},0,0,{"$f":"SUM(E62:G62)","v":0},null,{"$f":"J31+J59","v":0},{"$f":"K31+K59","v":0},0,0,0,0,0,0,{"$f":"R31+R59","v":0},0,0,0,0,{"$f":"W31+W59","v":0},0,0,0,0,{"$f":"AB31+AB59","v":0},0,0,0,0,{"$f":"AG31+AG59","v":0},0,0,0,0,{"$f":"AL31+AL59","v":0},0,0,0,0,{"$f":"AQ31+AQ59","v":0},0,0,0,0,{"$f":"AV31+AV59","v":0},0,0,0,0,{"$f":"BA31+BA59","v":0},0,0,0,0,{"$f":"BF31+BF59","v":0},0,0,0,0,{"$f":"BK31+BK59","v":0},0,0,0,0,{"$f":"BP31+BP59","v":0},0,0,0,0,{"$f":"BU31+BU59","v":0},0,{"$f":"BW31+BW59","v":0},0,0,0,0,0,0,0,0,0,0,0,0,0,0,0,0,0,0,0,0,0,0,0,0,0,0,0,0,0,0,0,0,0,0,0,0,0,0,0,0,0,0,0,0,0,0,0,0,0,0,0,0,0,0,0,0,0,0,0,0,0,0,0,{"$f":"EI31+EI59","v":0},0,0,0,0,0]
[null,null,"男 女 在 籍 数 (名)",null,0,0,0,{"$f":"SUM(E63:G63)","v":0},null,{"$f":"J60+J62","v":0},{"$f":"K60+K62","v":0},0,0,0,0,0,0,{"$f":"R60+R62","v":0},0,0,0,0,{"$f":"W60+W62","v":0},0,0,0,0,{"$f":"AB60+AB62","v":0},0,0,0,0,{"$f":"AG60+AG62","v":0},0,0,0,0,{"$f":"AL60+AL62","v":0},0,0,0,0,{"$f":"AQ60+AQ62","v":0},0,0,0,0,{"$f":"AV60+AV62","v":0},0,0,0,0,{"$f":"BA60+BA62","v":0},0,0,0,0,{"$f":"BF60+BF62","v":0},0,0,0,0,{"$f":"BK60+BK62","v":0},0,0,0,0,{"$f":"BP60+BP62","v":0},0,0,0,0,{"$f":"BU60+BU62","v":0},0,{"$f":"BW60+BW62","v":0},0,0,0,0,0,0,0,0,0,0,0,0,0,0,0,0,0,0,0,0,0,0,0,0,0,0,0,0,0,0,0,0,0,0,0,0,0,0,0,0,0,0,0,0,0,0,0,0,0,0,0,0,0,0,0,0,0,0,0,0,0,0,0,{"$f":"EI60+EI62","v":0},0,0,0,0,0]
[null,null,"男 女 入 部 率 (％)",null,{"$f":"E62/E63*100","v":{"$error":"#DIV/0!"}},{"$f":"F62/F63*100","v":{"$error":"#DIV/0!"}},{"$f":"G62/G63*100","v":{"$error":"#DIV/0!"}},{"$f":"H62/H63*100","v":{"$error":"#DIV/0!"}},null,{"$f":"J62/J63*100","v":{"$error":"#DIV/0!"}},{"$error":"#DIV/0!"},{"$error":"#DIV/0!"},{"$error":"#DIV/0!"},null,{"$error":"#DIV/0!"},{"$error":"#DIV/0!"},{"$error":"#DIV/0!"},{"$f":"R62/R63*100","v":{"$error":"#DIV/0!"}},null,{"$error":"#DIV/0!"},{"$error":"#DIV/0!"},{"$error":"#DIV/0!"},{"$f":"W62/W63*100","v":{"$error":"#DIV/0!"}},null,{"$error":"#DIV/0!"},{"$error":"#DIV/0!"},{"$error":"#DIV/0!"},{"$f":"AB62/AB63*100","v":{"$error":"#DIV/0!"}},null,{"$error":"#DIV/0!"},{"$error":"#DIV/0!"},{"$error":"#DIV/0!"},{"$f":"AG62/AG63*100","v":{"$error":"#DIV/0!"}},null,{"$error":"#DIV/0!"},{"$error":"#DIV/0!"},{"$error":"#DIV/0!"},{"$f":"AL62/AL63*100","v":{"$error":"#DIV/0!"}},null,{"$error":"#DIV/0!"},{"$error":"#DIV/0!"},{"$error":"#DIV/0!"},{"$f":"AQ62/AQ63*100","v":{"$error":"#DIV/0!"}},null,{"$error":"#DIV/0!"},{"$error":"#DIV/0!"},{"$error":"#DIV/0!"},{"$f":"AV62/AV63*100","v":{"$error":"#DIV/0!"}},null,{"$error":"#DIV/0!"},{"$error":"#DIV/0!"},{"$error":"#DIV/0!"},{"$f":"BA62/BA63*100","v":{"$error":"#DIV/0!"}},null,{"$error":"#DIV/0!"},{"$error":"#DIV/0!"},{"$error":"#DIV/0!"},{"$f":"BF62/BF63*100","v":{"$error":"#DIV/0!"}},null,{"$error":"#DIV/0!"},{"$error":"#DIV/0!"},{"$error":"#DIV/0!"},{"$f":"BK62/BK63*100","v":{"$error":"#DIV/0!"}},null,{"$error":"#DIV/0!"},{"$error":"#DIV/0!"},{"$error":"#DIV/0!"},{"$f":"BP62/BP63*100","v":{"$error":"#DIV/0!"}},null,{"$error":"#DIV/0!"},{"$error":"#DIV/0!"},{"$error":"#DIV/0!"},{"$f":"BU62/BU63*100","v":{"$error":"#DIV/0!"}},null,{"$f":"BW62/BW63*100","v":{"$error":"#DIV/0!"}},{"$error":"#DIV/0!"},{"$error":"#DIV/0!"},{"$error":"#DIV/0!"},null,{"$error":"#DIV/0!"},{"$error":"#DIV/0!"},{"$error":"#DIV/0!"},{"$error":"#DIV/0!"},null,{"$error":"#DIV/0!"},{"$error":"#DIV/0!"},{"$error":"#DIV/0!"},{"$error":"#DIV/0!"},null,{"$error":"#DIV/0!"},{"$error":"#DIV/0!"},{"$error":"#DIV/0!"},{"$error":"#DIV/0!"},null,{"$error":"#DIV/0!"},{"$error":"#DIV/0!"},{"$error":"#DIV/0!"},{"$error":"#DIV/0!"},null,{"$error":"#DIV/0!"},{"$error":"#DIV/0!"},{"$error":"#DIV/0!"},{"$error":"#DIV/0!"},null,{"$error":"#DIV/0!"},{"$error":"#DIV/0!"},{"$error":"#DIV/0!"},{"$error":"#DIV/0!"},null,{"$error":"#DIV/0!"},{"$error":"#DIV/0!"},{"$error":"#DIV/0!"},{"$error":"#DIV/0!"},null,{"$error":"#DIV/0!"},{"$error":"#DIV/0!"},{"$error":"#DIV/0!"},{"$error":"#DIV/0!"},null,{"$error":"#DIV/0!"},{"$error":"#DIV/0!"},{"$error":"#DIV/0!"},{"$error":"#DIV/0!"},null,{"$error":"#DIV/0!"},{"$error":"#DIV/0!"},{"$error":"#DIV/0!"},{"$error":"#DIV/0!"},null,{"$error":"#DIV/0!"},{"$error":"#DIV/0!"},{"$error":"#DIV/0!"},{"$error":"#DIV/0!"},null,{"$error":"#DIV/0!"},{"$error":"#DIV/0!"},{"$error":"#DIV/0!"},{"$error":"#DIV/0!"},null,{"$error":"#DIV/0!"},{"$error":"#DIV/0!"},{"$f":"EL62/EL63*100","v":{"$error":"#DIV/0!"}},{"$f":"EM62/EM63*100","v":{"$error":"#DIV/0!"}}]

{"sheet":"10富岡甘楽","index":10,"n_rows":64,"n_cols":144,"rows_kept":64,"cut":false,"hidden":false,"merged":[[2,4,2,8]]}
[]
[null,null,"令和８年度　群馬県中学校　運動部員数調査結果    （黄色部分は入力禁止）"]
[null,null,null,null,"１０富岡甘楽(8校)",null,null,null,null,null,"富岡",null,null,null,null,null,null,null,null,null,"西",null,null,null,null,"北",null,null,null,null,"南",null,null,null,null,"妙義",null,null,null,null,"しもにた",null,null,null,null,"なんもく",null,null,null,null,"甘楽"]
[null,null,"№","  競　技　名","１年","２年","３年","合計","設置","１年","２年","３年","合計","設置","１年","２年","３年","合計","設置","１年","２年","３年","合計","設置","１年","２年","３年","合計","設置","１年","２年","３年","合計","設置","１年","２年","３年","合計","設置","１年","２年","３年","合計","設置","１年","２年","３年","合計","設置","１年","２年","３年","合計","設置","１年","２年","３年","合計","設置","１年","２年","３年","合計","設置","１年","２年","３年","合計","設置","１年","２年","３年","合計","設置","１年","２年","３年","合計","設置","１年","２年","３年","合計","設置","１年","２年","３年","合計","設置","１年","２年","３年","合計","設置","１年","２年","３年","合計","設置","１年","２年","３年","合計","設置","１年","２年","３年","合計","設置","１年","２年","３年","合計","設置","１年","２年","３年","合計","設置","１年","２年","３年","合計","設置","１年","２年","３年","合計","設置","１年","２年","３年","合計","設置"]
[null,null,1,"体　操　競　技",{"$f":"J5+O5+T5+Y5+AD5+AI5+AN5+AS5+AX5+BC5+BH5+BM5+BR5+BW5+CB5+CG5+CL5+CQ5+CV5+DA5+DF5+DK5+DP5+DU5+DZ5","v":0},{"$f":"K5+P5+U5+Z5+AE5+AJ5+AO5+AT5+AY5+BD5+BI5+BN5+BS5+BX5+CC5+CH5+CM5+CR5+CW5+DB5+DG5+DL5+DQ5+DV5+EA5","v":0},{"$f":"L5+Q5+V5+AA5+AF5+AK5+AP5+AU5+AZ5+BE5+BJ5+BO5+BT5+BY5+CD5+CI5+CN5+CS5+CX5+DC5+DH5+DM5+DR5+DW5+EB5","v":0},{"$f":"M5+R5+W5+AB5+AG5+AL5+AQ5+AV5+BA5+BF5+BK5+BP5+BU5+BZ5+CE5+CJ5+CO5+CT5+CY5+DD5+DI5+DN5+DS5+DX5+EC5","v":0},{"$f":"N5+S5+X5+AC5+AH5+AM5+AR5+AW5+BB5+BG5+BL5+BQ5+BV5+CA5+CF5+CK5+CP5+CU5+CZ5+DE5+DJ5+DO5+DT5+DY5+ED5","v":0},null,null,null,{"$f":"SUM(J5:L5)","v":0},null,null,null,null,{"$f":"SUM(O5:Q5)","v":0},null,null,null,null,{"$f":"SUM(T5:V5)","v":0},null,null,null,null,{"$f":"SUM(Y5:AA5)","v":0},null,null,null,null,{"$f":"SUM(AD5:AF5)","v":0},null,null,null,null,{"$f":"SUM(AI5:AK5)","v":0},null,null,null,null,{"$f":"SUM(AN5:AP5)","v":0},null,null,null,null,{"$f":"SUM(AS5:AU5)","v":0},null,null,null,null,{"$f":"SUM(AX5:AZ5)","v":0},null,null,null,null,{"$f":"SUM(BC5:BE5)","v":0},null,null,null,null,{"$f":"SUM(BH5:BJ5)","v":0},null,null,null,null,{"$f":"SUM(BM5:BO5)","v":0},null,null,null,null,{"$f":"SUM(BR5:BT5)","v":0},null,null,null,null,{"$f":"SUM(BW5:BY5)","v":0},null,null,null,null,{"$f":"SUM(CB5:CD5)","v":0},null,null,null,null,{"$f":"SUM(CG5:CI5)","v":0},null,null,null,null,{"$f":"SUM(CL5:CN5)","v":0},null,null,null,null,{"$f":"SUM(CQ5:CS5)","v":0},null,null,null,null,{"$f":"SUM(CV5:CX5)","v":0},null,null,null,null,{"$f":"SUM(DA5:DC5)","v":0},null,null,null,null,{"$f":"SUM(DF5:DH5)","v":0},null,null,null,null,{"$f":"SUM(DK5:DM5)","v":0},null,null,null,null,{"$f":"SUM(DP5:DR5)","v":0},null,null,null,null,{"$f":"SUM(DU5:DW5)","v":0},null,null,null,null,{"$f":"SUM(DZ5:EB5)","v":0},null,null,null,null,{"$f":"SUM(EE5:EG5)","v":0},null,null,null,null,{"$f":"SUM(EJ5:EL5)","v":0}]
[null,null,2,"新    体    操",{"$f":"J6+O6+T6+Y6+AD6+AI6+AN6+AS6+AX6+BC6+BH6+BM6+BR6+BW6+CB6+CG6+CL6+CQ6+CV6+DA6+DF6+DK6+DP6+DU6+DZ6","v":0},0,0,0,0,null,null,null,{"$f":"SUM(J6:L6)","v":0},null,null,null,null,{"$f":"SUM(O6:Q6)","v":0},null,null,null,null,{"$f":"SUM(T6:V6)","v":0},null,null,null,null,{"$f":"SUM(Y6:AA6)","v":0},null,null,null,null,{"$f":"SUM(AD6:AF6)","v":0},null,null,null,null,{"$f":"SUM(AI6:AK6)","v":0},null,null,null,null,{"$f":"SUM(AN6:AP6)","v":0},null,null,null,null,{"$f":"SUM(AS6:AU6)","v":0},null,null,null,null,{"$f":"SUM(AX6:AZ6)","v":0},null,null,null,null,{"$f":"SUM(BC6:BE6)","v":0},null,null,null,null,{"$f":"SUM(BH6:BJ6)","v":0},null,null,null,null,{"$f":"SUM(BM6:BO6)","v":0},null,null,null,null,{"$f":"SUM(BR6:BT6)","v":0},null,null,null,null,{"$f":"SUM(BW6:BY6)","v":0},null,null,null,null,{"$f":"SUM(CB6:CD6)","v":0},null,null,null,null,{"$f":"SUM(CG6:CI6)","v":0},null,null,null,null,{"$f":"SUM(CL6:CN6)","v":0},null,null,null,null,{"$f":"SUM(CQ6:CS6)","v":0},null,null,null,null,{"$f":"SUM(CV6:CX6)","v":0},null,null,null,null,{"$f":"SUM(DA6:DC6)","v":0},null,null,null,null,{"$f":"SUM(DF6:DH6)","v":0},null,null,null,null,{"$f":"SUM(DK6:DM6)","v":0},null,null,null,null,{"$f":"SUM(DP6:DR6)","v":0},null,null,null,null,{"$f":"SUM(DU6:DW6)","v":0},null,null,null,null,{"$f":"SUM(DZ6:EB6)","v":0},null,null,null,null,{"$f":"SUM(EE6:EG6)","v":0},null,null,null,null,{"$f":"SUM(EJ6:EL6)","v":0}]
[null,null,3,"軟　式　野　球",{"$f":"J7+O7+T7+Y7+AD7+AI7+AN7+AS7+AX7+BC7+BH7+BM7+BR7+BW7+CB7+CG7+CL7+CQ7+CV7+DA7+DF7+DK7+DP7+DU7+DZ7","v":0},0,0,0,0,null,null,null,0,null,null,null,null,0,null,null,null,null,0,null,null,null,null,0,null,null,null,null,0,null,null,null,null,0,null,null,null,null,0,null,null,null,null,0,null,null,null,null,0,null,null,null,null,0,null,null,null,null,0,null,null,null,null,0,null,null,null,null,0,null,null,null,null,0,null,null,null,null,0,null,null,null,null,0,null,null,null,null,0,null,null,null,null,0,null,null,null,null,0,null,null,null,null,0,null,null,null,null,0,null,null,null,null,0,null,null,null,null,0,null,null,null,null,0,null,null,null,null,0,null,null,null,null,0,null,null,null,null,0]
[null,null,4,"ソフトボール",0,0,0,0,0,null,null,null,0,null,null,null,null,0,null,null,null,null,0,null,null,null,null,0,null,null,null,null,0,null,null,null,null,0,null,null,null,null,0,null,null,null,null,0,null,null,null,null,0,null,null,null,null,0,null,null,null,null,0,null,null,null,null,0,null,null,null,null,0,null,null,null,null,0,null,null,null,null,0,null,null,null,null,0,null,null,null,null,0,null,null,null,null,0,null,null,null,null,0,null,null,null,null,0,null,null,null,null,0,null,null,null,null,0,null,null,null,null,0,null,null,null,null,0,null,null,null,null,0,null,null,null,null,0,null,null,null,null,0]
[null,null,5,"バスケットボール",0,0,0,0,0,null,null,null,0,null,null,null,null,0,null,null,null,null,0,null,null,null,null,0,null,null,null,null,0,null,null,null,null,0,null,null,null,null,0,null,null,null,null,0,null,null,null,null,0,null,null,null,null,0,null,null,null,null,0,null,null,null,null,0,null,null,null,null,0,null,null,null,null,0,null,null,null,null,0,null,null,null,null,0,null,null,null,null,0,null,null,null,null,0,null,null,null,null,0,null,null,null,null,0,null,null,null,null,0,null,null,null,null,0,null,null,null,null,0,null,null,null,null,0,null,null,null,null,0,null,null,null,null,0,null,null,null,null,0]
[null,null,6,"ハンドボール",0,0,0,0,0,null,null,null,0,null,null,null,null,0,null,null,null,null,0,null,null,null,null,0,null,null,null,null,0,null,null,null,null,0,null,null,null,null,0,null,null,null,null,0,null,null,null,null,0,null,null,null,null,0,null,null,null,null,0,null,null,null,null,0,null,null,null,null,0,null,null,null,null,0,null,null,null,null,0,null,null,null,null,0,null,null,null,null,0,null,null,null,null,0,null,null,null,null,0,null,null,null,null,0,null,null,null,null,0,null,null,null,null,0,null,null,null,null,0,null,null,null,null,0,null,null,null,null,0,null,null,null,null,0,null,null,null,null,0]
[null,"男",7,"バレーボール",0,0,0,0,0,null,null,null,0,null,null,null,null,0,null,null,null,null,0,null,null,null,null,0,null,null,null,null,0,null,null,null,null,0,null,null,null,null,0,null,null,null,null,0,null,null,null,null,0,null,null,null,null,0,null,null,null,null,0,null,null,null,null,0,null,null,null,null,0,null,null,null,null,0,null,null,null,null,0,null,null,null,null,0,null,null,null,null,0,null,null,null,null,0,null,null,null,null,0,null,null,null,null,0,null,null,null,null,0,null,null,null,null,0,null,null,null,null,0,null,null,null,null,0,null,null,null,null,0,null,null,null,null,0,null,null,null,null,0]
[null,null,8,"ソフトテニス",0,0,0,0,0,null,null,null,0,null,null,null,null,0,null,null,null,null,0,null,null,null,null,0,null,null,null,null,0,null,null,null,null,0,null,null,null,null,0,null,null,null,null,0,null,null,null,null,0,null,null,null,null,0,null,null,null,null,0,null,null,null,null,0,null,null,null,null,0,null,null,null,null,0,null,null,null,null,0,null,null,null,null,0,null,null,null,null,0,null,null,null,null,0,null,null,null,null,0,null,null,null,null,0,null,null,null,null,0,null,null,null,null,0,null,null,null,null,0,null,null,null,null,0,null,null,null,null,0,null,null,null,null,0,null,null,null,null,0]
[null,null,9,"卓    球",0,0,0,0,0,null,null,null,0,null,null,null,null,0,null,null,null,null,0,null,null,null,null,0,null,null,null,null,0,null,null,null,null,0,null,null,null,null,0,null,null,null,null,0,null,null,null,null,0,null,null,null,null,0,null,null,null,null,0,null,null,null,null,0,null,null,null,null,0,null,null,null,null,0,null,null,null,null,0,null,null,null,null,0,null,null,null,null,0,null,null,null,null,0,null,null,null,null,0,null,null,null,null,0,null,null,null,null,0,null,null,null,null,0,null,null,null,null,0,null,null,null,null,0,null,null,null,null,0,null,null,null,null,0,null,null,null,null,0]
[null,null,10,"バドミントン",0,0,0,0,0,null,null,null,0,null,null,null,null,0,null,null,null,null,0,null,null,null,null,0,null,null,null,null,0,null,null,null,null,0,null,null,null,null,0,null,null,null,null,0,null,null,null,null,0,null,null,null,null,0,null,null,null,null,0,null,null,null,null,0,null,null,null,null,0,null,null,null,null,0,null,null,null,null,0,null,null,null,null,0,null,null,null,null,0,null,null,null,null,0,null,null,null,null,0,null,null,null,null,0,null,null,null,null,0,null,null,null,null,0,null,null,null,null,0,null,null,null,null,0,null,null,null,null,0,null,null,null,null,0,null,null,null,null,0]
[null,null,11,"サッカー",0,0,0,0,0,null,null,null,0,null,null,null,null,0,null,null,null,null,0,null,null,null,null,0,null,null,null,null,0,null,null,null,null,0,null,null,null,null,0,null,null,null,null,0,null,null,null,null,0,null,null,null,null,0,null,null,null,null,0,null,null,null,null,0,null,null,null,null,0,null,null,null,null,0,null,null,null,null,0,null,null,null,null,0,null,null,null,null,0,null,null,null,null,0,null,null,null,null,0,null,null,null,null,0,null,null,null,null,0,null,null,null,null,0,null,null,null,null,0,null,null,null,null,0,null,null,null,null,0,null,null,null,null,0,null,null,null,null,0]
[null,null,12,"陸　上　競　技",0,0,0,0,0,null,null,null,0,null,null,null,null,0,null,null,null,null,0,null,null,null,null,0,null,null,null,null,0,null,null,null,null,0,null,null,null,null,0,null,null,null,null,0,null,null,null,null,0,null,null,null,null,0,null,null,null,null,0,null,null,null,null,0,null,null,null,null,0,null,null,null,null,0,null,null,null,null,0,null,null,null,null,0,null,null,null,null,0,null,null,null,null,0,null,null,null,null,0,null,null,null,null,0,null,null,null,null,0,null,null,null,null,0,null,null,null,null,0,null,null,null,null,0,null,null,null,null,0,null,null,null,null,0,null,null,null,null,0]
[null,null,13,"水　　泳",0,0,0,0,0,null,null,null,0,null,null,null,null,0,null,null,null,null,0,null,null,null,null,0,null,null,null,null,0,null,null,null,null,0,null,null,null,null,0,null,null,null,null,0,null,null,null,null,0,null,null,null,null,0,null,null,null,null,0,null,null,null,null,0,null,null,null,null,0,null,null,null,null,0,null,null,null,null,0,null,null,null,null,0,null,null,null,null,0,null,null,null,null,0,null,null,null,null,0,null,null,null,null,0,null,null,null,null,0,null,null,null,null,0,null,null,null,null,0,null,null,null,null,0,null,null,null,null,0,null,null,null,null,0,null,null,null,null,0]
[null,"子",14,"柔　　道",0,0,0,0,0,null,null,null,0,null,null,null,null,0,null,null,null,null,0,null,null,null,null,0,null,null,null,null,0,null,null,null,null,0,null,null,null,null,0,null,null,null,null,0,null,null,null,null,0,null,null,null,null,0,null,null,null,null,0,null,null,null,null,0,null,null,null,null,0,null,null,null,null,0,null,null,null,null,0,null,null,null,null,0,null,null,null,null,0,null,null,null,null,0,null,null,null,null,0,null,null,null,null,0,null,null,null,null,0,null,null,null,null,0,null,null,null,null,0,null,null,null,null,0,null,null,null,null,0,null,null,null,null,0,null,null,null,null,0]
[null,null,15,"剣　　道",0,0,0,{"$f":"M19+R19+W19+AB19+AG19+AL19+AQ19+AV19+BA19+BF19+BK19+BP19+BU19+BZ19+CE19+CJ19+CO19+CT19+CY19+DD19+DI19+DN19+DS19+DX19+EC19","v":0},0,null,null,null,0,null,null,null,null,0,null,null,null,null,0,null,null,null,null,0,null,null,null,null,0,null,null,null,null,0,null,null,null,null,0,null,null,null,null,0,null,null,null,null,0,null,null,null,null,0,null,null,null,null,0,null,null,null,null,0,null,null,null,null,0,null,null,null,null,0,null,null,null,null,0,null,null,null,null,0,null,null,null,null,0,null,null,null,null,0,null,null,null,null,0,null,null,null,null,0,null,null,null,null,0,null,null,null,null,0,null,null,null,null,0,null,null,null,null,0,null,null,null,null,0,null,null,null,null,0,null,null,null,null,0]
[null,null,16,"相　　撲",0,0,0,0,0,null,null,null,0,null,null,null,null,0,null,null,null,null,0,null,null,null,null,0,null,null,null,null,0,null,null,null,null,0,null,null,null,null,0,null,null,null,null,0,null,null,null,null,0,null,null,null,null,0,null,null,null,null,0,null,null,null,null,0,null,null,null,null,0,null,null,null,null,0,null,null,null,null,0,null,null,null,null,0,null,null,null,null,0,null,null,null,null,0,null,null,null,null,0,null,null,null,null,0,null,null,null,null,0,null,null,null,null,0,null,null,null,null,0,null,null,null,null,0,null,null,null,null,0,null,null,null,null,0,null,null,null,null,0]
[null,null,17,"ダ    ン    ス",0,0,0,0,0,null,null,null,0,null,null,null,null,0,null,null,null,null,0,null,null,null,null,0,null,null,null,null,0,null,null,null,null,0,null,null,null,null,0,null,null,null,null,0,null,null,null,null,0,null,null,null,null,0,null,null,null,null,0,null,null,null,null,0,null,null,null,null,0,null,null,null,null,0,null,null,null,null,0,null,null,null,null,0,null,null,null,null,0,null,null,null,null,0,null,null,null,null,0,null,null,null,null,0,null,null,null,null,0,null,null,null,null,0,null,null,null,null,0,null,null,null,null,0,null,null,null,null,0,null,null,null,null,0,null,null,null,null,0]
[null,null,18,"ス    キ    ー",0,0,0,0,0,null,null,null,0,null,null,null,null,0,null,null,null,null,0,null,null,null,null,0,null,null,null,null,0,null,null,null,null,0,null,null,null,null,0,null,null,null,null,0,null,null,null,null,0,null,null,null,null,0,null,null,null,null,0,null,null,null,null,0,null,null,null,null,0,null,null,null,null,0,null,null,null,null,0,null,null,null,null,0,null,null,null,null,0,null,null,null,null,0,null,null,null,null,0,null,null,null,null,0,null,null,null,null,0,null,null,null,null,0,null,null,null,null,0,null,null,null,null,0,null,null,null,null,0,null,null,null,null,0,null,null,null,null,0]
[null,null,19,"ス  ケ  ー  ト",0,0,0,0,0,null,null,null,0,null,null,null,null,0,null,null,null,null,0,null,null,null,null,0,null,null,null,null,0,null,null,null,null,0,null,null,null,null,0,null,null,null,null,0,null,null,null,null,0,null,null,null,null,0,null,null,null,null,0,null,null,null,null,0,null,null,null,null,0,null,null,null,null,0,null,null,null,null,0,null,null,null,null,0,null,null,null,null,0,null,null,null,null,0,null,null,null,null,0,null,null,null,null,0,null,null,null,null,0,null,null,null,null,0,null,null,null,null,0,null,null,null,null,0,null,null,null,null,0,null,null,null,null,0,null,null,null,null,0]
[null,null,20,"アイスホッケー",0,0,0,0,0,null,null,null,0,null,null,null,null,0,null,null,null,null,0,null,null,null,null,0,null,null,null,null,0,null,null,null,null,0,null,null,null,null,0,null,null,null,null,0,null,null,null,null,0,null,null,null,null,0,null,null,null,null,0,null,null,null,null,0,null,null,null,null,0,null,null,null,null,0,null,null,null,null,0,null,null,null,null,0,null,null,null,null,0,null,null,null,null,0,null,null,null,null,0,null,null,null,null,0,null,null,null,null,0,null,null,null,null,0,null,null,null,null,0,null,null,null,null,0,null,null,null,null,0,null,null,null,null,0,null,null,null,null,0]
[null,null,21,"テ　　ニ　　ス",0,0,0,0,0,null,null,null,0,null,null,null,null,0,null,null,null,null,0,null,null,null,null,0,null,null,null,null,0,null,null,null,null,0,null,null,null,null,0,null,null,null,null,0,null,null,null,null,0,null,null,null,null,0,null,null,null,null,0,null,null,null,null,0,null,null,null,null,0,null,null,null,null,0,null,null,null,null,0,null,null,null,null,0,null,null,null,null,0,null,null,null,null,0,null,null,null,null,0,null,null,null,null,0,null,null,null,null,0,null,null,null,null,0,null,null,null,null,0,null,null,null,null,0,null,null,null,null,0,null,null,null,null,0,null,null,null,null,0]
[null,null,22,"空　　　手",0,0,0,0,0,null,null,null,0,null,null,null,null,0,null,null,null,null,0,null,null,null,null,0,null,null,null,null,0,null,null,null,null,0,null,null,null,null,0,null,null,null,null,0,null,null,null,null,0,null,null,null,null,0,null,null,null,null,0,null,null,null,null,0,null,null,null,null,0,null,null,null,null,0,null,null,null,null,0,null,null,null,null,0,null,null,null,null,0,null,null,null,null,0,null,null,null,null,0,null,null,null,null,0,null,null,null,null,0,null,null,null,null,0,null,null,null,null,0,null,null,null,null,0,null,null,null,null,0,null,null,null,null,0,null,null,null,null,0]
[null,null,23,"ラ　グ　ビ　ー",0,0,0,0,0,null,null,null,{"$f":"SUM(J27:L27)","v":0},null,null,null,null,{"$f":"SUM(O27:Q27)","v":0},null,null,null,null,{"$f":"SUM(T27:V27)","v":0},null,null,null,null,{"$f":"SUM(Y27:AA27)","v":0},null,null,null,null,{"$f":"SUM(AD27:AF27)","v":0},null,null,null,null,{"$f":"SUM(AI27:AK27)","v":0},null,null,null,null,{"$f":"SUM(AN27:AP27)","v":0},null,null,null,null,{"$f":"SUM(AS27:AU27)","v":0},null,null,null,null,{"$f":"SUM(AX27:AZ27)","v":0},null,null,null,null,{"$f":"SUM(BC27:BE27)","v":0},null,null,null,null,{"$f":"SUM(BH27:BJ27)","v":0},null,null,null,null,{"$f":"SUM(BM27:BO27)","v":0},null,null,null,null,{"$f":"SUM(BR27:BT27)","v":0},null,null,null,null,{"$f":"SUM(BW27:BY27)","v":0},null,null,null,null,{"$f":"SUM(CB27:CD27)","v":0},null,null,null,null,{"$f":"SUM(CG27:CI27)","v":0},null,null,null,null,{"$f":"SUM(CL27:CN27)","v":0},null,null,null,null,{"$f":"SUM(CQ27:CS27)","v":0},null,null,null,null,{"$f":"SUM(CV27:CX27)","v":0},null,null,null,null,{"$f":"SUM(DA27:DC27)","v":0},null,null,null,null,{"$f":"SUM(DF27:DH27)","v":0},null,null,null,null,{"$f":"SUM(DK27:DM27)","v":0},null,null,null,null,{"$f":"SUM(DP27:DR27)","v":0},null,null,null,null,{"$f":"SUM(DU27:DW27)","v":0},null,null,null,null,{"$f":"SUM(DZ27:EB27)","v":0},null,null,null,null,{"$f":"SUM(EE27:EG27)","v":0},null,null,null,null,{"$f":"SUM(EJ27:EL27)","v":0}]
[null,null,null,null,0,0,0,0,0]
[null,null,null,null,0,0,0,0,0]
[null,null,null,null,0,0,0,0,0]
[null,null,"男　子　合　計 (名)",null,{"$f":"J31+O31+T31+Y31+AD31+AI31+AN31+AS31+AX31+BC31+BH31+BM31+BR31+BW31+CB31+CG31+CL31+CQ31+CV31+DA31+DF31+DK31+DP31+DU31+DZ31","v":0},{"$f":"K31+P31+U31+Z31+AE31+AJ31+AO31+AT31+AY31+BD31+BI31+BN31+BS31+BX31+CC31+CH31+CM31+CR31+CW31+DB31+DG31+DL31+DQ31+DV31+EA31","v":0},{"$f":"L31+Q31+V31+AA31+AF31+AK31+AP31+AU31+AZ31+BE31+BJ31+BO31+BT31+BY31+CD31+CI31+CN31+CS31+CX31+DC31+DH31+DM31+DR31+DW31+EB31","v":0},{"$f":"M31+R31+W31+AB31+AG31+AL31+AQ31+AV31+BA31","v":0},{"$f":"N31+S31+X31+AC31+AH31+AM31+AR31+AW31+BB31+BG31+BL31+BQ31+BV31+CA31+CF31+CK31+CP31+CU31+CZ31+DE31+DJ31+DO31+DT31+DY31+ED31","v":0},{"$f":"SUM(J5:J30)","v":0},0,0,{"$f":"SUM(M5:M30)","v":0},0,0,0,0,0,0,0,0,0,0,0,0,0,0,0,0,0,0,0,0,0,0,0,0,0,0,0,0,0,0,0,0,0,0,0,0,0,0,0,0,0,0,0,0,0,0,0,0,0,0,0,0,0,0,0,0,0,0,0,0,{"$f":"SUM(BV5:BV30)","v":0},{"$f":"SUM(BW5:BW30)","v":0},0,0,0,0,0,0,0,0,0,0,0,0,0,0,0,0,0,0,0,0,0,0,0,0,0,0,0,0,0,0,0,0,0,0,0,0,0,0,0,0,0,0,0,0,0,0,0,0,0,0,0,0,0,0,0,0,0,0,0,0,0,0,0,{"$f":"SUM(EI5:EI30)","v":0},0,0,0,0,0]
[null,null,"男 子 在 籍 数 (名)",null,{"$f":"J32+O32+T32+Y32+AD32+AI32+AN32+AS32+AX32","v":0},{"$f":"K32+P32+U32+Z32+AE32+AJ32+AO32+AT32+AY32+BD32+BI32+BN32+BS32+BX32+CC32+CH32+CM32+CR32+CW32+DB32+DG32+DL32+DQ32+DV32+EA32","v":0},{"$f":"L32+Q32+V32+AA32+AF32+AK32+AP32+AU32+AZ32+BE32+BJ32+BO32+BT32+BY32+CD32+CI32+CN32+CS32+CX32+DC32+DH32+DM32+DR32+DW32+EB32","v":0},{"$f":"M32+R32+W32+AB32+AG32+AL32+AQ32+AV32+BA32","v":0},null,null,null,null,{"$f":"SUM(J32:L32)","v":0},null,null,null,null,{"$f":"SUM(O32:Q32)","v":0},null,null,null,null,{"$f":"SUM(T32:V32)","v":0},null,null,null,null,{"$f":"SUM(Y32:AA32)","v":0},null,null,null,null,{"$f":"SUM(AD32:AF32)","v":0},null,null,null,null,{"$f":"SUM(AI32:AK32)","v":0},null,null,null,null,{"$f":"SUM(AN32:AP32)","v":0},null,null,null,null,{"$f":"SUM(AS32:AU32)","v":0},null,null,null,null,{"$f":"SUM(AX32:AZ32)","v":0},null,null,null,null,{"$f":"SUM(BC32:BE32)","v":0},null,null,null,null,{"$f":"SUM(BH32:BJ32)","v":0},null,null,null,null,{"$f":"SUM(BM32:BO32)","v":0},null,null,null,null,{"$f":"SUM(BR32:BT32)","v":0},null,null,null,null,{"$f":"SUM(BW32:BY32)","v":0},null,null,null,null,{"$f":"SUM(CB32:CD32)","v":0},null,null,null,null,{"$f":"SUM(CG32:CI32)","v":0},null,null,null,null,{"$f":"SUM(CL32:CN32)","v":0},null,null,null,null,{"$f":"SUM(CQ32:CS32)","v":0},null,null,null,null,{"$f":"SUM(CV32:CX32)","v":0},null,null,null,null,{"$f":"SUM(DA32:DC32)","v":0},null,null,null,null,{"$f":"SUM(DF32:DH32)","v":0},null,null,null,null,{"$f":"SUM(DK32:DM32)","v":0},null,null,null,null,{"$f":"SUM(DP32:DR32)","v":0},null,null,null,null,{"$f":"SUM(DU32:DW32)","v":0},null,null,null,null,{"$f":"SUM(DZ32:EB32)","v":0},null,null,null,null,{"$f":"SUM(EE32:EG32)","v":0},null,null,null,null,{"$f":"SUM(EJ32:EL32)","v":0}]
[null,null,"男 子 入 部 率 (％)",null,{"$f":"E31/E32*100","v":{"$error":"#DIV/0!"}},{"$f":"F31/F32*100","v":{"$error":"#DIV/0!"}},{"$f":"G31/G32*100","v":{"$error":"#DIV/0!"}},{"$f":"H31/H32*100","v":{"$error":"#DIV/0!"}},null,{"$f":"J31/J32*100","v":{"$error":"#DIV/0!"}},{"$error":"#DIV/0!"},{"$error":"#DIV/0!"},{"$error":"#DIV/0!"},null,{"$error":"#DIV/0!"},{"$error":"#DIV/0!"},{"$error":"#DIV/0!"},{"$f":"R31/R32*100","v":{"$error":"#DIV/0!"}},null,{"$error":"#DIV/0!"},{"$error":"#DIV/0!"},{"$error":"#DIV/0!"},{"$f":"W31/W32*100","v":{"$error":"#DIV/0!"}},null,{"$error":"#DIV/0!"},{"$error":"#DIV/0!"},{"$error":"#DIV/0!"},{"$f":"AB31/AB32*100","v":{"$error":"#DIV/0!"}},null,{"$error":"#DIV/0!"},{"$error":"#DIV/0!"},{"$error":"#DIV/0!"},{"$f":"AG31/AG32*100","v":{"$error":"#DIV/0!"}},null,{"$error":"#DIV/0!"},{"$error":"#DIV/0!"},{"$error":"#DIV/0!"},{"$f":"AL31/AL32*100","v":{"$error":"#DIV/0!"}},null,{"$error":"#DIV/0!"},{"$error":"#DIV/0!"},{"$error":"#DIV/0!"},{"$f":"AQ31/AQ32*100","v":{"$error":"#DIV/0!"}},null,{"$error":"#DIV/0!"},{"$error":"#DIV/0!"},{"$error":"#DIV/0!"},{"$f":"AV31/AV32*100","v":{"$error":"#DIV/0!"}},null,{"$error":"#DIV/0!"},{"$error":"#DIV/0!"},{"$error":"#DIV/0!"},{"$f":"BA31/BA32*100","v":{"$error":"#DIV/0!"}},null,{"$error":"#DIV/0!"},{"$error":"#DIV/0!"},{"$error":"#DIV/0!"},{"$f":"BF31/BF32*100","v":{"$error":"#DIV/0!"}},null,{"$error":"#DIV/0!"},{"$error":"#DIV/0!"},{"$error":"#DIV/0!"},{"$f":"BK31/BK32*100","v":{"$error":"#DIV/0!"}},null,{"$error":"#DIV/0!"},{"$error":"#DIV/0!"},{"$error":"#DIV/0!"},{"$f":"BP31/BP32*100","v":{"$error":"#DIV/0!"}},null,{"$error":"#DIV/0!"},{"$error":"#DIV/0!"},{"$error":"#DIV/0!"},{"$f":"BU31/BU32*100","v":{"$error":"#DIV/0!"}},null,{"$f":"BW31/BW32*100","v":{"$error":"#DIV/0!"}},{"$error":"#DIV/0!"},{"$error":"#DIV/0!"},{"$error":"#DIV/0!"},null,{"$error":"#DIV/0!"},{"$error":"#DIV/0!"},{"$error":"#DIV/0!"},{"$error":"#DIV/0!"},null,{"$error":"#DIV/0!"},{"$error":"#DIV/0!"},{"$error":"#DIV/0!"},{"$error":"#DIV/0!"},null,{"$error":"#DIV/0!"},{"$error":"#DIV/0!"},{"$error":"#DIV/0!"},{"$error":"#DIV/0!"},null,{"$error":"#DIV/0!"},{"$error":"#DIV/0!"},{"$error":"#DIV/0!"},{"$error":"#DIV/0!"},null,{"$error":"#DIV/0!"},{"$error":"#DIV/0!"},{"$error":"#DIV/0!"},{"$error":"#DIV/0!"},null,{"$error":"#DIV/0!"},{"$error":"#DIV/0!"},{"$error":"#DIV/0!"},{"$error":"#DIV/0!"},null,{"$error":"#DIV/0!"},{"$error":"#DIV/0!"},{"$error":"#DIV/0!"},{"$error":"#DIV/0!"},null,{"$error":"#DIV/0!"},{"$error":"#DIV/0!"},{"$error":"#DIV/0!"},{"$error":"#DIV/0!"},null,{"$error":"#DIV/0!"},{"$error":"#DIV/0!"},{"$error":"#DIV/0!"},{"$error":"#DIV/0!"},null,{"$error":"#DIV/0!"},{"$error":"#DIV/0!"},{"$error":"#DIV/0!"},{"$error":"#DIV/0!"},null,{"$error":"#DIV/0!"},{"$error":"#DIV/0!"},{"$error":"#DIV/0!"},{"$error":"#DIV/0!"},null,{"$error":"#DIV/0!"},{"$error":"#DIV/0!"},{"$error":"#DIV/0!"},{"$error":"#DIV/0!"},null,{"$error":"#DIV/0!"},{"$error":"#DIV/0!"},{"$f":"EL31/EL32*100","v":{"$error":"#DIV/0!"}},{"$f":"EM31/EM32*100","v":{"$error":"#DIV/0!"}}]
[null,null,1,"体　操　競　技",{"$f":"J34+O34+T34+Y34+AD34+AI34+AN34+AS34+AX34+BC34+BH34+BM34+BR34+BW34+CB34+CG34+CL34+CQ34+CV34+DA34+DF34+DK34+DP34+DU34+DZ34","v":0},0,0,0,0,null,null,null,{"$f":"J34+K34+L34","v":0},null,null,null,null,{"$f":"O34+P34+Q34","v":0},null,null,null,null,{"$f":"T34+U34+V34","v":0},null,null,null,null,{"$f":"Y34+Z34+AA34","v":0},null,null,null,null,{"$f":"AD34+AE34+AF34","v":0},null,null,null,null,{"$f":"AI34+AJ34+AK34","v":0},null,null,null,null,{"$f":"AN34+AO34+AP34","v":0},null,null,null,null,{"$f":"AS34+AT34+AU34","v":0},null,null,null,null,{"$f":"AX34+AY34+AZ34","v":0},null,null,null,null,{"$f":"BC34+BD34+BE34","v":0},null,null,null,null,{"$f":"BH34+BI34+BJ34","v":0},null,null,null,null,{"$f":"BM34+BN34+BO34","v":0},null,null,null,null,{"$f":"BR34+BS34+BT34","v":0},null,null,null,null,{"$f":"BW34+BX34+BY34","v":0},null,null,null,null,{"$f":"CB34+CC34+CD34","v":0},null,null,null,null,{"$f":"CG34+CH34+CI34","v":0},null,null,null,null,{"$f":"CL34+CM34+CN34","v":0},null,null,null,null,{"$f":"CQ34+CR34+CS34","v":0},null,null,null,null,{"$f":"CV34+CW34+CX34","v":0},null,null,null,null,{"$f":"DA34+DB34+DC34","v":0},null,null,null,null,{"$f":"DF34+DG34+DH34","v":0},null,null,null,null,{"$f":"DK34+DL34+DM34","v":0},null,null,null,null,{"$f":"DP34+DQ34+DR34","v":0},null,null,null,null,{"$f":"DU34+DV34+DW34","v":0},null,null,null,null,{"$f":"DZ34+EA34+EB34","v":0},null,null,null,null,{"$f":"EE34+EF34+EG34","v":0},null,null,null,null,{"$f":"EJ34+EK34+EL34","v":0}]
[null,null,2,"新    体    操",0,0,0,0,0,null,null,null,0,null,null,null,null,0,null,null,null,null,0,null,null,null,null,0,null,null,null,null,0,null,null,null,null,0,null,null,null,null,0,null,null,null,null,0,null,null,null,null,0,null,null,null,null,0,null,null,null,null,0,null,null,null,null,0,null,null,null,null,0,null,null,null,null,0,null,null,null,null,0,null,null,null,null,0,null,null,null,null,0,null,null,null,null,0,null,null,null,null,0,null,null,null,null,0,null,null,null,null,0,null,null,null,null,0,null,null,null,null,0,null,null,null,null,0,null,null,null,null,0,null,null,null,null,0,null,null,null,null,0]
[null,null,3,"軟　式　野　球",0,0,0,0,0,null,null,null,0,null,null,null,null,0,null,null,null,null,0,null,null,null,null,0,null,null,null,null,0,null,null,null,null,0,null,null,null,null,0,null,null,null,null,0,null,null,null,null,0,null,null,null,null,0,null,null,null,null,0,null,null,null,null,0,null,null,null,null,0,null,null,null,null,0,null,null,null,null,0,null,null,null,null,0,null,null,null,null,0,null,null,null,null,0,null,null,null,null,0,null,null,null,null,0,null,null,null,null,0,null,null,null,null,0,null,null,null,null,0,null,null,null,null,0,null,null,null,null,0,null,null,null,null,0,null,null,null,null,0]
[null,null,4,"ソフトボール",0,0,0,0,0,null,null,null,0,null,null,null,null,0,null,null,null,null,0,null,null,null,null,0,null,null,null,null,0,null,null,null,null,0,null,null,null,null,0,null,null,null,null,0,null,null,null,null,0,null,null,null,null,0,null,null,null,null,0,null,null,null,null,0,null,null,null,null,0,null,null,null,null,0,null,null,null,null,0,null,null,null,null,0,null,null,null,null,0,null,null,null,null,0,null,null,null,null,0,null,null,null,null,0,null,null,null,null,0,null,null,null,null,0,null,null,null,null,0,null,null,null,null,0,null,null,null,null,0,null,null,null,null,0,null,null,null,null,0]
[null,null,5,"バスケットボール",0,0,0,0,0,null,null,null,0,null,null,null,null,0,null,null,null,null,0,null,null,null,null,0,null,null,null,null,0,null,null,null,null,0,null,null,null,null,0,null,null,null,null,0,null,null,null,null,0,null,null,null,null,0,null,null,null,null,0,null,null,null,null,0,null,null,null,null,0,null,null,null,null,0,null,null,null,null,0,null,null,null,null,0,null,null,null,null,0,null,null,null,null,0,null,null,null,null,0,null,null,null,null,0,null,null,null,null,0,null,null,null,null,0,null,null,null,null,0,null,null,null,null,0,null,null,null,null,0,null,null,null,null,0,null,null,null,null,0]
[null,null,6,"ハンドボール",0,0,0,0,0,null,null,null,0,null,null,null,null,0,null,null,null,null,0,null,null,null,null,0,null,null,null,null,0,null,null,null,null,0,null,null,null,null,0,null,null,null,null,0,null,null,null,null,0,null,null,null,null,0,null,null,null,null,0,null,null,null,null,0,null,null,null,null,0,null,null,null,null,0,null,null,null,null,0,null,null,null,null,0,null,null,null,null,0,null,null,null,null,0,null,null,null,null,0,null,null,null,null,0,null,null,null,null,0,null,null,null,null,0,null,null,null,null,0,null,null,null,null,0,null,null,null,null,0,null,null,null,null,0,null,null,null,null,0]
[null,"女",7,"バレーボール",0,0,0,0,0,null,null,null,0,null,null,null,null,0,null,null,null,null,0,null,null,null,null,0,null,null,null,null,0,null,null,null,null,0,null,null,null,null,0,null,null,null,null,0,null,null,null,null,0,null,null,null,null,0,null,null,null,null,0,null,null,null,null,0,null,null,null,null,0,null,null,null,null,0,null,null,null,null,0,null,null,null,null,0,null,null,null,null,0,null,null,null,null,0,null,null,null,null,0,null,null,null,null,0,null,null,null,null,0,null,null,null,null,0,null,null,null,null,0,null,null,null,null,0,null,null,null,null,0,null,null,null,null,0,null,null,null,null,0]
[null,null,8,"ソフトテニス",0,0,0,0,0,null,null,null,0,null,null,null,null,0,null,null,null,null,0,null,null,null,null,0,null,null,null,null,0,null,null,null,null,0,null,null,null,null,0,null,null,null,null,0,null,null,null,null,0,null,null,null,null,0,null,null,null,null,0,null,null,null,null,0,null,null,null,null,0,null,null,null,null,0,null,null,null,null,0,null,null,null,null,0,null,null,null,null,0,null,null,null,null,0,null,null,null,null,0,null,null,null,null,0,null,null,null,null,0,null,null,null,null,0,null,null,null,null,0,null,null,null,null,0,null,null,null,null,0,null,null,null,null,0,null,null,null,null,0]
[null,null,9,"卓    球",0,0,0,0,0,null,null,null,0,null,null,null,null,0,null,null,null,null,0,null,null,null,null,0,null,null,null,null,0,null,null,null,null,0,null,null,null,null,0,null,null,null,null,0,null,null,null,null,0,null,null,null,null,0,null,null,null,null,0,null,null,null,null,0,null,null,null,null,0,null,null,null,null,0,null,null,null,null,0,null,null,null,null,0,null,null,null,null,0,null,null,null,null,0,null,null,null,null,0,null,null,null,null,0,null,null,null,null,0,null,null,null,null,0,null,null,null,null,0,null,null,null,null,0,null,null,null,null,0,null,null,null,null,0,null,null,null,null,0]
[null,null,10,"バドミントン",0,0,0,0,0,null,null,null,0,null,null,null,null,0,null,null,null,null,0,null,null,null,null,0,null,null,null,null,0,null,null,null,null,0,null,null,null,null,0,null,null,null,null,0,null,null,null,null,0,null,null,null,null,0,null,null,null,null,0,null,null,null,null,0,null,null,null,null,0,null,null,null,null,0,null,null,null,null,0,null,null,null,null,0,null,null,null,null,0,null,null,null,null,0,null,null,null,null,0,null,null,null,null,0,null,null,null,null,0,null,null,null,null,0,null,null,null,null,0,null,null,null,null,0,null,null,null,null,0,null,null,null,null,0,null,null,null,null,0]
[null,null,11,"サッカー",0,0,0,0,0,null,null,null,0,null,null,null,null,0,null,null,null,null,0,null,null,null,null,0,null,null,null,null,0,null,null,null,null,0,null,null,null,null,0,null,null,null,null,0,null,null,null,null,0,null,null,null,null,0,null,null,null,null,0,null,null,null,null,0,null,null,null,null,0,null,null,null,null,0,null,null,null,null,0,null,null,null,null,0,null,null,null,null,0,null,null,null,null,0,null,null,null,null,0,null,null,null,null,0,null,null,null,null,0,null,null,null,null,0,null,null,null,null,0,null,null,null,null,0,null,null,null,null,0,null,null,null,null,0,null,null,null,null,0]
[null,null,12,"陸　上　競　技",0,0,0,0,0,null,null,null,0,null,null,null,null,0,null,null,null,null,0,null,null,null,null,0,null,null,null,null,0,null,null,null,null,0,null,null,null,null,0,null,null,null,null,0,null,null,null,null,0,null,null,null,null,0,null,null,null,null,0,null,null,null,null,0,null,null,null,null,0,null,null,null,null,0,null,null,null,null,0,null,null,null,null,0,null,null,null,null,0,null,null,null,null,0,null,null,null,null,0,null,null,null,null,0,null,null,null,null,0,null,null,null,null,0,null,null,null,null,0,null,null,null,null,0,null,null,null,null,0,null,null,null,null,0,null,null,null,null,0]
[null,null,13,"水　　泳",0,0,0,0,0,null,null,null,0,null,null,null,null,0,null,null,null,null,0,null,null,null,null,0,null,null,null,null,0,null,null,null,null,0,null,null,null,null,0,null,null,null,null,0,null,null,null,null,0,null,null,null,null,0,null,null,null,null,0,null,null,null,null,0,null,null,null,null,0,null,null,null,null,0,null,null,null,null,0,null,null,null,null,0,null,null,null,null,0,null,null,null,null,0,null,null,null,null,0,null,null,null,null,0,null,null,null,null,0,null,null,null,null,0,null,null,null,null,0,null,null,null,null,0,null,null,null,null,0,null,null,null,null,0,null,null,null,null,0]
[null,"子",14,"柔　　道",0,0,0,0,0,null,null,null,0,null,null,null,null,0,null,null,null,null,0,null,null,null,null,0,null,null,null,null,0,null,null,null,null,0,null,null,null,null,0,null,null,null,null,0,null,null,null,null,0,null,null,null,null,0,null,null,null,null,0,null,null,null,null,0,null,null,null,null,0,null,null,null,null,0,null,null,null,null,0,null,null,null,null,0,null,null,null,null,0,null,null,null,null,0,null,null,null,null,0,null,null,null,null,0,null,null,null,null,0,null,null,null,null,0,null,null,null,null,0,null,null,null,null,0,null,null,null,null,0,null,null,null,null,0,null,null,null,null,0]
[null,null,15,"剣　　道",0,0,0,0,0,null,null,null,0,null,null,null,null,0,null,null,null,null,0,null,null,null,null,0,null,null,null,null,0,null,null,null,null,0,null,null,null,null,0,null,null,null,null,0,null,null,null,null,0,null,null,null,null,0,null,null,null,null,0,null,null,null,null,0,null,null,null,null,0,null,null,null,null,0,null,null,null,null,0,null,null,null,null,0,null,null,null,null,0,null,null,null,null,0,null,null,null,null,0,null,null,null,null,0,null,null,null,null,0,null,null,null,null,0,null,null,null,null,0,null,null,null,null,0,null,null,null,null,0,null,null,null,null,0,null,null,null,null,0]
[null,null,16,"ダ    ン    ス",0,0,0,0,0,null,null,null,0,null,null,null,null,0,null,null,null,null,0,null,null,null,null,0,null,null,null,null,0,null,null,null,null,0,null,null,null,null,0,null,null,null,null,0,null,null,null,null,0,null,null,null,null,0,null,null,null,null,0,null,null,null,null,0,null,null,null,null,0,null,null,null,null,0,null,null,null,null,0,null,null,null,null,0,null,null,null,null,0,null,null,null,null,0,null,null,null,null,0,null,null,null,null,0,null,null,null,null,0,null,null,null,null,0,null,null,null,null,0,null,null,null,null,0,null,null,null,null,0,null,null,null,null,0,null,null,null,null,0]
[null,null,17,"ス    キ    ー",0,0,0,0,0,null,null,null,0,null,null,null,null,0,null,null,null,null,0,null,null,null,null,0,null,null,null,null,0,null,null,null,null,0,null,null,null,null,0,null,null,null,null,0,null,null,null,null,0,null,null,null,null,0,null,null,null,null,0,null,null,null,null,0,null,null,null,null,0,null,null,null,null,0,null,null,null,null,0,null,null,null,null,0,null,null,null,null,0,null,null,null,null,0,null,null,null,null,0,null,null,null,null,0,null,null,null,null,0,null,null,null,null,0,null,null,null,null,0,null,null,null,null,0,null,null,null,null,0,null,null,null,null,0,null,null,null,null,0]
[null,null,18,"ス  ケ  ー  ト",0,0,0,0,0,null,null,null,0,null,null,null,null,0,null,null,null,null,0,null,null,null,null,0,null,null,null,null,0,null,null,null,null,0,null,null,null,null,0,null,null,null,null,0,null,null,null,null,0,null,null,null,null,0,null,null,null,null,0,null,null,null,null,0,null,null,null,null,0,null,null,null,null,0,null,null,null,null,0,null,null,null,null,0,null,null,null,null,0,null,null,null,null,0,null,null,null,null,0,null,null,null,null,0,null,null,null,null,0,null,null,null,null,0,null,null,null,null,0,null,null,null,null,0,null,null,null,null,0,null,null,null,null,0,null,null,null,null,0]
[null,null,19,"アイスホッケー",0,0,0,0,0,null,null,null,0,null,null,null,null,0,null,null,null,null,0,null,null,null,null,0,null,null,null,null,0,null,null,null,null,0,null,null,null,null,0,null,null,null,null,0,null,null,null,null,0,null,null,null,null,0,null,null,null,null,0,null,null,null,null,0,null,null,null,null,0,null,null,null,null,0,null,null,null,null,0,null,null,null,null,0,null,null,null,null,0,null,null,null,null,0,null,null,null,null,0,null,null,null,null,0,null,null,null,null,0,null,null,null,null,0,null,null,null,null,0,null,null,null,null,0,null,null,null,null,0,null,null,null,null,0,null,null,null,null,0]
[null,null,20,"テ　　ニ　　ス",0,0,0,0,0,null,null,null,0,null,null,null,null,0,null,null,null,null,0,null,null,null,null,0,null,null,null,null,0,null,null,null,null,0,null,null,null,null,0,null,null,null,null,0,null,null,null,null,0,null,null,null,null,0,null,null,null,null,0,null,null,null,null,0,null,null,null,null,0,null,null,null,null,0,null,null,null,null,0,null,null,null,null,0,null,null,null,null,0,null,null,null,null,0,null,null,null,null,0,null,null,null,null,0,null,null,null,null,0,null,null,null,null,0,null,null,null,null,0,null,null,null,null,0,null,null,null,null,0,null,null,null,null,0,null,null,null,null,0]
[null,null,21,"弓　　道　",0,0,0,0,0,null,null,null,0,null,null,null,null,0,null,null,null,null,0,null,null,null,null,0,null,null,null,null,0,null,null,null,null,0,null,null,null,null,0,null,null,null,null,0,null,null,null,null,0,null,null,null,null,0,null,null,null,null,0,null,null,null,null,0,null,null,null,null,0,null,null,null,null,0,null,null,null,null,0,null,null,null,null,0,null,null,null,null,0,null,null,null,null,0,null,null,null,null,0,null,null,null,null,0,null,null,null,null,0,null,null,null,null,0,null,null,null,null,0,null,null,null,null,0,null,null,null,null,0,null,null,null,null,0,null,null,null,null,0]
[null,null,22,"空　　手",0,0,0,0,0,null,null,null,0,null,null,null,null,0,null,null,null,null,0,null,null,null,null,0,null,null,null,null,0,null,null,null,null,0,null,null,null,null,0,null,null,null,null,0,null,null,null,null,0,null,null,null,null,0,null,null,null,null,0,null,null,null,null,{"$f":"BM55+BN55+BO55","v":0},null,null,null,null,0,null,null,null,null,0,null,null,null,null,0,null,null,null,null,0,null,null,null,null,0,null,null,null,null,0,null,null,null,null,0,null,null,null,null,0,null,null,null,null,0,null,null,null,null,0,null,null,null,null,0,null,null,null,null,0,null,null,null,null,0,null,null,null,null,0,null,null,null,null,0]
[null,null,null,null,0,0,0,0,0,null,null,null,0,null,null,null,null,0,null,null,null,null,0,null,null,null,null,0,null,null,null,null,0,null,null,null,null,0,null,null,null,null,0,null,null,null,null,0,null,null,null,null,0,null,null,null,null,0,null,null,null,null,0,null,null,null,null,0,null,null,null,null,0,null,null,null,null,0,null,null,null,null,0,null,null,null,null,0,null,null,null,null,0,null,null,null,null,0,null,null,null,null,0,null,null,null,null,0,null,null,null,null,0,null,null,null,null,0,null,null,null,null,0,null,null,null,null,0,null,null,null,null,0,null,null,null,null,0,null,null,null,null,0]
[null,null,null,null,0,0,0,0,0,null,null,null,0,null,null,null,null,0,null,null,null,null,0,null,null,null,null,0,null,null,null,null,0,null,null,null,null,0,null,null,null,null,0,null,null,null,null,0,null,null,null,null,0,null,null,null,null,0,null,null,null,null,0,null,null,null,null,0,null,null,null,null,0,null,null,null,null,0,null,null,null,null,0,null,null,null,null,0,null,null,null,null,0,null,null,null,null,0,null,null,null,null,0,null,null,null,null,0,null,null,null,null,0,null,null,null,null,0,null,null,null,null,0,null,null,null,null,0,null,null,null,null,0,null,null,null,null,0,null,null,null,null,0]
[null,null,null,null,0,0,0,0,0,null,null,null,0,null,null,null,null,0,null,null,null,null,0,null,null,null,null,0,null,null,null,null,0,null,null,null,null,0,null,null,null,null,0,null,null,null,null,0,null,null,null,null,0,null,null,null,null,0,null,null,null,null,0,null,null,null,null,0,null,null,null,null,0,null,null,null,null,0,null,null,null,null,0,null,null,null,null,0,null,null,null,null,0,null,null,null,null,0,null,null,null,null,0,null,null,null,null,0,null,null,null,null,0,null,null,null,null,0,null,null,null,null,0,null,null,null,null,0,null,null,null,null,0,null,null,null,null,0,null,null,null,null,0]
[null,null,"女　子　合　計 (名)",null,{"$f":"J59+O59+T59+Y59+AD59+AI59+AN59+AS59+AX59+BC59+BH59+BM59+BR59+BW59+CB59+CG59+CL59+CQ59+CV59+DA59+DF59+DK59+DP59+DU59+DZ59","v":0},0,0,{"$f":"M59+R59+W59+AB59+AG59+AL59+AQ59+AV59+BA59","v":0},0,{"$f":"SUM(J34:J58)","v":0},0,0,0,0,0,0,0,0,0,0,0,0,0,0,0,0,0,0,0,0,0,0,0,0,0,0,0,0,0,0,0,{"$f":"SUM(AP34:AP58)","v":0},0,0,0,0,0,0,0,0,0,0,0,0,0,0,0,0,0,0,0,0,0,0,0,0,0,0,0,0,0,0,0,{"$f":"SUM(BV34:BV58)","v":0},0,0,0,0,0,0,0,0,0,0,0,0,0,0,0,0,0,0,0,0,0,0,0,0,0,0,0,0,0,0,0,{"$f":"SUM(DB34:DB58)","v":0},0,0,0,0,0,0,0,0,0,0,0,0,0,0,0,0,0,0,0,0,0,0,0,0,0,0,0,0,0,0,0,{"$f":"SUM(EH34:EH58)","v":0},0,0,0,0,0,0]
[null,null,"女 子 在 籍 数 (名)",null,0,0,0,0,null,null,null,null,{"$f":"SUM(J60:L60)","v":0},null,null,null,null,{"$f":"SUM(O60:Q60)","v":0},null,null,null,null,{"$f":"SUM(T60:V60)","v":0},null,null,null,null,{"$f":"SUM(Y60:AA60)","v":0},null,null,null,null,{"$f":"SUM(AD60:AF60)","v":0},null,null,null,null,{"$f":"SUM(AI60:AK60)","v":0},null,null,null,null,{"$f":"SUM(AN60:AP60)","v":0},null,null,null,null,{"$f":"SUM(AS60:AU60)","v":0},null,null,null,null,{"$f":"SUM(AX60:AZ60)","v":0},null,null,null,null,{"$f":"SUM(BC60:BE60)","v":0},null,null,null,null,{"$f":"SUM(BH60:BJ60)","v":0},null,null,null,null,{"$f":"SUM(BM60:BO60)","v":0},null,null,null,null,{"$f":"SUM(BR60:BT60)","v":0},null,null,null,null,{"$f":"SUM(BW60:BY60)","v":0},null,null,null,null,{"$f":"SUM(CB60:CD60)","v":0},null,null,null,null,{"$f":"SUM(CG60:CI60)","v":0},null,null,null,null,{"$f":"SUM(CL60:CN60)","v":0},null,null,null,null,{"$f":"SUM(CQ60:CS60)","v":0},null,null,null,null,{"$f":"SUM(CV60:CX60)","v":0},null,null,null,null,{"$f":"SUM(DA60:DC60)","v":0},null,null,null,null,{"$f":"SUM(DF60:DH60)","v":0},null,null,null,null,{"$f":"SUM(DK60:DM60)","v":0},null,null,null,null,{"$f":"SUM(DP60:DR60)","v":0},null,null,null,null,{"$f":"SUM(DU60:DW60)","v":0},null,null,null,null,{"$f":"SUM(DZ60:EB60)","v":0},null,null,null,null,{"$f":"SUM(EE60:EG60)","v":0},null,null,null,null,{"$f":"SUM(EJ60:EL60)","v":0}]
[null,null,"女 子 入 部 率 (％)",null,{"$f":"E59/E60*100","v":{"$error":"#DIV/0!"}},{"$f":"F59/F60*100","v":{"$error":"#DIV/0!"}},{"$f":"G59/G60*100","v":{"$error":"#DIV/0!"}},{"$f":"H59/H60*100","v":{"$error":"#DIV/0!"}},null,{"$f":"J59/J60*100","v":{"$error":"#DIV/0!"}},{"$error":"#DIV/0!"},{"$error":"#DIV/0!"},{"$error":"#DIV/0!"},null,{"$error":"#DIV/0!"},{"$error":"#DIV/0!"},{"$error":"#DIV/0!"},{"$f":"R59/R60*100","v":{"$error":"#DIV/0!"}},null,{"$error":"#DIV/0!"},{"$error":"#DIV/0!"},{"$error":"#DIV/0!"},{"$f":"W59/W60*100","v":{"$error":"#DIV/0!"}},null,{"$error":"#DIV/0!"},{"$error":"#DIV/0!"},{"$error":"#DIV/0!"},{"$f":"AB59/AB60*100","v":{"$error":"#DIV/0!"}},null,{"$error":"#DIV/0!"},{"$error":"#DIV/0!"},{"$error":"#DIV/0!"},{"$f":"AG59/AG60*100","v":{"$error":"#DIV/0!"}},null,{"$error":"#DIV/0!"},{"$error":"#DIV/0!"},{"$error":"#DIV/0!"},{"$f":"AL59/AL60*100","v":{"$error":"#DIV/0!"}},null,{"$error":"#DIV/0!"},{"$error":"#DIV/0!"},{"$error":"#DIV/0!"},{"$f":"AQ59/AQ60*100","v":{"$error":"#DIV/0!"}},null,{"$error":"#DIV/0!"},{"$error":"#DIV/0!"},{"$error":"#DIV/0!"},{"$f":"AV59/AV60*100","v":{"$error":"#DIV/0!"}},null,{"$error":"#DIV/0!"},{"$error":"#DIV/0!"},{"$error":"#DIV/0!"},{"$f":"BA59/BA60*100","v":{"$error":"#DIV/0!"}},null,{"$error":"#DIV/0!"},{"$error":"#DIV/0!"},{"$error":"#DIV/0!"},{"$f":"BF59/BF60*100","v":{"$error":"#DIV/0!"}},null,{"$error":"#DIV/0!"},{"$error":"#DIV/0!"},{"$error":"#DIV/0!"},{"$f":"BK59/BK60*100","v":{"$error":"#DIV/0!"}},null,{"$error":"#DIV/0!"},{"$error":"#DIV/0!"},{"$error":"#DIV/0!"},{"$f":"BP59/BP60*100","v":{"$error":"#DIV/0!"}},null,{"$error":"#DIV/0!"},{"$error":"#DIV/0!"},{"$error":"#DIV/0!"},{"$f":"BU59/BU60*100","v":{"$error":"#DIV/0!"}},null,{"$f":"BW59/BW60*100","v":{"$error":"#DIV/0!"}},{"$error":"#DIV/0!"},{"$error":"#DIV/0!"},{"$error":"#DIV/0!"},null,{"$error":"#DIV/0!"},{"$error":"#DIV/0!"},{"$error":"#DIV/0!"},{"$error":"#DIV/0!"},null,{"$error":"#DIV/0!"},{"$error":"#DIV/0!"},{"$error":"#DIV/0!"},{"$error":"#DIV/0!"},null,{"$error":"#DIV/0!"},{"$error":"#DIV/0!"},{"$error":"#DIV/0!"},{"$error":"#DIV/0!"},null,{"$error":"#DIV/0!"},{"$error":"#DIV/0!"},{"$error":"#DIV/0!"},{"$error":"#DIV/0!"},null,{"$error":"#DIV/0!"},{"$error":"#DIV/0!"},{"$error":"#DIV/0!"},{"$error":"#DIV/0!"},null,{"$error":"#DIV/0!"},{"$error":"#DIV/0!"},{"$error":"#DIV/0!"},{"$error":"#DIV/0!"},null,{"$error":"#DIV/0!"},{"$error":"#DIV/0!"},{"$error":"#DIV/0!"},{"$error":"#DIV/0!"},null,{"$error":"#DIV/0!"},{"$error":"#DIV/0!"},{"$error":"#DIV/0!"},{"$error":"#DIV/0!"},null,{"$error":"#DIV/0!"},{"$error":"#DIV/0!"},{"$error":"#DIV/0!"},{"$error":"#DIV/0!"},null,{"$error":"#DIV/0!"},{"$error":"#DIV/0!"},{"$error":"#DIV/0!"},{"$error":"#DIV/0!"},null,{"$error":"#DIV/0!"},{"$error":"#DIV/0!"},{"$error":"#DIV/0!"},{"$error":"#DIV/0!"},null,null,null,null,{"$f":"EH59/EH60*100","v":{"$error":"#DIV/0!"}},null,{"$error":"#DIV/0!"},{"$error":"#DIV/0!"},{"$f":"EL59/EL60*100","v":{"$error":"#DIV/0!"}},{"$f":"EM59/EM60*100","v":{"$error":"#DIV/0!"}}]
[null,null,"男　女　合　計 (名)",null,{"$f":"E31+E59","v":0},0,0,{"$f":"SUM(E62:G62)","v":0},null,{"$f":"J31+J59","v":0},{"$f":"K31+K59","v":0},0,0,0,0,0,0,{"$f":"R31+R59","v":0},0,0,0,0,{"$f":"W31+W59","v":0},0,0,0,0,{"$f":"AB31+AB59","v":0},0,0,0,0,{"$f":"AG31+AG59","v":0},0,0,0,0,{"$f":"AL31+AL59","v":0},0,0,0,0,{"$f":"AQ31+AQ59","v":0},0,0,0,0,{"$f":"AV31+AV59","v":0},0,0,0,0,{"$f":"BA31+BA59","v":0},0,0,0,0,{"$f":"BF31+BF59","v":0},0,0,0,0,{"$f":"BK31+BK59","v":0},0,0,0,0,{"$f":"BP31+BP59","v":0},0,0,0,0,{"$f":"BU31+BU59","v":0},0,{"$f":"BW31+BW59","v":0},0,0,0,0,0,0,0,0,0,0,0,0,0,0,0,0,0,0,0,0,0,0,0,0,0,0,0,0,0,0,0,0,0,0,0,0,0,0,0,0,0,0,0,0,0,0,0,0,0,0,0,0,0,0,0,0,0,0,0,0,0,0,0,{"$f":"EI31+EI59","v":0},0,0,0,0,0]
[null,null,"男 女 在 籍 数 (名)",null,0,0,0,{"$f":"SUM(E63:G63)","v":0},null,{"$f":"J60+J62","v":0},{"$f":"K60+K62","v":0},0,0,0,0,0,0,{"$f":"R60+R62","v":0},0,0,0,0,{"$f":"W60+W62","v":0},0,0,0,0,{"$f":"AB60+AB62","v":0},0,0,0,0,{"$f":"AG60+AG62","v":0},0,0,0,0,{"$f":"AL60+AL62","v":0},0,0,0,0,{"$f":"AQ60+AQ62","v":0},0,0,0,0,{"$f":"AV60+AV62","v":0},0,0,0,0,{"$f":"BA60+BA62","v":0},0,0,0,0,{"$f":"BF60+BF62","v":0},0,0,0,0,{"$f":"BK60+BK62","v":0},0,0,0,0,{"$f":"BP60+BP62","v":0},0,0,0,0,{"$f":"BU60+BU62","v":0},0,{"$f":"BW60+BW62","v":0},0,0,0,0,0,0,0,0,0,0,0,0,0,0,0,0,0,0,0,0,0,0,0,0,0,0,0,0,0,0,0,0,0,0,0,0,0,0,0,0,0,0,0,0,0,0,0,0,0,0,0,0,0,0,0,0,0,0,0,0,0,0,0,{"$f":"EI60+EI62","v":0},0,0,0,0,0]
[null,null,"男 女 入 部 率 (％)",null,{"$f":"E62/E63*100","v":{"$error":"#DIV/0!"}},{"$f":"F62/F63*100","v":{"$error":"#DIV/0!"}},{"$f":"G62/G63*100","v":{"$error":"#DIV/0!"}},{"$f":"H62/H63*100","v":{"$error":"#DIV/0!"}},null,{"$f":"J62/J63*100","v":{"$error":"#DIV/0!"}},{"$error":"#DIV/0!"},{"$error":"#DIV/0!"},{"$error":"#DIV/0!"},null,{"$error":"#DIV/0!"},{"$error":"#DIV/0!"},{"$error":"#DIV/0!"},{"$f":"R62/R63*100","v":{"$error":"#DIV/0!"}},null,{"$error":"#DIV/0!"},{"$error":"#DIV/0!"},{"$error":"#DIV/0!"},{"$f":"W62/W63*100","v":{"$error":"#DIV/0!"}},null,{"$error":"#DIV/0!"},{"$error":"#DIV/0!"},{"$error":"#DIV/0!"},{"$f":"AB62/AB63*100","v":{"$error":"#DIV/0!"}},null,{"$error":"#DIV/0!"},{"$error":"#DIV/0!"},{"$error":"#DIV/0!"},{"$f":"AG62/AG63*100","v":{"$error":"#DIV/0!"}},null,{"$error":"#DIV/0!"},{"$error":"#DIV/0!"},{"$error":"#DIV/0!"},{"$f":"AL62/AL63*100","v":{"$error":"#DIV/0!"}},null,{"$error":"#DIV/0!"},{"$error":"#DIV/0!"},{"$error":"#DIV/0!"},{"$f":"AQ62/AQ63*100","v":{"$error":"#DIV/0!"}},null,{"$error":"#DIV/0!"},{"$error":"#DIV/0!"},{"$error":"#DIV/0!"},{"$f":"AV62/AV63*100","v":{"$error":"#DIV/0!"}},null,{"$error":"#DIV/0!"},{"$error":"#DIV/0!"},{"$error":"#DIV/0!"},{"$f":"BA62/BA63*100","v":{"$error":"#DIV/0!"}},null,{"$error":"#DIV/0!"},{"$error":"#DIV/0!"},{"$error":"#DIV/0!"},{"$f":"BF62/BF63*100","v":{"$error":"#DIV/0!"}},null,{"$error":"#DIV/0!"},{"$error":"#DIV/0!"},{"$error":"#DIV/0!"},{"$f":"BK62/BK63*100","v":{"$error":"#DIV/0!"}},null,{"$error":"#DIV/0!"},{"$error":"#DIV/0!"},{"$error":"#DIV/0!"},{"$f":"BP62/BP63*100","v":{"$error":"#DIV/0!"}},null,{"$error":"#DIV/0!"},{"$error":"#DIV/0!"},{"$error":"#DIV/0!"},{"$f":"BU62/BU63*100","v":{"$error":"#DIV/0!"}},null,{"$f":"BW62/BW63*100","v":{"$error":"#DIV/0!"}},{"$error":"#DIV/0!"},{"$error":"#DIV/0!"},{"$error":"#DIV/0!"},null,{"$error":"#DIV/0!"},{"$error":"#DIV/0!"},{"$error":"#DIV/0!"},{"$error":"#DIV/0!"},null,{"$error":"#DIV/0!"},{"$error":"#DIV/0!"},{"$error":"#DIV/0!"},{"$error":"#DIV/0!"},null,{"$error":"#DIV/0!"},{"$error":"#DIV/0!"},{"$error":"#DIV/0!"},{"$error":"#DIV/0!"},null,{"$error":"#DIV/0!"},{"$error":"#DIV/0!"},{"$error":"#DIV/0!"},{"$error":"#DIV/0!"},null,{"$error":"#DIV/0!"},{"$error":"#DIV/0!"},{"$error":"#DIV/0!"},{"$error":"#DIV/0!"},null,{"$error":"#DIV/0!"},{"$error":"#DIV/0!"},{"$error":"#DIV/0!"},{"$error":"#DIV/0!"},null,{"$error":"#DIV/0!"},{"$error":"#DIV/0!"},{"$error":"#DIV/0!"},{"$error":"#DIV/0!"},null,{"$error":"#DIV/0!"},{"$error":"#DIV/0!"},{"$error":"#DIV/0!"},{"$error":"#DIV/0!"},null,{"$error":"#DIV/0!"},{"$error":"#DIV/0!"},{"$error":"#DIV/0!"},{"$error":"#DIV/0!"},null,{"$error":"#DIV/0!"},{"$error":"#DIV/0!"},{"$error":"#DIV/0!"},{"$error":"#DIV/0!"},null,{"$error":"#DIV/0!"},{"$error":"#DIV/0!"},{"$error":"#DIV/0!"},{"$error":"#DIV/0!"},null,{"$error":"#DIV/0!"},{"$error":"#DIV/0!"},{"$error":"#DIV/0!"},{"$error":"#DIV/0!"},null,{"$error":"#DIV/0!"},{"$error":"#DIV/0!"},{"$f":"EL62/EL63*100","v":{"$error":"#DIV/0!"}},{"$f":"EM62/EM63*100","v":{"$error":"#DIV/0!"}}]

{"sheet":"11安中","index":11,"n_rows":64,"n_cols":144,"rows_kept":64,"cut":false,"hidden":false,"merged":[[2,4,2,8]]}
[]
[null,null,"令和８年度　群馬県中学校　運動部員数調査結果    （黄色部分は入力禁止）"]
[null,null,null,null,"１１安中市(４校)",null,null,null,null,null,"第一",null,null,null,null,"第二",null,null,null,null,"松井田",null,null,null,null,"新島"]
[null,null,"№","  競　技　名","１年","２年","３年","合計","設置","１年","２年","３年","合計","設置","１年","２年","３年","合計","設置","１年","２年","３年","合計","設置","１年","２年","３年","合計","設置","１年","２年","３年","合計","設置","１年","２年","３年","合計","設置","１年","２年","３年","合計","設置","１年","２年","３年","合計","設置","１年","２年","３年","合計","設置","１年","２年","３年","合計","設置","１年","２年","３年","合計","設置","１年","２年","３年","合計","設置","１年","２年","３年","合計","設置","１年","２年","３年","合計","設置","１年","２年","３年","合計","設置","１年","２年","３年","合計","設置","１年","２年","３年","合計","設置","１年","２年","３年","合計","設置","１年","２年","３年","合計","設置","１年","２年","３年","合計","設置","１年","２年","３年","合計","設置","１年","２年","３年","合計","設置","１年","２年","３年","合計","設置","１年","２年","３年","合計","設置"]
[null,null,1,"体　操　競　技",{"$f":"J5+O5+T5+Y5+AD5+AI5+AN5+AS5+AX5+BC5+BH5+BM5+BR5+BW5+CB5+CG5+CL5+CQ5+CV5+DA5+DF5+DK5+DP5+DU5+DZ5","v":0},0,0,0,0,null,null,null,{"$f":"SUM(J5:L5)","v":0},null,null,null,null,{"$f":"SUM(O5:Q5)","v":0},null,null,null,null,{"$f":"SUM(T5:V5)","v":0},null,null,null,null,{"$f":"SUM(Y5:AA5)","v":0},null,null,null,null,{"$f":"SUM(AD5:AF5)","v":0},null,null,null,null,{"$f":"SUM(AI5:AK5)","v":0},null,null,null,null,{"$f":"SUM(AN5:AP5)","v":0},null,null,null,null,{"$f":"SUM(AS5:AU5)","v":0},null,null,null,null,{"$f":"SUM(AX5:AZ5)","v":0},null,null,null,null,{"$f":"SUM(BC5:BE5)","v":0},null,null,null,null,{"$f":"SUM(BH5:BJ5)","v":0},null,null,null,null,{"$f":"SUM(BM5:BO5)","v":0},null,null,null,null,{"$f":"SUM(BR5:BT5)","v":0},null,null,null,null,{"$f":"SUM(BW5:BY5)","v":0},null,null,null,null,{"$f":"SUM(CB5:CD5)","v":0},null,null,null,null,{"$f":"SUM(CG5:CI5)","v":0},null,null,null,null,{"$f":"SUM(CL5:CN5)","v":0},null,null,null,null,{"$f":"SUM(CQ5:CS5)","v":0},null,null,null,null,{"$f":"SUM(CV5:CX5)","v":0},null,null,null,null,{"$f":"SUM(DA5:DC5)","v":0},null,null,null,null,{"$f":"SUM(DF5:DH5)","v":0},null,null,null,null,{"$f":"SUM(DK5:DM5)","v":0},null,null,null,null,{"$f":"SUM(DP5:DR5)","v":0},null,null,null,null,{"$f":"SUM(DU5:DW5)","v":0},null,null,null,null,{"$f":"SUM(DZ5:EB5)","v":0},null,null,null,null,{"$f":"SUM(EE5:EG5)","v":0},null,null,null,null,{"$f":"SUM(EJ5:EL5)","v":0}]
[null,null,2,"新    体    操",0,0,0,0,0,null,null,null,{"$f":"SUM(J6:L6)","v":0},null,null,null,null,{"$f":"SUM(O6:Q6)","v":0},null,null,null,null,{"$f":"SUM(T6:V6)","v":0},null,null,null,null,{"$f":"SUM(Y6:AA6)","v":0},null,null,null,null,{"$f":"SUM(AD6:AF6)","v":0},null,null,null,null,{"$f":"SUM(AI6:AK6)","v":0},null,null,null,null,{"$f":"SUM(AN6:AP6)","v":0},null,null,null,null,{"$f":"SUM(AS6:AU6)","v":0},null,null,null,null,{"$f":"SUM(AX6:AZ6)","v":0},null,null,null,null,{"$f":"SUM(BC6:BE6)","v":0},null,null,null,null,{"$f":"SUM(BH6:BJ6)","v":0},null,null,null,null,{"$f":"SUM(BM6:BO6)","v":0},null,null,null,null,{"$f":"SUM(BR6:BT6)","v":0},null,null,null,null,{"$f":"SUM(BW6:BY6)","v":0},null,null,null,null,{"$f":"SUM(CB6:CD6)","v":0},null,null,null,null,{"$f":"SUM(CG6:CI6)","v":0},null,null,null,null,{"$f":"SUM(CL6:CN6)","v":0},null,null,null,null,{"$f":"SUM(CQ6:CS6)","v":0},null,null,null,null,{"$f":"SUM(CV6:CX6)","v":0},null,null,null,null,{"$f":"SUM(DA6:DC6)","v":0},null,null,null,null,{"$f":"SUM(DF6:DH6)","v":0},null,null,null,null,{"$f":"SUM(DK6:DM6)","v":0},null,null,null,null,{"$f":"SUM(DP6:DR6)","v":0},null,null,null,null,{"$f":"SUM(DU6:DW6)","v":0},null,null,null,null,{"$f":"SUM(DZ6:EB6)","v":0},null,null,null,null,{"$f":"SUM(EE6:EG6)","v":0},null,null,null,null,{"$f":"SUM(EJ6:EL6)","v":0}]
[null,null,3,"軟　式　野　球",0,0,0,{"$f":"M7+R7+W7+AB7+AG7+AL7+AQ7+AV7+BA7+BF7+BK7+BP7+BU7+BZ7+CE7+CJ7+CO7+CT7+CY7+DD7+DI7+DN7+DS7+DX7+EC7","v":0},0,null,null,null,0,null,null,null,null,0,null,null,null,null,0,null,null,null,null,0,null,null,null,null,0,null,null,null,null,0,null,null,null,null,0,null,null,null,null,0,null,null,null,null,0,null,null,null,null,0,null,null,null,null,0,null,null,null,null,0,null,null,null,null,0,null,null,null,null,0,null,null,null,null,0,null,null,null,null,0,null,null,null,null,0,null,null,null,null,0,null,null,null,null,0,null,null,null,null,0,null,null,null,null,0,null,null,null,null,0,null,null,null,null,0,null,null,null,null,0,null,null,null,null,0,null,null,null,null,0,null,null,null,null,0]
[null,null,4,"ソフトボール",0,0,0,0,0,null,null,null,0,null,null,null,null,0,null,null,null,null,0,null,null,null,null,0,null,null,null,null,0,null,null,null,null,0,null,null,null,null,0,null,null,null,null,0,null,null,null,null,0,null,null,null,null,0,null,null,null,null,0,null,null,null,null,0,null,null,null,null,0,null,null,null,null,0,null,null,null,null,0,null,null,null,null,0,null,null,null,null,0,null,null,null,null,0,null,null,null,null,0,null,null,null,null,0,null,null,null,null,0,null,null,null,null,0,null,null,null,null,0,null,null,null,null,0,null,null,null,null,0,null,null,null,null,0,null,null,null,null,0]
[null,null,5,"バスケットボール",0,0,0,0,0,null,null,null,0,null,null,null,null,0,null,null,null,null,0,null,null,null,null,0,null,null,null,null,0,null,null,null,null,0,null,null,null,null,0,null,null,null,null,0,null,null,null,null,0,null,null,null,null,0,null,null,null,null,0,null,null,null,null,0,null,null,null,null,0,null,null,null,null,0,null,null,null,null,0,null,null,null,null,0,null,null,null,null,0,null,null,null,null,0,null,null,null,null,0,null,null,null,null,0,null,null,null,null,0,null,null,null,null,0,null,null,null,null,0,null,null,null,null,0,null,null,null,null,0,null,null,null,null,0,null,null,null,null,0]
[null,null,6,"ハンドボール",0,0,0,0,0,null,null,null,0,null,null,null,null,0,null,null,null,null,0,null,null,null,null,0,null,null,null,null,0,null,null,null,null,0,null,null,null,null,0,null,null,null,null,0,null,null,null,null,0,null,null,null,null,0,null,null,null,null,0,null,null,null,null,0,null,null,null,null,0,null,null,null,null,0,null,null,null,null,0,null,null,null,null,0,null,null,null,null,0,null,null,null,null,0,null,null,null,null,0,null,null,null,null,0,null,null,null,null,0,null,null,null,null,0,null,null,null,null,0,null,null,null,null,0,null,null,null,null,0,null,null,null,null,0,null,null,null,null,0]
[null,"男",7,"バレーボール",0,0,0,0,0,null,null,null,0,null,null,null,null,0,null,null,null,null,0,null,null,null,null,0,null,null,null,null,0,null,null,null,null,0,null,null,null,null,0,null,null,null,null,0,null,null,null,null,0,null,null,null,null,0,null,null,null,null,0,null,null,null,null,0,null,null,null,null,0,null,null,null,null,0,null,null,null,null,0,null,null,null,null,0,null,null,null,null,0,null,null,null,null,0,null,null,null,null,0,null,null,null,null,0,null,null,null,null,0,null,null,null,null,0,null,null,null,null,0,null,null,null,null,0,null,null,null,null,0,null,null,null,null,0,null,null,null,null,0]
[null,null,8,"ソフトテニス",0,0,0,0,0,null,null,null,0,null,null,null,null,0,null,null,null,null,0,null,null,null,null,0,null,null,null,null,0,null,null,null,null,0,null,null,null,null,0,null,null,null,null,0,null,null,null,null,0,null,null,null,null,0,null,null,null,null,0,null,null,null,null,0,null,null,null,null,0,null,null,null,null,0,null,null,null,null,0,null,null,null,null,0,null,null,null,null,0,null,null,null,null,0,null,null,null,null,0,null,null,null,null,0,null,null,null,null,0,null,null,null,null,0,null,null,null,null,0,null,null,null,null,0,null,null,null,null,0,null,null,null,null,0,null,null,null,null,0]
[null,null,9,"卓    球",0,0,0,0,0,null,null,null,0,null,null,null,null,0,null,null,null,null,0,null,null,null,null,0,null,null,null,null,0,null,null,null,null,0,null,null,null,null,0,null,null,null,null,0,null,null,null,null,0,null,null,null,null,0,null,null,null,null,0,null,null,null,null,0,null,null,null,null,0,null,null,null,null,0,null,null,null,null,0,null,null,null,null,0,null,null,null,null,0,null,null,null,null,0,null,null,null,null,0,null,null,null,null,0,null,null,null,null,0,null,null,null,null,0,null,null,null,null,0,null,null,null,null,0,null,null,null,null,0,null,null,null,null,0,null,null,null,null,0]
[null,null,10,"バドミントン",0,0,0,0,0,null,null,null,0,null,null,null,null,0,null,null,null,null,0,null,null,null,null,0,null,null,null,null,0,null,null,null,null,0,null,null,null,null,0,null,null,null,null,0,null,null,null,null,0,null,null,null,null,0,null,null,null,null,0,null,null,null,null,0,null,null,null,null,0,null,null,null,null,0,null,null,null,null,0,null,null,null,null,0,null,null,null,null,0,null,null,null,null,0,null,null,null,null,0,null,null,null,null,0,null,null,null,null,0,null,null,null,null,0,null,null,null,null,0,null,null,null,null,0,null,null,null,null,0,null,null,null,null,0,null,null,null,null,0]
[null,null,11,"サッカー",0,0,0,0,0,null,null,null,0,null,null,null,null,0,null,null,null,null,0,null,null,null,null,0,null,null,null,null,0,null,null,null,null,0,null,null,null,null,0,null,null,null,null,0,null,null,null,null,0,null,null,null,null,0,null,null,null,null,0,null,null,null,null,0,null,null,null,null,0,null,null,null,null,0,null,null,null,null,0,null,null,null,null,0,null,null,null,null,0,null,null,null,null,0,null,null,null,null,0,null,null,null,null,0,null,null,null,null,0,null,null,null,null,0,null,null,null,null,0,null,null,null,null,0,null,null,null,null,0,null,null,null,null,0,null,null,null,null,0]
[null,null,12,"陸　上　競　技",0,0,0,0,0,null,null,null,0,null,null,null,null,0,null,null,null,null,0,null,null,null,null,0,null,null,null,null,0,null,null,null,null,0,null,null,null,null,0,null,null,null,null,0,null,null,null,null,0,null,null,null,null,0,null,null,null,null,0,null,null,null,null,0,null,null,null,null,0,null,null,null,null,0,null,null,null,null,0,null,null,null,null,0,null,null,null,null,0,null,null,null,null,0,null,null,null,null,0,null,null,null,null,0,null,null,null,null,0,null,null,null,null,0,null,null,null,null,0,null,null,null,null,0,null,null,null,null,0,null,null,null,null,0,null,null,null,null,0]
[null,null,13,"水　　泳",0,0,0,0,0,null,null,null,0,null,null,null,null,0,null,null,null,null,0,null,null,null,null,0,null,null,null,null,0,null,null,null,null,0,null,null,null,null,0,null,null,null,null,0,null,null,null,null,0,null,null,null,null,0,null,null,null,null,0,null,null,null,null,0,null,null,null,null,0,null,null,null,null,0,null,null,null,null,0,null,null,null,null,0,null,null,null,null,0,null,null,null,null,0,null,null,null,null,0,null,null,null,null,0,null,null,null,null,0,null,null,null,null,0,null,null,null,null,0,null,null,null,null,0,null,null,null,null,0,null,null,null,null,0,null,null,null,null,0]
[null,"子",14,"柔　　道",0,0,0,0,0,null,null,null,0,null,null,null,null,0,null,null,null,null,0,null,null,null,null,0,null,null,null,null,0,null,null,null,null,0,null,null,null,null,0,null,null,null,null,0,null,null,null,null,0,null,null,null,null,0,null,null,null,null,0,null,null,null,null,0,null,null,null,null,0,null,null,null,null,0,null,null,null,null,0,null,null,null,null,0,null,null,null,null,0,null,null,null,null,0,null,null,null,null,0,null,null,null,null,0,null,null,null,null,0,null,null,null,null,0,null,null,null,null,0,null,null,null,null,0,null,null,null,null,0,null,null,null,null,0,null,null,null,null,0]
[null,null,15,"剣　　道",0,0,0,0,0,null,null,null,0,null,null,null,null,0,null,null,null,null,0,null,null,null,null,0,null,null,null,null,0,null,null,null,null,0,null,null,null,null,0,null,null,null,null,0,null,null,null,null,0,null,null,null,null,0,null,null,null,null,0,null,null,null,null,0,null,null,null,null,0,null,null,null,null,0,null,null,null,null,0,null,null,null,null,0,null,null,null,null,0,null,null,null,null,0,null,null,null,null,0,null,null,null,null,0,null,null,null,null,0,null,null,null,null,0,null,null,null,null,0,null,null,null,null,0,null,null,null,null,0,null,null,null,null,0,null,null,null,null,0]
[null,null,16,"相　　撲",0,0,0,0,0,null,null,null,0,null,null,null,null,0,null,null,null,null,0,null,null,null,null,0,null,null,null,null,0,null,null,null,null,0,null,null,null,null,0,null,null,null,null,0,null,null,null,null,0,null,null,null,null,0,null,null,null,null,0,null,null,null,null,0,null,null,null,null,0,null,null,null,null,0,null,null,null,null,0,null,null,null,null,0,null,null,null,null,0,null,null,null,null,0,null,null,null,null,0,null,null,null,null,0,null,null,null,null,0,null,null,null,null,0,null,null,null,null,0,null,null,null,null,0,null,null,null,null,0,null,null,null,null,0,null,null,null,null,0]
[null,null,17,"ダ    ン    ス",0,0,0,0,0,null,null,null,0,null,null,null,null,0,null,null,null,null,0,null,null,null,null,0,null,null,null,null,0,null,null,null,null,0,null,null,null,null,0,null,null,null,null,0,null,null,null,null,0,null,null,null,null,0,null,null,null,null,0,null,null,null,null,0,null,null,null,null,0,null,null,null,null,0,null,null,null,null,0,null,null,null,null,0,null,null,null,null,0,null,null,null,null,0,null,null,null,null,0,null,null,null,null,0,null,null,null,null,0,null,null,null,null,0,null,null,null,null,0,null,null,null,null,0,null,null,null,null,0,null,null,null,null,0,null,null,null,null,0]
[null,null,18,"ス    キ    ー",0,0,0,0,0,null,null,null,0,null,null,null,null,0,null,null,null,null,0,null,null,null,null,0,null,null,null,null,0,null,null,null,null,0,null,null,null,null,0,null,null,null,null,0,null,null,null,null,0,null,null,null,null,0,null,null,null,null,0,null,null,null,null,0,null,null,null,null,0,null,null,null,null,0,null,null,null,null,0,null,null,null,null,0,null,null,null,null,0,null,null,null,null,0,null,null,null,null,0,null,null,null,null,0,null,null,null,null,0,null,null,null,null,0,null,null,null,null,0,null,null,null,null,0,null,null,null,null,0,null,null,null,null,0,null,null,null,null,0]
[null,null,19,"ス  ケ  ー  ト",0,0,0,0,0,null,null,null,0,null,null,null,null,0,null,null,null,null,0,null,null,null,null,0,null,null,null,null,0,null,null,null,null,0,null,null,null,null,0,null,null,null,null,0,null,null,null,null,0,null,null,null,null,0,null,null,null,null,0,null,null,null,null,0,null,null,null,null,0,null,null,null,null,0,null,null,null,null,0,null,null,null,null,0,null,null,null,null,0,null,null,null,null,0,null,null,null,null,0,null,null,null,null,0,null,null,null,null,0,null,null,null,null,0,null,null,null,null,0,null,null,null,null,0,null,null,null,null,0,null,null,null,null,0,null,null,null,null,0]
[null,null,20,"アイスホッケー",0,0,0,0,0,null,null,null,0,null,null,null,null,0,null,null,null,null,0,null,null,null,null,0,null,null,null,null,0,null,null,null,null,0,null,null,null,null,0,null,null,null,null,0,null,null,null,null,0,null,null,null,null,0,null,null,null,null,0,null,null,null,null,0,null,null,null,null,0,null,null,null,null,0,null,null,null,null,0,null,null,null,null,0,null,null,null,null,0,null,null,null,null,0,null,null,null,null,0,null,null,null,null,0,null,null,null,null,0,null,null,null,null,0,null,null,null,null,0,null,null,null,null,0,null,null,null,null,0,null,null,null,null,0,null,null,null,null,0]
[null,null,21,"テ　　ニ　　ス",0,0,0,0,0,null,null,null,0,null,null,null,null,0,null,null,null,null,0,null,null,null,null,0,null,null,null,null,0,null,null,null,null,0,null,null,null,null,0,null,null,null,null,0,null,null,null,null,0,null,null,null,null,0,null,null,null,null,0,null,null,null,null,0,null,null,null,null,0,null,null,null,null,0,null,null,null,null,0,null,null,null,null,0,null,null,null,null,0,null,null,null,null,0,null,null,null,null,0,null,null,null,null,0,null,null,null,null,0,null,null,null,null,0,null,null,null,null,0,null,null,null,null,0,null,null,null,null,0,null,null,null,null,0,null,null,null,null,0]
[null,null,22,"空　　　手",0,0,0,0,0,null,null,null,0,null,null,null,null,0,null,null,null,null,0,null,null,null,null,0,null,null,null,null,0,null,null,null,null,0,null,null,null,null,0,null,null,null,null,0,null,null,null,null,0,null,null,null,null,0,null,null,null,null,0,null,null,null,null,0,null,null,null,null,0,null,null,null,null,0,null,null,null,null,0,null,null,null,null,0,null,null,null,null,0,null,null,null,null,0,null,null,null,null,0,null,null,null,null,0,null,null,null,null,0,null,null,null,null,0,null,null,null,null,0,null,null,null,null,0,null,null,null,null,0,null,null,null,null,0,null,null,null,null,0]
[null,null,23,"ラ　グ　ビ　ー",0,0,0,0,0,null,null,null,{"$f":"SUM(J27:L27)","v":0},null,null,null,null,{"$f":"SUM(O27:Q27)","v":0},null,null,null,null,{"$f":"SUM(T27:V27)","v":0},null,null,null,null,{"$f":"SUM(Y27:AA27)","v":0},null,null,null,null,{"$f":"SUM(AD27:AF27)","v":0},null,null,null,null,{"$f":"SUM(AI27:AK27)","v":0},null,null,null,null,{"$f":"SUM(AN27:AP27)","v":0},null,null,null,null,{"$f":"SUM(AS27:AU27)","v":0},null,null,null,null,{"$f":"SUM(AX27:AZ27)","v":0},null,null,null,null,{"$f":"SUM(BC27:BE27)","v":0},null,null,null,null,{"$f":"SUM(BH27:BJ27)","v":0},null,null,null,null,{"$f":"SUM(BM27:BO27)","v":0},null,null,null,null,{"$f":"SUM(BR27:BT27)","v":0},null,null,null,null,{"$f":"SUM(BW27:BY27)","v":0},null,null,null,null,{"$f":"SUM(CB27:CD27)","v":0},null,null,null,null,{"$f":"SUM(CG27:CI27)","v":0},null,null,null,null,{"$f":"SUM(CL27:CN27)","v":0},null,null,null,null,{"$f":"SUM(CQ27:CS27)","v":0},null,null,null,null,{"$f":"SUM(CV27:CX27)","v":0},null,null,null,null,{"$f":"SUM(DA27:DC27)","v":0},null,null,null,null,{"$f":"SUM(DF27:DH27)","v":0},null,null,null,null,{"$f":"SUM(DK27:DM27)","v":0},null,null,null,null,{"$f":"SUM(DP27:DR27)","v":0},null,null,null,null,{"$f":"SUM(DU27:DW27)","v":0},null,null,null,null,{"$f":"SUM(DZ27:EB27)","v":0},null,null,null,null,{"$f":"SUM(EE27:EG27)","v":0},null,null,null,null,{"$f":"SUM(EJ27:EL27)","v":0}]
[null,null,null,null,0,0,0,0,0]
[null,null,null,null,0,0,0,0,0]
[null,null,null,null,0,0,0,0,0]
[null,null,"男　子　合　計 (名)",null,0,0,0,0,0,{"$f":"SUM(J5:J30)","v":0},0,0,{"$f":"SUM(M5:M30)","v":0},0,0,0,0,0,0,0,0,0,0,0,0,0,0,0,0,0,0,0,0,0,0,0,0,0,0,0,0,0,0,0,0,0,0,0,0,0,0,0,0,0,0,0,0,0,0,0,0,0,0,0,0,0,0,0,0,0,0,0,0,{"$f":"SUM(BV5:BV30)","v":0},{"$f":"SUM(BW5:BW30)","v":0},0,0,0,0,0,0,0,0,0,0,0,0,0,0,0,0,0,0,0,0,0,0,0,0,0,0,0,0,0,0,0,0,0,0,0,0,0,0,0,0,0,0,0,0,0,0,0,0,0,0,0,0,0,0,0,0,0,0,0,0,0,0,0,{"$f":"SUM(EI5:EI30)","v":0},0,0,0,0,0]
[null,null,"男 子 在 籍 数 (名)",null,{"$f":"J32+O32+T32+Y32+AD32+AI32+AN32+AS32+AX32+BC32+BH32+BM32+BR32+BW32+CB32+CG32+CL32+CQ32+CV32+DA32+DF32+DK32+DP32+DU32+DZ32","v":0},{"$f":"K32+P32+U32+Z32+AE32+AJ32+AO32+AT32+AY32+BD32+BI32+BN32+BS32+BX32+CC32+CH32+CM32+CR32+CW32+DB32+DG32+DL32+DQ32+DV32+EA32","v":0},{"$f":"L32+Q32+V32+AA32+AF32+AK32+AP32+AU32+AZ32+BE32+BJ32+BO32+BT32+BY32+CD32+CI32+CN32+CS32+CX32+DC32+DH32+DM32+DR32+DW32+EB32","v":0},{"$f":"M32+R32+W32+AB32+AG32+AL32+AQ32+AV32+BA32+BF32+BK32+BP32+BU32+BZ32+CE32+CJ32+CO32+CT32+CY32+DD32+DI32+DN32+DS32+DX32+EC32","v":0},null,null,null,null,{"$f":"SUM(J32:L32)","v":0},null,null,null,null,{"$f":"SUM(O32:Q32)","v":0},null,null,null,null,{"$f":"SUM(T32:V32)","v":0},null,null,null,null,{"$f":"SUM(Y32:AA32)","v":0},null,null,null,null,{"$f":"SUM(AD32:AF32)","v":0},null,null,null,null,{"$f":"SUM(AI32:AK32)","v":0},null,null,null,null,{"$f":"SUM(AN32:AP32)","v":0},null,null,null,null,{"$f":"SUM(AS32:AU32)","v":0},null,null,null,null,{"$f":"SUM(AX32:AZ32)","v":0},null,null,null,null,{"$f":"SUM(BC32:BE32)","v":0},null,null,null,null,{"$f":"SUM(BH32:BJ32)","v":0},null,null,null,null,{"$f":"SUM(BM32:BO32)","v":0},null,null,null,null,{"$f":"SUM(BR32:BT32)","v":0},null,null,null,null,{"$f":"SUM(BW32:BY32)","v":0},null,null,null,null,{"$f":"SUM(CB32:CD32)","v":0},null,null,null,null,{"$f":"SUM(CG32:CI32)","v":0},null,null,null,null,{"$f":"SUM(CL32:CN32)","v":0},null,null,null,null,{"$f":"SUM(CQ32:CS32)","v":0},null,null,null,null,{"$f":"SUM(CV32:CX32)","v":0},null,null,null,null,{"$f":"SUM(DA32:DC32)","v":0},null,null,null,null,{"$f":"SUM(DF32:DH32)","v":0},null,null,null,null,{"$f":"SUM(DK32:DM32)","v":0},null,null,null,null,{"$f":"SUM(DP32:DR32)","v":0},null,null,null,null,{"$f":"SUM(DU32:DW32)","v":0},null,null,null,null,{"$f":"SUM(DZ32:EB32)","v":0},null,null,null,null,{"$f":"SUM(EE32:EG32)","v":0},null,null,null,null,{"$f":"SUM(EJ32:EL32)","v":0}]
[null,null,"男 子 入 部 率 (％)",null,{"$f":"E31/E32*100","v":{"$error":"#DIV/0!"}},{"$f":"F31/F32*100","v":{"$error":"#DIV/0!"}},{"$f":"G31/G32*100","v":{"$error":"#DIV/0!"}},{"$f":"H31/H32*100","v":{"$error":"#DIV/0!"}},null,{"$f":"J31/J32*100","v":{"$error":"#DIV/0!"}},{"$error":"#DIV/0!"},{"$error":"#DIV/0!"},{"$error":"#DIV/0!"},null,{"$error":"#DIV/0!"},{"$error":"#DIV/0!"},{"$error":"#DIV/0!"},{"$f":"R31/R32*100","v":{"$error":"#DIV/0!"}},null,{"$error":"#DIV/0!"},{"$error":"#DIV/0!"},{"$error":"#DIV/0!"},{"$f":"W31/W32*100","v":{"$error":"#DIV/0!"}},null,{"$error":"#DIV/0!"},{"$error":"#DIV/0!"},{"$error":"#DIV/0!"},{"$f":"AB31/AB32*100","v":{"$error":"#DIV/0!"}},null,{"$error":"#DIV/0!"},{"$error":"#DIV/0!"},{"$error":"#DIV/0!"},{"$f":"AG31/AG32*100","v":{"$error":"#DIV/0!"}},null,{"$error":"#DIV/0!"},{"$error":"#DIV/0!"},{"$error":"#DIV/0!"},{"$f":"AL31/AL32*100","v":{"$error":"#DIV/0!"}},null,{"$error":"#DIV/0!"},{"$error":"#DIV/0!"},{"$error":"#DIV/0!"},{"$f":"AQ31/AQ32*100","v":{"$error":"#DIV/0!"}},null,{"$error":"#DIV/0!"},{"$error":"#DIV/0!"},{"$error":"#DIV/0!"},{"$f":"AV31/AV32*100","v":{"$error":"#DIV/0!"}},null,{"$error":"#DIV/0!"},{"$error":"#DIV/0!"},{"$error":"#DIV/0!"},{"$f":"BA31/BA32*100","v":{"$error":"#DIV/0!"}},null,{"$error":"#DIV/0!"},{"$error":"#DIV/0!"},{"$error":"#DIV/0!"},{"$f":"BF31/BF32*100","v":{"$error":"#DIV/0!"}},null,{"$error":"#DIV/0!"},{"$error":"#DIV/0!"},{"$error":"#DIV/0!"},{"$f":"BK31/BK32*100","v":{"$error":"#DIV/0!"}},null,{"$error":"#DIV/0!"},{"$error":"#DIV/0!"},{"$error":"#DIV/0!"},{"$f":"BP31/BP32*100","v":{"$error":"#DIV/0!"}},null,{"$error":"#DIV/0!"},{"$error":"#DIV/0!"},{"$error":"#DIV/0!"},{"$f":"BU31/BU32*100","v":{"$error":"#DIV/0!"}},null,{"$f":"BW31/BW32*100","v":{"$error":"#DIV/0!"}},{"$error":"#DIV/0!"},{"$error":"#DIV/0!"},{"$error":"#DIV/0!"},null,{"$error":"#DIV/0!"},{"$error":"#DIV/0!"},{"$error":"#DIV/0!"},{"$error":"#DIV/0!"},null,{"$error":"#DIV/0!"},{"$error":"#DIV/0!"},{"$error":"#DIV/0!"},{"$error":"#DIV/0!"},null,{"$error":"#DIV/0!"},{"$error":"#DIV/0!"},{"$error":"#DIV/0!"},{"$error":"#DIV/0!"},null,{"$error":"#DIV/0!"},{"$error":"#DIV/0!"},{"$error":"#DIV/0!"},{"$error":"#DIV/0!"},null,{"$error":"#DIV/0!"},{"$error":"#DIV/0!"},{"$error":"#DIV/0!"},{"$error":"#DIV/0!"},null,{"$error":"#DIV/0!"},{"$error":"#DIV/0!"},{"$error":"#DIV/0!"},{"$error":"#DIV/0!"},null,{"$error":"#DIV/0!"},{"$error":"#DIV/0!"},{"$error":"#DIV/0!"},{"$error":"#DIV/0!"},null,{"$error":"#DIV/0!"},{"$error":"#DIV/0!"},{"$error":"#DIV/0!"},{"$error":"#DIV/0!"},null,{"$error":"#DIV/0!"},{"$error":"#DIV/0!"},{"$error":"#DIV/0!"},{"$error":"#DIV/0!"},null,{"$error":"#DIV/0!"},{"$error":"#DIV/0!"},{"$error":"#DIV/0!"},{"$error":"#DIV/0!"},null,{"$error":"#DIV/0!"},{"$error":"#DIV/0!"},{"$error":"#DIV/0!"},{"$error":"#DIV/0!"},null,{"$error":"#DIV/0!"},{"$error":"#DIV/0!"},{"$error":"#DIV/0!"},{"$error":"#DIV/0!"},null,{"$error":"#DIV/0!"},{"$error":"#DIV/0!"},{"$f":"EL31/EL32*100","v":{"$error":"#DIV/0!"}},{"$f":"EM31/EM32*100","v":{"$error":"#DIV/0!"}}]
[null,null,1,"体　操　競　技",{"$f":"J34+O34+T34+Y34+AD34+AI34+AN34+AS34+AX34+BC34+BH34+BM34+BR34+BW34+CB34+CG34+CL34+CQ34+CV34+DA34+DF34+DK34+DP34+DU34+DZ34","v":0},0,0,0,0,null,null,null,{"$f":"J34+K34+L34","v":0},null,null,null,null,{"$f":"O34+P34+Q34","v":0},null,null,null,null,{"$f":"T34+U34+V34","v":0},null,null,null,null,{"$f":"Y34+Z34+AA34","v":0},null,null,null,null,{"$f":"AD34+AE34+AF34","v":0},null,null,null,null,{"$f":"AI34+AJ34+AK34","v":0},null,null,null,null,{"$f":"AN34+AO34+AP34","v":0},null,null,null,null,{"$f":"AS34+AT34+AU34","v":0},null,null,null,null,{"$f":"AX34+AY34+AZ34","v":0},null,null,null,null,{"$f":"BC34+BD34+BE34","v":0},null,null,null,null,{"$f":"BH34+BI34+BJ34","v":0},null,null,null,null,{"$f":"BM34+BN34+BO34","v":0},null,null,null,null,{"$f":"BR34+BS34+BT34","v":0},null,null,null,null,{"$f":"BW34+BX34+BY34","v":0},null,null,null,null,{"$f":"CB34+CC34+CD34","v":0},null,null,null,null,{"$f":"CG34+CH34+CI34","v":0},null,null,null,null,{"$f":"CL34+CM34+CN34","v":0},null,null,null,null,{"$f":"CQ34+CR34+CS34","v":0},null,null,null,null,{"$f":"CV34+CW34+CX34","v":0},null,null,null,null,{"$f":"DA34+DB34+DC34","v":0},null,null,null,null,{"$f":"DF34+DG34+DH34","v":0},null,null,null,null,{"$f":"DK34+DL34+DM34","v":0},null,null,null,null,{"$f":"DP34+DQ34+DR34","v":0},null,null,null,null,{"$f":"DU34+DV34+DW34","v":0},null,null,null,null,{"$f":"DZ34+EA34+EB34","v":0},null,null,null,null,{"$f":"EE34+EF34+EG34","v":0},null,null,null,null,{"$f":"EJ34+EK34+EL34","v":0}]
[null,null,2,"新    体    操",0,0,0,0,0,null,null,null,0,null,null,null,null,0,null,null,null,null,0,null,null,null,null,0,null,null,null,null,0,null,null,null,null,0,null,null,null,null,0,null,null,null,null,0,null,null,null,null,0,null,null,null,null,0,null,null,null,null,0,null,null,null,null,0,null,null,null,null,0,null,null,null,null,0,null,null,null,null,0,null,null,null,null,0,null,null,null,null,0,null,null,null,null,0,null,null,null,null,0,null,null,null,null,0,null,null,null,null,0,null,null,null,null,0,null,null,null,null,0,null,null,null,null,0,null,null,null,null,0,null,null,null,null,0,null,null,null,null,0]
[null,null,3,"軟　式　野　球",0,0,0,0,0,null,null,null,0,null,null,null,null,0,null,null,null,null,0,null,null,null,null,0,null,null,null,null,0,null,null,null,null,0,null,null,null,null,0,null,null,null,null,0,null,null,null,null,0,null,null,null,null,0,null,null,null,null,0,null,null,null,null,0,null,null,null,null,0,null,null,null,null,0,null,null,null,null,0,null,null,null,null,0,null,null,null,null,0,null,null,null,null,0,null,null,null,null,0,null,null,null,null,0,null,null,null,null,0,null,null,null,null,0,null,null,null,null,0,null,null,null,null,0,null,null,null,null,0,null,null,null,null,0,null,null,null,null,0]
[null,null,4,"ソフトボール",0,0,0,0,0,null,null,null,0,null,null,null,null,0,null,null,null,null,0,null,null,null,null,0,null,null,null,null,0,null,null,null,null,0,null,null,null,null,0,null,null,null,null,0,null,null,null,null,0,null,null,null,null,0,null,null,null,null,0,null,null,null,null,0,null,null,null,null,0,null,null,null,null,0,null,null,null,null,0,null,null,null,null,0,null,null,null,null,0,null,null,null,null,0,null,null,null,null,0,null,null,null,null,0,null,null,null,null,0,null,null,null,null,0,null,null,null,null,0,null,null,null,null,0,null,null,null,null,0,null,null,null,null,0,null,null,null,null,0]
[null,null,5,"バスケットボール",0,0,0,0,0,null,null,null,0,null,null,null,null,0,null,null,null,null,0,null,null,null,null,0,null,null,null,null,0,null,null,null,null,0,null,null,null,null,0,null,null,null,null,0,null,null,null,null,0,null,null,null,null,0,null,null,null,null,0,null,null,null,null,0,null,null,null,null,0,null,null,null,null,0,null,null,null,null,0,null,null,null,null,0,null,null,null,null,0,null,null,null,null,0,null,null,null,null,0,null,null,null,null,0,null,null,null,null,0,null,null,null,null,0,null,null,null,null,0,null,null,null,null,0,null,null,null,null,0,null,null,null,null,0,null,null,null,null,0]
[null,null,6,"ハンドボール",0,0,0,0,0,null,null,null,0,null,null,null,null,0,null,null,null,null,0,null,null,null,null,0,null,null,null,null,0,null,null,null,null,0,null,null,null,null,0,null,null,null,null,0,null,null,null,null,0,null,null,null,null,0,null,null,null,null,0,null,null,null,null,0,null,null,null,null,0,null,null,null,null,0,null,null,null,null,0,null,null,null,null,0,null,null,null,null,0,null,null,null,null,0,null,null,null,null,0,null,null,null,null,0,null,null,null,null,0,null,null,null,null,0,null,null,null,null,0,null,null,null,null,0,null,null,null,null,0,null,null,null,null,0,null,null,null,null,0]
[null,"女",7,"バレーボール",0,0,0,0,0,null,null,null,0,null,null,null,null,0,null,null,null,null,0,null,null,null,null,0,null,null,null,null,0,null,null,null,null,0,null,null,null,null,0,null,null,null,null,0,null,null,null,null,0,null,null,null,null,0,null,null,null,null,0,null,null,null,null,0,null,null,null,null,0,null,null,null,null,0,null,null,null,null,0,null,null,null,null,0,null,null,null,null,0,null,null,null,null,0,null,null,null,null,0,null,null,null,null,0,null,null,null,null,0,null,null,null,null,0,null,null,null,null,0,null,null,null,null,0,null,null,null,null,0,null,null,null,null,0,null,null,null,null,0]
[null,null,8,"ソフトテニス",0,0,0,0,0,null,null,null,0,null,null,null,null,0,null,null,null,null,0,null,null,null,null,0,null,null,null,null,0,null,null,null,null,0,null,null,null,null,0,null,null,null,null,0,null,null,null,null,0,null,null,null,null,0,null,null,null,null,0,null,null,null,null,0,null,null,null,null,0,null,null,null,null,0,null,null,null,null,0,null,null,null,null,0,null,null,null,null,0,null,null,null,null,0,null,null,null,null,0,null,null,null,null,0,null,null,null,null,0,null,null,null,null,0,null,null,null,null,0,null,null,null,null,0,null,null,null,null,0,null,null,null,null,0,null,null,null,null,0]
[null,null,9,"卓    球",0,0,0,0,0,null,null,null,0,null,null,null,null,0,null,null,null,null,0,null,null,null,null,0,null,null,null,null,0,null,null,null,null,0,null,null,null,null,0,null,null,null,null,0,null,null,null,null,0,null,null,null,null,0,null,null,null,null,0,null,null,null,null,0,null,null,null,null,0,null,null,null,null,0,null,null,null,null,0,null,null,null,null,0,null,null,null,null,0,null,null,null,null,0,null,null,null,null,0,null,null,null,null,0,null,null,null,null,0,null,null,null,null,0,null,null,null,null,0,null,null,null,null,0,null,null,null,null,0,null,null,null,null,0,null,null,null,null,0]
[null,null,10,"バドミントン",0,0,0,0,0,null,null,null,0,null,null,null,null,0,null,null,null,null,0,null,null,null,null,0,null,null,null,null,0,null,null,null,null,0,null,null,null,null,0,null,null,null,null,0,null,null,null,null,0,null,null,null,null,0,null,null,null,null,0,null,null,null,null,0,null,null,null,null,0,null,null,null,null,0,null,null,null,null,0,null,null,null,null,0,null,null,null,null,0,null,null,null,null,0,null,null,null,null,0,null,null,null,null,0,null,null,null,null,0,null,null,null,null,0,null,null,null,null,0,null,null,null,null,0,null,null,null,null,0,null,null,null,null,0,null,null,null,null,0]
[null,null,11,"サッカー",0,0,0,0,0,null,null,null,0,null,null,null,null,0,null,null,null,null,0,null,null,null,null,0,null,null,null,null,0,null,null,null,null,0,null,null,null,null,0,null,null,null,null,0,null,null,null,null,0,null,null,null,null,0,null,null,null,null,0,null,null,null,null,0,null,null,null,null,0,null,null,null,null,0,null,null,null,null,0,null,null,null,null,0,null,null,null,null,0,null,null,null,null,0,null,null,null,null,0,null,null,null,null,0,null,null,null,null,0,null,null,null,null,0,null,null,null,null,0,null,null,null,null,0,null,null,null,null,0,null,null,null,null,0,null,null,null,null,0]
[null,null,12,"陸　上　競　技",0,0,0,0,0,null,null,null,0,null,null,null,null,0,null,null,null,null,0,null,null,null,null,0,null,null,null,null,0,null,null,null,null,0,null,null,null,null,0,null,null,null,null,0,null,null,null,null,0,null,null,null,null,0,null,null,null,null,0,null,null,null,null,0,null,null,null,null,0,null,null,null,null,0,null,null,null,null,0,null,null,null,null,0,null,null,null,null,0,null,null,null,null,0,null,null,null,null,0,null,null,null,null,0,null,null,null,null,0,null,null,null,null,0,null,null,null,null,0,null,null,null,null,0,null,null,null,null,0,null,null,null,null,0,null,null,null,null,0]
[null,null,13,"水　　泳",0,0,0,0,0,null,null,null,0,null,null,null,null,0,null,null,null,null,0,null,null,null,null,0,null,null,null,null,0,null,null,null,null,0,null,null,null,null,0,null,null,null,null,0,null,null,null,null,0,null,null,null,null,0,null,null,null,null,0,null,null,null,null,0,null,null,null,null,0,null,null,null,null,0,null,null,null,null,0,null,null,null,null,0,null,null,null,null,0,null,null,null,null,0,null,null,null,null,0,null,null,null,null,0,null,null,null,null,0,null,null,null,null,0,null,null,null,null,0,null,null,null,null,0,null,null,null,null,0,null,null,null,null,0,null,null,null,null,0]
[null,"子",14,"柔　　道",0,0,0,0,0,null,null,null,0,null,null,null,null,0,null,null,null,null,0,null,null,null,null,0,null,null,null,null,0,null,null,null,null,0,null,null,null,null,0,null,null,null,null,0,null,null,null,null,0,null,null,null,null,0,null,null,null,null,0,null,null,null,null,0,null,null,null,null,0,null,null,null,null,0,null,null,null,null,0,null,null,null,null,0,null,null,null,null,0,null,null,null,null,0,null,null,null,null,0,null,null,null,null,0,null,null,null,null,0,null,null,null,null,0,null,null,null,null,0,null,null,null,null,0,null,null,null,null,0,null,null,null,null,0,null,null,null,null,0]
[null,null,15,"剣　　道",0,0,0,0,0,null,null,null,0,null,null,null,null,0,null,null,null,null,0,null,null,null,null,0,null,null,null,null,0,null,null,null,null,0,null,null,null,null,0,null,null,null,null,0,null,null,null,null,0,null,null,null,null,0,null,null,null,null,0,null,null,null,null,0,null,null,null,null,0,null,null,null,null,0,null,null,null,null,0,null,null,null,null,0,null,null,null,null,0,null,null,null,null,0,null,null,null,null,0,null,null,null,null,0,null,null,null,null,0,null,null,null,null,0,null,null,null,null,0,null,null,null,null,0,null,null,null,null,0,null,null,null,null,0,null,null,null,null,0]
[null,null,16,"ダ    ン    ス",0,0,0,0,0,null,null,null,0,null,null,null,null,0,null,null,null,null,0,null,null,null,null,0,null,null,null,null,0,null,null,null,null,0,null,null,null,null,0,null,null,null,null,0,null,null,null,null,0,null,null,null,null,0,null,null,null,null,0,null,null,null,null,0,null,null,null,null,0,null,null,null,null,0,null,null,null,null,0,null,null,null,null,0,null,null,null,null,0,null,null,null,null,0,null,null,null,null,0,null,null,null,null,0,null,null,null,null,0,null,null,null,null,0,null,null,null,null,0,null,null,null,null,0,null,null,null,null,0,null,null,null,null,0,null,null,null,null,0]
[null,null,17,"ス    キ    ー",0,0,0,0,0,null,null,null,0,null,null,null,null,0,null,null,null,null,0,null,null,null,null,0,null,null,null,null,0,null,null,null,null,0,null,null,null,null,0,null,null,null,null,0,null,null,null,null,0,null,null,null,null,0,null,null,null,null,0,null,null,null,null,0,null,null,null,null,0,null,null,null,null,0,null,null,null,null,0,null,null,null,null,0,null,null,null,null,0,null,null,null,null,0,null,null,null,null,0,null,null,null,null,0,null,null,null,null,0,null,null,null,null,0,null,null,null,null,0,null,null,null,null,0,null,null,null,null,0,null,null,null,null,0,null,null,null,null,0]
[null,null,18,"ス  ケ  ー  ト",0,0,0,0,0,null,null,null,0,null,null,null,null,0,null,null,null,null,0,null,null,null,null,0,null,null,null,null,0,null,null,null,null,0,null,null,null,null,0,null,null,null,null,0,null,null,null,null,0,null,null,null,null,0,null,null,null,null,0,null,null,null,null,0,null,null,null,null,0,null,null,null,null,0,null,null,null,null,0,null,null,null,null,0,null,null,null,null,0,null,null,null,null,0,null,null,null,null,0,null,null,null,null,0,null,null,null,null,0,null,null,null,null,0,null,null,null,null,0,null,null,null,null,0,null,null,null,null,0,null,null,null,null,0,null,null,null,null,0]
[null,null,19,"アイスホッケー",0,0,0,0,0,null,null,null,0,null,null,null,null,0,null,null,null,null,0,null,null,null,null,0,null,null,null,null,0,null,null,null,null,0,null,null,null,null,0,null,null,null,null,0,null,null,null,null,0,null,null,null,null,0,null,null,null,null,0,null,null,null,null,0,null,null,null,null,0,null,null,null,null,0,null,null,null,null,0,null,null,null,null,0,null,null,null,null,0,null,null,null,null,0,null,null,null,null,0,null,null,null,null,0,null,null,null,null,0,null,null,null,null,0,null,null,null,null,0,null,null,null,null,0,null,null,null,null,0,null,null,null,null,0,null,null,null,null,0]
[null,null,20,"テ　　ニ　　ス",0,0,0,0,0,null,null,null,0,null,null,null,null,0,null,null,null,null,0,null,null,null,null,0,null,null,null,null,0,null,null,null,null,0,null,null,null,null,0,null,null,null,null,0,null,null,null,null,0,null,null,null,null,0,null,null,null,null,0,null,null,null,null,0,null,null,null,null,0,null,null,null,null,0,null,null,null,null,0,null,null,null,null,0,null,null,null,null,0,null,null,null,null,0,null,null,null,null,0,null,null,null,null,0,null,null,null,null,0,null,null,null,null,0,null,null,null,null,0,null,null,null,null,0,null,null,null,null,0,null,null,null,null,0,null,null,null,null,0]
[null,null,21,"弓　　道　",0,0,0,0,0,null,null,null,0,null,null,null,null,0,null,null,null,null,0,null,null,null,null,0,null,null,null,null,0,null,null,null,null,0,null,null,null,null,0,null,null,null,null,0,null,null,null,null,0,null,null,null,null,0,null,null,null,null,0,null,null,null,null,0,null,null,null,null,0,null,null,null,null,0,null,null,null,null,0,null,null,null,null,0,null,null,null,null,0,null,null,null,null,0,null,null,null,null,0,null,null,null,null,0,null,null,null,null,0,null,null,null,null,0,null,null,null,null,0,null,null,null,null,0,null,null,null,null,0,null,null,null,null,0,null,null,null,null,0]
[null,null,22,"空　　手",0,0,0,0,0,null,null,null,0,null,null,null,null,0,null,null,null,null,0,null,null,null,null,0,null,null,null,null,0,null,null,null,null,0,null,null,null,null,0,null,null,null,null,0,null,null,null,null,0,null,null,null,null,0,null,null,null,null,0,null,null,null,null,{"$f":"BM55+BN55+BO55","v":0},null,null,null,null,0,null,null,null,null,0,null,null,null,null,0,null,null,null,null,0,null,null,null,null,0,null,null,null,null,0,null,null,null,null,0,null,null,null,null,0,null,null,null,null,0,null,null,null,null,0,null,null,null,null,0,null,null,null,null,0,null,null,null,null,0,null,null,null,null,0,null,null,null,null,0]
[null,null,null,null,0,0,0,0,0,null,null,null,0,null,null,null,null,0,null,null,null,null,0,null,null,null,null,0,null,null,null,null,0,null,null,null,null,0,null,null,null,null,0,null,null,null,null,0,null,null,null,null,0,null,null,null,null,0,null,null,null,null,0,null,null,null,null,0,null,null,null,null,0,null,null,null,null,0,null,null,null,null,0,null,null,null,null,0,null,null,null,null,0,null,null,null,null,0,null,null,null,null,0,null,null,null,null,0,null,null,null,null,0,null,null,null,null,0,null,null,null,null,0,null,null,null,null,0,null,null,null,null,0,null,null,null,null,0,null,null,null,null,0]
[null,null,null,null,0,0,0,0,0,null,null,null,0,null,null,null,null,0,null,null,null,null,0,null,null,null,null,0,null,null,null,null,0,null,null,null,null,0,null,null,null,null,0,null,null,null,null,0,null,null,null,null,0,null,null,null,null,0,null,null,null,null,0,null,null,null,null,0,null,null,null,null,0,null,null,null,null,0,null,null,null,null,0,null,null,null,null,0,null,null,null,null,0,null,null,null,null,0,null,null,null,null,0,null,null,null,null,0,null,null,null,null,0,null,null,null,null,0,null,null,null,null,0,null,null,null,null,0,null,null,null,null,0,null,null,null,null,0,null,null,null,null,0]
[null,null,null,null,0,0,0,0,0,null,null,null,0,null,null,null,null,0,null,null,null,null,0,null,null,null,null,0,null,null,null,null,0,null,null,null,null,0,null,null,null,null,0,null,null,null,null,0,null,null,null,null,0,null,null,null,null,0,null,null,null,null,0,null,null,null,null,0,null,null,null,null,0,null,null,null,null,0,null,null,null,null,0,null,null,null,null,0,null,null,null,null,0,null,null,null,null,0,null,null,null,null,0,null,null,null,null,0,null,null,null,null,0,null,null,null,null,0,null,null,null,null,0,null,null,null,null,0,null,null,null,null,0,null,null,null,null,0,null,null,null,null,0]
[null,null,"女　子　合　計 (名)",null,0,0,0,0,0,{"$f":"SUM(J34:J58)","v":0},0,0,0,0,0,0,0,0,0,0,0,0,0,0,0,0,0,0,0,0,0,0,0,0,0,0,0,0,0,0,0,{"$f":"SUM(AP34:AP58)","v":0},0,0,0,0,0,0,0,0,0,0,0,0,0,0,0,0,0,0,0,0,0,0,0,0,0,0,0,0,0,0,0,{"$f":"SUM(BV34:BV58)","v":0},0,0,0,0,0,0,0,0,0,0,0,0,0,0,0,0,0,0,0,0,0,0,0,0,0,0,0,0,0,0,0,{"$f":"SUM(DB34:DB58)","v":0},0,0,0,0,0,0,0,0,0,0,0,0,0,0,0,0,0,0,0,0,0,0,0,0,0,0,0,0,0,0,0,{"$f":"SUM(EH34:EH58)","v":0},0,0,0,0,0,0]
[null,null,"女 子 在 籍 数 (名)",null,{"$f":"J60+O60+T60+Y60+AD60+AI60+AN60+AS60+AX60+BC60+BH60+BM60+BR60+BW60+CB60+CG60+CL60+CQ60+CV60+DA60+DF60+DK60+DP60+DU60+DZ60","v":0},{"$f":"K60+P60+U60+Z60+AE60+AJ60+AO60+AT60+AY60+BD60+BI60+BN60+BS60+BX60+CC60+CH60+CM60+CR60+CW60+DB60+DG60+DL60+DQ60+DV60+EA60","v":0},{"$f":"L60+Q60+V60+AA60+AF60+AK60+AP60+AU60+AZ60+BE60+BJ60+BO60+BT60+BY60+CD60+CI60+CN60+CS60+CX60+DC60+DH60+DM60+DR60+DW60+EB60","v":0},{"$f":"M60+R60+W60+AB60+AG60+AL60+AQ60+AV60+BA60+BF60+BK60+BP60+BU60+BZ60+CE60+CJ60+CO60+CT60+CY60+DD60+DI60+DN60+DS60+DX60+EC60","v":0},null,null,null,null,{"$f":"SUM(J60:L60)","v":0},null,null,null,null,{"$f":"SUM(O60:Q60)","v":0},null,null,null,null,{"$f":"SUM(T60:V60)","v":0},null,null,null,null,{"$f":"SUM(Y60:AA60)","v":0},null,null,null,null,{"$f":"SUM(AD60:AF60)","v":0},null,null,null,null,{"$f":"SUM(AI60:AK60)","v":0},null,null,null,null,{"$f":"SUM(AN60:AP60)","v":0},null,null,null,null,{"$f":"SUM(AS60:AU60)","v":0},null,null,null,null,{"$f":"SUM(AX60:AZ60)","v":0},null,null,null,null,{"$f":"SUM(BC60:BE60)","v":0},null,null,null,null,{"$f":"SUM(BH60:BJ60)","v":0},null,null,null,null,{"$f":"SUM(BM60:BO60)","v":0},null,null,null,null,{"$f":"SUM(BR60:BT60)","v":0},null,null,null,null,{"$f":"SUM(BW60:BY60)","v":0},null,null,null,null,{"$f":"SUM(CB60:CD60)","v":0},null,null,null,null,{"$f":"SUM(CG60:CI60)","v":0},null,null,null,null,{"$f":"SUM(CL60:CN60)","v":0},null,null,null,null,{"$f":"SUM(CQ60:CS60)","v":0},null,null,null,null,{"$f":"SUM(CV60:CX60)","v":0},null,null,null,null,{"$f":"SUM(DA60:DC60)","v":0},null,null,null,null,{"$f":"SUM(DF60:DH60)","v":0},null,null,null,null,{"$f":"SUM(DK60:DM60)","v":0},null,null,null,null,{"$f":"SUM(DP60:DR60)","v":0},null,null,null,null,{"$f":"SUM(DU60:DW60)","v":0},null,null,null,null,{"$f":"SUM(DZ60:EB60)","v":0},null,null,null,null,{"$f":"SUM(EE60:EG60)","v":0},null,null,null,null,{"$f":"SUM(EJ60:EL60)","v":0}]
[null,null,"女 子 入 部 率 (％)",null,{"$f":"E59/E60*100","v":{"$error":"#DIV/0!"}},{"$f":"F59/F60*100","v":{"$error":"#DIV/0!"}},{"$f":"G59/G60*100","v":{"$error":"#DIV/0!"}},{"$f":"H59/H60*100","v":{"$error":"#DIV/0!"}},null,{"$f":"J59/J60*100","v":{"$error":"#DIV/0!"}},{"$error":"#DIV/0!"},{"$error":"#DIV/0!"},{"$error":"#DIV/0!"},null,{"$error":"#DIV/0!"},{"$error":"#DIV/0!"},{"$error":"#DIV/0!"},{"$f":"R59/R60*100","v":{"$error":"#DIV/0!"}},null,{"$error":"#DIV/0!"},{"$error":"#DIV/0!"},{"$error":"#DIV/0!"},{"$f":"W59/W60*100","v":{"$error":"#DIV/0!"}},null,{"$error":"#DIV/0!"},{"$error":"#DIV/0!"},{"$error":"#DIV/0!"},{"$f":"AB59/AB60*100","v":{"$error":"#DIV/0!"}},null,{"$error":"#DIV/0!"},{"$error":"#DIV/0!"},{"$error":"#DIV/0!"},{"$f":"AG59/AG60*100","v":{"$error":"#DIV/0!"}},null,{"$error":"#DIV/0!"},{"$error":"#DIV/0!"},{"$error":"#DIV/0!"},{"$f":"AL59/AL60*100","v":{"$error":"#DIV/0!"}},null,{"$error":"#DIV/0!"},{"$error":"#DIV/0!"},{"$error":"#DIV/0!"},{"$f":"AQ59/AQ60*100","v":{"$error":"#DIV/0!"}},null,{"$error":"#DIV/0!"},{"$error":"#DIV/0!"},{"$error":"#DIV/0!"},{"$f":"AV59/AV60*100","v":{"$error":"#DIV/0!"}},null,{"$error":"#DIV/0!"},{"$error":"#DIV/0!"},{"$error":"#DIV/0!"},{"$f":"BA59/BA60*100","v":{"$error":"#DIV/0!"}},null,{"$error":"#DIV/0!"},{"$error":"#DIV/0!"},{"$error":"#DIV/0!"},{"$f":"BF59/BF60*100","v":{"$error":"#DIV/0!"}},null,{"$error":"#DIV/0!"},{"$error":"#DIV/0!"},{"$error":"#DIV/0!"},{"$f":"BK59/BK60*100","v":{"$error":"#DIV/0!"}},null,{"$error":"#DIV/0!"},{"$error":"#DIV/0!"},{"$error":"#DIV/0!"},{"$f":"BP59/BP60*100","v":{"$error":"#DIV/0!"}},null,{"$error":"#DIV/0!"},{"$error":"#DIV/0!"},{"$error":"#DIV/0!"},{"$f":"BU59/BU60*100","v":{"$error":"#DIV/0!"}},null,{"$f":"BW59/BW60*100","v":{"$error":"#DIV/0!"}},{"$error":"#DIV/0!"},{"$error":"#DIV/0!"},{"$error":"#DIV/0!"},null,{"$error":"#DIV/0!"},{"$error":"#DIV/0!"},{"$error":"#DIV/0!"},{"$error":"#DIV/0!"},null,{"$error":"#DIV/0!"},{"$error":"#DIV/0!"},{"$error":"#DIV/0!"},{"$error":"#DIV/0!"},null,{"$error":"#DIV/0!"},{"$error":"#DIV/0!"},{"$error":"#DIV/0!"},{"$error":"#DIV/0!"},null,{"$error":"#DIV/0!"},{"$error":"#DIV/0!"},{"$error":"#DIV/0!"},{"$error":"#DIV/0!"},null,{"$error":"#DIV/0!"},{"$error":"#DIV/0!"},{"$error":"#DIV/0!"},{"$error":"#DIV/0!"},null,{"$error":"#DIV/0!"},{"$error":"#DIV/0!"},{"$error":"#DIV/0!"},{"$error":"#DIV/0!"},null,{"$error":"#DIV/0!"},{"$error":"#DIV/0!"},{"$error":"#DIV/0!"},{"$error":"#DIV/0!"},null,{"$error":"#DIV/0!"},{"$error":"#DIV/0!"},{"$error":"#DIV/0!"},{"$error":"#DIV/0!"},null,{"$error":"#DIV/0!"},{"$error":"#DIV/0!"},{"$error":"#DIV/0!"},{"$error":"#DIV/0!"},null,{"$error":"#DIV/0!"},{"$error":"#DIV/0!"},{"$error":"#DIV/0!"},{"$error":"#DIV/0!"},null,{"$error":"#DIV/0!"},{"$error":"#DIV/0!"},{"$error":"#DIV/0!"},{"$error":"#DIV/0!"},null,null,null,null,{"$f":"EH59/EH60*100","v":{"$error":"#DIV/0!"}},null,{"$error":"#DIV/0!"},{"$error":"#DIV/0!"},{"$f":"EL59/EL60*100","v":{"$error":"#DIV/0!"}},{"$f":"EM59/EM60*100","v":{"$error":"#DIV/0!"}}]
[null,null,"男　女　合　計 (名)",null,{"$f":"E31+E59","v":0},0,0,{"$f":"SUM(E62:G62)","v":0},null,{"$f":"J31+J59","v":0},{"$f":"K31+K59","v":0},0,0,0,0,0,0,{"$f":"R31+R59","v":0},0,0,0,0,{"$f":"W31+W59","v":0},0,0,0,0,{"$f":"AB31+AB59","v":0},0,0,0,0,{"$f":"AG31+AG59","v":0},0,0,0,0,{"$f":"AL31+AL59","v":0},0,0,0,0,{"$f":"AQ31+AQ59","v":0},0,0,0,0,{"$f":"AV31+AV59","v":0},0,0,0,0,{"$f":"BA31+BA59","v":0},0,0,0,0,{"$f":"BF31+BF59","v":0},0,0,0,0,{"$f":"BK31+BK59","v":0},0,0,0,0,{"$f":"BP31+BP59","v":0},0,0,0,0,{"$f":"BU31+BU59","v":0},0,{"$f":"BW31+BW59","v":0},0,0,0,0,0,0,0,0,0,0,0,0,0,0,0,0,0,0,0,0,0,0,0,0,0,0,0,0,0,0,0,0,0,0,0,0,0,0,0,0,0,0,0,0,0,0,0,0,0,0,0,0,0,0,0,0,0,0,0,0,0,0,0,{"$f":"EI31+EI59","v":0},0,0,0,0,0]
[null,null,"男 女 在 籍 数 (名)",null,0,0,0,{"$f":"SUM(E63:G63)","v":0},null,{"$f":"J60+J62","v":0},{"$f":"K60+K62","v":0},0,0,0,0,0,0,{"$f":"R60+R62","v":0},0,0,0,0,{"$f":"W60+W62","v":0},0,0,0,0,{"$f":"AB60+AB62","v":0},0,0,0,0,{"$f":"AG60+AG62","v":0},0,0,0,0,{"$f":"AL60+AL62","v":0},0,0,0,0,{"$f":"AQ60+AQ62","v":0},0,0,0,0,{"$f":"AV60+AV62","v":0},0,0,0,0,{"$f":"BA60+BA62","v":0},0,0,0,0,{"$f":"BF60+BF62","v":0},0,0,0,0,{"$f":"BK60+BK62","v":0},0,0,0,0,{"$f":"BP60+BP62","v":0},0,0,0,0,{"$f":"BU60+BU62","v":0},0,{"$f":"BW60+BW62","v":0},0,0,0,0,0,0,0,0,0,0,0,0,0,0,0,0,0,0,0,0,0,0,0,0,0,0,0,0,0,0,0,0,0,0,0,0,0,0,0,0,0,0,0,0,0,0,0,0,0,0,0,0,0,0,0,0,0,0,0,0,0,0,0,{"$f":"EI60+EI62","v":0},0,0,0,0,0]
[null,null,"男 女 入 部 率 (％)",null,{"$f":"E62/E63*100","v":{"$error":"#DIV/0!"}},{"$f":"F62/F63*100","v":{"$error":"#DIV/0!"}},{"$f":"G62/G63*100","v":{"$error":"#DIV/0!"}},{"$f":"H62/H63*100","v":{"$error":"#DIV/0!"}},null,{"$f":"J62/J63*100","v":{"$error":"#DIV/0!"}},{"$error":"#DIV/0!"},{"$error":"#DIV/0!"},{"$error":"#DIV/0!"},null,{"$error":"#DIV/0!"},{"$error":"#DIV/0!"},{"$error":"#DIV/0!"},{"$f":"R62/R63*100","v":{"$error":"#DIV/0!"}},null,{"$error":"#DIV/0!"},{"$error":"#DIV/0!"},{"$error":"#DIV/0!"},{"$f":"W62/W63*100","v":{"$error":"#DIV/0!"}},null,{"$error":"#DIV/0!"},{"$error":"#DIV/0!"},{"$error":"#DIV/0!"},{"$f":"AB62/AB63*100","v":{"$error":"#DIV/0!"}},null,{"$error":"#DIV/0!"},{"$error":"#DIV/0!"},{"$error":"#DIV/0!"},{"$f":"AG62/AG63*100","v":{"$error":"#DIV/0!"}},null,{"$error":"#DIV/0!"},{"$error":"#DIV/0!"},{"$error":"#DIV/0!"},{"$f":"AL62/AL63*100","v":{"$error":"#DIV/0!"}},null,{"$error":"#DIV/0!"},{"$error":"#DIV/0!"},{"$error":"#DIV/0!"},{"$f":"AQ62/AQ63*100","v":{"$error":"#DIV/0!"}},null,{"$error":"#DIV/0!"},{"$error":"#DIV/0!"},{"$error":"#DIV/0!"},{"$f":"AV62/AV63*100","v":{"$error":"#DIV/0!"}},null,{"$error":"#DIV/0!"},{"$error":"#DIV/0!"},{"$error":"#DIV/0!"},{"$f":"BA62/BA63*100","v":{"$error":"#DIV/0!"}},null,{"$error":"#DIV/0!"},{"$error":"#DIV/0!"},{"$error":"#DIV/0!"},{"$f":"BF62/BF63*100","v":{"$error":"#DIV/0!"}},null,{"$error":"#DIV/0!"},{"$error":"#DIV/0!"},{"$error":"#DIV/0!"},{"$f":"BK62/BK63*100","v":{"$error":"#DIV/0!"}},null,{"$error":"#DIV/0!"},{"$error":"#DIV/0!"},{"$error":"#DIV/0!"},{"$f":"BP62/BP63*100","v":{"$error":"#DIV/0!"}},null,{"$error":"#DIV/0!"},{"$error":"#DIV/0!"},{"$error":"#DIV/0!"},{"$f":"BU62/BU63*100","v":{"$error":"#DIV/0!"}},null,{"$f":"BW62/BW63*100","v":{"$error":"#DIV/0!"}},{"$error":"#DIV/0!"},{"$error":"#DIV/0!"},{"$error":"#DIV/0!"},null,{"$error":"#DIV/0!"},{"$error":"#DIV/0!"},{"$error":"#DIV/0!"},{"$error":"#DIV/0!"},null,{"$error":"#DIV/0!"},{"$error":"#DIV/0!"},{"$error":"#DIV/0!"},{"$error":"#DIV/0!"},null,{"$error":"#DIV/0!"},{"$error":"#DIV/0!"},{"$error":"#DIV/0!"},{"$error":"#DIV/0!"},null,{"$error":"#DIV/0!"},{"$error":"#DIV/0!"},{"$error":"#DIV/0!"},{"$error":"#DIV/0!"},null,{"$error":"#DIV/0!"},{"$error":"#DIV/0!"},{"$error":"#DIV/0!"},{"$error":"#DIV/0!"},null,{"$error":"#DIV/0!"},{"$error":"#DIV/0!"},{"$error":"#DIV/0!"},{"$error":"#DIV/0!"},null,{"$error":"#DIV/0!"},{"$error":"#DIV/0!"},{"$error":"#DIV/0!"},{"$error":"#DIV/0!"},null,{"$error":"#DIV/0!"},{"$error":"#DIV/0!"},{"$error":"#DIV/0!"},{"$error":"#DIV/0!"},null,{"$error":"#DIV/0!"},{"$error":"#DIV/0!"},{"$error":"#DIV/0!"},{"$error":"#DIV/0!"},null,{"$error":"#DIV/0!"},{"$error":"#DIV/0!"},{"$error":"#DIV/0!"},{"$error":"#DIV/0!"},null,{"$error":"#DIV/0!"},{"$error":"#DIV/0!"},{"$error":"#DIV/0!"},{"$error":"#DIV/0!"},null,{"$error":"#DIV/0!"},{"$error":"#DIV/0!"},{"$error":"#DIV/0!"},{"$error":"#DIV/0!"},null,{"$error":"#DIV/0!"},{"$error":"#DIV/0!"},{"$f":"EL62/EL63*100","v":{"$error":"#DIV/0!"}},{"$f":"EM62/EM63*100","v":{"$error":"#DIV/0!"}}]

{"sheet":"12吾妻","index":12,"n_rows":64,"n_cols":144,"rows_kept":64,"cut":false,"hidden":false,"merged":[]}
[]
[null,null,"令和８年度　群馬県中学校　運動部員数調査結果    （黄色部分は入力禁止）"]
[null,null,null,null,"１３吾妻郡(７校)",null,null,null,null,null,"東吾妻",null,null,null,null,"中之条",null,null,null,null,"長野原",null,null,null,null,"嬬恋",null,null,null,null,"高山",null,null,null,null,"草津",null,null,null,null,"六合"]
[null,null,"№","  競　技　名","１年","２年","３年","合計","設置","１年","２年","３年","合計","設置","１年","２年","３年","合計","設置","１年","２年","３年","合計","設置","１年","２年","３年","合計","設置","１年","２年","３年","合計","設置","１年","２年","３年","合計","設置","１年","２年","３年","合計","設置","１年","２年","３年","合計","設置",null,null,null,null,null,null,null,null,null,null,null,null,null,null,null,null,null,null,null,null,"１年","２年","３年","合計","設置"]
[null,null,1,"体　操　競　技",{"$f":"SUM(J5,O5,T5,Y5,AD5,AI5,AN5,AS5,AX5,BC5,BH5,BM5,BR5)","v":0},0,0,0,0,null,null,null,{"$f":"SUM(J5:L5)","v":0},null,null,null,null,{"$f":"SUM(O5:Q5)","v":0},null,null,null,null,{"$f":"SUM(T5:V5)","v":0},null,null,null,null,{"$f":"SUM(Y5:AA5)","v":0},null,null,null,null,{"$f":"SUM(AD5:AF5)","v":0},null,null,null,null,{"$f":"SUM(AI5:AK5)","v":0},null,null,null,null,{"$f":"SUM(AN5:AP5)","v":0},null,null,null,null,{"$f":"SUM(AS5:AU5)","v":0},null,null,null,null,{"$f":"SUM(AX5:AZ5)","v":0},null,null,null,null,{"$f":"SUM(BC5:BE5)","v":0},null,null,null,null,{"$f":"SUM(BH5:BJ5)","v":0},null,null,null,null,{"$f":"SUM(BM5:BO5)","v":0},null,null,null,null,{"$f":"SUM(BR5:BT5)","v":0},null,null,null,null,{"$f":"SUM(BW5:BY5)","v":0},null,null,null,null,{"$f":"SUM(CB5:CD5)","v":0},null,null,null,null,{"$f":"SUM(CG5:CI5)","v":0},null,null,null,null,{"$f":"SUM(CL5:CN5)","v":0},null,null,null,null,{"$f":"SUM(CQ5:CS5)","v":0},null,null,null,null,{"$f":"SUM(CV5:CX5)","v":0},null,null,null,null,{"$f":"SUM(DA5:DC5)","v":0},null,null,null,null,{"$f":"SUM(DF5:DH5)","v":0},null,null,null,null,{"$f":"SUM(DK5:DM5)","v":0},null,null,null,null,{"$f":"SUM(DP5:DR5)","v":0},null,null,null,null,{"$f":"SUM(DU5:DW5)","v":0},null,null,null,null,{"$f":"SUM(DZ5:EB5)","v":0},null,null,null,null,{"$f":"SUM(EE5:EG5)","v":0},null,null,null,null,{"$f":"SUM(EJ5:EL5)","v":0}]
[null,null,2,"新    体    操",0,0,0,0,0,null,null,null,{"$f":"SUM(J6:L6)","v":0},null,null,null,null,{"$f":"SUM(O6:Q6)","v":0},null,null,null,null,{"$f":"SUM(T6:V6)","v":0},null,null,null,null,{"$f":"SUM(Y6:AA6)","v":0},null,null,null,null,{"$f":"SUM(AD6:AF6)","v":0},null,null,null,null,{"$f":"SUM(AI6:AK6)","v":0},null,null,null,null,{"$f":"SUM(AN6:AP6)","v":0},null,null,null,null,{"$f":"SUM(AS6:AU6)","v":0},null,null,null,null,{"$f":"SUM(AX6:AZ6)","v":0},null,null,null,null,{"$f":"SUM(BC6:BE6)","v":0},null,null,null,null,{"$f":"SUM(BH6:BJ6)","v":0},null,null,null,null,{"$f":"SUM(BM6:BO6)","v":0},null,null,null,null,{"$f":"SUM(BR6:BT6)","v":0},null,null,null,null,{"$f":"SUM(BW6:BY6)","v":0},null,null,null,null,{"$f":"SUM(CB6:CD6)","v":0},null,null,null,null,{"$f":"SUM(CG6:CI6)","v":0},null,null,null,null,{"$f":"SUM(CL6:CN6)","v":0},null,null,null,null,{"$f":"SUM(CQ6:CS6)","v":0},null,null,null,null,{"$f":"SUM(CV6:CX6)","v":0},null,null,null,null,{"$f":"SUM(DA6:DC6)","v":0},null,null,null,null,{"$f":"SUM(DF6:DH6)","v":0},null,null,null,null,{"$f":"SUM(DK6:DM6)","v":0},null,null,null,null,{"$f":"SUM(DP6:DR6)","v":0},null,null,null,null,{"$f":"SUM(DU6:DW6)","v":0},null,null,null,null,{"$f":"SUM(DZ6:EB6)","v":0},null,null,null,null,{"$f":"SUM(EE6:EG6)","v":0},null,null,null,null,{"$f":"SUM(EJ6:EL6)","v":0}]
[null,null,3,"軟　式　野　球",0,0,0,0,0,null,null,null,{"$f":"SUM(J7:L7)","v":0},null,null,null,null,0,null,null,null,null,0,null,null,null,null,0,null,null,null,null,0,null,null,null,null,0,null,null,null,null,0,null,null,null,null,0,null,null,null,null,0,null,null,null,null,0,null,null,null,null,0,null,null,null,null,0,null,null,null,null,0,null,null,null,null,0,null,null,null,null,0,null,null,null,null,0,null,null,null,null,0,null,null,null,null,0,null,null,null,null,0,null,null,null,null,0,null,null,null,null,0,null,null,null,null,0,null,null,null,null,0,null,null,null,null,0,null,null,null,null,0,null,null,null,null,0,null,null,null,null,0]
[null,null,4,"ソフトボール",0,0,0,0,0,null,null,null,0,null,null,null,null,0,null,null,null,null,0,null,null,null,null,0,null,null,null,null,0,null,null,null,null,0,null,null,null,null,0,null,null,null,null,0,null,null,null,null,0,null,null,null,null,0,null,null,null,null,0,null,null,null,null,0,null,null,null,null,0,null,null,null,null,0,null,null,null,null,0,null,null,null,null,0,null,null,null,null,0,null,null,null,null,0,null,null,null,null,0,null,null,null,null,0,null,null,null,null,0,null,null,null,null,0,null,null,null,null,0,null,null,null,null,0,null,null,null,null,0,null,null,null,null,0,null,null,null,null,0]
[null,null,5,"バスケットボール",0,0,0,0,0,null,null,null,0,null,null,null,null,0,null,null,null,null,0,null,null,null,null,0,null,null,null,null,0,null,null,null,null,0,null,null,null,null,0,null,null,null,null,0,null,null,null,null,0,null,null,null,null,0,null,null,null,null,0,null,null,null,null,0,null,null,null,null,0,null,null,null,null,0,null,null,null,null,0,null,null,null,null,0,null,null,null,null,0,null,null,null,null,0,null,null,null,null,0,null,null,null,null,0,null,null,null,null,0,null,null,null,null,0,null,null,null,null,0,null,null,null,null,0,null,null,null,null,0,null,null,null,null,0,null,null,null,null,0]
[null,null,6,"ハンドボール",0,0,0,0,0,null,null,null,0,null,null,null,null,0,null,null,null,null,0,null,null,null,null,0,null,null,null,null,0,null,null,null,null,0,null,null,null,null,0,null,null,null,null,0,null,null,null,null,0,null,null,null,null,0,null,null,null,null,0,null,null,null,null,0,null,null,null,null,0,null,null,null,null,0,null,null,null,null,0,null,null,null,null,0,null,null,null,null,0,null,null,null,null,0,null,null,null,null,0,null,null,null,null,0,null,null,null,null,0,null,null,null,null,0,null,null,null,null,0,null,null,null,null,0,null,null,null,null,0,null,null,null,null,0,null,null,null,null,0]
[null,"男",7,"バレーボール",0,0,0,0,0,null,null,null,0,null,null,null,null,0,null,null,null,null,0,null,null,null,null,0,null,null,null,null,0,null,null,null,null,0,null,null,null,null,0,null,null,null,null,0,null,null,null,null,0,null,null,null,null,0,null,null,null,null,0,null,null,null,null,0,null,null,null,null,0,null,null,null,null,0,null,null,null,null,0,null,null,null,null,0,null,null,null,null,0,null,null,null,null,0,null,null,null,null,0,null,null,null,null,0,null,null,null,null,0,null,null,null,null,0,null,null,null,null,0,null,null,null,null,0,null,null,null,null,0,null,null,null,null,0,null,null,null,null,0]
[null,null,8,"ソフトテニス",0,0,0,0,0,null,null,null,0,null,null,null,null,0,null,null,null,null,0,null,null,null,null,0,null,null,null,null,0,null,null,null,null,0,null,null,null,null,0,null,null,null,null,0,null,null,null,null,0,null,null,null,null,0,null,null,null,null,0,null,null,null,null,0,null,null,null,null,0,null,null,null,null,0,null,null,null,null,0,null,null,null,null,0,null,null,null,null,0,null,null,null,null,0,null,null,null,null,0,null,null,null,null,0,null,null,null,null,0,null,null,null,null,0,null,null,null,null,0,null,null,null,null,0,null,null,null,null,0,null,null,null,null,0,null,null,null,null,0]
[null,null,9,"卓    球",0,0,0,0,0,null,null,null,0,null,null,null,null,0,null,null,null,null,0,null,null,null,null,0,null,null,null,null,0,null,null,null,null,0,null,null,null,null,0,null,null,null,null,0,null,null,null,null,0,null,null,null,null,0,null,null,null,null,0,null,null,null,null,0,null,null,null,null,0,null,null,null,null,0,null,null,null,null,0,null,null,null,null,0,null,null,null,null,0,null,null,null,null,0,null,null,null,null,0,null,null,null,null,0,null,null,null,null,0,null,null,null,null,0,null,null,null,null,0,null,null,null,null,0,null,null,null,null,0,null,null,null,null,0,null,null,null,null,0]
[null,null,10,"バドミントン",0,0,0,0,0,null,null,null,0,null,null,null,null,0,null,null,null,null,0,null,null,null,null,0,null,null,null,null,0,null,null,null,null,0,null,null,null,null,0,null,null,null,null,0,null,null,null,null,0,null,null,null,null,0,null,null,null,null,0,null,null,null,null,0,null,null,null,null,0,null,null,null,null,0,null,null,null,null,0,null,null,null,null,0,null,null,null,null,0,null,null,null,null,0,null,null,null,null,0,null,null,null,null,0,null,null,null,null,0,null,null,null,null,0,null,null,null,null,0,null,null,null,null,0,null,null,null,null,0,null,null,null,null,0,null,null,null,null,0]
[null,null,11,"サッカー",0,0,0,0,0,null,null,null,0,null,null,null,null,0,null,null,null,null,0,null,null,null,null,0,null,null,null,null,0,null,null,null,null,0,null,null,null,null,0,null,null,null,null,0,null,null,null,null,0,null,null,null,null,0,null,null,null,null,0,null,null,null,null,0,null,null,null,null,0,null,null,null,null,0,null,null,null,null,0,null,null,null,null,0,null,null,null,null,0,null,null,null,null,0,null,null,null,null,0,null,null,null,null,0,null,null,null,null,0,null,null,null,null,0,null,null,null,null,0,null,null,null,null,0,null,null,null,null,0,null,null,null,null,0,null,null,null,null,0]
[null,null,12,"陸　上　競　技",0,0,0,0,0,null,null,null,0,null,null,null,null,0,null,null,null,null,0,null,null,null,null,0,null,null,null,null,0,null,null,null,null,0,null,null,null,null,0,null,null,null,null,0,null,null,null,null,0,null,null,null,null,0,null,null,null,null,0,null,null,null,null,0,null,null,null,null,0,null,null,null,null,0,null,null,null,null,0,null,null,null,null,0,null,null,null,null,0,null,null,null,null,0,null,null,null,null,0,null,null,null,null,0,null,null,null,null,0,null,null,null,null,0,null,null,null,null,0,null,null,null,null,0,null,null,null,null,0,null,null,null,null,0,null,null,null,null,0]
[null,null,13,"水　　泳",0,0,0,0,0,null,null,null,0,null,null,null,null,0,null,null,null,null,0,null,null,null,null,0,null,null,null,null,0,null,null,null,null,0,null,null,null,null,0,null,null,null,null,0,null,null,null,null,0,null,null,null,null,0,null,null,null,null,0,null,null,null,null,0,null,null,null,null,0,null,null,null,null,0,null,null,null,null,0,null,null,null,null,0,null,null,null,null,0,null,null,null,null,0,null,null,null,null,0,null,null,null,null,0,null,null,null,null,0,null,null,null,null,0,null,null,null,null,0,null,null,null,null,0,null,null,null,null,0,null,null,null,null,0,null,null,null,null,0]
[null,"子",14,"柔　　道",0,0,0,0,0,null,null,null,0,null,null,null,null,0,null,null,null,null,0,null,null,null,null,0,null,null,null,null,0,null,null,null,null,0,null,null,null,null,0,null,null,null,null,0,null,null,null,null,0,null,null,null,null,0,null,null,null,null,0,null,null,null,null,0,null,null,null,null,0,null,null,null,null,0,null,null,null,null,0,null,null,null,null,0,null,null,null,null,0,null,null,null,null,0,null,null,null,null,0,null,null,null,null,0,null,null,null,null,0,null,null,null,null,0,null,null,null,null,0,null,null,null,null,0,null,null,null,null,0,null,null,null,null,0,null,null,null,null,0]
[null,null,15,"剣　　道",0,0,0,0,0,null,null,null,0,null,null,null,null,0,null,null,null,null,0,null,null,null,null,0,null,null,null,null,0,null,null,null,null,0,null,null,null,null,0,null,null,null,null,0,null,null,null,null,0,null,null,null,null,0,null,null,null,null,0,null,null,null,null,0,null,null,null,null,0,null,null,null,null,0,null,null,null,null,0,null,null,null,null,0,null,null,null,null,0,null,null,null,null,0,null,null,null,null,0,null,null,null,null,0,null,null,null,null,0,null,null,null,null,0,null,null,null,null,0,null,null,null,null,0,null,null,null,null,0,null,null,null,null,0,null,null,null,null,0]
[null,null,16,"相　　撲",0,0,0,0,0,null,null,null,0,null,null,null,null,0,null,null,null,null,0,null,null,null,null,0,null,null,null,null,0,null,null,null,null,0,null,null,null,null,0,null,null,null,null,0,null,null,null,null,0,null,null,null,null,0,null,null,null,null,0,null,null,null,null,0,null,null,null,null,0,null,null,null,null,0,null,null,null,null,0,null,null,null,null,0,null,null,null,null,0,null,null,null,null,0,null,null,null,null,0,null,null,null,null,0,null,null,null,null,0,null,null,null,null,0,null,null,null,null,0,null,null,null,null,0,null,null,null,null,0,null,null,null,null,0,null,null,null,null,0]
[null,null,17,"ダ    ン    ス",{"$f":"SUM(J21,O21,T21,Y21,AD21,AI21,AN21,AS21,AX21,BC21,BH21,BM21,BR21)","v":0},0,0,0,0,null,null,null,0,null,null,null,null,0,null,null,null,null,0,null,null,null,null,0,null,null,null,null,0,null,null,null,null,0,null,null,null,null,0,null,null,null,null,0,null,null,null,null,0,null,null,null,null,0,null,null,null,null,0,null,null,null,null,0,null,null,null,null,0,null,null,null,null,0,null,null,null,null,0,null,null,null,null,0,null,null,null,null,0,null,null,null,null,0,null,null,null,null,0,null,null,null,null,0,null,null,null,null,0,null,null,null,null,0,null,null,null,null,0,null,null,null,null,0,null,null,null,null,0,null,null,null,null,0,null,null,null,null,0]
[null,null,18,"ス    キ    ー",0,0,0,0,0,null,null,null,0,null,null,null,null,0,null,null,null,null,0,null,null,null,null,0,null,null,null,null,0,null,null,null,null,0,null,null,null,null,0,null,null,null,null,0,null,null,null,null,0,null,null,null,null,0,null,null,null,null,0,null,null,null,null,0,null,null,null,null,0,null,null,null,null,0,null,null,null,null,0,null,null,null,null,0,null,null,null,null,0,null,null,null,null,0,null,null,null,null,0,null,null,null,null,0,null,null,null,null,0,null,null,null,null,0,null,null,null,null,0,null,null,null,null,0,null,null,null,null,0,null,null,null,null,0,null,null,null,null,0]
[null,null,19,"ス  ケ  ー  ト",0,0,0,0,0,null,null,null,0,null,null,null,null,0,null,null,null,null,0,null,null,null,null,0,null,null,null,null,0,null,null,null,null,0,null,null,null,null,0,null,null,null,null,0,null,null,null,null,0,null,null,null,null,0,null,null,null,null,0,null,null,null,null,0,null,null,null,null,0,null,null,null,null,0,null,null,null,null,0,null,null,null,null,0,null,null,null,null,0,null,null,null,null,0,null,null,null,null,0,null,null,null,null,0,null,null,null,null,0,null,null,null,null,0,null,null,null,null,0,null,null,null,null,0,null,null,null,null,0,null,null,null,null,0,null,null,null,null,0]
[null,null,20,"アイスホッケー",0,0,0,0,0,null,null,null,0,null,null,null,null,0,null,null,null,null,0,null,null,null,null,0,null,null,null,null,0,null,null,null,null,0,null,null,null,null,0,null,null,null,null,0,null,null,null,null,0,null,null,null,null,0,null,null,null,null,0,null,null,null,null,0,null,null,null,null,0,null,null,null,null,0,null,null,null,null,0,null,null,null,null,0,null,null,null,null,0,null,null,null,null,0,null,null,null,null,0,null,null,null,null,0,null,null,null,null,0,null,null,null,null,0,null,null,null,null,0,null,null,null,null,0,null,null,null,null,0,null,null,null,null,0,null,null,null,null,0]
[null,null,21,"テ　　ニ　　ス",0,0,0,0,0,null,null,null,0,null,null,null,null,0,null,null,null,null,0,null,null,null,null,0,null,null,null,null,0,null,null,null,null,0,null,null,null,null,0,null,null,null,null,0,null,null,null,null,0,null,null,null,null,0,null,null,null,null,0,null,null,null,null,0,null,null,null,null,0,null,null,null,null,0,null,null,null,null,0,null,null,null,null,0,null,null,null,null,0,null,null,null,null,0,null,null,null,null,0,null,null,null,null,0,null,null,null,null,0,null,null,null,null,0,null,null,null,null,0,null,null,null,null,0,null,null,null,null,0,null,null,null,null,0,null,null,null,null,0]
[null,null,22,"空　　　手",{"$f":"SUM(J26,O26,T26,Y26,AD26,AI26,AN26,AS26,AX26,BC26,BH26,BM26,BR26)","v":0},0,0,0,0,null,null,null,0,null,null,null,null,0,null,null,null,null,0,null,null,null,null,0,null,null,null,null,0,null,null,null,null,0,null,null,null,null,0,null,null,null,null,0,null,null,null,null,0,null,null,null,null,0,null,null,null,null,0,null,null,null,null,0,null,null,null,null,0,null,null,null,null,0,null,null,null,null,0,null,null,null,null,0,null,null,null,null,0,null,null,null,null,0,null,null,null,null,0,null,null,null,null,0,null,null,null,null,0,null,null,null,null,0,null,null,null,null,0,null,null,null,null,0,null,null,null,null,0,null,null,null,null,0,null,null,null,null,0]
[null,null,23,"ラ　グ　ビ　ー",0,0,0,0,0,null,null,null,{"$f":"SUM(J27:L27)","v":0},null,null,null,null,{"$f":"SUM(O27:Q27)","v":0},null,null,null,null,{"$f":"SUM(T27:V27)","v":0},null,null,null,null,{"$f":"SUM(Y27:AA27)","v":0},null,null,null,null,{"$f":"SUM(AD27:AF27)","v":0},null,null,null,null,{"$f":"SUM(AI27:AK27)","v":0},null,null,null,null,{"$f":"SUM(AN27:AP27)","v":0},null,null,null,null,{"$f":"SUM(AS27:AU27)","v":0},null,null,null,null,{"$f":"SUM(AX27:AZ27)","v":0},null,null,null,null,{"$f":"SUM(BC27:BE27)","v":0},null,null,null,null,{"$f":"SUM(BH27:BJ27)","v":0},null,null,null,null,{"$f":"SUM(BM27:BO27)","v":0},null,null,null,null,{"$f":"SUM(BR27:BT27)","v":0},null,null,null,null,{"$f":"SUM(BW27:BY27)","v":0},null,null,null,null,{"$f":"SUM(CB27:CD27)","v":0},null,null,null,null,{"$f":"SUM(CG27:CI27)","v":0},null,null,null,null,{"$f":"SUM(CL27:CN27)","v":0},null,null,null,null,{"$f":"SUM(CQ27:CS27)","v":0},null,null,null,null,{"$f":"SUM(CV27:CX27)","v":0},null,null,null,null,{"$f":"SUM(DA27:DC27)","v":0},null,null,null,null,{"$f":"SUM(DF27:DH27)","v":0},null,null,null,null,{"$f":"SUM(DK27:DM27)","v":0},null,null,null,null,{"$f":"SUM(DP27:DR27)","v":0},null,null,null,null,{"$f":"SUM(DU27:DW27)","v":0},null,null,null,null,{"$f":"SUM(DZ27:EB27)","v":0},null,null,null,null,{"$f":"SUM(EE27:EG27)","v":0},null,null,null,null,{"$f":"SUM(EJ27:EL27)","v":0}]
[null,null,24,"弓　道",0,0,0,0,0]
[null,null,null,null,0,0,0,0,0]
[null,null,null,null,0,0,0,0,0]
[null,null,"男　子　合　計 (名)",null,0,0,0,{"$f":"SUM(M31,R31,W31,AB31,AG31,AL31,AQ31,AV31,BA31,BF31,BK31,BP31,BU31)","v":0},0,{"$f":"SUM(J5:J30)","v":0},0,0,{"$f":"SUM(M5:M30)","v":0},0,0,0,0,0,0,0,0,0,0,0,0,0,0,0,0,0,0,0,0,0,0,0,0,0,0,0,0,0,0,0,0,0,0,0,0,0,0,0,0,0,0,0,0,0,0,0,0,0,0,0,0,0,0,0,0,0,0,0,0,{"$f":"SUM(BV5:BV30)","v":0},{"$f":"SUM(BW5:BW30)","v":0},0,0,0,0,0,0,0,0,0,0,0,0,0,0,0,0,0,0,0,0,0,0,0,0,0,0,0,0,0,0,0,0,0,0,0,0,0,0,0,0,0,0,0,0,0,0,0,0,0,0,0,0,0,0,0,0,0,0,0,0,0,0,0,{"$f":"SUM(EI5:EI30)","v":0},0,0,0,0,0]
[null,null,"男 子 在 籍 数 (名)",null,0,0,0,0,null,null,null,null,{"$f":"SUM(J32:L32)","v":0},null,null,null,null,{"$f":"SUM(O32:Q32)","v":0},null,null,null,null,{"$f":"SUM(T32:V32)","v":0},null,null,null,null,{"$f":"SUM(Y32:AA32)","v":0},null,null,null,null,{"$f":"SUM(AD32:AF32)","v":0},null,null,null,null,{"$f":"SUM(AI32:AK32)","v":0},null,null,null,null,{"$f":"SUM(AN32:AP32)","v":0},null,null,null,null,{"$f":"SUM(AS32:AU32)","v":0},null,null,null,null,{"$f":"SUM(AX32:AZ32)","v":0},null,null,null,null,{"$f":"SUM(BC32:BE32)","v":0},null,null,null,null,{"$f":"SUM(BH32:BJ32)","v":0},null,null,null,null,{"$f":"SUM(BM32:BO32)","v":0},null,null,null,null,{"$f":"SUM(BR32:BT32)","v":0},null,null,null,null,{"$f":"SUM(BW32:BY32)","v":0},null,null,null,null,{"$f":"SUM(CB32:CD32)","v":0},null,null,null,null,{"$f":"SUM(CG32:CI32)","v":0},null,null,null,null,{"$f":"SUM(CL32:CN32)","v":0},null,null,null,null,{"$f":"SUM(CQ32:CS32)","v":0},null,null,null,null,{"$f":"SUM(CV32:CX32)","v":0},null,null,null,null,{"$f":"SUM(DA32:DC32)","v":0},null,null,null,null,{"$f":"SUM(DF32:DH32)","v":0},null,null,null,null,{"$f":"SUM(DK32:DM32)","v":0},null,null,null,null,{"$f":"SUM(DP32:DR32)","v":0},null,null,null,null,{"$f":"SUM(DU32:DW32)","v":0},null,null,null,null,{"$f":"SUM(DZ32:EB32)","v":0},null,null,null,null,{"$f":"SUM(EE32:EG32)","v":0},null,null,null,null,{"$f":"SUM(EJ32:EL32)","v":0}]
[null,null,"男 子 入 部 率 (％)",null,{"$f":"E31/E32*100","v":{"$error":"#DIV/0!"}},{"$f":"F31/F32*100","v":{"$error":"#DIV/0!"}},{"$f":"G31/G32*100","v":{"$error":"#DIV/0!"}},{"$f":"H31/H32*100","v":{"$error":"#DIV/0!"}},null,{"$f":"J31/J32*100","v":{"$error":"#DIV/0!"}},{"$error":"#DIV/0!"},{"$error":"#DIV/0!"},{"$error":"#DIV/0!"},null,{"$error":"#DIV/0!"},{"$error":"#DIV/0!"},{"$error":"#DIV/0!"},{"$f":"R31/R32*100","v":{"$error":"#DIV/0!"}},null,{"$error":"#DIV/0!"},{"$error":"#DIV/0!"},{"$error":"#DIV/0!"},{"$f":"W31/W32*100","v":{"$error":"#DIV/0!"}},null,{"$error":"#DIV/0!"},{"$error":"#DIV/0!"},{"$error":"#DIV/0!"},{"$f":"AB31/AB32*100","v":{"$error":"#DIV/0!"}},null,{"$error":"#DIV/0!"},{"$error":"#DIV/0!"},{"$error":"#DIV/0!"},{"$f":"AG31/AG32*100","v":{"$error":"#DIV/0!"}},null,{"$error":"#DIV/0!"},{"$error":"#DIV/0!"},{"$error":"#DIV/0!"},{"$f":"AL31/AL32*100","v":{"$error":"#DIV/0!"}},null,{"$error":"#DIV/0!"},{"$error":"#DIV/0!"},{"$error":"#DIV/0!"},{"$f":"AQ31/AQ32*100","v":{"$error":"#DIV/0!"}},null,{"$error":"#DIV/0!"},{"$error":"#DIV/0!"},{"$error":"#DIV/0!"},{"$f":"AV31/AV32*100","v":{"$error":"#DIV/0!"}},null,{"$error":"#DIV/0!"},{"$error":"#DIV/0!"},{"$error":"#DIV/0!"},{"$f":"BA31/BA32*100","v":{"$error":"#DIV/0!"}},null,{"$error":"#DIV/0!"},{"$error":"#DIV/0!"},{"$error":"#DIV/0!"},{"$f":"BF31/BF32*100","v":{"$error":"#DIV/0!"}},null,{"$error":"#DIV/0!"},{"$error":"#DIV/0!"},{"$error":"#DIV/0!"},{"$f":"BK31/BK32*100","v":{"$error":"#DIV/0!"}},null,{"$error":"#DIV/0!"},{"$error":"#DIV/0!"},{"$error":"#DIV/0!"},{"$f":"BP31/BP32*100","v":{"$error":"#DIV/0!"}},null,{"$error":"#DIV/0!"},{"$error":"#DIV/0!"},{"$error":"#DIV/0!"},{"$f":"BU31/BU32*100","v":{"$error":"#DIV/0!"}},null,{"$f":"BW31/BW32*100","v":{"$error":"#DIV/0!"}},{"$error":"#DIV/0!"},{"$error":"#DIV/0!"},{"$error":"#DIV/0!"},null,{"$error":"#DIV/0!"},{"$error":"#DIV/0!"},{"$error":"#DIV/0!"},{"$error":"#DIV/0!"},null,{"$error":"#DIV/0!"},{"$error":"#DIV/0!"},{"$error":"#DIV/0!"},{"$error":"#DIV/0!"},null,{"$error":"#DIV/0!"},{"$error":"#DIV/0!"},{"$error":"#DIV/0!"},{"$error":"#DIV/0!"},null,{"$error":"#DIV/0!"},{"$error":"#DIV/0!"},{"$error":"#DIV/0!"},{"$error":"#DIV/0!"},null,{"$error":"#DIV/0!"},{"$error":"#DIV/0!"},{"$error":"#DIV/0!"},{"$error":"#DIV/0!"},null,{"$error":"#DIV/0!"},{"$error":"#DIV/0!"},{"$error":"#DIV/0!"},{"$error":"#DIV/0!"},null,{"$error":"#DIV/0!"},{"$error":"#DIV/0!"},{"$error":"#DIV/0!"},{"$error":"#DIV/0!"},null,{"$error":"#DIV/0!"},{"$error":"#DIV/0!"},{"$error":"#DIV/0!"},{"$error":"#DIV/0!"},null,{"$error":"#DIV/0!"},{"$error":"#DIV/0!"},{"$error":"#DIV/0!"},{"$error":"#DIV/0!"},null,{"$error":"#DIV/0!"},{"$error":"#DIV/0!"},{"$error":"#DIV/0!"},{"$error":"#DIV/0!"},null,{"$error":"#DIV/0!"},{"$error":"#DIV/0!"},{"$error":"#DIV/0!"},{"$error":"#DIV/0!"},null,{"$error":"#DIV/0!"},{"$error":"#DIV/0!"},{"$error":"#DIV/0!"},{"$error":"#DIV/0!"},null,{"$error":"#DIV/0!"},{"$error":"#DIV/0!"},{"$f":"EL31/EL32*100","v":{"$error":"#DIV/0!"}},{"$f":"EM31/EM32*100","v":{"$error":"#DIV/0!"}}]
[null,null,1,"体　操　競　技",{"$f":"SUM(J34,O34,T34,Y34,AD34,AI34,AN34,AS34,AX34,BC34,BH34,BM34,BR34)","v":0},0,0,0,0,null,null,null,{"$f":"J34+K34+L34","v":0},null,null,null,null,{"$f":"O34+P34+Q34","v":0},null,null,null,null,{"$f":"T34+U34+V34","v":0},null,null,null,null,{"$f":"Y34+Z34+AA34","v":0},null,null,null,null,{"$f":"AD34+AE34+AF34","v":0},null,null,null,null,{"$f":"AI34+AJ34+AK34","v":0},null,null,null,null,{"$f":"AN34+AO34+AP34","v":0},null,null,null,null,{"$f":"AS34+AT34+AU34","v":0},null,null,null,null,{"$f":"AX34+AY34+AZ34","v":0},null,null,null,null,{"$f":"BC34+BD34+BE34","v":0},null,null,null,null,{"$f":"BH34+BI34+BJ34","v":0},null,null,null,null,{"$f":"BM34+BN34+BO34","v":0},null,null,null,null,{"$f":"BR34+BS34+BT34","v":0},null,null,null,null,{"$f":"BW34+BX34+BY34","v":0},null,null,null,null,{"$f":"CB34+CC34+CD34","v":0},null,null,null,null,{"$f":"CG34+CH34+CI34","v":0},null,null,null,null,{"$f":"CL34+CM34+CN34","v":0},null,null,null,null,{"$f":"CQ34+CR34+CS34","v":0},null,null,null,null,{"$f":"CV34+CW34+CX34","v":0},null,null,null,null,{"$f":"DA34+DB34+DC34","v":0},null,null,null,null,{"$f":"DF34+DG34+DH34","v":0},null,null,null,null,{"$f":"DK34+DL34+DM34","v":0},null,null,null,null,{"$f":"DP34+DQ34+DR34","v":0},null,null,null,null,{"$f":"DU34+DV34+DW34","v":0},null,null,null,null,{"$f":"DZ34+EA34+EB34","v":0},null,null,null,null,{"$f":"EE34+EF34+EG34","v":0},null,null,null,null,{"$f":"EJ34+EK34+EL34","v":0}]
[null,null,2,"新    体    操",0,0,0,0,0,null,null,null,0,null,null,null,null,0,null,null,null,null,0,null,null,null,null,0,null,null,null,null,0,null,null,null,null,0,null,null,null,null,0,null,null,null,null,0,null,null,null,null,0,null,null,null,null,0,null,null,null,null,0,null,null,null,null,0,null,null,null,null,0,null,null,null,null,0,null,null,null,null,0,null,null,null,null,0,null,null,null,null,0,null,null,null,null,0,null,null,null,null,0,null,null,null,null,0,null,null,null,null,0,null,null,null,null,0,null,null,null,null,0,null,null,null,null,0,null,null,null,null,0,null,null,null,null,0,null,null,null,null,0]
[null,null,3,"軟　式　野　球",0,0,0,0,0,null,null,null,0,null,null,null,null,0,null,null,null,null,0,null,null,null,null,0,null,null,null,null,0,null,null,null,null,0,null,null,null,null,0,null,null,null,null,0,null,null,null,null,0,null,null,null,null,0,null,null,null,null,0,null,null,null,null,0,null,null,null,null,0,null,null,null,null,0,null,null,null,null,0,null,null,null,null,0,null,null,null,null,0,null,null,null,null,0,null,null,null,null,0,null,null,null,null,0,null,null,null,null,0,null,null,null,null,0,null,null,null,null,0,null,null,null,null,0,null,null,null,null,0,null,null,null,null,0,null,null,null,null,0]
[null,null,4,"ソフトボール",0,0,0,0,0,null,null,null,0,null,null,null,null,0,null,null,null,null,0,null,null,null,null,0,null,null,null,null,0,null,null,null,null,0,null,null,null,null,0,null,null,null,null,0,null,null,null,null,0,null,null,null,null,0,null,null,null,null,0,null,null,null,null,0,null,null,null,null,0,null,null,null,null,0,null,null,null,null,0,null,null,null,null,0,null,null,null,null,0,null,null,null,null,0,null,null,null,null,0,null,null,null,null,0,null,null,null,null,0,null,null,null,null,0,null,null,null,null,0,null,null,null,null,0,null,null,null,null,0,null,null,null,null,0,null,null,null,null,0]
[null,null,5,"バスケットボール",0,0,0,0,0,null,null,null,0,null,null,null,null,0,null,null,null,null,0,null,null,null,null,0,null,null,null,null,0,null,null,null,null,0,null,null,null,null,0,null,null,null,null,0,null,null,null,null,0,null,null,null,null,0,null,null,null,null,0,null,null,null,null,0,null,null,null,null,0,null,null,null,null,0,null,null,null,null,0,null,null,null,null,0,null,null,null,null,0,null,null,null,null,0,null,null,null,null,0,null,null,null,null,0,null,null,null,null,0,null,null,null,null,0,null,null,null,null,0,null,null,null,null,0,null,null,null,null,0,null,null,null,null,0,null,null,null,null,0]
[null,null,6,"ハンドボール",0,0,0,0,0,null,null,null,0,null,null,null,null,0,null,null,null,null,0,null,null,null,null,0,null,null,null,null,0,null,null,null,null,0,null,null,null,null,0,null,null,null,null,0,null,null,null,null,0,null,null,null,null,0,null,null,null,null,0,null,null,null,null,0,null,null,null,null,0,null,null,null,null,0,null,null,null,null,0,null,null,null,null,0,null,null,null,null,0,null,null,null,null,0,null,null,null,null,0,null,null,null,null,0,null,null,null,null,0,null,null,null,null,0,null,null,null,null,0,null,null,null,null,0,null,null,null,null,0,null,null,null,null,0,null,null,null,null,0]
[null,"女",7,"バレーボール",0,0,0,0,0,null,null,null,0,null,null,null,null,0,null,null,null,null,0,null,null,null,null,0,null,null,null,null,0,null,null,null,null,0,null,null,null,null,0,null,null,null,null,0,null,null,null,null,0,null,null,null,null,0,null,null,null,null,0,null,null,null,null,0,null,null,null,null,0,null,null,null,null,0,null,null,null,null,0,null,null,null,null,0,null,null,null,null,0,null,null,null,null,0,null,null,null,null,0,null,null,null,null,0,null,null,null,null,0,null,null,null,null,0,null,null,null,null,0,null,null,null,null,0,null,null,null,null,0,null,null,null,null,0,null,null,null,null,0]
[null,null,8,"ソフトテニス",0,0,0,0,0,null,null,null,0,null,null,null,null,0,null,null,null,null,0,null,null,null,null,0,null,null,null,null,0,null,null,null,null,0,null,null,null,null,0,null,null,null,null,0,null,null,null,null,0,null,null,null,null,0,null,null,null,null,0,null,null,null,null,0,null,null,null,null,0,null,null,null,null,0,null,null,null,null,0,null,null,null,null,0,null,null,null,null,0,null,null,null,null,0,null,null,null,null,0,null,null,null,null,0,null,null,null,null,0,null,null,null,null,0,null,null,null,null,0,null,null,null,null,0,null,null,null,null,0,null,null,null,null,0,null,null,null,null,0]
[null,null,9,"卓    球",0,0,0,0,0,null,null,null,0,null,null,null,null,0,null,null,null,null,0,null,null,null,null,0,null,null,null,null,0,null,null,null,null,0,null,null,null,null,0,null,null,null,null,0,null,null,null,null,0,null,null,null,null,0,null,null,null,null,0,null,null,null,null,0,null,null,null,null,0,null,null,null,null,0,null,null,null,null,0,null,null,null,null,0,null,null,null,null,0,null,null,null,null,0,null,null,null,null,0,null,null,null,null,0,null,null,null,null,0,null,null,null,null,0,null,null,null,null,0,null,null,null,null,0,null,null,null,null,0,null,null,null,null,0,null,null,null,null,0]
[null,null,10,"バドミントン",0,0,0,0,0,null,null,null,0,null,null,null,null,0,null,null,null,null,0,null,null,null,null,0,null,null,null,null,0,null,null,null,null,0,null,null,null,null,0,null,null,null,null,0,null,null,null,null,0,null,null,null,null,0,null,null,null,null,0,null,null,null,null,0,null,null,null,null,0,null,null,null,null,0,null,null,null,null,0,null,null,null,null,0,null,null,null,null,0,null,null,null,null,0,null,null,null,null,0,null,null,null,null,0,null,null,null,null,0,null,null,null,null,0,null,null,null,null,0,null,null,null,null,0,null,null,null,null,0,null,null,null,null,0,null,null,null,null,0]
[null,null,11,"サッカー",0,0,0,0,0,null,null,null,0,null,null,null,null,0,null,null,null,null,0,null,null,null,null,0,null,null,null,null,0,null,null,null,null,0,null,null,null,null,0,null,null,null,null,0,null,null,null,null,0,null,null,null,null,0,null,null,null,null,0,null,null,null,null,0,null,null,null,null,0,null,null,null,null,0,null,null,null,null,0,null,null,null,null,0,null,null,null,null,0,null,null,null,null,0,null,null,null,null,0,null,null,null,null,0,null,null,null,null,0,null,null,null,null,0,null,null,null,null,0,null,null,null,null,0,null,null,null,null,0,null,null,null,null,0,null,null,null,null,0]
[null,null,12,"陸　上　競　技",0,0,0,0,0,null,null,null,0,null,null,null,null,0,null,null,null,null,0,null,null,null,null,0,null,null,null,null,0,null,null,null,null,0,null,null,null,null,0,null,null,null,null,0,null,null,null,null,0,null,null,null,null,0,null,null,null,null,0,null,null,null,null,0,null,null,null,null,0,null,null,null,null,0,null,null,null,null,0,null,null,null,null,0,null,null,null,null,0,null,null,null,null,0,null,null,null,null,0,null,null,null,null,0,null,null,null,null,0,null,null,null,null,0,null,null,null,null,0,null,null,null,null,0,null,null,null,null,0,null,null,null,null,0,null,null,null,null,0]
[null,null,13,"水　　泳",0,0,0,0,0,null,null,null,0,null,null,null,null,0,null,null,null,null,0,null,null,null,null,0,null,null,null,null,0,null,null,null,null,0,null,null,null,null,0,null,null,null,null,0,null,null,null,null,0,null,null,null,null,0,null,null,null,null,0,null,null,null,null,0,null,null,null,null,0,null,null,null,null,0,null,null,null,null,0,null,null,null,null,0,null,null,null,null,0,null,null,null,null,0,null,null,null,null,0,null,null,null,null,0,null,null,null,null,0,null,null,null,null,0,null,null,null,null,0,null,null,null,null,0,null,null,null,null,0,null,null,null,null,0,null,null,null,null,0]
[null,"子",14,"柔　　道",0,0,0,0,0,null,null,null,0,null,null,null,null,0,null,null,null,null,0,null,null,null,null,0,null,null,null,null,0,null,null,null,null,0,null,null,null,null,0,null,null,null,null,0,null,null,null,null,0,null,null,null,null,0,null,null,null,null,0,null,null,null,null,0,null,null,null,null,0,null,null,null,null,0,null,null,null,null,0,null,null,null,null,0,null,null,null,null,0,null,null,null,null,0,null,null,null,null,0,null,null,null,null,0,null,null,null,null,0,null,null,null,null,0,null,null,null,null,0,null,null,null,null,0,null,null,null,null,0,null,null,null,null,0,null,null,null,null,0]
[null,null,15,"剣　　道",0,0,0,0,0,null,null,null,0,null,null,null,null,0,null,null,null,null,0,null,null,null,null,0,null,null,null,null,0,null,null,null,null,0,null,null,null,null,0,null,null,null,null,0,null,null,null,null,0,null,null,null,null,0,null,null,null,null,0,null,null,null,null,0,null,null,null,null,0,null,null,null,null,0,null,null,null,null,0,null,null,null,null,0,null,null,null,null,0,null,null,null,null,0,null,null,null,null,0,null,null,null,null,0,null,null,null,null,0,null,null,null,null,0,null,null,null,null,0,null,null,null,null,0,null,null,null,null,0,null,null,null,null,0,null,null,null,null,0]
[null,null,16,"ダ    ン    ス",0,0,0,0,0,null,null,null,0,null,null,null,null,0,null,null,null,null,0,null,null,null,null,0,null,null,null,null,0,null,null,null,null,0,null,null,null,null,0,null,null,null,null,0,null,null,null,null,0,null,null,null,null,0,null,null,null,null,0,null,null,null,null,0,null,null,null,null,0,null,null,null,null,0,null,null,null,null,0,null,null,null,null,0,null,null,null,null,0,null,null,null,null,0,null,null,null,null,0,null,null,null,null,0,null,null,null,null,0,null,null,null,null,0,null,null,null,null,0,null,null,null,null,0,null,null,null,null,0,null,null,null,null,0,null,null,null,null,0]
[null,null,17,"ス    キ    ー",{"$f":"SUM(J50,O50,T50,Y50,AD50,AI50,AN50,AS50,AX50,BC50,BH50,BM50,BR50)","v":0},{"$f":"SUM(K50,P50,U50,Z50,AE50,AJ50,AO50,AT50,AY50,BD50,BI50,BN50,BS50)","v":0},{"$f":"SUM(L50,Q50,V50,AA50,AF50,AK50,AP50,AU50,AZ50,BE50,BJ50,BO50,BT50)","v":0},{"$f":"SUM(M50,R50,W50,AB50,AG50,AL50,AQ50,AV50,BA50,BF50,BK50,BP50,BU50)","v":0},{"$f":"SUM(N50,S50,X50,AC50,AH50,AM50,AR50,AW50,BB50,BG50,BL50,BQ50,BV50)","v":0},null,null,null,0,null,null,null,null,0,null,null,null,null,0,null,null,null,null,0,null,null,null,null,0,null,null,null,null,0,null,null,null,null,0,null,null,null,null,0,null,null,null,null,0,null,null,null,null,0,null,null,null,null,0,null,null,null,null,0,null,null,null,null,0,null,null,null,null,0,null,null,null,null,0,null,null,null,null,0,null,null,null,null,0,null,null,null,null,0,null,null,null,null,0,null,null,null,null,0,null,null,null,null,0,null,null,null,null,0,null,null,null,null,0,null,null,null,null,0,null,null,null,null,0,null,null,null,null,0,null,null,null,null,0]
[null,null,18,"ス  ケ  ー  ト",0,0,0,0,0,null,null,null,0,null,null,null,null,0,null,null,null,null,0,null,null,null,null,0,null,null,null,null,0,null,null,null,null,0,null,null,null,null,0,null,null,null,null,0,null,null,null,null,0,null,null,null,null,0,null,null,null,null,0,null,null,null,null,0,null,null,null,null,0,null,null,null,null,0,null,null,null,null,0,null,null,null,null,0,null,null,null,null,0,null,null,null,null,0,null,null,null,null,0,null,null,null,null,0,null,null,null,null,0,null,null,null,null,0,null,null,null,null,0,null,null,null,null,0,null,null,null,null,0,null,null,null,null,0,null,null,null,null,0]
[null,null,19,"アイスホッケー",0,0,0,0,0,null,null,null,0,null,null,null,null,0,null,null,null,null,0,null,null,null,null,0,null,null,null,null,0,null,null,null,null,0,null,null,null,null,0,null,null,null,null,0,null,null,null,null,0,null,null,null,null,0,null,null,null,null,0,null,null,null,null,0,null,null,null,null,0,null,null,null,null,0,null,null,null,null,0,null,null,null,null,0,null,null,null,null,0,null,null,null,null,0,null,null,null,null,0,null,null,null,null,0,null,null,null,null,0,null,null,null,null,0,null,null,null,null,0,null,null,null,null,0,null,null,null,null,0,null,null,null,null,0,null,null,null,null,0]
[null,null,20,"テ　　ニ　　ス",0,0,0,0,0,null,null,null,0,null,null,null,null,0,null,null,null,null,0,null,null,null,null,0,null,null,null,null,0,null,null,null,null,0,null,null,null,null,0,null,null,null,null,0,null,null,null,null,0,null,null,null,null,0,null,null,null,null,0,null,null,null,null,0,null,null,null,null,0,null,null,null,null,0,null,null,null,null,0,null,null,null,null,0,null,null,null,null,0,null,null,null,null,0,null,null,null,null,0,null,null,null,null,0,null,null,null,null,0,null,null,null,null,0,null,null,null,null,0,null,null,null,null,0,null,null,null,null,0,null,null,null,null,0,null,null,null,null,0]
[null,null,21,"弓　　道　",0,0,0,0,0,null,null,null,0,null,null,null,null,0,null,null,null,null,0,null,null,null,null,0,null,null,null,null,0,null,null,null,null,0,null,null,null,null,0,null,null,null,null,0,null,null,null,null,0,null,null,null,null,0,null,null,null,null,0,null,null,null,null,0,null,null,null,null,0,null,null,null,null,0,null,null,null,null,0,null,null,null,null,0,null,null,null,null,0,null,null,null,null,0,null,null,null,null,0,null,null,null,null,0,null,null,null,null,0,null,null,null,null,0,null,null,null,null,0,null,null,null,null,0,null,null,null,null,0,null,null,null,null,0,null,null,null,null,0]
[null,null,22,"空　　手",0,0,0,0,0,null,null,null,0,null,null,null,null,0,null,null,null,null,0,null,null,null,null,0,null,null,null,null,0,null,null,null,null,0,null,null,null,null,0,null,null,null,null,0,null,null,null,null,0,null,null,null,null,0,null,null,null,null,0,null,null,null,null,{"$f":"BM55+BN55+BO55","v":0},null,null,null,null,0,null,null,null,null,0,null,null,null,null,0,null,null,null,null,0,null,null,null,null,0,null,null,null,null,0,null,null,null,null,0,null,null,null,null,0,null,null,null,null,0,null,null,null,null,0,null,null,null,null,0,null,null,null,null,0,null,null,null,null,0,null,null,null,null,0,null,null,null,null,0]
[null,null,null,null,0,0,0,0,0,null,null,null,0,null,null,null,null,0,null,null,null,null,0,null,null,null,null,0,null,null,null,null,0,null,null,null,null,0,null,null,null,null,0,null,null,null,null,0,null,null,null,null,0,null,null,null,null,0,null,null,null,null,0,null,null,null,null,0,null,null,null,null,0,null,null,null,null,0,null,null,null,null,0,null,null,null,null,0,null,null,null,null,0,null,null,null,null,0,null,null,null,null,0,null,null,null,null,0,null,null,null,null,0,null,null,null,null,0,null,null,null,null,0,null,null,null,null,0,null,null,null,null,0,null,null,null,null,0,null,null,null,null,0]
[null,null,null,null,0,0,0,0,0,null,null,null,0,null,null,null,null,0,null,null,null,null,0,null,null,null,null,0,null,null,null,null,0,null,null,null,null,0,null,null,null,null,0,null,null,null,null,0,null,null,null,null,0,null,null,null,null,0,null,null,null,null,0,null,null,null,null,0,null,null,null,null,0,null,null,null,null,0,null,null,null,null,0,null,null,null,null,0,null,null,null,null,0,null,null,null,null,0,null,null,null,null,0,null,null,null,null,0,null,null,null,null,0,null,null,null,null,0,null,null,null,null,0,null,null,null,null,0,null,null,null,null,0,null,null,null,null,0,null,null,null,null,0]
[null,null,null,null,0,0,0,0,0,null,null,null,0,null,null,null,null,0,null,null,null,null,0,null,null,null,null,0,null,null,null,null,0,null,null,null,null,0,null,null,null,null,0,null,null,null,null,0,null,null,null,null,0,null,null,null,null,0,null,null,null,null,0,null,null,null,null,0,null,null,null,null,0,null,null,null,null,0,null,null,null,null,0,null,null,null,null,0,null,null,null,null,0,null,null,null,null,0,null,null,null,null,0,null,null,null,null,0,null,null,null,null,0,null,null,null,null,0,null,null,null,null,0,null,null,null,null,0,null,null,null,null,0,null,null,null,null,0,null,null,null,null,0]
[null,null,"女　子　合　計 (名)",null,0,0,0,0,0,{"$f":"SUM(J34:J58)","v":0},0,0,0,0,0,0,0,0,0,0,0,0,0,0,0,0,0,0,0,0,0,0,0,0,0,0,0,0,0,0,0,{"$f":"SUM(AP34:AP58)","v":0},0,0,0,0,0,0,0,0,0,0,0,0,0,0,0,0,0,0,0,0,0,0,0,0,0,0,0,0,0,0,0,{"$f":"SUM(BV34:BV58)","v":0},0,0,0,0,0,0,0,0,0,0,0,0,0,0,0,0,0,0,0,0,0,0,0,0,0,0,0,0,0,0,0,{"$f":"SUM(DB34:DB58)","v":0},0,0,0,0,0,0,0,0,0,0,0,0,0,0,0,0,0,0,0,0,0,0,0,0,0,0,0,0,0,0,0,{"$f":"SUM(EH34:EH58)","v":0},0,0,0,0,0,0]
[null,null,"女 子 在 籍 数 (名)",null,{"$f":"SUM(J60,O60,T60,Y60,AD60,AI60,AN60,AS60,AX60,BC60,BH60,BM60,BR60)","v":0},{"$f":"SUM(K60,P60,U60,Z60,AE60,AJ60,AO60,AT60,AY60,BD60,BI60,BN60,BS60)","v":0},{"$f":"SUM(L60,Q60,V60,AA60,AF60,AK60,AP60,AU60,AZ60,BE60,BJ60,BO60,BT60)","v":0},{"$f":"SUM(M60,R60,W60,AB60,AG60,AL60,AQ60,AV60,BA60,BF60,BK60,BP60,BU60)","v":0},null,null,null,null,{"$f":"SUM(J60:L60)","v":0},null,null,null,null,{"$f":"SUM(O60:Q60)","v":0},null,null,null,null,{"$f":"SUM(T60:V60)","v":0},null,null,null,null,{"$f":"SUM(Y60:AA60)","v":0},null,null,null,null,{"$f":"SUM(AD60:AF60)","v":0},null,null,null,null,{"$f":"SUM(AI60:AK60)","v":0},null,null,null,null,{"$f":"SUM(AN60:AP60)","v":0},null,null,null,null,{"$f":"SUM(AS60:AU60)","v":0},null,null,null,null,{"$f":"SUM(AX60:AZ60)","v":0},null,null,null,null,{"$f":"SUM(BC60:BE60)","v":0},null,null,null,null,{"$f":"SUM(BH60:BJ60)","v":0},null,null,null,null,{"$f":"SUM(BM60:BO60)","v":0},null,null,null,null,{"$f":"SUM(BR60:BT60)","v":0},null,null,null,null,{"$f":"SUM(BW60:BY60)","v":0},null,null,null,null,{"$f":"SUM(CB60:CD60)","v":0},null,null,null,null,{"$f":"SUM(CG60:CI60)","v":0},null,null,null,null,{"$f":"SUM(CL60:CN60)","v":0},null,null,null,null,{"$f":"SUM(CQ60:CS60)","v":0},null,null,null,null,{"$f":"SUM(CV60:CX60)","v":0},null,null,null,null,{"$f":"SUM(DA60:DC60)","v":0},null,null,null,null,{"$f":"SUM(DF60:DH60)","v":0},null,null,null,null,{"$f":"SUM(DK60:DM60)","v":0},null,null,null,null,{"$f":"SUM(DP60:DR60)","v":0},null,null,null,null,{"$f":"SUM(DU60:DW60)","v":0},null,null,null,null,{"$f":"SUM(DZ60:EB60)","v":0},null,null,null,null,{"$f":"SUM(EE60:EG60)","v":0},null,null,null,null,{"$f":"SUM(EJ60:EL60)","v":0}]
[null,null,"女 子 入 部 率 (％)",null,{"$f":"E59/E60*100","v":{"$error":"#DIV/0!"}},{"$f":"F59/F60*100","v":{"$error":"#DIV/0!"}},{"$f":"G59/G60*100","v":{"$error":"#DIV/0!"}},{"$f":"H59/H60*100","v":{"$error":"#DIV/0!"}},null,{"$f":"J59/J60*100","v":{"$error":"#DIV/0!"}},{"$error":"#DIV/0!"},{"$error":"#DIV/0!"},{"$error":"#DIV/0!"},null,{"$error":"#DIV/0!"},{"$error":"#DIV/0!"},{"$error":"#DIV/0!"},{"$f":"R59/R60*100","v":{"$error":"#DIV/0!"}},null,{"$error":"#DIV/0!"},{"$error":"#DIV/0!"},{"$error":"#DIV/0!"},{"$f":"W59/W60*100","v":{"$error":"#DIV/0!"}},null,{"$error":"#DIV/0!"},{"$error":"#DIV/0!"},{"$error":"#DIV/0!"},{"$f":"AB59/AB60*100","v":{"$error":"#DIV/0!"}},null,{"$error":"#DIV/0!"},{"$error":"#DIV/0!"},{"$error":"#DIV/0!"},{"$f":"AG59/AG60*100","v":{"$error":"#DIV/0!"}},null,{"$error":"#DIV/0!"},{"$error":"#DIV/0!"},{"$error":"#DIV/0!"},{"$f":"AL59/AL60*100","v":{"$error":"#DIV/0!"}},null,{"$error":"#DIV/0!"},{"$error":"#DIV/0!"},{"$error":"#DIV/0!"},{"$f":"AQ59/AQ60*100","v":{"$error":"#DIV/0!"}},null,{"$error":"#DIV/0!"},{"$error":"#DIV/0!"},{"$error":"#DIV/0!"},{"$f":"AV59/AV60*100","v":{"$error":"#DIV/0!"}},null,{"$error":"#DIV/0!"},{"$error":"#DIV/0!"},{"$error":"#DIV/0!"},{"$f":"BA59/BA60*100","v":{"$error":"#DIV/0!"}},null,{"$error":"#DIV/0!"},{"$error":"#DIV/0!"},{"$error":"#DIV/0!"},{"$f":"BF59/BF60*100","v":{"$error":"#DIV/0!"}},null,{"$error":"#DIV/0!"},{"$error":"#DIV/0!"},{"$error":"#DIV/0!"},{"$f":"BK59/BK60*100","v":{"$error":"#DIV/0!"}},null,{"$error":"#DIV/0!"},{"$error":"#DIV/0!"},{"$error":"#DIV/0!"},{"$f":"BP59/BP60*100","v":{"$error":"#DIV/0!"}},null,{"$error":"#DIV/0!"},{"$error":"#DIV/0!"},{"$error":"#DIV/0!"},{"$f":"BU59/BU60*100","v":{"$error":"#DIV/0!"}},null,{"$f":"BW59/BW60*100","v":{"$error":"#DIV/0!"}},{"$error":"#DIV/0!"},{"$error":"#DIV/0!"},{"$error":"#DIV/0!"},null,{"$error":"#DIV/0!"},{"$error":"#DIV/0!"},{"$error":"#DIV/0!"},{"$error":"#DIV/0!"},null,{"$error":"#DIV/0!"},{"$error":"#DIV/0!"},{"$error":"#DIV/0!"},{"$error":"#DIV/0!"},null,{"$error":"#DIV/0!"},{"$error":"#DIV/0!"},{"$error":"#DIV/0!"},{"$error":"#DIV/0!"},null,{"$error":"#DIV/0!"},{"$error":"#DIV/0!"},{"$error":"#DIV/0!"},{"$error":"#DIV/0!"},null,{"$error":"#DIV/0!"},{"$error":"#DIV/0!"},{"$error":"#DIV/0!"},{"$error":"#DIV/0!"},null,{"$error":"#DIV/0!"},{"$error":"#DIV/0!"},{"$error":"#DIV/0!"},{"$error":"#DIV/0!"},null,{"$error":"#DIV/0!"},{"$error":"#DIV/0!"},{"$error":"#DIV/0!"},{"$error":"#DIV/0!"},null,{"$error":"#DIV/0!"},{"$error":"#DIV/0!"},{"$error":"#DIV/0!"},{"$error":"#DIV/0!"},null,{"$error":"#DIV/0!"},{"$error":"#DIV/0!"},{"$error":"#DIV/0!"},{"$error":"#DIV/0!"},null,{"$error":"#DIV/0!"},{"$error":"#DIV/0!"},{"$error":"#DIV/0!"},{"$error":"#DIV/0!"},null,{"$error":"#DIV/0!"},{"$error":"#DIV/0!"},{"$error":"#DIV/0!"},{"$error":"#DIV/0!"},null,null,null,null,{"$f":"EH59/EH60*100","v":{"$error":"#DIV/0!"}},null,{"$error":"#DIV/0!"},{"$error":"#DIV/0!"},{"$f":"EL59/EL60*100","v":{"$error":"#DIV/0!"}},{"$f":"EM59/EM60*100","v":{"$error":"#DIV/0!"}}]
[null,null,"男　女　合　計 (名)",null,{"$f":"E31+E59","v":0},0,0,{"$f":"SUM(E62:G62)","v":0},null,{"$f":"J31+J59","v":0},{"$f":"K31+K59","v":0},0,0,0,0,0,0,{"$f":"R31+R59","v":0},0,0,0,0,{"$f":"W31+W59","v":0},0,0,0,0,{"$f":"AB31+AB59","v":0},0,0,0,0,{"$f":"AG31+AG59","v":0},0,0,0,0,{"$f":"AL31+AL59","v":0},0,0,0,0,{"$f":"AQ31+AQ59","v":0},0,0,0,0,{"$f":"AV31+AV59","v":0},0,0,0,0,{"$f":"BA31+BA59","v":0},0,0,0,0,{"$f":"BF31+BF59","v":0},0,0,0,0,{"$f":"BK31+BK59","v":0},0,0,0,0,{"$f":"BP31+BP59","v":0},0,0,0,0,{"$f":"BU31+BU59","v":0},0,{"$f":"BW31+BW59","v":0},0,0,0,0,0,0,0,0,0,0,0,0,0,0,0,0,0,0,0,0,0,0,0,0,0,0,0,0,0,0,0,0,0,0,0,0,0,0,0,0,0,0,0,0,0,0,0,0,0,0,0,0,0,0,0,0,0,0,0,0,0,0,0,{"$f":"EI31+EI59","v":0},0,0,0,0,0]
[null,null,"男 女 在 籍 数 (名)",null,0,0,0,{"$f":"SUM(E63:G63)","v":0},null,{"$f":"J60+J62","v":0},{"$f":"K60+K62","v":0},0,0,0,0,0,0,{"$f":"R60+R62","v":0},0,0,0,0,{"$f":"W60+W62","v":0},0,0,0,0,{"$f":"AB60+AB62","v":0},0,0,0,0,{"$f":"AG60+AG62","v":0},0,0,0,0,{"$f":"AL60+AL62","v":0},0,0,0,0,{"$f":"AQ60+AQ62","v":0},0,0,0,0,{"$f":"AV60+AV62","v":0},0,0,0,0,{"$f":"BA60+BA62","v":0},0,0,0,0,{"$f":"BF60+BF62","v":0},0,0,0,0,{"$f":"BK60+BK62","v":0},0,0,0,0,{"$f":"BP60+BP62","v":0},0,0,0,0,{"$f":"BU60+BU62","v":0},0,{"$f":"BW60+BW62","v":0},0,0,0,0,0,0,0,0,0,0,0,0,0,0,0,0,0,0,0,0,0,0,0,0,0,0,0,0,0,0,0,0,0,0,0,0,0,0,0,0,0,0,0,0,0,0,0,0,0,0,0,0,0,0,0,0,0,0,0,0,0,0,0,{"$f":"EI60+EI62","v":0},0,0,0,0,0]
[null,null,"男 女 入 部 率 (％)",null,{"$f":"E62/E63*100","v":{"$error":"#DIV/0!"}},{"$f":"F62/F63*100","v":{"$error":"#DIV/0!"}},{"$f":"G62/G63*100","v":{"$error":"#DIV/0!"}},{"$f":"H62/H63*100","v":{"$error":"#DIV/0!"}},null,{"$f":"J62/J63*100","v":{"$error":"#DIV/0!"}},{"$error":"#DIV/0!"},{"$error":"#DIV/0!"},{"$error":"#DIV/0!"},null,{"$error":"#DIV/0!"},{"$error":"#DIV/0!"},{"$error":"#DIV/0!"},{"$f":"R62/R63*100","v":{"$error":"#DIV/0!"}},null,{"$error":"#DIV/0!"},{"$error":"#DIV/0!"},{"$error":"#DIV/0!"},{"$f":"W62/W63*100","v":{"$error":"#DIV/0!"}},null,{"$error":"#DIV/0!"},{"$error":"#DIV/0!"},{"$error":"#DIV/0!"},{"$f":"AB62/AB63*100","v":{"$error":"#DIV/0!"}},null,{"$error":"#DIV/0!"},{"$error":"#DIV/0!"},{"$error":"#DIV/0!"},{"$f":"AG62/AG63*100","v":{"$error":"#DIV/0!"}},null,{"$error":"#DIV/0!"},{"$error":"#DIV/0!"},{"$error":"#DIV/0!"},{"$f":"AL62/AL63*100","v":{"$error":"#DIV/0!"}},null,{"$error":"#DIV/0!"},{"$error":"#DIV/0!"},{"$error":"#DIV/0!"},{"$f":"AQ62/AQ63*100","v":{"$error":"#DIV/0!"}},null,{"$error":"#DIV/0!"},{"$error":"#DIV/0!"},{"$error":"#DIV/0!"},{"$f":"AV62/AV63*100","v":{"$error":"#DIV/0!"}},null,{"$error":"#DIV/0!"},{"$error":"#DIV/0!"},{"$error":"#DIV/0!"},{"$f":"BA62/BA63*100","v":{"$error":"#DIV/0!"}},null,{"$error":"#DIV/0!"},{"$error":"#DIV/0!"},{"$error":"#DIV/0!"},{"$f":"BF62/BF63*100","v":{"$error":"#DIV/0!"}},null,{"$error":"#DIV/0!"},{"$error":"#DIV/0!"},{"$error":"#DIV/0!"},{"$f":"BK62/BK63*100","v":{"$error":"#DIV/0!"}},null,{"$error":"#DIV/0!"},{"$error":"#DIV/0!"},{"$error":"#DIV/0!"},{"$f":"BP62/BP63*100","v":{"$error":"#DIV/0!"}},null,{"$error":"#DIV/0!"},{"$error":"#DIV/0!"},{"$error":"#DIV/0!"},{"$f":"BU62/BU63*100","v":{"$error":"#DIV/0!"}},null,{"$f":"BW62/BW63*100","v":{"$error":"#DIV/0!"}},{"$error":"#DIV/0!"},{"$error":"#DIV/0!"},{"$error":"#DIV/0!"},null,{"$error":"#DIV/0!"},{"$error":"#DIV/0!"},{"$error":"#DIV/0!"},{"$error":"#DIV/0!"},null,{"$error":"#DIV/0!"},{"$error":"#DIV/0!"},{"$error":"#DIV/0!"},{"$error":"#DIV/0!"},null,{"$error":"#DIV/0!"},{"$error":"#DIV/0!"},{"$error":"#DIV/0!"},{"$error":"#DIV/0!"},null,{"$error":"#DIV/0!"},{"$error":"#DIV/0!"},{"$error":"#DIV/0!"},{"$error":"#DIV/0!"},null,{"$error":"#DIV/0!"},{"$error":"#DIV/0!"},{"$error":"#DIV/0!"},{"$error":"#DIV/0!"},null,{"$error":"#DIV/0!"},{"$error":"#DIV/0!"},{"$error":"#DIV/0!"},{"$error":"#DIV/0!"},null,{"$error":"#DIV/0!"},{"$error":"#DIV/0!"},{"$error":"#DIV/0!"},{"$error":"#DIV/0!"},null,{"$error":"#DIV/0!"},{"$error":"#DIV/0!"},{"$error":"#DIV/0!"},{"$error":"#DIV/0!"},null,{"$error":"#DIV/0!"},{"$error":"#DIV/0!"},{"$error":"#DIV/0!"},{"$error":"#DIV/0!"},null,{"$error":"#DIV/0!"},{"$error":"#DIV/0!"},{"$error":"#DIV/0!"},{"$error":"#DIV/0!"},null,{"$error":"#DIV/0!"},{"$error":"#DIV/0!"},{"$error":"#DIV/0!"},{"$error":"#DIV/0!"},null,{"$error":"#DIV/0!"},{"$error":"#DIV/0!"},{"$error":"#DIV/0!"},{"$error":"#DIV/0!"},null,{"$error":"#DIV/0!"},{"$error":"#DIV/0!"},{"$f":"EL62/EL63*100","v":{"$error":"#DIV/0!"}},{"$f":"EM62/EM63*100","v":{"$error":"#DIV/0!"}}]

{"sheet":"13利根","index":13,"n_rows":64,"n_cols":144,"rows_kept":64,"cut":false,"hidden":false,"merged":[[2,4,2,8]]}
[]
[null,null,"令和８年度　群馬県中学校　運動部員数調査結果    （黄色部分は入力禁止）"]
[null,null,null,null,"１３利根郡(4校)",null,null,null,null,null,"片品",null,null,null,null,"川場",null,null,null,null,null,null,null,null,null,"昭和",null,null,null,null,"みなかみ"]
[null,null,"№","  競　技　名","１年","２年","３年","合計","設置","１年","２年","３年","合計","設置","１年","２年","３年","合計","設置","１年","２年","３年","合計","設置","１年","２年","３年","合計","設置","１年","２年","３年","合計","設置","１年","２年","３年","合計","設置","１年","２年","３年","合計","設置","１年","２年","３年","合計","設置","１年","２年","３年","合計","設置","１年","２年","３年","合計","設置","１年","２年","３年","合計","設置","１年","２年","３年","合計","設置","１年","２年","３年","合計","設置","１年","２年","３年","合計","設置","１年","２年","３年","合計","設置","１年","２年","３年","合計","設置","１年","２年","３年","合計","設置","１年","２年","３年","合計","設置","１年","２年","３年","合計","設置","１年","２年","３年","合計","設置","１年","２年","３年","合計","設置","１年","２年","３年","合計","設置","１年","２年","３年","合計","設置","１年","２年","３年","合計","設置","１年","２年","３年","合計","設置"]
[null,null,1,"体　操　競　技",{"$f":"J5+O5+T5+Y5+AD5+AI5+AN5+AS5+AX5+BC5+BH5+BM5+BR5+BW5+CB5+CG5+CL5+CQ5+CV5+DA5+DF5+DK5+DP5+DU5+DZ5","v":0},0,0,0,0,null,null,null,{"$f":"SUM(J5:L5)","v":0},null,null,null,null,{"$f":"SUM(O5:Q5)","v":0},null,null,null,null,{"$f":"SUM(T5:V5)","v":0},null,null,null,null,{"$f":"SUM(Y5:AA5)","v":0},null,null,null,null,{"$f":"SUM(AD5:AF5)","v":0},null,null,null,null,{"$f":"SUM(AI5:AK5)","v":0},null,null,null,null,{"$f":"SUM(AN5:AP5)","v":0},null,null,null,null,{"$f":"SUM(AS5:AU5)","v":0},null,null,null,null,{"$f":"SUM(AX5:AZ5)","v":0},null,null,null,null,{"$f":"SUM(BC5:BE5)","v":0},null,null,null,null,{"$f":"SUM(BH5:BJ5)","v":0},null,null,null,null,{"$f":"SUM(BM5:BO5)","v":0},null,null,null,null,{"$f":"SUM(BR5:BT5)","v":0},null,null,null,null,{"$f":"SUM(BW5:BY5)","v":0},null,null,null,null,{"$f":"SUM(CB5:CD5)","v":0},null,null,null,null,{"$f":"SUM(CG5:CI5)","v":0},null,null,null,null,{"$f":"SUM(CL5:CN5)","v":0},null,null,null,null,{"$f":"SUM(CQ5:CS5)","v":0},null,null,null,null,{"$f":"SUM(CV5:CX5)","v":0},null,null,null,null,{"$f":"SUM(DA5:DC5)","v":0},null,null,null,null,{"$f":"SUM(DF5:DH5)","v":0},null,null,null,null,{"$f":"SUM(DK5:DM5)","v":0},null,null,null,null,{"$f":"SUM(DP5:DR5)","v":0},null,null,null,null,{"$f":"SUM(DU5:DW5)","v":0},null,null,null,null,{"$f":"SUM(DZ5:EB5)","v":0},null,null,null,null,{"$f":"SUM(EE5:EG5)","v":0},null,null,null,null,{"$f":"SUM(EJ5:EL5)","v":0}]
[null,null,2,"新    体    操",0,0,0,0,0,null,null,null,{"$f":"SUM(J6:L6)","v":0},null,null,null,null,{"$f":"SUM(O6:Q6)","v":0},null,null,null,null,{"$f":"SUM(T6:V6)","v":0},null,null,null,null,{"$f":"SUM(Y6:AA6)","v":0},null,null,null,null,{"$f":"SUM(AD6:AF6)","v":0},null,null,null,null,{"$f":"SUM(AI6:AK6)","v":0},null,null,null,null,{"$f":"SUM(AN6:AP6)","v":0},null,null,null,null,{"$f":"SUM(AS6:AU6)","v":0},null,null,null,null,{"$f":"SUM(AX6:AZ6)","v":0},null,null,null,null,{"$f":"SUM(BC6:BE6)","v":0},null,null,null,null,{"$f":"SUM(BH6:BJ6)","v":0},null,null,null,null,{"$f":"SUM(BM6:BO6)","v":0},null,null,null,null,{"$f":"SUM(BR6:BT6)","v":0},null,null,null,null,{"$f":"SUM(BW6:BY6)","v":0},null,null,null,null,{"$f":"SUM(CB6:CD6)","v":0},null,null,null,null,{"$f":"SUM(CG6:CI6)","v":0},null,null,null,null,{"$f":"SUM(CL6:CN6)","v":0},null,null,null,null,{"$f":"SUM(CQ6:CS6)","v":0},null,null,null,null,{"$f":"SUM(CV6:CX6)","v":0},null,null,null,null,{"$f":"SUM(DA6:DC6)","v":0},null,null,null,null,{"$f":"SUM(DF6:DH6)","v":0},null,null,null,null,{"$f":"SUM(DK6:DM6)","v":0},null,null,null,null,{"$f":"SUM(DP6:DR6)","v":0},null,null,null,null,{"$f":"SUM(DU6:DW6)","v":0},null,null,null,null,{"$f":"SUM(DZ6:EB6)","v":0},null,null,null,null,{"$f":"SUM(EE6:EG6)","v":0},null,null,null,null,{"$f":"SUM(EJ6:EL6)","v":0}]
[null,null,3,"軟　式　野　球",0,0,0,0,0,null,null,null,0,null,null,null,null,0,null,null,null,null,0,null,null,null,null,0,null,null,null,null,0,null,null,null,null,0,null,null,null,null,0,null,null,null,null,0,null,null,null,null,0,null,null,null,null,0,null,null,null,null,0,null,null,null,null,0,null,null,null,null,0,null,null,null,null,0,null,null,null,null,0,null,null,null,null,0,null,null,null,null,0,null,null,null,null,0,null,null,null,null,0,null,null,null,null,0,null,null,null,null,0,null,null,null,null,0,null,null,null,null,0,null,null,null,null,0,null,null,null,null,0,null,null,null,null,0,null,null,null,null,0]
[null,null,4,"ソフトボール",0,0,0,0,0,null,null,null,0,null,null,null,null,0,null,null,null,null,0,null,null,null,null,0,null,null,null,null,0,null,null,null,null,0,null,null,null,null,0,null,null,null,null,0,null,null,null,null,0,null,null,null,null,0,null,null,null,null,0,null,null,null,null,0,null,null,null,null,0,null,null,null,null,0,null,null,null,null,0,null,null,null,null,0,null,null,null,null,0,null,null,null,null,0,null,null,null,null,0,null,null,null,null,0,null,null,null,null,0,null,null,null,null,0,null,null,null,null,0,null,null,null,null,0,null,null,null,null,0,null,null,null,null,0,null,null,null,null,0]
[null,null,5,"バスケットボール",0,0,0,0,0,null,null,null,0,null,null,null,null,0,null,null,null,null,0,null,null,null,null,0,null,null,null,null,0,null,null,null,null,0,null,null,null,null,0,null,null,null,null,0,null,null,null,null,0,null,null,null,null,0,null,null,null,null,0,null,null,null,null,0,null,null,null,null,0,null,null,null,null,0,null,null,null,null,0,null,null,null,null,0,null,null,null,null,0,null,null,null,null,0,null,null,null,null,0,null,null,null,null,0,null,null,null,null,0,null,null,null,null,0,null,null,null,null,0,null,null,null,null,0,null,null,null,null,0,null,null,null,null,0,null,null,null,null,0]
[null,null,6,"ハンドボール",0,0,0,0,0,null,null,null,0,null,null,null,null,0,null,null,null,null,0,null,null,null,null,0,null,null,null,null,0,null,null,null,null,0,null,null,null,null,0,null,null,null,null,0,null,null,null,null,0,null,null,null,null,0,null,null,null,null,0,null,null,null,null,0,null,null,null,null,0,null,null,null,null,0,null,null,null,null,0,null,null,null,null,0,null,null,null,null,0,null,null,null,null,0,null,null,null,null,0,null,null,null,null,0,null,null,null,null,0,null,null,null,null,0,null,null,null,null,0,null,null,null,null,0,null,null,null,null,0,null,null,null,null,0,null,null,null,null,0]
[null,"男",7,"バレーボール",0,0,0,0,0,null,null,null,0,null,null,null,null,0,null,null,null,null,0,null,null,null,null,0,null,null,null,null,0,null,null,null,null,0,null,null,null,null,0,null,null,null,null,0,null,null,null,null,0,null,null,null,null,0,null,null,null,null,0,null,null,null,null,0,null,null,null,null,0,null,null,null,null,0,null,null,null,null,0,null,null,null,null,0,null,null,null,null,0,null,null,null,null,0,null,null,null,null,0,null,null,null,null,0,null,null,null,null,0,null,null,null,null,0,null,null,null,null,0,null,null,null,null,0,null,null,null,null,0,null,null,null,null,0,null,null,null,null,0]
[null,null,8,"ソフトテニス",0,0,0,0,0,null,null,null,0,null,null,null,null,0,null,null,null,null,0,null,null,null,null,0,null,null,null,null,0,null,null,null,null,0,null,null,null,null,0,null,null,null,null,0,null,null,null,null,0,null,null,null,null,0,null,null,null,null,0,null,null,null,null,0,null,null,null,null,0,null,null,null,null,0,null,null,null,null,0,null,null,null,null,0,null,null,null,null,0,null,null,null,null,0,null,null,null,null,0,null,null,null,null,0,null,null,null,null,0,null,null,null,null,0,null,null,null,null,0,null,null,null,null,0,null,null,null,null,0,null,null,null,null,0,null,null,null,null,0]
[null,null,9,"卓    球",0,0,0,0,0,null,null,null,0,null,null,null,null,0,null,null,null,null,0,null,null,null,null,0,null,null,null,null,0,null,null,null,null,0,null,null,null,null,0,null,null,null,null,0,null,null,null,null,0,null,null,null,null,0,null,null,null,null,0,null,null,null,null,0,null,null,null,null,0,null,null,null,null,0,null,null,null,null,0,null,null,null,null,0,null,null,null,null,0,null,null,null,null,0,null,null,null,null,0,null,null,null,null,0,null,null,null,null,0,null,null,null,null,0,null,null,null,null,0,null,null,null,null,0,null,null,null,null,0,null,null,null,null,0,null,null,null,null,0]
[null,null,10,"バドミントン",0,0,0,0,0,null,null,null,0,null,null,null,null,0,null,null,null,null,0,null,null,null,null,0,null,null,null,null,0,null,null,null,null,0,null,null,null,null,0,null,null,null,null,0,null,null,null,null,0,null,null,null,null,0,null,null,null,null,0,null,null,null,null,0,null,null,null,null,0,null,null,null,null,0,null,null,null,null,0,null,null,null,null,0,null,null,null,null,0,null,null,null,null,0,null,null,null,null,0,null,null,null,null,0,null,null,null,null,0,null,null,null,null,0,null,null,null,null,0,null,null,null,null,0,null,null,null,null,0,null,null,null,null,0,null,null,null,null,0]
[null,null,11,"サッカー",0,0,0,0,0,null,null,null,0,null,null,null,null,0,null,null,null,null,0,null,null,null,null,0,null,null,null,null,0,null,null,null,null,0,null,null,null,null,0,null,null,null,null,0,null,null,null,null,0,null,null,null,null,0,null,null,null,null,0,null,null,null,null,0,null,null,null,null,0,null,null,null,null,0,null,null,null,null,0,null,null,null,null,0,null,null,null,null,0,null,null,null,null,0,null,null,null,null,0,null,null,null,null,0,null,null,null,null,0,null,null,null,null,0,null,null,null,null,0,null,null,null,null,0,null,null,null,null,0,null,null,null,null,0,null,null,null,null,0]
[null,null,12,"陸　上　競　技",0,0,0,0,0,null,null,null,0,null,null,null,null,0,null,null,null,null,0,null,null,null,null,0,null,null,null,null,0,null,null,null,null,0,null,null,null,null,0,null,null,null,null,0,null,null,null,null,0,null,null,null,null,0,null,null,null,null,0,null,null,null,null,0,null,null,null,null,0,null,null,null,null,0,null,null,null,null,0,null,null,null,null,0,null,null,null,null,0,null,null,null,null,0,null,null,null,null,0,null,null,null,null,0,null,null,null,null,0,null,null,null,null,0,null,null,null,null,0,null,null,null,null,0,null,null,null,null,0,null,null,null,null,0,null,null,null,null,0]
[null,null,13,"水　　泳",0,0,0,0,0,null,null,null,0,null,null,null,null,0,null,null,null,null,0,null,null,null,null,0,null,null,null,null,0,null,null,null,null,0,null,null,null,null,0,null,null,null,null,0,null,null,null,null,0,null,null,null,null,0,null,null,null,null,0,null,null,null,null,0,null,null,null,null,0,null,null,null,null,0,null,null,null,null,0,null,null,null,null,0,null,null,null,null,0,null,null,null,null,0,null,null,null,null,0,null,null,null,null,0,null,null,null,null,0,null,null,null,null,0,null,null,null,null,0,null,null,null,null,0,null,null,null,null,0,null,null,null,null,0,null,null,null,null,0]
[null,"子",14,"柔　　道",0,0,0,0,0,null,null,null,0,null,null,null,null,0,null,null,null,null,0,null,null,null,null,0,null,null,null,null,0,null,null,null,null,0,null,null,null,null,0,null,null,null,null,0,null,null,null,null,0,null,null,null,null,0,null,null,null,null,0,null,null,null,null,0,null,null,null,null,0,null,null,null,null,0,null,null,null,null,0,null,null,null,null,0,null,null,null,null,0,null,null,null,null,0,null,null,null,null,0,null,null,null,null,0,null,null,null,null,0,null,null,null,null,0,null,null,null,null,0,null,null,null,null,0,null,null,null,null,0,null,null,null,null,0,null,null,null,null,0]
[null,null,15,"剣　　道",0,0,0,0,0,null,null,null,0,null,null,null,null,0,null,null,null,null,0,null,null,null,null,0,null,null,null,null,0,null,null,null,null,0,null,null,null,null,0,null,null,null,null,0,null,null,null,null,0,null,null,null,null,0,null,null,null,null,0,null,null,null,null,0,null,null,null,null,0,null,null,null,null,0,null,null,null,null,0,null,null,null,null,0,null,null,null,null,0,null,null,null,null,0,null,null,null,null,0,null,null,null,null,0,null,null,null,null,0,null,null,null,null,0,null,null,null,null,0,null,null,null,null,0,null,null,null,null,0,null,null,null,null,0,null,null,null,null,0]
[null,null,16,"相　　撲",0,0,0,0,0,null,null,null,0,null,null,null,null,0,null,null,null,null,0,null,null,null,null,0,null,null,null,null,0,null,null,null,null,0,null,null,null,null,0,null,null,null,null,0,null,null,null,null,0,null,null,null,null,0,null,null,null,null,0,null,null,null,null,0,null,null,null,null,0,null,null,null,null,0,null,null,null,null,0,null,null,null,null,0,null,null,null,null,0,null,null,null,null,0,null,null,null,null,0,null,null,null,null,0,null,null,null,null,0,null,null,null,null,0,null,null,null,null,0,null,null,null,null,0,null,null,null,null,0,null,null,null,null,0,null,null,null,null,0]
[null,null,17,"ダ    ン    ス",0,0,0,0,0,null,null,null,0,null,null,null,null,0,null,null,null,null,0,null,null,null,null,0,null,null,null,null,0,null,null,null,null,0,null,null,null,null,0,null,null,null,null,0,null,null,null,null,0,null,null,null,null,0,null,null,null,null,0,null,null,null,null,0,null,null,null,null,0,null,null,null,null,0,null,null,null,null,0,null,null,null,null,0,null,null,null,null,0,null,null,null,null,0,null,null,null,null,0,null,null,null,null,0,null,null,null,null,0,null,null,null,null,0,null,null,null,null,0,null,null,null,null,0,null,null,null,null,0,null,null,null,null,0,null,null,null,null,0]
[null,null,18,"ス    キ    ー",0,0,0,0,0,null,null,null,0,null,null,null,null,0,null,null,null,null,0,null,null,null,null,0,null,null,null,null,0,null,null,null,null,0,null,null,null,null,0,null,null,null,null,0,null,null,null,null,0,null,null,null,null,0,null,null,null,null,0,null,null,null,null,0,null,null,null,null,0,null,null,null,null,0,null,null,null,null,0,null,null,null,null,0,null,null,null,null,0,null,null,null,null,0,null,null,null,null,0,null,null,null,null,0,null,null,null,null,0,null,null,null,null,0,null,null,null,null,0,null,null,null,null,0,null,null,null,null,0,null,null,null,null,0,null,null,null,null,0]
[null,null,19,"ス  ケ  ー  ト",0,0,0,0,0,null,null,null,0,null,null,null,null,0,null,null,null,null,0,null,null,null,null,0,null,null,null,null,0,null,null,null,null,0,null,null,null,null,0,null,null,null,null,0,null,null,null,null,0,null,null,null,null,0,null,null,null,null,0,null,null,null,null,0,null,null,null,null,0,null,null,null,null,0,null,null,null,null,0,null,null,null,null,0,null,null,null,null,0,null,null,null,null,0,null,null,null,null,0,null,null,null,null,0,null,null,null,null,0,null,null,null,null,0,null,null,null,null,0,null,null,null,null,0,null,null,null,null,0,null,null,null,null,0,null,null,null,null,0]
[null,null,20,"アイスホッケー",0,0,0,0,0,null,null,null,0,null,null,null,null,0,null,null,null,null,0,null,null,null,null,0,null,null,null,null,0,null,null,null,null,0,null,null,null,null,0,null,null,null,null,0,null,null,null,null,0,null,null,null,null,0,null,null,null,null,0,null,null,null,null,0,null,null,null,null,0,null,null,null,null,0,null,null,null,null,0,null,null,null,null,0,null,null,null,null,0,null,null,null,null,0,null,null,null,null,0,null,null,null,null,0,null,null,null,null,0,null,null,null,null,0,null,null,null,null,0,null,null,null,null,0,null,null,null,null,0,null,null,null,null,0,null,null,null,null,0]
[null,null,21,"テ　　ニ　　ス",0,0,0,0,0,null,null,null,0,null,null,null,null,0,null,null,null,null,0,null,null,null,null,0,null,null,null,null,0,null,null,null,null,0,null,null,null,null,0,null,null,null,null,0,null,null,null,null,0,null,null,null,null,0,null,null,null,null,0,null,null,null,null,0,null,null,null,null,0,null,null,null,null,0,null,null,null,null,0,null,null,null,null,0,null,null,null,null,0,null,null,null,null,0,null,null,null,null,0,null,null,null,null,0,null,null,null,null,0,null,null,null,null,0,null,null,null,null,0,null,null,null,null,0,null,null,null,null,0,null,null,null,null,0,null,null,null,null,0]
[null,null,22,"空　　　手",0,0,0,0,0,null,null,null,0,null,null,null,null,0,null,null,null,null,0,null,null,null,null,0,null,null,null,null,0,null,null,null,null,0,null,null,null,null,0,null,null,null,null,0,null,null,null,null,0,null,null,null,null,0,null,null,null,null,0,null,null,null,null,0,null,null,null,null,0,null,null,null,null,0,null,null,null,null,0,null,null,null,null,0,null,null,null,null,0,null,null,null,null,0,null,null,null,null,0,null,null,null,null,0,null,null,null,null,0,null,null,null,null,0,null,null,null,null,0,null,null,null,null,0,null,null,null,null,0,null,null,null,null,0,null,null,null,null,0]
[null,null,23,"ラ　グ　ビ　ー",0,0,0,0,0,null,null,null,{"$f":"SUM(J27:L27)","v":0},null,null,null,null,{"$f":"SUM(O27:Q27)","v":0},null,null,null,null,{"$f":"SUM(T27:V27)","v":0},null,null,null,null,{"$f":"SUM(Y27:AA27)","v":0},null,null,null,null,{"$f":"SUM(AD27:AF27)","v":0},null,null,null,null,{"$f":"SUM(AI27:AK27)","v":0},null,null,null,null,{"$f":"SUM(AN27:AP27)","v":0},null,null,null,null,{"$f":"SUM(AS27:AU27)","v":0},null,null,null,null,{"$f":"SUM(AX27:AZ27)","v":0},null,null,null,null,{"$f":"SUM(BC27:BE27)","v":0},null,null,null,null,{"$f":"SUM(BH27:BJ27)","v":0},null,null,null,null,{"$f":"SUM(BM27:BO27)","v":0},null,null,null,null,{"$f":"SUM(BR27:BT27)","v":0},null,null,null,null,{"$f":"SUM(BW27:BY27)","v":0},null,null,null,null,{"$f":"SUM(CB27:CD27)","v":0},null,null,null,null,{"$f":"SUM(CG27:CI27)","v":0},null,null,null,null,{"$f":"SUM(CL27:CN27)","v":0},null,null,null,null,{"$f":"SUM(CQ27:CS27)","v":0},null,null,null,null,{"$f":"SUM(CV27:CX27)","v":0},null,null,null,null,{"$f":"SUM(DA27:DC27)","v":0},null,null,null,null,{"$f":"SUM(DF27:DH27)","v":0},null,null,null,null,{"$f":"SUM(DK27:DM27)","v":0},null,null,null,null,{"$f":"SUM(DP27:DR27)","v":0},null,null,null,null,{"$f":"SUM(DU27:DW27)","v":0},null,null,null,null,{"$f":"SUM(DZ27:EB27)","v":0},null,null,null,null,{"$f":"SUM(EE27:EG27)","v":0},null,null,null,null,{"$f":"SUM(EJ27:EL27)","v":0}]
[null,null,24,"ホッケー",0,0,0,0,0,null,null,null,{"$f":"SUM(J28:L28)","v":0},null,null,null,null,{"$f":"SUM(O28:Q28)","v":0},null,null,null,null,{"$f":"SUM(T28:V28)","v":0},null,null,null,null,{"$f":"SUM(Y28:AA28)","v":0},null,null,null,null,{"$f":"SUM(AD28:AF28)","v":0}]
[null,null,null,null,0,0,0,0,0]
[null,null,null,null,0,0,0,0,0]
[null,null,"男　子　合　計 (名)",null,0,0,0,0,0,{"$f":"SUM(J5:J30)","v":0},0,0,{"$f":"SUM(M5:M30)","v":0},0,0,0,0,0,0,0,0,0,0,0,0,0,0,0,0,0,0,0,0,0,0,0,0,0,0,0,0,0,0,0,0,0,0,0,0,0,0,0,0,0,0,0,0,0,0,0,0,0,0,0,0,0,0,0,0,0,0,0,0,{"$f":"SUM(BV5:BV30)","v":0},{"$f":"SUM(BW5:BW30)","v":0},0,0,0,0,0,0,0,0,0,0,0,0,0,0,0,0,0,0,0,0,0,0,0,0,0,0,0,0,0,0,0,0,0,0,0,0,0,0,0,0,0,0,0,0,0,0,0,0,0,0,0,0,0,0,0,0,0,0,0,0,0,0,0,{"$f":"SUM(EI5:EI30)","v":0},0,0,0,0,0]
[null,null,"男 子 在 籍 数 (名)",null,{"$f":"J32+O32+T32+Y32+AD32+AI32+AN32+AS32+AX32+BC32+BH32+BM32+BR32+BW32+CB32+CG32+CL32+CQ32+CV32+DA32+DF32+DK32+DP32+DU32+DZ32","v":0},{"$f":"K32+P32+U32+Z32+AE32+AJ32+AO32+AT32+AY32+BD32+BI32+BN32+BS32+BX32+CC32+CH32+CM32+CR32+CW32+DB32+DG32+DL32+DQ32+DV32+EA32","v":0},{"$f":"L32+Q32+V32+AA32+AF32+AK32+AP32+AU32+AZ32+BE32+BJ32+BO32+BT32+BY32+CD32+CI32+CN32+CS32+CX32+DC32+DH32+DM32+DR32+DW32+EB32","v":0},{"$f":"M32+R32+W32+AB32+AG32+AL32+AQ32+AV32+BA32+BF32+BK32+BP32+BU32+BZ32+CE32+CJ32+CO32+CT32+CY32+DD32+DI32+DN32+DS32+DX32+EC32","v":0},null,null,null,null,{"$f":"SUM(J32:L32)","v":0},null,null,null,null,{"$f":"SUM(O32:Q32)","v":0},null,null,null,null,{"$f":"SUM(T32:V32)","v":0},null,null,null,null,{"$f":"SUM(Y32:AA32)","v":0},null,null,null,null,{"$f":"SUM(AD32:AF32)","v":0},null,null,null,null,{"$f":"SUM(AI32:AK32)","v":0},null,null,null,null,{"$f":"SUM(AN32:AP32)","v":0},null,null,null,null,{"$f":"SUM(AS32:AU32)","v":0},null,null,null,null,{"$f":"SUM(AX32:AZ32)","v":0},null,null,null,null,{"$f":"SUM(BC32:BE32)","v":0},null,null,null,null,{"$f":"SUM(BH32:BJ32)","v":0},null,null,null,null,{"$f":"SUM(BM32:BO32)","v":0},null,null,null,null,{"$f":"SUM(BR32:BT32)","v":0},null,null,null,null,{"$f":"SUM(BW32:BY32)","v":0},null,null,null,null,{"$f":"SUM(CB32:CD32)","v":0},null,null,null,null,{"$f":"SUM(CG32:CI32)","v":0},null,null,null,null,{"$f":"SUM(CL32:CN32)","v":0},null,null,null,null,{"$f":"SUM(CQ32:CS32)","v":0},null,null,null,null,{"$f":"SUM(CV32:CX32)","v":0},null,null,null,null,{"$f":"SUM(DA32:DC32)","v":0},null,null,null,null,{"$f":"SUM(DF32:DH32)","v":0},null,null,null,null,{"$f":"SUM(DK32:DM32)","v":0},null,null,null,null,{"$f":"SUM(DP32:DR32)","v":0},null,null,null,null,{"$f":"SUM(DU32:DW32)","v":0},null,null,null,null,{"$f":"SUM(DZ32:EB32)","v":0},null,null,null,null,{"$f":"SUM(EE32:EG32)","v":0},null,null,null,null,{"$f":"SUM(EJ32:EL32)","v":0}]
[null,null,"男 子 入 部 率 (％)",null,{"$f":"E31/E32*100","v":{"$error":"#DIV/0!"}},{"$f":"F31/F32*100","v":{"$error":"#DIV/0!"}},{"$f":"G31/G32*100","v":{"$error":"#DIV/0!"}},{"$f":"H31/H32*100","v":{"$error":"#DIV/0!"}},null,{"$f":"J31/J32*100","v":{"$error":"#DIV/0!"}},{"$error":"#DIV/0!"},{"$error":"#DIV/0!"},{"$error":"#DIV/0!"},null,{"$error":"#DIV/0!"},{"$error":"#DIV/0!"},{"$error":"#DIV/0!"},{"$f":"R31/R32*100","v":{"$error":"#DIV/0!"}},null,{"$error":"#DIV/0!"},{"$error":"#DIV/0!"},{"$error":"#DIV/0!"},{"$f":"W31/W32*100","v":{"$error":"#DIV/0!"}},null,{"$error":"#DIV/0!"},{"$error":"#DIV/0!"},{"$error":"#DIV/0!"},{"$f":"AB31/AB32*100","v":{"$error":"#DIV/0!"}},null,{"$error":"#DIV/0!"},{"$error":"#DIV/0!"},{"$error":"#DIV/0!"},{"$f":"AG31/AG32*100","v":{"$error":"#DIV/0!"}},null,{"$error":"#DIV/0!"},{"$error":"#DIV/0!"},{"$error":"#DIV/0!"},{"$f":"AL31/AL32*100","v":{"$error":"#DIV/0!"}},null,{"$error":"#DIV/0!"},{"$error":"#DIV/0!"},{"$error":"#DIV/0!"},{"$f":"AQ31/AQ32*100","v":{"$error":"#DIV/0!"}},null,{"$error":"#DIV/0!"},{"$error":"#DIV/0!"},{"$error":"#DIV/0!"},{"$f":"AV31/AV32*100","v":{"$error":"#DIV/0!"}},null,{"$error":"#DIV/0!"},{"$error":"#DIV/0!"},{"$error":"#DIV/0!"},{"$f":"BA31/BA32*100","v":{"$error":"#DIV/0!"}},null,{"$error":"#DIV/0!"},{"$error":"#DIV/0!"},{"$error":"#DIV/0!"},{"$f":"BF31/BF32*100","v":{"$error":"#DIV/0!"}},null,{"$error":"#DIV/0!"},{"$error":"#DIV/0!"},{"$error":"#DIV/0!"},{"$f":"BK31/BK32*100","v":{"$error":"#DIV/0!"}},null,{"$error":"#DIV/0!"},{"$error":"#DIV/0!"},{"$error":"#DIV/0!"},{"$f":"BP31/BP32*100","v":{"$error":"#DIV/0!"}},null,{"$error":"#DIV/0!"},{"$error":"#DIV/0!"},{"$error":"#DIV/0!"},{"$f":"BU31/BU32*100","v":{"$error":"#DIV/0!"}},null,{"$f":"BW31/BW32*100","v":{"$error":"#DIV/0!"}},{"$error":"#DIV/0!"},{"$error":"#DIV/0!"},{"$error":"#DIV/0!"},null,{"$error":"#DIV/0!"},{"$error":"#DIV/0!"},{"$error":"#DIV/0!"},{"$error":"#DIV/0!"},null,{"$error":"#DIV/0!"},{"$error":"#DIV/0!"},{"$error":"#DIV/0!"},{"$error":"#DIV/0!"},null,{"$error":"#DIV/0!"},{"$error":"#DIV/0!"},{"$error":"#DIV/0!"},{"$error":"#DIV/0!"},null,{"$error":"#DIV/0!"},{"$error":"#DIV/0!"},{"$error":"#DIV/0!"},{"$error":"#DIV/0!"},null,{"$error":"#DIV/0!"},{"$error":"#DIV/0!"},{"$error":"#DIV/0!"},{"$error":"#DIV/0!"},null,{"$error":"#DIV/0!"},{"$error":"#DIV/0!"},{"$error":"#DIV/0!"},{"$error":"#DIV/0!"},null,{"$error":"#DIV/0!"},{"$error":"#DIV/0!"},{"$error":"#DIV/0!"},{"$error":"#DIV/0!"},null,{"$error":"#DIV/0!"},{"$error":"#DIV/0!"},{"$error":"#DIV/0!"},{"$error":"#DIV/0!"},null,{"$error":"#DIV/0!"},{"$error":"#DIV/0!"},{"$error":"#DIV/0!"},{"$error":"#DIV/0!"},null,{"$error":"#DIV/0!"},{"$error":"#DIV/0!"},{"$error":"#DIV/0!"},{"$error":"#DIV/0!"},null,{"$error":"#DIV/0!"},{"$error":"#DIV/0!"},{"$error":"#DIV/0!"},{"$error":"#DIV/0!"},null,{"$error":"#DIV/0!"},{"$error":"#DIV/0!"},{"$error":"#DIV/0!"},{"$error":"#DIV/0!"},null,{"$error":"#DIV/0!"},{"$error":"#DIV/0!"},{"$f":"EL31/EL32*100","v":{"$error":"#DIV/0!"}},{"$f":"EM31/EM32*100","v":{"$error":"#DIV/0!"}}]
[null,null,1,"体　操　競　技",{"$f":"J34+O34+T34+Y34+AD34+AI34+AN34+AS34+AX34+BC34+BH34+BM34+BR34+BW34+CB34+CG34+CL34+CQ34+CV34+DA34+DF34+DK34+DP34+DU34+DZ34","v":0},0,0,0,0,null,null,null,{"$f":"J34+K34+L34","v":0},null,null,null,null,{"$f":"O34+P34+Q34","v":0},null,null,null,null,{"$f":"T34+U34+V34","v":0},null,null,null,null,{"$f":"Y34+Z34+AA34","v":0},null,null,null,null,{"$f":"AD34+AE34+AF34","v":0},null,null,null,null,{"$f":"AI34+AJ34+AK34","v":0},null,null,null,null,{"$f":"AN34+AO34+AP34","v":0},null,null,null,null,{"$f":"AS34+AT34+AU34","v":0},null,null,null,null,{"$f":"AX34+AY34+AZ34","v":0},null,null,null,null,{"$f":"BC34+BD34+BE34","v":0},null,null,null,null,{"$f":"BH34+BI34+BJ34","v":0},null,null,null,null,{"$f":"BM34+BN34+BO34","v":0},null,null,null,null,{"$f":"BR34+BS34+BT34","v":0},null,null,null,null,{"$f":"BW34+BX34+BY34","v":0},null,null,null,null,{"$f":"CB34+CC34+CD34","v":0},null,null,null,null,{"$f":"CG34+CH34+CI34","v":0},null,null,null,null,{"$f":"CL34+CM34+CN34","v":0},null,null,null,null,{"$f":"CQ34+CR34+CS34","v":0},null,null,null,null,{"$f":"CV34+CW34+CX34","v":0},null,null,null,null,{"$f":"DA34+DB34+DC34","v":0},null,null,null,null,{"$f":"DF34+DG34+DH34","v":0},null,null,null,null,{"$f":"DK34+DL34+DM34","v":0},null,null,null,null,{"$f":"DP34+DQ34+DR34","v":0},null,null,null,null,{"$f":"DU34+DV34+DW34","v":0},null,null,null,null,{"$f":"DZ34+EA34+EB34","v":0},null,null,null,null,{"$f":"EE34+EF34+EG34","v":0},null,null,null,null,{"$f":"EJ34+EK34+EL34","v":0}]
[null,null,2,"新    体    操",0,0,0,0,0,null,null,null,0,null,null,null,null,0,null,null,null,null,0,null,null,null,null,0,null,null,null,null,0,null,null,null,null,0,null,null,null,null,0,null,null,null,null,0,null,null,null,null,0,null,null,null,null,0,null,null,null,null,0,null,null,null,null,0,null,null,null,null,0,null,null,null,null,0,null,null,null,null,0,null,null,null,null,0,null,null,null,null,0,null,null,null,null,0,null,null,null,null,0,null,null,null,null,0,null,null,null,null,0,null,null,null,null,0,null,null,null,null,0,null,null,null,null,0,null,null,null,null,0,null,null,null,null,0,null,null,null,null,0]
[null,null,3,"軟　式　野　球",0,0,0,0,0,null,null,null,0,null,null,null,null,0,null,null,null,null,0,null,null,null,null,0,null,null,null,null,0,null,null,null,null,0,null,null,null,null,0,null,null,null,null,0,null,null,null,null,0,null,null,null,null,0,null,null,null,null,0,null,null,null,null,0,null,null,null,null,0,null,null,null,null,0,null,null,null,null,0,null,null,null,null,0,null,null,null,null,0,null,null,null,null,0,null,null,null,null,0,null,null,null,null,0,null,null,null,null,0,null,null,null,null,0,null,null,null,null,0,null,null,null,null,0,null,null,null,null,0,null,null,null,null,0,null,null,null,null,0]
[null,null,4,"ソフトボール",0,0,0,0,0,null,null,null,0,null,null,null,null,0,null,null,null,null,0,null,null,null,null,0,null,null,null,null,0,null,null,null,null,0,null,null,null,null,0,null,null,null,null,0,null,null,null,null,0,null,null,null,null,0,null,null,null,null,0,null,null,null,null,0,null,null,null,null,0,null,null,null,null,0,null,null,null,null,0,null,null,null,null,0,null,null,null,null,0,null,null,null,null,0,null,null,null,null,0,null,null,null,null,0,null,null,null,null,0,null,null,null,null,0,null,null,null,null,0,null,null,null,null,0,null,null,null,null,0,null,null,null,null,0,null,null,null,null,0]
[null,null,5,"バスケットボール",0,0,0,0,0,null,null,null,0,null,null,null,null,0,null,null,null,null,0,null,null,null,null,0,null,null,null,null,0,null,null,null,null,0,null,null,null,null,0,null,null,null,null,0,null,null,null,null,0,null,null,null,null,0,null,null,null,null,0,null,null,null,null,0,null,null,null,null,0,null,null,null,null,0,null,null,null,null,0,null,null,null,null,0,null,null,null,null,0,null,null,null,null,0,null,null,null,null,0,null,null,null,null,0,null,null,null,null,0,null,null,null,null,0,null,null,null,null,0,null,null,null,null,0,null,null,null,null,0,null,null,null,null,0,null,null,null,null,0]
[null,null,6,"ハンドボール",0,0,0,0,0,null,null,null,0,null,null,null,null,0,null,null,null,null,0,null,null,null,null,0,null,null,null,null,0,null,null,null,null,0,null,null,null,null,0,null,null,null,null,0,null,null,null,null,0,null,null,null,null,0,null,null,null,null,0,null,null,null,null,0,null,null,null,null,0,null,null,null,null,0,null,null,null,null,0,null,null,null,null,0,null,null,null,null,0,null,null,null,null,0,null,null,null,null,0,null,null,null,null,0,null,null,null,null,0,null,null,null,null,0,null,null,null,null,0,null,null,null,null,0,null,null,null,null,0,null,null,null,null,0,null,null,null,null,0]
[null,"女",7,"バレーボール",0,0,0,0,0,null,null,null,0,null,null,null,null,0,null,null,null,null,0,null,null,null,null,0,null,null,null,null,0,null,null,null,null,0,null,null,null,null,0,null,null,null,null,0,null,null,null,null,0,null,null,null,null,0,null,null,null,null,0,null,null,null,null,0,null,null,null,null,0,null,null,null,null,0,null,null,null,null,0,null,null,null,null,0,null,null,null,null,0,null,null,null,null,0,null,null,null,null,0,null,null,null,null,0,null,null,null,null,0,null,null,null,null,0,null,null,null,null,0,null,null,null,null,0,null,null,null,null,0,null,null,null,null,0,null,null,null,null,0]
[null,null,8,"ソフトテニス",0,0,0,0,0,null,null,null,0,null,null,null,null,0,null,null,null,null,0,null,null,null,null,0,null,null,null,null,0,null,null,null,null,0,null,null,null,null,0,null,null,null,null,0,null,null,null,null,0,null,null,null,null,0,null,null,null,null,0,null,null,null,null,0,null,null,null,null,0,null,null,null,null,0,null,null,null,null,0,null,null,null,null,0,null,null,null,null,0,null,null,null,null,0,null,null,null,null,0,null,null,null,null,0,null,null,null,null,0,null,null,null,null,0,null,null,null,null,0,null,null,null,null,0,null,null,null,null,0,null,null,null,null,0,null,null,null,null,0]
[null,null,9,"卓    球",0,0,0,0,0,null,null,null,0,null,null,null,null,0,null,null,null,null,0,null,null,null,null,0,null,null,null,null,0,null,null,null,null,0,null,null,null,null,0,null,null,null,null,0,null,null,null,null,0,null,null,null,null,0,null,null,null,null,0,null,null,null,null,0,null,null,null,null,0,null,null,null,null,0,null,null,null,null,0,null,null,null,null,0,null,null,null,null,0,null,null,null,null,0,null,null,null,null,0,null,null,null,null,0,null,null,null,null,0,null,null,null,null,0,null,null,null,null,0,null,null,null,null,0,null,null,null,null,0,null,null,null,null,0,null,null,null,null,0]
[null,null,10,"バドミントン",0,0,0,0,0,null,null,null,0,null,null,null,null,0,null,null,null,null,0,null,null,null,null,0,null,null,null,null,0,null,null,null,null,0,null,null,null,null,0,null,null,null,null,0,null,null,null,null,0,null,null,null,null,0,null,null,null,null,0,null,null,null,null,0,null,null,null,null,0,null,null,null,null,0,null,null,null,null,0,null,null,null,null,0,null,null,null,null,0,null,null,null,null,0,null,null,null,null,0,null,null,null,null,0,null,null,null,null,0,null,null,null,null,0,null,null,null,null,0,null,null,null,null,0,null,null,null,null,0,null,null,null,null,0,null,null,null,null,0]
[null,null,11,"サッカー",0,0,0,0,0,null,null,null,0,null,null,null,null,0,null,null,null,null,0,null,null,null,null,0,null,null,null,null,0,null,null,null,null,0,null,null,null,null,0,null,null,null,null,0,null,null,null,null,0,null,null,null,null,0,null,null,null,null,0,null,null,null,null,0,null,null,null,null,0,null,null,null,null,0,null,null,null,null,0,null,null,null,null,0,null,null,null,null,0,null,null,null,null,0,null,null,null,null,0,null,null,null,null,0,null,null,null,null,0,null,null,null,null,0,null,null,null,null,0,null,null,null,null,0,null,null,null,null,0,null,null,null,null,0,null,null,null,null,0]
[null,null,12,"陸　上　競　技",0,0,0,0,0,null,null,null,0,null,null,null,null,0,null,null,null,null,0,null,null,null,null,0,null,null,null,null,0,null,null,null,null,0,null,null,null,null,0,null,null,null,null,0,null,null,null,null,0,null,null,null,null,0,null,null,null,null,0,null,null,null,null,0,null,null,null,null,0,null,null,null,null,0,null,null,null,null,0,null,null,null,null,0,null,null,null,null,0,null,null,null,null,0,null,null,null,null,0,null,null,null,null,0,null,null,null,null,0,null,null,null,null,0,null,null,null,null,0,null,null,null,null,0,null,null,null,null,0,null,null,null,null,0,null,null,null,null,0]
[null,null,13,"水　　泳",0,0,0,0,0,null,null,null,0,null,null,null,null,0,null,null,null,null,0,null,null,null,null,0,null,null,null,null,0,null,null,null,null,0,null,null,null,null,0,null,null,null,null,0,null,null,null,null,0,null,null,null,null,0,null,null,null,null,0,null,null,null,null,0,null,null,null,null,0,null,null,null,null,0,null,null,null,null,0,null,null,null,null,0,null,null,null,null,0,null,null,null,null,0,null,null,null,null,0,null,null,null,null,0,null,null,null,null,0,null,null,null,null,0,null,null,null,null,0,null,null,null,null,0,null,null,null,null,0,null,null,null,null,0,null,null,null,null,0]
[null,"子",14,"柔　　道",0,0,0,0,0,null,null,null,0,null,null,null,null,0,null,null,null,null,0,null,null,null,null,0,null,null,null,null,0,null,null,null,null,0,null,null,null,null,0,null,null,null,null,0,null,null,null,null,0,null,null,null,null,0,null,null,null,null,0,null,null,null,null,0,null,null,null,null,0,null,null,null,null,0,null,null,null,null,0,null,null,null,null,0,null,null,null,null,0,null,null,null,null,0,null,null,null,null,0,null,null,null,null,0,null,null,null,null,0,null,null,null,null,0,null,null,null,null,0,null,null,null,null,0,null,null,null,null,0,null,null,null,null,0,null,null,null,null,0]
[null,null,15,"剣　　道",0,0,0,0,0,null,null,null,0,null,null,null,null,0,null,null,null,null,0,null,null,null,null,0,null,null,null,null,0,null,null,null,null,0,null,null,null,null,0,null,null,null,null,0,null,null,null,null,0,null,null,null,null,0,null,null,null,null,0,null,null,null,null,0,null,null,null,null,0,null,null,null,null,0,null,null,null,null,0,null,null,null,null,0,null,null,null,null,0,null,null,null,null,0,null,null,null,null,0,null,null,null,null,0,null,null,null,null,0,null,null,null,null,0,null,null,null,null,0,null,null,null,null,0,null,null,null,null,0,null,null,null,null,0,null,null,null,null,0]
[null,null,16,"ダ    ン    ス",0,0,0,0,0,null,null,null,0,null,null,null,null,0,null,null,null,null,0,null,null,null,null,0,null,null,null,null,0,null,null,null,null,0,null,null,null,null,0,null,null,null,null,0,null,null,null,null,0,null,null,null,null,0,null,null,null,null,0,null,null,null,null,0,null,null,null,null,0,null,null,null,null,0,null,null,null,null,0,null,null,null,null,0,null,null,null,null,0,null,null,null,null,0,null,null,null,null,0,null,null,null,null,0,null,null,null,null,0,null,null,null,null,0,null,null,null,null,0,null,null,null,null,0,null,null,null,null,0,null,null,null,null,0,null,null,null,null,0]
[null,null,17,"ス    キ    ー",0,0,0,0,0,null,null,null,0,null,null,null,null,0,null,null,null,null,0,null,null,null,null,0,null,null,null,null,0,null,null,null,null,0,null,null,null,null,0,null,null,null,null,0,null,null,null,null,0,null,null,null,null,0,null,null,null,null,0,null,null,null,null,0,null,null,null,null,0,null,null,null,null,0,null,null,null,null,0,null,null,null,null,0,null,null,null,null,0,null,null,null,null,0,null,null,null,null,0,null,null,null,null,0,null,null,null,null,0,null,null,null,null,0,null,null,null,null,0,null,null,null,null,0,null,null,null,null,0,null,null,null,null,0,null,null,null,null,0]
[null,null,18,"ス  ケ  ー  ト",0,0,0,0,0,null,null,null,0,null,null,null,null,0,null,null,null,null,0,null,null,null,null,0,null,null,null,null,0,null,null,null,null,0,null,null,null,null,0,null,null,null,null,0,null,null,null,null,0,null,null,null,null,0,null,null,null,null,0,null,null,null,null,0,null,null,null,null,0,null,null,null,null,0,null,null,null,null,0,null,null,null,null,0,null,null,null,null,0,null,null,null,null,0,null,null,null,null,0,null,null,null,null,0,null,null,null,null,0,null,null,null,null,0,null,null,null,null,0,null,null,null,null,0,null,null,null,null,0,null,null,null,null,0,null,null,null,null,0]
[null,null,19,"アイスホッケー",0,0,0,0,0,null,null,null,0,null,null,null,null,0,null,null,null,null,0,null,null,null,null,0,null,null,null,null,0,null,null,null,null,0,null,null,null,null,0,null,null,null,null,0,null,null,null,null,0,null,null,null,null,0,null,null,null,null,0,null,null,null,null,0,null,null,null,null,0,null,null,null,null,0,null,null,null,null,0,null,null,null,null,0,null,null,null,null,0,null,null,null,null,0,null,null,null,null,0,null,null,null,null,0,null,null,null,null,0,null,null,null,null,0,null,null,null,null,0,null,null,null,null,0,null,null,null,null,0,null,null,null,null,0,null,null,null,null,0]
[null,null,20,"テ　　ニ　　ス",0,0,0,0,0,null,null,null,0,null,null,null,null,0,null,null,null,null,0,null,null,null,null,0,null,null,null,null,0,null,null,null,null,0,null,null,null,null,0,null,null,null,null,0,null,null,null,null,0,null,null,null,null,0,null,null,null,null,0,null,null,null,null,0,null,null,null,null,0,null,null,null,null,0,null,null,null,null,0,null,null,null,null,0,null,null,null,null,0,null,null,null,null,0,null,null,null,null,0,null,null,null,null,0,null,null,null,null,0,null,null,null,null,0,null,null,null,null,0,null,null,null,null,0,null,null,null,null,0,null,null,null,null,0,null,null,null,null,0]
[null,null,21,"弓　　道　",0,0,0,0,0,null,null,null,0,null,null,null,null,0,null,null,null,null,0,null,null,null,null,0,null,null,null,null,0,null,null,null,null,0,null,null,null,null,0,null,null,null,null,0,null,null,null,null,0,null,null,null,null,0,null,null,null,null,0,null,null,null,null,0,null,null,null,null,0,null,null,null,null,0,null,null,null,null,0,null,null,null,null,0,null,null,null,null,0,null,null,null,null,0,null,null,null,null,0,null,null,null,null,0,null,null,null,null,0,null,null,null,null,0,null,null,null,null,0,null,null,null,null,0,null,null,null,null,0,null,null,null,null,0,null,null,null,null,0]
[null,null,22,"空　　手",0,0,0,0,0,null,null,null,0,null,null,null,null,0,null,null,null,null,0,null,null,null,null,0,null,null,null,null,0,null,null,null,null,0,null,null,null,null,0,null,null,null,null,0,null,null,null,null,0,null,null,null,null,0,null,null,null,null,0,null,null,null,null,{"$f":"BM55+BN55+BO55","v":0},null,null,null,null,0,null,null,null,null,0,null,null,null,null,0,null,null,null,null,0,null,null,null,null,0,null,null,null,null,0,null,null,null,null,0,null,null,null,null,0,null,null,null,null,0,null,null,null,null,0,null,null,null,null,0,null,null,null,null,0,null,null,null,null,0,null,null,null,null,0,null,null,null,null,0]
[null,null,23,"ホッケー",0,0,0,0,0,null,null,null,0,null,null,null,null,0,null,null,null,null,0,null,null,null,null,0,null,null,null,null,0,null,null,null,null,0,null,null,null,null,0,null,null,null,null,0,null,null,null,null,0,null,null,null,null,0,null,null,null,null,0,null,null,null,null,0,null,null,null,null,0,null,null,null,null,0,null,null,null,null,0,null,null,null,null,0,null,null,null,null,0,null,null,null,null,0,null,null,null,null,0,null,null,null,null,0,null,null,null,null,0,null,null,null,null,0,null,null,null,null,0,null,null,null,null,0,null,null,null,null,0,null,null,null,null,0,null,null,null,null,0]
[null,null,null,null,0,0,0,0,0,null,null,null,0,null,null,null,null,0,null,null,null,null,0,null,null,null,null,0,null,null,null,null,0,null,null,null,null,0,null,null,null,null,0,null,null,null,null,0,null,null,null,null,0,null,null,null,null,0,null,null,null,null,0,null,null,null,null,0,null,null,null,null,0,null,null,null,null,0,null,null,null,null,0,null,null,null,null,0,null,null,null,null,0,null,null,null,null,0,null,null,null,null,0,null,null,null,null,0,null,null,null,null,0,null,null,null,null,0,null,null,null,null,0,null,null,null,null,0,null,null,null,null,0,null,null,null,null,0,null,null,null,null,0]
[null,null,null,null,0,0,0,0,0,null,null,null,0,null,null,null,null,0,null,null,null,null,0,null,null,null,null,0,null,null,null,null,0,null,null,null,null,0,null,null,null,null,0,null,null,null,null,0,null,null,null,null,0,null,null,null,null,0,null,null,null,null,0,null,null,null,null,0,null,null,null,null,0,null,null,null,null,0,null,null,null,null,0,null,null,null,null,0,null,null,null,null,0,null,null,null,null,0,null,null,null,null,0,null,null,null,null,0,null,null,null,null,0,null,null,null,null,0,null,null,null,null,0,null,null,null,null,0,null,null,null,null,0,null,null,null,null,0,null,null,null,null,0]
[null,null,"女　子　合　計 (名)",null,0,0,0,0,0,{"$f":"SUM(J34:J58)","v":0},0,0,0,0,0,0,0,0,0,0,0,0,0,0,0,0,0,0,0,0,0,0,0,0,0,0,0,0,0,0,0,{"$f":"SUM(AP34:AP58)","v":0},0,0,0,0,0,0,0,0,0,0,0,0,0,0,0,0,0,0,0,0,0,0,0,0,0,0,0,0,0,0,0,{"$f":"SUM(BV34:BV58)","v":0},0,0,0,0,0,0,0,0,0,0,0,0,0,0,0,0,0,0,0,0,0,0,0,0,0,0,0,0,0,0,0,{"$f":"SUM(DB34:DB58)","v":0},0,0,0,0,0,0,0,0,0,0,0,0,0,0,0,0,0,0,0,0,0,0,0,0,0,0,0,0,0,0,0,{"$f":"SUM(EH34:EH58)","v":0},0,0,0,0,0,0]
[null,null,"女 子 在 籍 数 (名)",null,{"$f":"J60+O60+T60+Y60+AD60+AI60+AN60+AS60+AX60+BC60+BH60+BM60+BR60+BW60+CB60+CG60+CL60+CQ60+CV60+DA60+DF60+DK60+DP60+DU60+DZ60","v":0},{"$f":"K60+P60+U60+Z60+AE60+AJ60+AO60+AT60+AY60+BD60+BI60+BN60+BS60+BX60+CC60+CH60+CM60+CR60+CW60+DB60+DG60+DL60+DQ60+DV60+EA60","v":0},{"$f":"L60+Q60+V60+AA60+AF60+AK60+AP60+AU60+AZ60+BE60+BJ60+BO60+BT60+BY60+CD60+CI60+CN60+CS60+CX60+DC60+DH60+DM60+DR60+DW60+EB60","v":0},{"$f":"M60+R60+W60+AB60+AG60+AL60+AQ60+AV60+BA60+BF60+BK60+BP60+BU60+BZ60+CE60+CJ60+CO60+CT60+CY60+DD60+DI60+DN60+DS60+DX60+EC60","v":0},null,null,null,null,{"$f":"SUM(J60:L60)","v":0},null,null,null,null,{"$f":"SUM(O60:Q60)","v":0},null,null,null,null,{"$f":"SUM(T60:V60)","v":0},null,null,null,null,{"$f":"SUM(Y60:AA60)","v":0},null,null,null,null,{"$f":"SUM(AD60:AF60)","v":0},null,null,null,null,{"$f":"SUM(AI60:AK60)","v":0},null,null,null,null,{"$f":"SUM(AN60:AP60)","v":0},null,null,null,null,{"$f":"SUM(AS60:AU60)","v":0},null,null,null,null,{"$f":"SUM(AX60:AZ60)","v":0},null,null,null,null,{"$f":"SUM(BC60:BE60)","v":0},null,null,null,null,{"$f":"SUM(BH60:BJ60)","v":0},null,null,null,null,{"$f":"SUM(BM60:BO60)","v":0},null,null,null,null,{"$f":"SUM(BR60:BT60)","v":0},null,null,null,null,{"$f":"SUM(BW60:BY60)","v":0},null,null,null,null,{"$f":"SUM(CB60:CD60)","v":0},null,null,null,null,{"$f":"SUM(CG60:CI60)","v":0},null,null,null,null,{"$f":"SUM(CL60:CN60)","v":0},null,null,null,null,{"$f":"SUM(CQ60:CS60)","v":0},null,null,null,null,{"$f":"SUM(CV60:CX60)","v":0},null,null,null,null,{"$f":"SUM(DA60:DC60)","v":0},null,null,null,null,{"$f":"SUM(DF60:DH60)","v":0},null,null,null,null,{"$f":"SUM(DK60:DM60)","v":0},null,null,null,null,{"$f":"SUM(DP60:DR60)","v":0},null,null,null,null,{"$f":"SUM(DU60:DW60)","v":0},null,null,null,null,{"$f":"SUM(DZ60:EB60)","v":0},null,null,null,null,{"$f":"SUM(EE60:EG60)","v":0},null,null,null,null,{"$f":"SUM(EJ60:EL60)","v":0}]
[null,null,"女 子 入 部 率 (％)",null,{"$f":"E59/E60*100","v":{"$error":"#DIV/0!"}},{"$f":"F59/F60*100","v":{"$error":"#DIV/0!"}},{"$f":"G59/G60*100","v":{"$error":"#DIV/0!"}},{"$f":"H59/H60*100","v":{"$error":"#DIV/0!"}},null,{"$f":"J59/J60*100","v":{"$error":"#DIV/0!"}},{"$error":"#DIV/0!"},{"$error":"#DIV/0!"},{"$error":"#DIV/0!"},null,{"$error":"#DIV/0!"},{"$error":"#DIV/0!"},{"$error":"#DIV/0!"},{"$f":"R59/R60*100","v":{"$error":"#DIV/0!"}},null,{"$error":"#DIV/0!"},{"$error":"#DIV/0!"},{"$error":"#DIV/0!"},{"$f":"W59/W60*100","v":{"$error":"#DIV/0!"}},null,{"$error":"#DIV/0!"},{"$error":"#DIV/0!"},{"$error":"#DIV/0!"},{"$f":"AB59/AB60*100","v":{"$error":"#DIV/0!"}},null,{"$error":"#DIV/0!"},{"$error":"#DIV/0!"},{"$error":"#DIV/0!"},{"$f":"AG59/AG60*100","v":{"$error":"#DIV/0!"}},null,{"$error":"#DIV/0!"},{"$error":"#DIV/0!"},{"$error":"#DIV/0!"},{"$f":"AL59/AL60*100","v":{"$error":"#DIV/0!"}},null,{"$error":"#DIV/0!"},{"$error":"#DIV/0!"},{"$error":"#DIV/0!"},{"$f":"AQ59/AQ60*100","v":{"$error":"#DIV/0!"}},null,{"$error":"#DIV/0!"},{"$error":"#DIV/0!"},{"$error":"#DIV/0!"},{"$f":"AV59/AV60*100","v":{"$error":"#DIV/0!"}},null,{"$error":"#DIV/0!"},{"$error":"#DIV/0!"},{"$error":"#DIV/0!"},{"$f":"BA59/BA60*100","v":{"$error":"#DIV/0!"}},null,{"$error":"#DIV/0!"},{"$error":"#DIV/0!"},{"$error":"#DIV/0!"},{"$f":"BF59/BF60*100","v":{"$error":"#DIV/0!"}},null,{"$error":"#DIV/0!"},{"$error":"#DIV/0!"},{"$error":"#DIV/0!"},{"$f":"BK59/BK60*100","v":{"$error":"#DIV/0!"}},null,{"$error":"#DIV/0!"},{"$error":"#DIV/0!"},{"$error":"#DIV/0!"},{"$f":"BP59/BP60*100","v":{"$error":"#DIV/0!"}},null,{"$error":"#DIV/0!"},{"$error":"#DIV/0!"},{"$error":"#DIV/0!"},{"$f":"BU59/BU60*100","v":{"$error":"#DIV/0!"}},null,{"$f":"BW59/BW60*100","v":{"$error":"#DIV/0!"}},{"$error":"#DIV/0!"},{"$error":"#DIV/0!"},{"$error":"#DIV/0!"},null,{"$error":"#DIV/0!"},{"$error":"#DIV/0!"},{"$error":"#DIV/0!"},{"$error":"#DIV/0!"},null,{"$error":"#DIV/0!"},{"$error":"#DIV/0!"},{"$error":"#DIV/0!"},{"$error":"#DIV/0!"},null,{"$error":"#DIV/0!"},{"$error":"#DIV/0!"},{"$error":"#DIV/0!"},{"$error":"#DIV/0!"},null,{"$error":"#DIV/0!"},{"$error":"#DIV/0!"},{"$error":"#DIV/0!"},{"$error":"#DIV/0!"},null,{"$error":"#DIV/0!"},{"$error":"#DIV/0!"},{"$error":"#DIV/0!"},{"$error":"#DIV/0!"},null,{"$error":"#DIV/0!"},{"$error":"#DIV/0!"},{"$error":"#DIV/0!"},{"$error":"#DIV/0!"},null,{"$error":"#DIV/0!"},{"$error":"#DIV/0!"},{"$error":"#DIV/0!"},{"$error":"#DIV/0!"},null,{"$error":"#DIV/0!"},{"$error":"#DIV/0!"},{"$error":"#DIV/0!"},{"$error":"#DIV/0!"},null,{"$error":"#DIV/0!"},{"$error":"#DIV/0!"},{"$error":"#DIV/0!"},{"$error":"#DIV/0!"},null,{"$error":"#DIV/0!"},{"$error":"#DIV/0!"},{"$error":"#DIV/0!"},{"$error":"#DIV/0!"},null,{"$error":"#DIV/0!"},{"$error":"#DIV/0!"},{"$error":"#DIV/0!"},{"$error":"#DIV/0!"},null,null,null,null,{"$f":"EH59/EH60*100","v":{"$error":"#DIV/0!"}},null,{"$error":"#DIV/0!"},{"$error":"#DIV/0!"},{"$f":"EL59/EL60*100","v":{"$error":"#DIV/0!"}},{"$f":"EM59/EM60*100","v":{"$error":"#DIV/0!"}}]
[null,null,"男　女　合　計 (名)",null,{"$f":"E31+E59","v":0},0,0,{"$f":"SUM(E62:G62)","v":0},null,{"$f":"J31+J59","v":0},{"$f":"K31+K59","v":0},0,0,0,0,0,0,{"$f":"R31+R59","v":0},0,0,0,0,{"$f":"W31+W59","v":0},0,0,0,0,{"$f":"AB31+AB59","v":0},0,0,0,0,{"$f":"AG31+AG59","v":0},0,0,0,0,{"$f":"AL31+AL59","v":0},0,0,0,0,{"$f":"AQ31+AQ59","v":0},0,0,0,0,{"$f":"AV31+AV59","v":0},0,0,0,0,{"$f":"BA31+BA59","v":0},0,0,0,0,{"$f":"BF31+BF59","v":0},0,0,0,0,{"$f":"BK31+BK59","v":0},0,0,0,0,{"$f":"BP31+BP59","v":0},0,0,0,0,{"$f":"BU31+BU59","v":0},0,{"$f":"BW31+BW59","v":0},0,0,0,0,0,0,0,0,0,0,0,0,0,0,0,0,0,0,0,0,0,0,0,0,0,0,0,0,0,0,0,0,0,0,0,0,0,0,0,0,0,0,0,0,0,0,0,0,0,0,0,0,0,0,0,0,0,0,0,0,0,0,0,{"$f":"EI31+EI59","v":0},0,0,0,0,0]
[null,null,"男 女 在 籍 数 (名)",null,0,0,0,{"$f":"SUM(E63:G63)","v":0},null,{"$f":"J60+J62","v":0},{"$f":"K60+K62","v":0},0,0,0,0,0,0,{"$f":"R60+R62","v":0},0,0,0,0,{"$f":"W60+W62","v":0},0,0,0,0,{"$f":"AB60+AB62","v":0},0,0,0,0,{"$f":"AG60+AG62","v":0},0,0,0,0,{"$f":"AL60+AL62","v":0},0,0,0,0,{"$f":"AQ60+AQ62","v":0},0,0,0,0,{"$f":"AV60+AV62","v":0},0,0,0,0,{"$f":"BA60+BA62","v":0},0,0,0,0,{"$f":"BF60+BF62","v":0},0,0,0,0,{"$f":"BK60+BK62","v":0},0,0,0,0,{"$f":"BP60+BP62","v":0},0,0,0,0,{"$f":"BU60+BU62","v":0},0,{"$f":"BW60+BW62","v":0},0,0,0,0,0,0,0,0,0,0,0,0,0,0,0,0,0,0,0,0,0,0,0,0,0,0,0,0,0,0,0,0,0,0,0,0,0,0,0,0,0,0,0,0,0,0,0,0,0,0,0,0,0,0,0,0,0,0,0,0,0,0,0,{"$f":"EI60+EI62","v":0},0,0,0,0,0]
[null,null,"男 女 入 部 率 (％)",null,{"$f":"E62/E63*100","v":{"$error":"#DIV/0!"}},{"$f":"F62/F63*100","v":{"$error":"#DIV/0!"}},{"$f":"G62/G63*100","v":{"$error":"#DIV/0!"}},{"$f":"H62/H63*100","v":{"$error":"#DIV/0!"}},null,{"$f":"J62/J63*100","v":{"$error":"#DIV/0!"}},{"$error":"#DIV/0!"},{"$error":"#DIV/0!"},{"$error":"#DIV/0!"},null,{"$error":"#DIV/0!"},{"$error":"#DIV/0!"},{"$error":"#DIV/0!"},{"$f":"R62/R63*100","v":{"$error":"#DIV/0!"}},null,{"$error":"#DIV/0!"},{"$error":"#DIV/0!"},{"$error":"#DIV/0!"},{"$f":"W62/W63*100","v":{"$error":"#DIV/0!"}},null,{"$error":"#DIV/0!"},{"$error":"#DIV/0!"},{"$error":"#DIV/0!"},{"$f":"AB62/AB63*100","v":{"$error":"#DIV/0!"}},null,{"$error":"#DIV/0!"},{"$error":"#DIV/0!"},{"$error":"#DIV/0!"},{"$f":"AG62/AG63*100","v":{"$error":"#DIV/0!"}},null,{"$error":"#DIV/0!"},{"$error":"#DIV/0!"},{"$error":"#DIV/0!"},{"$f":"AL62/AL63*100","v":{"$error":"#DIV/0!"}},null,{"$error":"#DIV/0!"},{"$error":"#DIV/0!"},{"$error":"#DIV/0!"},{"$f":"AQ62/AQ63*100","v":{"$error":"#DIV/0!"}},null,{"$error":"#DIV/0!"},{"$error":"#DIV/0!"},{"$error":"#DIV/0!"},{"$f":"AV62/AV63*100","v":{"$error":"#DIV/0!"}},null,{"$error":"#DIV/0!"},{"$error":"#DIV/0!"},{"$error":"#DIV/0!"},{"$f":"BA62/BA63*100","v":{"$error":"#DIV/0!"}},null,{"$error":"#DIV/0!"},{"$error":"#DIV/0!"},{"$error":"#DIV/0!"},{"$f":"BF62/BF63*100","v":{"$error":"#DIV/0!"}},null,{"$error":"#DIV/0!"},{"$error":"#DIV/0!"},{"$error":"#DIV/0!"},{"$f":"BK62/BK63*100","v":{"$error":"#DIV/0!"}},null,{"$error":"#DIV/0!"},{"$error":"#DIV/0!"},{"$error":"#DIV/0!"},{"$f":"BP62/BP63*100","v":{"$error":"#DIV/0!"}},null,{"$error":"#DIV/0!"},{"$error":"#DIV/0!"},{"$error":"#DIV/0!"},{"$f":"BU62/BU63*100","v":{"$error":"#DIV/0!"}},null,{"$f":"BW62/BW63*100","v":{"$error":"#DIV/0!"}},{"$error":"#DIV/0!"},{"$error":"#DIV/0!"},{"$error":"#DIV/0!"},null,{"$error":"#DIV/0!"},{"$error":"#DIV/0!"},{"$error":"#DIV/0!"},{"$error":"#DIV/0!"},null,{"$error":"#DIV/0!"},{"$error":"#DIV/0!"},{"$error":"#DIV/0!"},{"$error":"#DIV/0!"},null,{"$error":"#DIV/0!"},{"$error":"#DIV/0!"},{"$error":"#DIV/0!"},{"$error":"#DIV/0!"},null,{"$error":"#DIV/0!"},{"$error":"#DIV/0!"},{"$error":"#DIV/0!"},{"$error":"#DIV/0!"},null,{"$error":"#DIV/0!"},{"$error":"#DIV/0!"},{"$error":"#DIV/0!"},{"$error":"#DIV/0!"},null,{"$error":"#DIV/0!"},{"$error":"#DIV/0!"},{"$error":"#DIV/0!"},{"$error":"#DIV/0!"},null,{"$error":"#DIV/0!"},{"$error":"#DIV/0!"},{"$error":"#DIV/0!"},{"$error":"#DIV/0!"},null,{"$error":"#DIV/0!"},{"$error":"#DIV/0!"},{"$error":"#DIV/0!"},{"$error":"#DIV/0!"},null,{"$error":"#DIV/0!"},{"$error":"#DIV/0!"},{"$error":"#DIV/0!"},{"$error":"#DIV/0!"},null,{"$error":"#DIV/0!"},{"$error":"#DIV/0!"},{"$error":"#DIV/0!"},{"$error":"#DIV/0!"},null,{"$error":"#DIV/0!"},{"$error":"#DIV/0!"},{"$error":"#DIV/0!"},{"$error":"#DIV/0!"},null,{"$error":"#DIV/0!"},{"$error":"#DIV/0!"},{"$error":"#DIV/0!"},{"$error":"#DIV/0!"},null,{"$error":"#DIV/0!"},{"$error":"#DIV/0!"},{"$f":"EL62/EL63*100","v":{"$error":"#DIV/0!"}},{"$f":"EM62/EM63*100","v":{"$error":"#DIV/0!"}}]

{"sheet":"14邑楽","index":14,"n_rows":64,"n_cols":144,"rows_kept":64,"cut":false,"hidden":false,"merged":[[2,4,2,8]]}
[]
[null,null,"令和８年度　群馬県中学校　運動部員数調査結果    （黄色部分は入力禁止）"]
[null,null,null,null,"１４邑楽郡(8校)",null,null,null,null,null,"板倉",null,null,null,null,"明和",null,null,null,null,"千代田",null,null,null,null,"大泉南",null,null,null,null,"大泉北",null,null,null,null,"大泉西",null,null,null,null,"邑楽",null,null,null,null,"邑楽南"]
[null,null,"№","  競　技　名","１年","２年","３年","合計","設置","１年","２年","３年","合計","設置","１年","２年","３年","合計","設置","１年","２年","３年","合計","設置","１年","２年","３年","合計","設置","１年","２年","３年","合計","設置","１年","２年","３年","合計","設置","１年","２年","３年","合計","設置","１年","２年","３年","合計","設置","１年","２年","３年","合計","設置","１年","２年","３年","合計","設置","１年","２年","３年","合計","設置","１年","２年","３年","合計","設置","１年","２年","３年","合計","設置","１年","２年","３年","合計","設置","１年","２年","３年","合計","設置","１年","２年","３年","合計","設置","１年","２年","３年","合計","設置","１年","２年","３年","合計","設置","１年","２年","３年","合計","設置","１年","２年","３年","合計","設置","１年","２年","３年","合計","設置","１年","２年","３年","合計","設置","１年","２年","３年","合計","設置","１年","２年","３年","合計","設置","１年","２年","３年","合計","設置"]
[null,null,1,"体　操　競　技",{"$f":"J5+O5+T5+Y5+AD5+AI5+AN5+AS5+AX5+BC5+BH5+BM5+BR5+BW5+CB5+CG5+CL5+CQ5+CV5+DA5+DF5+DK5+DP5+DU5+DZ5","v":0},{"$f":"K5+P5+U5+Z5+AE5+AJ5+AO5+AT5+AY5+BD5+BI5+BN5+BS5+BX5+CC5+CH5+CM5+CR5+CW5+DB5+DG5+DL5+DQ5+DV5+EA5","v":0},{"$f":"L5+Q5+V5+AA5+AF5+AK5+AP5+AU5+AZ5+BE5+BJ5+BO5+BT5+BY5+CD5+CI5+CN5+CS5+CX5+DC5+DH5+DM5+DR5+DW5+EB5","v":0},{"$f":"M5+R5+W5+AB5+AG5+AL5+AQ5+AV5+BA5+BF5+BK5+BP5+BU5+BZ5+CE5+CJ5+CO5+CT5+CY5+DD5+DI5+DN5+DS5+DX5+EC5","v":0},{"$f":"N5+S5+X5+AC5+AH5+AM5+AR5+AW5+BB5+BG5+BL5+BQ5+BV5+CA5+CF5+CK5+CP5+CU5+CZ5+DE5+DJ5+DO5+DT5+DY5+ED5","v":0},null,null,null,{"$f":"SUM(J5:L5)","v":0},null,null,null,null,{"$f":"SUM(O5:Q5)","v":0},null,null,null,null,{"$f":"SUM(T5:V5)","v":0},null,null,null,null,{"$f":"SUM(Y5:AA5)","v":0},null,null,null,null,{"$f":"SUM(AD5:AF5)","v":0},null,null,null,null,{"$f":"SUM(AI5:AK5)","v":0},null,null,null,null,{"$f":"SUM(AN5:AP5)","v":0},null,null,null,null,{"$f":"SUM(AS5:AU5)","v":0},null,null,null,null,{"$f":"SUM(AX5:AZ5)","v":0},null,null,null,null,{"$f":"SUM(BC5:BE5)","v":0},null,null,null,null,{"$f":"SUM(BH5:BJ5)","v":0},null,null,null,null,{"$f":"SUM(BM5:BO5)","v":0},null,null,null,null,{"$f":"SUM(BR5:BT5)","v":0},null,null,null,null,{"$f":"SUM(BW5:BY5)","v":0},null,null,null,null,{"$f":"SUM(CB5:CD5)","v":0},null,null,null,null,{"$f":"SUM(CG5:CI5)","v":0},null,null,null,null,{"$f":"SUM(CL5:CN5)","v":0},null,null,null,null,{"$f":"SUM(CQ5:CS5)","v":0},null,null,null,null,{"$f":"SUM(CV5:CX5)","v":0},null,null,null,null,{"$f":"SUM(DA5:DC5)","v":0},null,null,null,null,{"$f":"SUM(DF5:DH5)","v":0},null,null,null,null,{"$f":"SUM(DK5:DM5)","v":0},null,null,null,null,{"$f":"SUM(DP5:DR5)","v":0},null,null,null,null,{"$f":"SUM(DU5:DW5)","v":0},null,null,null,null,{"$f":"SUM(DZ5:EB5)","v":0},null,null,null,null,{"$f":"SUM(EE5:EG5)","v":0},null,null,null,null,{"$f":"SUM(EJ5:EL5)","v":0}]
[null,null,2,"新    体    操",{"$f":"J6+O6+T6+Y6+AD6+AI6+AN6+AS6+AX6+BC6+BH6+BM6+BR6+BW6+CB6+CG6+CL6+CQ6+CV6+DA6+DF6+DK6+DP6+DU6+DZ6","v":0},0,0,0,0,null,null,null,{"$f":"SUM(J6:L6)","v":0},null,null,null,null,{"$f":"SUM(O6:Q6)","v":0},null,null,null,null,{"$f":"SUM(T6:V6)","v":0},null,null,null,null,{"$f":"SUM(Y6:AA6)","v":0},null,null,null,null,{"$f":"SUM(AD6:AF6)","v":0},null,null,null,null,{"$f":"SUM(AI6:AK6)","v":0},null,null,null,null,{"$f":"SUM(AN6:AP6)","v":0},null,null,null,null,{"$f":"SUM(AS6:AU6)","v":0},null,null,null,null,{"$f":"SUM(AX6:AZ6)","v":0},null,null,null,null,{"$f":"SUM(BC6:BE6)","v":0},null,null,null,null,{"$f":"SUM(BH6:BJ6)","v":0},null,null,null,null,{"$f":"SUM(BM6:BO6)","v":0},null,null,null,null,{"$f":"SUM(BR6:BT6)","v":0},null,null,null,null,{"$f":"SUM(BW6:BY6)","v":0},null,null,null,null,{"$f":"SUM(CB6:CD6)","v":0},null,null,null,null,{"$f":"SUM(CG6:CI6)","v":0},null,null,null,null,{"$f":"SUM(CL6:CN6)","v":0},null,null,null,null,{"$f":"SUM(CQ6:CS6)","v":0},null,null,null,null,{"$f":"SUM(CV6:CX6)","v":0},null,null,null,null,{"$f":"SUM(DA6:DC6)","v":0},null,null,null,null,{"$f":"SUM(DF6:DH6)","v":0},null,null,null,null,{"$f":"SUM(DK6:DM6)","v":0},null,null,null,null,{"$f":"SUM(DP6:DR6)","v":0},null,null,null,null,{"$f":"SUM(DU6:DW6)","v":0},null,null,null,null,{"$f":"SUM(DZ6:EB6)","v":0},null,null,null,null,{"$f":"SUM(EE6:EG6)","v":0},null,null,null,null,{"$f":"SUM(EJ6:EL6)","v":0}]
[null,null,3,"軟　式　野　球",0,0,0,0,0,null,null,null,0,null,null,null,null,0,null,null,null,null,0,null,null,null,null,0,null,null,null,null,0,null,null,null,null,0,null,null,null,null,0,null,null,null,null,0,null,null,null,null,0,null,null,null,null,0,null,null,null,null,0,null,null,null,null,0,null,null,null,null,0,null,null,null,null,0,null,null,null,null,0,null,null,null,null,0,null,null,null,null,0,null,null,null,null,0,null,null,null,null,0,null,null,null,null,0,null,null,null,null,0,null,null,null,null,0,null,null,null,null,0,null,null,null,null,0,null,null,null,null,0,null,null,null,null,0,null,null,null,null,0]
[null,null,4,"ソフトボール",0,0,0,0,0,null,null,null,0,null,null,null,null,0,null,null,null,null,0,null,null,null,null,0,null,null,null,null,0,null,null,null,null,0,null,null,null,null,0,null,null,null,null,0,null,null,null,null,0,null,null,null,null,0,null,null,null,null,0,null,null,null,null,0,null,null,null,null,0,null,null,null,null,0,null,null,null,null,0,null,null,null,null,0,null,null,null,null,0,null,null,null,null,0,null,null,null,null,0,null,null,null,null,0,null,null,null,null,0,null,null,null,null,0,null,null,null,null,0,null,null,null,null,0,null,null,null,null,0,null,null,null,null,0,null,null,null,null,0]
[null,null,5,"バスケットボール",0,0,0,0,0,null,null,null,0,null,null,null,null,0,null,null,null,null,0,null,null,null,null,0,null,null,null,null,0,null,null,null,null,0,null,null,null,null,0,null,null,null,null,0,null,null,null,null,0,null,null,null,null,0,null,null,null,null,0,null,null,null,null,0,null,null,null,null,0,null,null,null,null,0,null,null,null,null,0,null,null,null,null,0,null,null,null,null,0,null,null,null,null,0,null,null,null,null,0,null,null,null,null,0,null,null,null,null,0,null,null,null,null,0,null,null,null,null,0,null,null,null,null,0,null,null,null,null,0,null,null,null,null,0,null,null,null,null,0]
[null,null,6,"ハンドボール",0,0,0,0,0,null,null,null,0,null,null,null,null,0,null,null,null,null,0,null,null,null,null,0,null,null,null,null,0,null,null,null,null,0,null,null,null,null,0,null,null,null,null,0,null,null,null,null,0,null,null,null,null,0,null,null,null,null,0,null,null,null,null,0,null,null,null,null,0,null,null,null,null,0,null,null,null,null,0,null,null,null,null,0,null,null,null,null,0,null,null,null,null,0,null,null,null,null,0,null,null,null,null,0,null,null,null,null,0,null,null,null,null,0,null,null,null,null,0,null,null,null,null,0,null,null,null,null,0,null,null,null,null,0,null,null,null,null,0]
[null,"男",7,"バレーボール",0,0,0,0,0,null,null,null,0,null,null,null,null,0,null,null,null,null,0,null,null,null,null,0,null,null,null,null,0,null,null,null,null,0,null,null,null,null,0,null,null,null,null,0,null,null,null,null,0,null,null,null,null,0,null,null,null,null,0,null,null,null,null,0,null,null,null,null,0,null,null,null,null,0,null,null,null,null,0,null,null,null,null,0,null,null,null,null,0,null,null,null,null,0,null,null,null,null,0,null,null,null,null,0,null,null,null,null,0,null,null,null,null,0,null,null,null,null,0,null,null,null,null,0,null,null,null,null,0,null,null,null,null,0,null,null,null,null,0]
[null,null,8,"ソフトテニス",{"$f":"J12+O12+T12+Y12+AD12+AI12+AN12+AS12+AX12+BC12+BH12+BM12+BR12+BW12+CB12+CG12+CL12+CQ12+CV12+DA12+DF12+DK12+DP12+DU12+DZ12","v":0},{"$f":"K12+P12+U12+Z12+AE12+AJ12+AO12+AT12+AY12+BD12+BI12+BN12+BS12+BX12+CC12+CH12+CM12+CR12+CW12+DB12+DG12+DL12+DQ12+DV12+EA12","v":0},{"$f":"L12+Q12+V12+AA12+AF12+AK12+AP12+AU12+AZ12+BE12+BJ12+BO12+BT12+BY12+CD12+CI12+CN12+CS12+CX12+DC12+DH12+DM12+DR12+DW12+EB12","v":0},0,0,null,null,null,0,null,null,null,null,0,null,null,null,null,0,null,null,null,null,0,null,null,null,null,0,null,null,null,null,0,null,null,null,null,0,null,null,null,null,0,null,null,null,null,0,null,null,null,null,0,null,null,null,null,0,null,null,null,null,0,null,null,null,null,0,null,null,null,null,0,null,null,null,null,0,null,null,null,null,0,null,null,null,null,0,null,null,null,null,0,null,null,null,null,0,null,null,null,null,0,null,null,null,null,0,null,null,null,null,0,null,null,null,null,0,null,null,null,null,0,null,null,null,null,0,null,null,null,null,0,null,null,null,null,0]
[null,null,9,"卓    球",0,0,0,0,0,null,null,null,0,null,null,null,null,0,null,null,null,null,0,null,null,null,null,0,null,null,null,null,0,null,null,null,null,0,null,null,null,null,0,null,null,null,null,0,null,null,null,null,0,null,null,null,null,0,null,null,null,null,0,null,null,null,null,0,null,null,null,null,0,null,null,null,null,0,null,null,null,null,0,null,null,null,null,0,null,null,null,null,0,null,null,null,null,0,null,null,null,null,0,null,null,null,null,0,null,null,null,null,0,null,null,null,null,0,null,null,null,null,0,null,null,null,null,0,null,null,null,null,0,null,null,null,null,0,null,null,null,null,0]
[null,null,10,"バドミントン",0,0,0,0,0,null,null,null,0,null,null,null,null,0,null,null,null,null,0,null,null,null,null,0,null,null,null,null,0,null,null,null,null,0,null,null,null,null,0,null,null,null,null,0,null,null,null,null,0,null,null,null,null,0,null,null,null,null,0,null,null,null,null,0,null,null,null,null,0,null,null,null,null,0,null,null,null,null,0,null,null,null,null,0,null,null,null,null,0,null,null,null,null,0,null,null,null,null,0,null,null,null,null,0,null,null,null,null,0,null,null,null,null,0,null,null,null,null,0,null,null,null,null,0,null,null,null,null,0,null,null,null,null,0,null,null,null,null,0]
[null,null,11,"サッカー",0,0,0,0,0,null,null,null,0,null,null,null,null,0,null,null,null,null,0,null,null,null,null,0,null,null,null,null,0,null,null,null,null,0,null,null,null,null,0,null,null,null,null,0,null,null,null,null,0,null,null,null,null,0,null,null,null,null,0,null,null,null,null,0,null,null,null,null,0,null,null,null,null,0,null,null,null,null,0,null,null,null,null,0,null,null,null,null,0,null,null,null,null,0,null,null,null,null,0,null,null,null,null,0,null,null,null,null,0,null,null,null,null,0,null,null,null,null,0,null,null,null,null,0,null,null,null,null,0,null,null,null,null,0,null,null,null,null,0]
[null,null,12,"陸　上　競　技",0,0,0,0,0,null,null,null,0,null,null,null,null,0,null,null,null,null,0,null,null,null,null,0,null,null,null,null,0,null,null,null,null,0,null,null,null,null,0,null,null,null,null,0,null,null,null,null,0,null,null,null,null,0,null,null,null,null,0,null,null,null,null,0,null,null,null,null,0,null,null,null,null,0,null,null,null,null,0,null,null,null,null,0,null,null,null,null,0,null,null,null,null,0,null,null,null,null,0,null,null,null,null,0,null,null,null,null,0,null,null,null,null,0,null,null,null,null,0,null,null,null,null,0,null,null,null,null,0,null,null,null,null,0,null,null,null,null,0]
[null,null,13,"水　　泳",0,0,0,0,0,null,null,null,0,null,null,null,null,0,null,null,null,null,0,null,null,null,null,0,null,null,null,null,0,null,null,null,null,0,null,null,null,null,0,null,null,null,null,0,null,null,null,null,0,null,null,null,null,0,null,null,null,null,0,null,null,null,null,0,null,null,null,null,0,null,null,null,null,0,null,null,null,null,0,null,null,null,null,0,null,null,null,null,0,null,null,null,null,0,null,null,null,null,0,null,null,null,null,0,null,null,null,null,0,null,null,null,null,0,null,null,null,null,0,null,null,null,null,0,null,null,null,null,0,null,null,null,null,0,null,null,null,null,0]
[null,"子",14,"柔　　道",0,0,0,0,0,null,null,null,0,null,null,null,null,0,null,null,null,null,0,null,null,null,null,0,null,null,null,null,0,null,null,null,null,0,null,null,null,null,0,null,null,null,null,0,null,null,null,null,0,null,null,null,null,0,null,null,null,null,0,null,null,null,null,0,null,null,null,null,0,null,null,null,null,0,null,null,null,null,0,null,null,null,null,0,null,null,null,null,0,null,null,null,null,0,null,null,null,null,0,null,null,null,null,0,null,null,null,null,0,null,null,null,null,0,null,null,null,null,0,null,null,null,null,0,null,null,null,null,0,null,null,null,null,0,null,null,null,null,0]
[null,null,15,"剣　　道",0,0,0,0,0,null,null,null,0,null,null,null,null,0,null,null,null,null,0,null,null,null,null,0,null,null,null,null,0,null,null,null,null,0,null,null,null,null,0,null,null,null,null,0,null,null,null,null,0,null,null,null,null,0,null,null,null,null,0,null,null,null,null,0,null,null,null,null,0,null,null,null,null,0,null,null,null,null,0,null,null,null,null,0,null,null,null,null,0,null,null,null,null,0,null,null,null,null,0,null,null,null,null,0,null,null,null,null,0,null,null,null,null,0,null,null,null,null,0,null,null,null,null,0,null,null,null,null,0,null,null,null,null,0,null,null,null,null,0]
[null,null,16,"相　　撲",0,0,0,0,0,null,null,null,0,null,null,null,null,0,null,null,null,null,0,null,null,null,null,0,null,null,null,null,0,null,null,null,null,0,null,null,null,null,0,null,null,null,null,0,null,null,null,null,0,null,null,null,null,0,null,null,null,null,0,null,null,null,null,0,null,null,null,null,0,null,null,null,null,0,null,null,null,null,0,null,null,null,null,0,null,null,null,null,0,null,null,null,null,0,null,null,null,null,0,null,null,null,null,0,null,null,null,null,0,null,null,null,null,0,null,null,null,null,0,null,null,null,null,0,null,null,null,null,0,null,null,null,null,0,null,null,null,null,0]
[null,null,17,"ダ    ン    ス",0,0,0,0,0,null,null,null,0,null,null,null,null,0,null,null,null,null,0,null,null,null,null,0,null,null,null,null,0,null,null,null,null,0,null,null,null,null,0,null,null,null,null,0,null,null,null,null,0,null,null,null,null,0,null,null,null,null,0,null,null,null,null,0,null,null,null,null,0,null,null,null,null,0,null,null,null,null,0,null,null,null,null,0,null,null,null,null,0,null,null,null,null,0,null,null,null,null,0,null,null,null,null,0,null,null,null,null,0,null,null,null,null,0,null,null,null,null,0,null,null,null,null,0,null,null,null,null,0,null,null,null,null,0,null,null,null,null,0]
[null,null,18,"ス    キ    ー",0,0,0,0,0,null,null,null,0,null,null,null,null,0,null,null,null,null,0,null,null,null,null,0,null,null,null,null,0,null,null,null,null,0,null,null,null,null,0,null,null,null,null,0,null,null,null,null,0,null,null,null,null,0,null,null,null,null,0,null,null,null,null,0,null,null,null,null,0,null,null,null,null,0,null,null,null,null,0,null,null,null,null,0,null,null,null,null,0,null,null,null,null,0,null,null,null,null,0,null,null,null,null,0,null,null,null,null,0,null,null,null,null,0,null,null,null,null,0,null,null,null,null,0,null,null,null,null,0,null,null,null,null,0,null,null,null,null,0]
[null,null,19,"ス  ケ  ー  ト",0,0,0,0,0,null,null,null,0,null,null,null,null,0,null,null,null,null,0,null,null,null,null,0,null,null,null,null,0,null,null,null,null,0,null,null,null,null,0,null,null,null,null,0,null,null,null,null,0,null,null,null,null,0,null,null,null,null,0,null,null,null,null,0,null,null,null,null,0,null,null,null,null,0,null,null,null,null,0,null,null,null,null,0,null,null,null,null,0,null,null,null,null,0,null,null,null,null,0,null,null,null,null,0,null,null,null,null,0,null,null,null,null,0,null,null,null,null,0,null,null,null,null,0,null,null,null,null,0,null,null,null,null,0,null,null,null,null,0]
[null,null,20,"アイスホッケー",0,0,0,0,0,null,null,null,0,null,null,null,null,0,null,null,null,null,0,null,null,null,null,0,null,null,null,null,0,null,null,null,null,0,null,null,null,null,0,null,null,null,null,0,null,null,null,null,0,null,null,null,null,0,null,null,null,null,0,null,null,null,null,0,null,null,null,null,0,null,null,null,null,0,null,null,null,null,0,null,null,null,null,0,null,null,null,null,0,null,null,null,null,0,null,null,null,null,0,null,null,null,null,0,null,null,null,null,0,null,null,null,null,0,null,null,null,null,0,null,null,null,null,0,null,null,null,null,0,null,null,null,null,0,null,null,null,null,0]
[null,null,21,"テ　　ニ　　ス",0,0,0,0,0,null,null,null,0,null,null,null,null,0,null,null,null,null,0,null,null,null,null,0,null,null,null,null,0,null,null,null,null,0,null,null,null,null,0,null,null,null,null,0,null,null,null,null,0,null,null,null,null,0,null,null,null,null,0,null,null,null,null,0,null,null,null,null,0,null,null,null,null,0,null,null,null,null,0,null,null,null,null,0,null,null,null,null,0,null,null,null,null,0,null,null,null,null,0,null,null,null,null,0,null,null,null,null,0,null,null,null,null,0,null,null,null,null,0,null,null,null,null,0,null,null,null,null,0,null,null,null,null,0,null,null,null,null,0]
[null,null,22,"空　　　手",0,0,0,0,0,null,null,null,0,null,null,null,null,0,null,null,null,null,0,null,null,null,null,0,null,null,null,null,0,null,null,null,null,0,null,null,null,null,0,null,null,null,null,0,null,null,null,null,0,null,null,null,null,0,null,null,null,null,0,null,null,null,null,0,null,null,null,null,0,null,null,null,null,0,null,null,null,null,0,null,null,null,null,0,null,null,null,null,0,null,null,null,null,0,null,null,null,null,0,null,null,null,null,0,null,null,null,null,0,null,null,null,null,0,null,null,null,null,0,null,null,null,null,0,null,null,null,null,0,null,null,null,null,0,null,null,null,null,0]
[null,null,23,"ラ　グ　ビ　ー",0,0,0,0,0,null,null,null,{"$f":"SUM(J27:L27)","v":0},null,null,null,null,{"$f":"SUM(O27:Q27)","v":0},null,null,null,null,{"$f":"SUM(T27:V27)","v":0},null,null,null,null,{"$f":"SUM(Y27:AA27)","v":0},null,null,null,null,{"$f":"SUM(AD27:AF27)","v":0},null,null,null,null,{"$f":"SUM(AI27:AK27)","v":0},null,null,null,null,{"$f":"SUM(AN27:AP27)","v":0},null,null,null,null,{"$f":"SUM(AS27:AU27)","v":0},null,null,null,null,{"$f":"SUM(AX27:AZ27)","v":0},null,null,null,null,{"$f":"SUM(BC27:BE27)","v":0},null,null,null,null,{"$f":"SUM(BH27:BJ27)","v":0},null,null,null,null,{"$f":"SUM(BM27:BO27)","v":0},null,null,null,null,{"$f":"SUM(BR27:BT27)","v":0},null,null,null,null,{"$f":"SUM(BW27:BY27)","v":0},null,null,null,null,{"$f":"SUM(CB27:CD27)","v":0},null,null,null,null,{"$f":"SUM(CG27:CI27)","v":0},null,null,null,null,{"$f":"SUM(CL27:CN27)","v":0},null,null,null,null,{"$f":"SUM(CQ27:CS27)","v":0},null,null,null,null,{"$f":"SUM(CV27:CX27)","v":0},null,null,null,null,{"$f":"SUM(DA27:DC27)","v":0},null,null,null,null,{"$f":"SUM(DF27:DH27)","v":0},null,null,null,null,{"$f":"SUM(DK27:DM27)","v":0},null,null,null,null,{"$f":"SUM(DP27:DR27)","v":0},null,null,null,null,{"$f":"SUM(DU27:DW27)","v":0},null,null,null,null,{"$f":"SUM(DZ27:EB27)","v":0},null,null,null,null,{"$f":"SUM(EE27:EG27)","v":0},null,null,null,null,{"$f":"SUM(EJ27:EL27)","v":0}]
[null,null,null,null,0,0,0,0,0]
[null,null,null,null,0,0,0,0,0]
[null,null,null,null,0,0,0,0,0]
[null,null,"男　子　合　計 (名)",null,{"$f":"J31+O31+T31+Y31+AD31+AI31+AN31+AS31+AX31+BC31+BH31+BM31+BR31+BW31+CB31+CG31+CL31+CQ31+CV31+DA31+DF31+DK31+DP31+DU31+DZ31","v":0},0,0,0,0,{"$f":"SUM(J5:J30)","v":0},0,0,{"$f":"SUM(M5:M30)","v":0},0,0,0,0,0,0,0,0,0,0,0,0,0,0,0,0,0,0,0,0,0,0,0,0,0,0,0,0,0,0,0,0,0,0,0,0,0,0,0,0,0,0,0,0,0,0,0,0,0,0,0,0,0,0,0,0,0,0,0,0,{"$f":"SUM(BV5:BV30)","v":0},{"$f":"SUM(BW5:BW30)","v":0},0,0,0,0,0,0,0,0,0,0,0,0,0,0,0,0,0,0,0,0,0,0,0,0,0,0,0,0,0,0,0,0,0,0,0,0,0,0,0,0,0,0,0,0,0,0,0,0,0,0,0,0,0,0,0,0,0,0,0,0,0,0,0,{"$f":"SUM(EI5:EI30)","v":0},0,0,0,0,0]
[null,null,"男 子 在 籍 数 (名)",null,0,0,0,0,null,null,null,null,{"$f":"SUM(J32:L32)","v":0},null,null,null,null,{"$f":"SUM(O32:Q32)","v":0},null,null,null,null,{"$f":"SUM(T32:V32)","v":0},null,null,null,null,{"$f":"SUM(Y32:AA32)","v":0},null,null,null,null,{"$f":"SUM(AD32:AF32)","v":0},null,null,null,null,{"$f":"SUM(AI32:AK32)","v":0},null,null,null,null,{"$f":"SUM(AN32:AP32)","v":0},null,null,null,null,{"$f":"SUM(AS32:AU32)","v":0},null,null,null,null,{"$f":"SUM(AX32:AZ32)","v":0},null,null,null,null,{"$f":"SUM(BC32:BE32)","v":0},null,null,null,null,{"$f":"SUM(BH32:BJ32)","v":0},null,null,null,null,{"$f":"SUM(BM32:BO32)","v":0},null,null,null,null,{"$f":"SUM(BR32:BT32)","v":0},null,null,null,null,{"$f":"SUM(BW32:BY32)","v":0},null,null,null,null,{"$f":"SUM(CB32:CD32)","v":0},null,null,null,null,{"$f":"SUM(CG32:CI32)","v":0},null,null,null,null,{"$f":"SUM(CL32:CN32)","v":0},null,null,null,null,{"$f":"SUM(CQ32:CS32)","v":0},null,null,null,null,{"$f":"SUM(CV32:CX32)","v":0},null,null,null,null,{"$f":"SUM(DA32:DC32)","v":0},null,null,null,null,{"$f":"SUM(DF32:DH32)","v":0},null,null,null,null,{"$f":"SUM(DK32:DM32)","v":0},null,null,null,null,{"$f":"SUM(DP32:DR32)","v":0},null,null,null,null,{"$f":"SUM(DU32:DW32)","v":0},null,null,null,null,{"$f":"SUM(DZ32:EB32)","v":0},null,null,null,null,{"$f":"SUM(EE32:EG32)","v":0},null,null,null,null,{"$f":"SUM(EJ32:EL32)","v":0}]
[null,null,"男 子 入 部 率 (％)",null,{"$f":"E31/E32*100","v":{"$error":"#DIV/0!"}},{"$f":"F31/F32*100","v":{"$error":"#DIV/0!"}},{"$f":"G31/G32*100","v":{"$error":"#DIV/0!"}},{"$f":"H31/H32*100","v":{"$error":"#DIV/0!"}},null,{"$f":"J31/J32*100","v":{"$error":"#DIV/0!"}},{"$error":"#DIV/0!"},{"$error":"#DIV/0!"},{"$error":"#DIV/0!"},null,{"$error":"#DIV/0!"},{"$error":"#DIV/0!"},{"$error":"#DIV/0!"},{"$f":"R31/R32*100","v":{"$error":"#DIV/0!"}},null,{"$error":"#DIV/0!"},{"$error":"#DIV/0!"},{"$error":"#DIV/0!"},{"$f":"W31/W32*100","v":{"$error":"#DIV/0!"}},null,{"$error":"#DIV/0!"},{"$error":"#DIV/0!"},{"$error":"#DIV/0!"},{"$f":"AB31/AB32*100","v":{"$error":"#DIV/0!"}},null,{"$error":"#DIV/0!"},{"$error":"#DIV/0!"},{"$error":"#DIV/0!"},{"$f":"AG31/AG32*100","v":{"$error":"#DIV/0!"}},null,{"$error":"#DIV/0!"},{"$error":"#DIV/0!"},{"$error":"#DIV/0!"},{"$f":"AL31/AL32*100","v":{"$error":"#DIV/0!"}},null,{"$error":"#DIV/0!"},{"$error":"#DIV/0!"},{"$error":"#DIV/0!"},{"$f":"AQ31/AQ32*100","v":{"$error":"#DIV/0!"}},null,{"$error":"#DIV/0!"},{"$error":"#DIV/0!"},{"$error":"#DIV/0!"},{"$f":"AV31/AV32*100","v":{"$error":"#DIV/0!"}},null,{"$error":"#DIV/0!"},{"$error":"#DIV/0!"},{"$error":"#DIV/0!"},{"$f":"BA31/BA32*100","v":{"$error":"#DIV/0!"}},null,{"$error":"#DIV/0!"},{"$error":"#DIV/0!"},{"$error":"#DIV/0!"},{"$f":"BF31/BF32*100","v":{"$error":"#DIV/0!"}},null,{"$error":"#DIV/0!"},{"$error":"#DIV/0!"},{"$error":"#DIV/0!"},{"$f":"BK31/BK32*100","v":{"$error":"#DIV/0!"}},null,{"$error":"#DIV/0!"},{"$error":"#DIV/0!"},{"$error":"#DIV/0!"},{"$f":"BP31/BP32*100","v":{"$error":"#DIV/0!"}},null,{"$error":"#DIV/0!"},{"$error":"#DIV/0!"},{"$error":"#DIV/0!"},{"$f":"BU31/BU32*100","v":{"$error":"#DIV/0!"}},null,{"$f":"BW31/BW32*100","v":{"$error":"#DIV/0!"}},{"$error":"#DIV/0!"},{"$error":"#DIV/0!"},{"$error":"#DIV/0!"},null,{"$error":"#DIV/0!"},{"$error":"#DIV/0!"},{"$error":"#DIV/0!"},{"$error":"#DIV/0!"},null,{"$error":"#DIV/0!"},{"$error":"#DIV/0!"},{"$error":"#DIV/0!"},{"$error":"#DIV/0!"},null,{"$error":"#DIV/0!"},{"$error":"#DIV/0!"},{"$error":"#DIV/0!"},{"$error":"#DIV/0!"},null,{"$error":"#DIV/0!"},{"$error":"#DIV/0!"},{"$error":"#DIV/0!"},{"$error":"#DIV/0!"},null,{"$error":"#DIV/0!"},{"$error":"#DIV/0!"},{"$error":"#DIV/0!"},{"$error":"#DIV/0!"},null,{"$error":"#DIV/0!"},{"$error":"#DIV/0!"},{"$error":"#DIV/0!"},{"$error":"#DIV/0!"},null,{"$error":"#DIV/0!"},{"$error":"#DIV/0!"},{"$error":"#DIV/0!"},{"$error":"#DIV/0!"},null,{"$error":"#DIV/0!"},{"$error":"#DIV/0!"},{"$error":"#DIV/0!"},{"$error":"#DIV/0!"},null,{"$error":"#DIV/0!"},{"$error":"#DIV/0!"},{"$error":"#DIV/0!"},{"$error":"#DIV/0!"},null,{"$error":"#DIV/0!"},{"$error":"#DIV/0!"},{"$error":"#DIV/0!"},{"$error":"#DIV/0!"},null,{"$error":"#DIV/0!"},{"$error":"#DIV/0!"},{"$error":"#DIV/0!"},{"$error":"#DIV/0!"},null,{"$error":"#DIV/0!"},{"$error":"#DIV/0!"},{"$error":"#DIV/0!"},{"$error":"#DIV/0!"},null,{"$error":"#DIV/0!"},{"$error":"#DIV/0!"},{"$f":"EL31/EL32*100","v":{"$error":"#DIV/0!"}},{"$f":"EM31/EM32*100","v":{"$error":"#DIV/0!"}}]
[null,null,1,"体　操　競　技",{"$f":"J34+O34+T34+Y34+AD34+AI34+AN34+AS34+AX34+BC34+BH34+BM34+BR34+BW34+CB34+CG34+CL34+CQ34+CV34+DA34+DF34+DK34+DP34+DU34+DZ34","v":0},0,0,0,0,null,null,null,{"$f":"J34+K34+L34","v":0},null,null,null,null,{"$f":"O34+P34+Q34","v":0},null,null,null,null,{"$f":"T34+U34+V34","v":0},null,null,null,null,{"$f":"Y34+Z34+AA34","v":0},null,null,null,null,{"$f":"AD34+AE34+AF34","v":0},null,null,null,null,{"$f":"AI34+AJ34+AK34","v":0},null,null,null,null,{"$f":"AN34+AO34+AP34","v":0},null,null,null,null,{"$f":"AS34+AT34+AU34","v":0},null,null,null,null,{"$f":"AX34+AY34+AZ34","v":0},null,null,null,null,{"$f":"BC34+BD34+BE34","v":0},null,null,null,null,{"$f":"BH34+BI34+BJ34","v":0},null,null,null,null,{"$f":"BM34+BN34+BO34","v":0},null,null,null,null,{"$f":"BR34+BS34+BT34","v":0},null,null,null,null,{"$f":"BW34+BX34+BY34","v":0},null,null,null,null,{"$f":"CB34+CC34+CD34","v":0},null,null,null,null,{"$f":"CG34+CH34+CI34","v":0},null,null,null,null,{"$f":"CL34+CM34+CN34","v":0},null,null,null,null,{"$f":"CQ34+CR34+CS34","v":0},null,null,null,null,{"$f":"CV34+CW34+CX34","v":0},null,null,null,null,{"$f":"DA34+DB34+DC34","v":0},null,null,null,null,{"$f":"DF34+DG34+DH34","v":0},null,null,null,null,{"$f":"DK34+DL34+DM34","v":0},null,null,null,null,{"$f":"DP34+DQ34+DR34","v":0},null,null,null,null,{"$f":"DU34+DV34+DW34","v":0},null,null,null,null,{"$f":"DZ34+EA34+EB34","v":0},null,null,null,null,{"$f":"EE34+EF34+EG34","v":0},null,null,null,null,{"$f":"EJ34+EK34+EL34","v":0}]
[null,null,2,"新    体    操",0,0,0,0,0,null,null,null,0,null,null,null,null,0,null,null,null,null,0,null,null,null,null,0,null,null,null,null,0,null,null,null,null,0,null,null,null,null,0,null,null,null,null,0,null,null,null,null,0,null,null,null,null,0,null,null,null,null,0,null,null,null,null,0,null,null,null,null,0,null,null,null,null,0,null,null,null,null,0,null,null,null,null,0,null,null,null,null,0,null,null,null,null,0,null,null,null,null,0,null,null,null,null,0,null,null,null,null,0,null,null,null,null,0,null,null,null,null,0,null,null,null,null,0,null,null,null,null,0,null,null,null,null,0,null,null,null,null,0]
[null,null,3,"軟　式　野　球",0,0,0,0,0,null,null,null,0,null,null,null,null,0,null,null,null,null,0,null,null,null,null,0,null,null,null,null,0,null,null,null,null,0,null,null,null,null,0,null,null,null,null,0,null,null,null,null,0,null,null,null,null,0,null,null,null,null,0,null,null,null,null,0,null,null,null,null,0,null,null,null,null,0,null,null,null,null,0,null,null,null,null,0,null,null,null,null,0,null,null,null,null,0,null,null,null,null,0,null,null,null,null,0,null,null,null,null,0,null,null,null,null,0,null,null,null,null,0,null,null,null,null,0,null,null,null,null,0,null,null,null,null,0,null,null,null,null,0]
[null,null,4,"ソフトボール",0,0,0,0,0,null,null,null,0,null,null,null,null,0,null,null,null,null,0,null,null,null,null,0,null,null,null,null,0,null,null,null,null,0,null,null,null,null,0,null,null,null,null,0,null,null,null,null,0,null,null,null,null,0,null,null,null,null,0,null,null,null,null,0,null,null,null,null,0,null,null,null,null,0,null,null,null,null,0,null,null,null,null,0,null,null,null,null,0,null,null,null,null,0,null,null,null,null,0,null,null,null,null,0,null,null,null,null,0,null,null,null,null,0,null,null,null,null,0,null,null,null,null,0,null,null,null,null,0,null,null,null,null,0,null,null,null,null,0]
[null,null,5,"バスケットボール",0,0,0,0,0,null,null,null,0,null,null,null,null,0,null,null,null,null,0,null,null,null,null,0,null,null,null,null,0,null,null,null,null,0,null,null,null,null,0,null,null,null,null,0,null,null,null,null,0,null,null,null,null,0,null,null,null,null,0,null,null,null,null,0,null,null,null,null,0,null,null,null,null,0,null,null,null,null,0,null,null,null,null,0,null,null,null,null,0,null,null,null,null,0,null,null,null,null,0,null,null,null,null,0,null,null,null,null,0,null,null,null,null,0,null,null,null,null,0,null,null,null,null,0,null,null,null,null,0,null,null,null,null,0,null,null,null,null,0]
[null,null,6,"ハンドボール",0,0,0,0,0,null,null,null,0,null,null,null,null,0,null,null,null,null,0,null,null,null,null,0,null,null,null,null,0,null,null,null,null,0,null,null,null,null,0,null,null,null,null,0,null,null,null,null,0,null,null,null,null,0,null,null,null,null,0,null,null,null,null,0,null,null,null,null,0,null,null,null,null,0,null,null,null,null,0,null,null,null,null,0,null,null,null,null,0,null,null,null,null,0,null,null,null,null,0,null,null,null,null,0,null,null,null,null,0,null,null,null,null,0,null,null,null,null,0,null,null,null,null,0,null,null,null,null,0,null,null,null,null,0,null,null,null,null,0]
[null,"女",7,"バレーボール",0,0,0,0,0,null,null,null,0,null,null,null,null,0,null,null,null,null,0,null,null,null,null,0,null,null,null,null,0,null,null,null,null,0,null,null,null,null,0,null,null,null,null,0,null,null,null,null,0,null,null,null,null,0,null,null,null,null,0,null,null,null,null,0,null,null,null,null,0,null,null,null,null,0,null,null,null,null,0,null,null,null,null,0,null,null,null,null,0,null,null,null,null,0,null,null,null,null,0,null,null,null,null,0,null,null,null,null,0,null,null,null,null,0,null,null,null,null,0,null,null,null,null,0,null,null,null,null,0,null,null,null,null,0,null,null,null,null,0]
[null,null,8,"ソフトテニス",{"$f":"J41+O41+T41+Y41+AD41+AI41+AN41+AS41+AX41+BC41+BH41+BM41+BR41+BW41+CB41+CG41+CL41+CQ41+CV41+DA41+DF41+DK41+DP41+DU41+DZ41","v":0},{"$f":"K41+P41+U41+Z41+AE41+AJ41+AO41+AT41+AY41+BD41+BI41+BN41+BS41+BX41+CC41+CH41+CM41+CR41+CW41+DB41+DG41+DL41+DQ41+DV41+EA41","v":0},{"$f":"L41+Q41+V41+AA41+AF41+AK41+AP41+AU41+AZ41+BE41+BJ41+BO41+BT41+BY41+CD41+CI41+CN41+CS41+CX41+DC41+DH41+DM41+DR41+DW41+EB41","v":0},0,0,null,null,null,0,null,null,null,null,0,null,null,null,null,0,null,null,null,null,0,null,null,null,null,0,null,null,null,null,0,null,null,null,null,0,null,null,null,null,0,null,null,null,null,0,null,null,null,null,0,null,null,null,null,0,null,null,null,null,0,null,null,null,null,0,null,null,null,null,0,null,null,null,null,0,null,null,null,null,0,null,null,null,null,0,null,null,null,null,0,null,null,null,null,0,null,null,null,null,0,null,null,null,null,0,null,null,null,null,0,null,null,null,null,0,null,null,null,null,0,null,null,null,null,0,null,null,null,null,0,null,null,null,null,0]
[null,null,9,"卓    球",0,0,0,0,0,null,null,null,0,null,null,null,null,0,null,null,null,null,0,null,null,null,null,0,null,null,null,null,0,null,null,null,null,0,null,null,null,null,0,null,null,null,null,0,null,null,null,null,0,null,null,null,null,0,null,null,null,null,0,null,null,null,null,0,null,null,null,null,0,null,null,null,null,0,null,null,null,null,0,null,null,null,null,0,null,null,null,null,0,null,null,null,null,0,null,null,null,null,0,null,null,null,null,0,null,null,null,null,0,null,null,null,null,0,null,null,null,null,0,null,null,null,null,0,null,null,null,null,0,null,null,null,null,0,null,null,null,null,0]
[null,null,10,"バドミントン",0,0,0,0,0,null,null,null,0,null,null,null,null,0,null,null,null,null,0,null,null,null,null,0,null,null,null,null,0,null,null,null,null,0,null,null,null,null,0,null,null,null,null,0,null,null,null,null,0,null,null,null,null,0,null,null,null,null,0,null,null,null,null,0,null,null,null,null,0,null,null,null,null,0,null,null,null,null,0,null,null,null,null,0,null,null,null,null,0,null,null,null,null,0,null,null,null,null,0,null,null,null,null,0,null,null,null,null,0,null,null,null,null,0,null,null,null,null,0,null,null,null,null,0,null,null,null,null,0,null,null,null,null,0,null,null,null,null,0]
[null,null,11,"サッカー",0,0,0,0,0,null,null,null,0,null,null,null,null,0,null,null,null,null,0,null,null,null,null,0,null,null,null,null,0,null,null,null,null,0,null,null,null,null,0,null,null,null,null,0,null,null,null,null,0,null,null,null,null,0,null,null,null,null,0,null,null,null,null,0,null,null,null,null,0,null,null,null,null,0,null,null,null,null,0,null,null,null,null,0,null,null,null,null,0,null,null,null,null,0,null,null,null,null,0,null,null,null,null,0,null,null,null,null,0,null,null,null,null,0,null,null,null,null,0,null,null,null,null,0,null,null,null,null,0,null,null,null,null,0,null,null,null,null,0]
[null,null,12,"陸　上　競　技",0,0,0,0,0,null,null,null,0,null,null,null,null,0,null,null,null,null,0,null,null,null,null,0,null,null,null,null,0,null,null,null,null,0,null,null,null,null,0,null,null,null,null,0,null,null,null,null,0,null,null,null,null,0,null,null,null,null,0,null,null,null,null,0,null,null,null,null,0,null,null,null,null,0,null,null,null,null,0,null,null,null,null,0,null,null,null,null,0,null,null,null,null,0,null,null,null,null,0,null,null,null,null,0,null,null,null,null,0,null,null,null,null,0,null,null,null,null,0,null,null,null,null,0,null,null,null,null,0,null,null,null,null,0,null,null,null,null,0]
[null,null,13,"水　　泳",0,0,0,0,0,null,null,null,0,null,null,null,null,0,null,null,null,null,0,null,null,null,null,0,null,null,null,null,0,null,null,null,null,0,null,null,null,null,0,null,null,null,null,0,null,null,null,null,0,null,null,null,null,0,null,null,null,null,0,null,null,null,null,0,null,null,null,null,0,null,null,null,null,0,null,null,null,null,0,null,null,null,null,0,null,null,null,null,0,null,null,null,null,0,null,null,null,null,0,null,null,null,null,0,null,null,null,null,0,null,null,null,null,0,null,null,null,null,0,null,null,null,null,0,null,null,null,null,0,null,null,null,null,0,null,null,null,null,0]
[null,"子",14,"柔　　道",0,0,0,0,0,null,null,null,0,null,null,null,null,0,null,null,null,null,0,null,null,null,null,0,null,null,null,null,0,null,null,null,null,0,null,null,null,null,0,null,null,null,null,0,null,null,null,null,0,null,null,null,null,0,null,null,null,null,0,null,null,null,null,0,null,null,null,null,0,null,null,null,null,0,null,null,null,null,0,null,null,null,null,0,null,null,null,null,0,null,null,null,null,0,null,null,null,null,0,null,null,null,null,0,null,null,null,null,0,null,null,null,null,0,null,null,null,null,0,null,null,null,null,0,null,null,null,null,0,null,null,null,null,0,null,null,null,null,0]
[null,null,15,"剣　　道",0,0,0,0,0,null,null,null,0,null,null,null,null,0,null,null,null,null,0,null,null,null,null,0,null,null,null,null,0,null,null,null,null,0,null,null,null,null,0,null,null,null,null,0,null,null,null,null,0,null,null,null,null,0,null,null,null,null,0,null,null,null,null,0,null,null,null,null,0,null,null,null,null,0,null,null,null,null,0,null,null,null,null,0,null,null,null,null,0,null,null,null,null,0,null,null,null,null,0,null,null,null,null,0,null,null,null,null,0,null,null,null,null,0,null,null,null,null,0,null,null,null,null,0,null,null,null,null,0,null,null,null,null,0,null,null,null,null,0]
[null,null,16,"ダ    ン    ス",0,0,0,0,0,null,null,null,0,null,null,null,null,0,null,null,null,null,0,null,null,null,null,0,null,null,null,null,0,null,null,null,null,0,null,null,null,null,0,null,null,null,null,0,null,null,null,null,0,null,null,null,null,0,null,null,null,null,0,null,null,null,null,0,null,null,null,null,0,null,null,null,null,0,null,null,null,null,0,null,null,null,null,0,null,null,null,null,0,null,null,null,null,0,null,null,null,null,0,null,null,null,null,0,null,null,null,null,0,null,null,null,null,0,null,null,null,null,0,null,null,null,null,0,null,null,null,null,0,null,null,null,null,0,null,null,null,null,0]
[null,null,17,"ス    キ    ー",0,0,0,0,0,null,null,null,0,null,null,null,null,0,null,null,null,null,0,null,null,null,null,0,null,null,null,null,0,null,null,null,null,0,null,null,null,null,0,null,null,null,null,0,null,null,null,null,0,null,null,null,null,0,null,null,null,null,0,null,null,null,null,0,null,null,null,null,0,null,null,null,null,0,null,null,null,null,0,null,null,null,null,0,null,null,null,null,0,null,null,null,null,0,null,null,null,null,0,null,null,null,null,0,null,null,null,null,0,null,null,null,null,0,null,null,null,null,0,null,null,null,null,0,null,null,null,null,0,null,null,null,null,0,null,null,null,null,0]
[null,null,18,"ス  ケ  ー  ト",0,0,0,0,0,null,null,null,0,null,null,null,null,0,null,null,null,null,0,null,null,null,null,0,null,null,null,null,0,null,null,null,null,0,null,null,null,null,0,null,null,null,null,0,null,null,null,null,0,null,null,null,null,0,null,null,null,null,0,null,null,null,null,0,null,null,null,null,0,null,null,null,null,0,null,null,null,null,0,null,null,null,null,0,null,null,null,null,0,null,null,null,null,0,null,null,null,null,0,null,null,null,null,0,null,null,null,null,0,null,null,null,null,0,null,null,null,null,0,null,null,null,null,0,null,null,null,null,0,null,null,null,null,0,null,null,null,null,0]
[null,null,19,"アイスホッケー",0,0,0,0,0,null,null,null,0,null,null,null,null,0,null,null,null,null,0,null,null,null,null,0,null,null,null,null,0,null,null,null,null,0,null,null,null,null,0,null,null,null,null,0,null,null,null,null,0,null,null,null,null,0,null,null,null,null,0,null,null,null,null,0,null,null,null,null,0,null,null,null,null,0,null,null,null,null,0,null,null,null,null,0,null,null,null,null,0,null,null,null,null,0,null,null,null,null,0,null,null,null,null,0,null,null,null,null,0,null,null,null,null,0,null,null,null,null,0,null,null,null,null,0,null,null,null,null,0,null,null,null,null,0,null,null,null,null,0]
[null,null,20,"テ　　ニ　　ス",0,0,0,0,0,null,null,null,0,null,null,null,null,0,null,null,null,null,0,null,null,null,null,0,null,null,null,null,0,null,null,null,null,0,null,null,null,null,0,null,null,null,null,0,null,null,null,null,0,null,null,null,null,0,null,null,null,null,0,null,null,null,null,0,null,null,null,null,0,null,null,null,null,0,null,null,null,null,0,null,null,null,null,0,null,null,null,null,0,null,null,null,null,0,null,null,null,null,0,null,null,null,null,0,null,null,null,null,0,null,null,null,null,0,null,null,null,null,0,null,null,null,null,0,null,null,null,null,0,null,null,null,null,0,null,null,null,null,0]
[null,null,21,"弓　　道　",0,0,0,0,0,null,null,null,0,null,null,null,null,0,null,null,null,null,0,null,null,null,null,0,null,null,null,null,0,null,null,null,null,0,null,null,null,null,0,null,null,null,null,0,null,null,null,null,0,null,null,null,null,0,null,null,null,null,0,null,null,null,null,0,null,null,null,null,0,null,null,null,null,0,null,null,null,null,0,null,null,null,null,0,null,null,null,null,0,null,null,null,null,0,null,null,null,null,0,null,null,null,null,0,null,null,null,null,0,null,null,null,null,0,null,null,null,null,0,null,null,null,null,0,null,null,null,null,0,null,null,null,null,0,null,null,null,null,0]
[null,null,22,"空　　手",0,0,0,0,0,null,null,null,0,null,null,null,null,0,null,null,null,null,0,null,null,null,null,0,null,null,null,null,0,null,null,null,null,0,null,null,null,null,0,null,null,null,null,0,null,null,null,null,0,null,null,null,null,0,null,null,null,null,0,null,null,null,null,{"$f":"BM55+BN55+BO55","v":0},null,null,null,null,0,null,null,null,null,0,null,null,null,null,0,null,null,null,null,0,null,null,null,null,0,null,null,null,null,0,null,null,null,null,0,null,null,null,null,0,null,null,null,null,0,null,null,null,null,0,null,null,null,null,0,null,null,null,null,0,null,null,null,null,0,null,null,null,null,0,null,null,null,null,0]
[null,null,null,null,0,0,0,0,0,null,null,null,0,null,null,null,null,0,null,null,null,null,0,null,null,null,null,0,null,null,null,null,0,null,null,null,null,0,null,null,null,null,0,null,null,null,null,0,null,null,null,null,0,null,null,null,null,0,null,null,null,null,0,null,null,null,null,0,null,null,null,null,0,null,null,null,null,0,null,null,null,null,0,null,null,null,null,0,null,null,null,null,0,null,null,null,null,0,null,null,null,null,0,null,null,null,null,0,null,null,null,null,0,null,null,null,null,0,null,null,null,null,0,null,null,null,null,0,null,null,null,null,0,null,null,null,null,0,null,null,null,null,0]
[null,null,null,null,0,0,0,0,0,null,null,null,0,null,null,null,null,0,null,null,null,null,0,null,null,null,null,0,null,null,null,null,0,null,null,null,null,0,null,null,null,null,0,null,null,null,null,0,null,null,null,null,0,null,null,null,null,0,null,null,null,null,0,null,null,null,null,0,null,null,null,null,0,null,null,null,null,0,null,null,null,null,0,null,null,null,null,0,null,null,null,null,0,null,null,null,null,0,null,null,null,null,0,null,null,null,null,0,null,null,null,null,0,null,null,null,null,0,null,null,null,null,0,null,null,null,null,0,null,null,null,null,0,null,null,null,null,0,null,null,null,null,0]
[null,null,null,null,0,0,0,0,0,null,null,null,0,null,null,null,null,0,null,null,null,null,0,null,null,null,null,0,null,null,null,null,0,null,null,null,null,0,null,null,null,null,0,null,null,null,null,0,null,null,null,null,0,null,null,null,null,0,null,null,null,null,0,null,null,null,null,0,null,null,null,null,0,null,null,null,null,0,null,null,null,null,0,null,null,null,null,0,null,null,null,null,0,null,null,null,null,0,null,null,null,null,0,null,null,null,null,0,null,null,null,null,0,null,null,null,null,0,null,null,null,null,0,null,null,null,null,0,null,null,null,null,0,null,null,null,null,0,null,null,null,null,0]
[null,null,"女　子　合　計 (名)",null,0,0,0,0,0,{"$f":"SUM(J34:J58)","v":0},0,0,0,0,0,0,0,0,0,0,0,0,0,0,0,0,0,0,0,0,0,0,0,0,0,0,0,0,0,0,0,{"$f":"SUM(AP34:AP58)","v":0},0,0,0,0,0,0,0,0,0,0,0,0,0,0,0,0,0,0,0,0,0,0,0,0,0,0,0,0,0,0,0,{"$f":"SUM(BV34:BV58)","v":0},0,0,0,0,0,0,0,0,0,0,0,0,0,0,0,0,0,0,0,0,0,0,0,0,0,0,0,0,0,0,0,{"$f":"SUM(DB34:DB58)","v":0},0,0,0,0,0,0,0,0,0,0,0,0,0,0,0,0,0,0,0,0,0,0,0,0,0,0,0,0,0,0,0,{"$f":"SUM(EH34:EH58)","v":0},0,0,0,0,0,0]
[null,null,"女 子 在 籍 数 (名)",null,0,0,0,0,null,null,null,null,{"$f":"SUM(J60:L60)","v":0},null,null,null,null,{"$f":"SUM(O60:Q60)","v":0},null,null,null,null,{"$f":"SUM(T60:V60)","v":0},null,null,null,null,{"$f":"SUM(Y60:AA60)","v":0},null,null,null,null,{"$f":"SUM(AD60:AF60)","v":0},null,null,null,null,{"$f":"SUM(AI60:AK60)","v":0},null,null,null,null,{"$f":"SUM(AN60:AP60)","v":0},null,null,null,null,{"$f":"SUM(AS60:AU60)","v":0},null,null,null,null,{"$f":"SUM(AX60:AZ60)","v":0},null,null,null,null,{"$f":"SUM(BC60:BE60)","v":0},null,null,null,null,{"$f":"SUM(BH60:BJ60)","v":0},null,null,null,null,{"$f":"SUM(BM60:BO60)","v":0},null,null,null,null,{"$f":"SUM(BR60:BT60)","v":0},null,null,null,null,{"$f":"SUM(BW60:BY60)","v":0},null,null,null,null,{"$f":"SUM(CB60:CD60)","v":0},null,null,null,null,{"$f":"SUM(CG60:CI60)","v":0},null,null,null,null,{"$f":"SUM(CL60:CN60)","v":0},null,null,null,null,{"$f":"SUM(CQ60:CS60)","v":0},null,null,null,null,{"$f":"SUM(CV60:CX60)","v":0},null,null,null,null,{"$f":"SUM(DA60:DC60)","v":0},null,null,null,null,{"$f":"SUM(DF60:DH60)","v":0},null,null,null,null,{"$f":"SUM(DK60:DM60)","v":0},null,null,null,null,{"$f":"SUM(DP60:DR60)","v":0},null,null,null,null,{"$f":"SUM(DU60:DW60)","v":0},null,null,null,null,{"$f":"SUM(DZ60:EB60)","v":0},null,null,null,null,{"$f":"SUM(EE60:EG60)","v":0},null,null,null,null,{"$f":"SUM(EJ60:EL60)","v":0}]
[null,null,"女 子 入 部 率 (％)",null,{"$f":"E59/E60*100","v":{"$error":"#DIV/0!"}},{"$f":"F59/F60*100","v":{"$error":"#DIV/0!"}},{"$f":"G59/G60*100","v":{"$error":"#DIV/0!"}},{"$f":"H59/H60*100","v":{"$error":"#DIV/0!"}},null,{"$f":"J59/J60*100","v":{"$error":"#DIV/0!"}},{"$error":"#DIV/0!"},{"$error":"#DIV/0!"},{"$error":"#DIV/0!"},null,{"$error":"#DIV/0!"},{"$error":"#DIV/0!"},{"$error":"#DIV/0!"},{"$f":"R59/R60*100","v":{"$error":"#DIV/0!"}},null,{"$error":"#DIV/0!"},{"$error":"#DIV/0!"},{"$error":"#DIV/0!"},{"$f":"W59/W60*100","v":{"$error":"#DIV/0!"}},null,{"$error":"#DIV/0!"},{"$error":"#DIV/0!"},{"$error":"#DIV/0!"},{"$f":"AB59/AB60*100","v":{"$error":"#DIV/0!"}},null,{"$error":"#DIV/0!"},{"$error":"#DIV/0!"},{"$error":"#DIV/0!"},{"$f":"AG59/AG60*100","v":{"$error":"#DIV/0!"}},null,{"$error":"#DIV/0!"},{"$error":"#DIV/0!"},{"$error":"#DIV/0!"},{"$f":"AL59/AL60*100","v":{"$error":"#DIV/0!"}},null,{"$error":"#DIV/0!"},{"$error":"#DIV/0!"},{"$error":"#DIV/0!"},{"$f":"AQ59/AQ60*100","v":{"$error":"#DIV/0!"}},null,{"$error":"#DIV/0!"},{"$error":"#DIV/0!"},{"$error":"#DIV/0!"},{"$f":"AV59/AV60*100","v":{"$error":"#DIV/0!"}},null,{"$error":"#DIV/0!"},{"$error":"#DIV/0!"},{"$error":"#DIV/0!"},{"$f":"BA59/BA60*100","v":{"$error":"#DIV/0!"}},null,{"$error":"#DIV/0!"},{"$error":"#DIV/0!"},{"$error":"#DIV/0!"},{"$f":"BF59/BF60*100","v":{"$error":"#DIV/0!"}},null,{"$error":"#DIV/0!"},{"$error":"#DIV/0!"},{"$error":"#DIV/0!"},{"$f":"BK59/BK60*100","v":{"$error":"#DIV/0!"}},null,{"$error":"#DIV/0!"},{"$error":"#DIV/0!"},{"$error":"#DIV/0!"},{"$f":"BP59/BP60*100","v":{"$error":"#DIV/0!"}},null,{"$error":"#DIV/0!"},{"$error":"#DIV/0!"},{"$error":"#DIV/0!"},{"$f":"BU59/BU60*100","v":{"$error":"#DIV/0!"}},null,{"$f":"BW59/BW60*100","v":{"$error":"#DIV/0!"}},{"$error":"#DIV/0!"},{"$error":"#DIV/0!"},{"$error":"#DIV/0!"},null,{"$error":"#DIV/0!"},{"$error":"#DIV/0!"},{"$error":"#DIV/0!"},{"$error":"#DIV/0!"},null,{"$error":"#DIV/0!"},{"$error":"#DIV/0!"},{"$error":"#DIV/0!"},{"$error":"#DIV/0!"},null,{"$error":"#DIV/0!"},{"$error":"#DIV/0!"},{"$error":"#DIV/0!"},{"$error":"#DIV/0!"},null,{"$error":"#DIV/0!"},{"$error":"#DIV/0!"},{"$error":"#DIV/0!"},{"$error":"#DIV/0!"},null,{"$error":"#DIV/0!"},{"$error":"#DIV/0!"},{"$error":"#DIV/0!"},{"$error":"#DIV/0!"},null,{"$error":"#DIV/0!"},{"$error":"#DIV/0!"},{"$error":"#DIV/0!"},{"$error":"#DIV/0!"},null,{"$error":"#DIV/0!"},{"$error":"#DIV/0!"},{"$error":"#DIV/0!"},{"$error":"#DIV/0!"},null,{"$error":"#DIV/0!"},{"$error":"#DIV/0!"},{"$error":"#DIV/0!"},{"$error":"#DIV/0!"},null,{"$error":"#DIV/0!"},{"$error":"#DIV/0!"},{"$error":"#DIV/0!"},{"$error":"#DIV/0!"},null,{"$error":"#DIV/0!"},{"$error":"#DIV/0!"},{"$error":"#DIV/0!"},{"$error":"#DIV/0!"},null,{"$error":"#DIV/0!"},{"$error":"#DIV/0!"},{"$error":"#DIV/0!"},{"$error":"#DIV/0!"},null,null,null,null,{"$f":"EH59/EH60*100","v":{"$error":"#DIV/0!"}},null,{"$error":"#DIV/0!"},{"$error":"#DIV/0!"},{"$f":"EL59/EL60*100","v":{"$error":"#DIV/0!"}},{"$f":"EM59/EM60*100","v":{"$error":"#DIV/0!"}}]
[null,null,"男　女　合　計 (名)",null,{"$f":"E31+E59","v":0},0,0,{"$f":"SUM(E62:G62)","v":0},null,{"$f":"J31+J59","v":0},{"$f":"K31+K59","v":0},0,0,0,0,0,0,{"$f":"R31+R59","v":0},0,0,0,0,{"$f":"W31+W59","v":0},0,0,0,0,{"$f":"AB31+AB59","v":0},0,0,0,0,{"$f":"AG31+AG59","v":0},0,0,0,0,{"$f":"AL31+AL59","v":0},0,0,0,0,{"$f":"AQ31+AQ59","v":0},0,0,0,0,{"$f":"AV31+AV59","v":0},0,0,0,0,{"$f":"BA31+BA59","v":0},0,0,0,0,{"$f":"BF31+BF59","v":0},0,0,0,0,{"$f":"BK31+BK59","v":0},0,0,0,0,{"$f":"BP31+BP59","v":0},0,0,0,0,{"$f":"BU31+BU59","v":0},0,{"$f":"BW31+BW59","v":0},0,0,0,0,0,0,0,0,0,0,0,0,0,0,0,0,0,0,0,0,0,0,0,0,0,0,0,0,0,0,0,0,0,0,0,0,0,0,0,0,0,0,0,0,0,0,0,0,0,0,0,0,0,0,0,0,0,0,0,0,0,0,0,{"$f":"EI31+EI59","v":0},0,0,0,0,0]
[null,null,"男 女 在 籍 数 (名)",null,0,0,0,{"$f":"SUM(E63:G63)","v":0},null,{"$f":"J60+J62","v":0},{"$f":"K60+K62","v":0},0,0,0,0,0,0,{"$f":"R60+R62","v":0},0,0,0,0,{"$f":"W60+W62","v":0},0,0,0,0,{"$f":"AB60+AB62","v":0},0,0,0,0,{"$f":"AG60+AG62","v":0},0,0,0,0,{"$f":"AL60+AL62","v":0},0,0,0,0,{"$f":"AQ60+AQ62","v":0},0,0,0,0,{"$f":"AV60+AV62","v":0},0,0,0,0,{"$f":"BA60+BA62","v":0},0,0,0,0,{"$f":"BF60+BF62","v":0},0,0,0,0,{"$f":"BK60+BK62","v":0},0,0,0,0,{"$f":"BP60+BP62","v":0},0,0,0,0,{"$f":"BU60+BU62","v":0},0,{"$f":"BW60+BW62","v":0},0,0,0,0,0,0,0,0,0,0,0,0,0,0,0,0,0,0,0,0,0,0,0,0,0,0,0,0,0,0,0,0,0,0,0,0,0,0,0,0,0,0,0,0,0,0,0,0,0,0,0,0,0,0,0,0,0,0,0,0,0,0,0,{"$f":"EI60+EI62","v":0},0,0,0,0,0]
[null,null,"男 女 入 部 率 (％)",null,{"$f":"E62/E63*100","v":{"$error":"#DIV/0!"}},{"$f":"F62/F63*100","v":{"$error":"#DIV/0!"}},{"$f":"G62/G63*100","v":{"$error":"#DIV/0!"}},{"$f":"H62/H63*100","v":{"$error":"#DIV/0!"}},null,{"$f":"J62/J63*100","v":{"$error":"#DIV/0!"}},{"$error":"#DIV/0!"},{"$error":"#DIV/0!"},{"$error":"#DIV/0!"},null,{"$error":"#DIV/0!"},{"$error":"#DIV/0!"},{"$error":"#DIV/0!"},{"$f":"R62/R63*100","v":{"$error":"#DIV/0!"}},null,{"$error":"#DIV/0!"},{"$error":"#DIV/0!"},{"$error":"#DIV/0!"},{"$f":"W62/W63*100","v":{"$error":"#DIV/0!"}},null,{"$error":"#DIV/0!"},{"$error":"#DIV/0!"},{"$error":"#DIV/0!"},{"$f":"AB62/AB63*100","v":{"$error":"#DIV/0!"}},null,{"$error":"#DIV/0!"},{"$error":"#DIV/0!"},{"$error":"#DIV/0!"},{"$f":"AG62/AG63*100","v":{"$error":"#DIV/0!"}},null,{"$error":"#DIV/0!"},{"$error":"#DIV/0!"},{"$error":"#DIV/0!"},{"$f":"AL62/AL63*100","v":{"$error":"#DIV/0!"}},null,{"$error":"#DIV/0!"},{"$error":"#DIV/0!"},{"$error":"#DIV/0!"},{"$f":"AQ62/AQ63*100","v":{"$error":"#DIV/0!"}},null,{"$error":"#DIV/0!"},{"$error":"#DIV/0!"},{"$error":"#DIV/0!"},{"$f":"AV62/AV63*100","v":{"$error":"#DIV/0!"}},null,{"$error":"#DIV/0!"},{"$error":"#DIV/0!"},{"$error":"#DIV/0!"},{"$f":"BA62/BA63*100","v":{"$error":"#DIV/0!"}},null,{"$error":"#DIV/0!"},{"$error":"#DIV/0!"},{"$error":"#DIV/0!"},{"$f":"BF62/BF63*100","v":{"$error":"#DIV/0!"}},null,{"$error":"#DIV/0!"},{"$error":"#DIV/0!"},{"$error":"#DIV/0!"},{"$f":"BK62/BK63*100","v":{"$error":"#DIV/0!"}},null,{"$error":"#DIV/0!"},{"$error":"#DIV/0!"},{"$error":"#DIV/0!"},{"$f":"BP62/BP63*100","v":{"$error":"#DIV/0!"}},null,{"$error":"#DIV/0!"},{"$error":"#DIV/0!"},{"$error":"#DIV/0!"},{"$f":"BU62/BU63*100","v":{"$error":"#DIV/0!"}},null,{"$f":"BW62/BW63*100","v":{"$error":"#DIV/0!"}},{"$error":"#DIV/0!"},{"$error":"#DIV/0!"},{"$error":"#DIV/0!"},null,{"$error":"#DIV/0!"},{"$error":"#DIV/0!"},{"$error":"#DIV/0!"},{"$error":"#DIV/0!"},null,{"$error":"#DIV/0!"},{"$error":"#DIV/0!"},{"$error":"#DIV/0!"},{"$error":"#DIV/0!"},null,{"$error":"#DIV/0!"},{"$error":"#DIV/0!"},{"$error":"#DIV/0!"},{"$error":"#DIV/0!"},null,{"$error":"#DIV/0!"},{"$error":"#DIV/0!"},{"$error":"#DIV/0!"},{"$error":"#DIV/0!"},null,{"$error":"#DIV/0!"},{"$error":"#DIV/0!"},{"$error":"#DIV/0!"},{"$error":"#DIV/0!"},null,{"$error":"#DIV/0!"},{"$error":"#DIV/0!"},{"$error":"#DIV/0!"},{"$error":"#DIV/0!"},null,{"$error":"#DIV/0!"},{"$error":"#DIV/0!"},{"$error":"#DIV/0!"},{"$error":"#DIV/0!"},null,{"$error":"#DIV/0!"},{"$error":"#DIV/0!"},{"$error":"#DIV/0!"},{"$error":"#DIV/0!"},null,{"$error":"#DIV/0!"},{"$error":"#DIV/0!"},{"$error":"#DIV/0!"},{"$error":"#DIV/0!"},null,{"$error":"#DIV/0!"},{"$error":"#DIV/0!"},{"$error":"#DIV/0!"},{"$error":"#DIV/0!"},null,{"$error":"#DIV/0!"},{"$error":"#DIV/0!"},{"$error":"#DIV/0!"},{"$error":"#DIV/0!"},null,{"$error":"#DIV/0!"},{"$error":"#DIV/0!"},{"$error":"#DIV/0!"},{"$error":"#DIV/0!"},null,{"$error":"#DIV/0!"},{"$error":"#DIV/0!"},{"$f":"EL62/EL63*100","v":{"$error":"#DIV/0!"}},{"$f":"EM62/EM63*100","v":{"$error":"#DIV/0!"}}]